{"text_format":"1","workbook":"xlsx","n_sheets":5,"sheets":["TC3 (GMIM) DECISION","DISEÑO TABLA DE DECISION","TABLA DE DECISION","MATRIZ-PÉRDIDA OPORTUNIDAD","DECISIÓN ÓPTIMA"],"not_rendered":{"charts":0,"images":0,"macros":1,"external_links":0,"defined_names":0,"comments":0,"pivot_tables":0},"unopened":[],"bounds":{"document_bytes":16777216,"sheet_cells":100000,"rows_first":2000,"rows_last":500,"rows_between":2000,"halvings":0,"cell_chars":16384,"cell_head_chars":4096},"cells_cut":0,"cells_raw":0,"read":"whole","date_system":"1900"}

{"sheet":"TC3 (GMIM) DECISION","index":0,"n_rows":20,"n_cols":4,"rows_kept":20,"cut":false,"hidden":false,"merged":[]}
[]
[]
[null,null,"TEORIA DE LA DECISION"]
[]
[null,null,"Técnicas Cuantitativas 3"]
[null,null,"Decisión en ambiente de incertidumbre:"]
[null,null,null,"Criterio de Laplace."]
[null,null,null,"Criterio de Wald."]
[null,null,null,"Criterio de Hurwicz"]
[null,null,null,"Criterio de Savage"]
[null,null,"Decisión en ambiente de riesgo:"]
[null,null,null,"Criterio del valor monetario esperado."]
[null,null,null,"Valor de la información perfecta."]
[null,null,"Decisión Bayesiana:"]
[null,null,null,"Decisión condicional de Bayes."]
[null,null,null,"Valor de la información imperfecta."]
[]
[null,null,"Grado en Marketing e Investigación de Mercados. Universidad de Granada."]
[]
[null,null,"© TC3. José Alberto Hermoso Gutiérrez"]

{"sheet":"DISEÑO TABLA DE DECISION","index":1,"n_rows":33,"n_cols":4,"rows_kept":33,"cut":false,"hidden":false,"merged":[[1,2,1,3],[32,2,32,3]]}
["© TC3. José Alberto Hermoso Gutiérrez"]
[null,null,{"$f":"IF(OR(B8=0,B13=0,B17=0,B21=0),\"COMPLETE EL FORMULARIO\",IF(B29=1,\"Error: sólo un estado con información imperfecta\",1))","v":1}]
[]
[]
[]
[]
[]
[null,2]
[]
[]
[]
[]
[null,3,null,{"$f":"B13","v":3}]
[]
[]
[]
[null,3,null,{"$f":"B17","v":3}]
[]
[]
[]
[null,2]
[]
[]
[]
[]
[null,null,"     Seleccione \"0\" cuando no se tenga información imperfecta"]
[]
[null,3,null,{"$f":"B29","v":3}]
[null,{"$f":"IF(B8=1,0,B28)","v":3}]
[]
[]
[]
[null,null,{"$f":"C2","v":1}]

{"sheet":"TABLA DE DECISION","index":2,"n_rows":2709,"n_cols":113,"rows_kept":562,"cut":true,"hidden":false,"merged":[[155,57,155,58],[156,4,156,5],[157,4,157,5],[158,4,158,5],[159,4,159,5],[160,4,160,5],[161,4,161,5],[162,4,162,5],[163,4,163,5],[164,4,164,5],[165,4,165,5],[166,4,166,5],[167,4,167,5],[168,4,168,5],[169,4,169,5],[170,4,170,5],[171,4,171,5],[172,4,172,5],[173,4,173,5],[174,4,174,5],[175,4,175,5],[176,4,176,5],[177,4,177,5],[178,4,178,5],[179,4,179,5],[180,4,180,5],[181,4,181,5],[182,4,182,5],[183,4,183,5],[184,4,184,5],[185,4,185,5],[186,4,186,5],[187,4,187,5],[188,4,188,5],[189,4,189,5],[190,4,190,5],[191,4,191,5],[192,4,192,5],[193,4,193,5],[194,4,194,5],[195,4,195,5],[196,4,196,5],[197,4,197,5],[198,4,198,5],[199,4,199,5],[205,4,205,5],[206,4,206,5],[207,4,207,5],[200,4,200,5],[201,4,201,5],[202,4,202,5],[203,4,203,5],[204,4,204,5]],"bounds":{"rows_first":250,"rows_last":62,"rows_between":250,"halvings":3}}
[null,null,null,null,null,null,null,null,null,null,null,null,null,null,null,null,null,null,null,null,null,null,null,null,null,null,null,null,null,null,null,null,null,null,null,null,null,null,null,null,null,null,null,null,null,null,null,null,null,null,null,null,null,null,null,null,null,null,"probabilidad a posteriori   p(ej/ck)   ↘","e1","e2","e3","e4","e5","e6","e7","e8","e9","e10","e11","e12","e13","e14","e15","e16","e17","e18","e19","e20","e21","e22","e23","e24","e25","e26","e27","e28","e29","e30","e31","e32","e33","e34","e35","e36","e37","e38","e39","e40","e41","e42","e43","e44","e45","e46","e47","e48","e49","e50"]
[null,null,null,null,null,null,null,null,null,null,null,null,null,null,null,null,null,null,null,null,null,null,null,null,null,null,null,null,null,null,null,null,null,null,null,null,null,null,null,null,null,null,null,null,null,null,null,null,null,null,null,null,null,null,null,null,null,null,"p(ej/c1)",{"$f":"IF($BF53=0,0,BH53/$BF53)","v":0.86956521739130432},{"$f":"IF($BF53=0,0,BI53/$BF53)","v":0.13043478260869565},0,0,0,0,0,0,0,0,0,0,0,0,0,0,0,0,0,0,0,0,0,0,0,0,0,0,0,0,0,0,0,0,0,0,0,0,0,0,0,0,0,0,0,0,0,0,0,0,null,null,"p(c1)=",{"$f":"SUMPRODUCT(BH104:DE104,BH$156:DE$156)","v":0.46}]
[null,null,null,null,null,null,null,null,null,null,null,null,null,null,null,null,null,null,null,null,null,null,null,null,null,null,null,null,null,null,null,null,null,null,null,null,null,null,null,null,null,null,null,null,null,null,null,null,null,null,null,null,null,null,null,null,null,null,"p(ej/c2)",{"$f":"IF($BF54=0,0,BH54/$BF54)","v":0.19230769230769232},0.8076923076923076,0,0,0,0,0,0,0,0,0,0,0,0,0,0,0,0,0,0,0,0,0,0,0,0,0,0,0,0,0,0,0,0,0,0,0,0,0,0,0,0,0,0,0,0,0,0,0,0,null,null,"p(c2)=",{"$f":"SUMPRODUCT(BH105:DE105,BH$156:DE$156)","v":0.26}]
[null,null,null,null,null,null,null,null,null,null,null,null,null,null,null,null,null,null,null,null,null,null,null,null,null,null,null,null,null,null,null,null,null,null,null,null,null,null,null,null,null,null,null,null,null,null,null,null,null,null,null,null,null,null,null,null,null,null,"p(ej/c3)",0.17857142857142858,0.10714285714285712,0.7142857142857143,0,0,0,0,0,0,0,0,0,0,0,0,0,0,0,0,0,0,0,0,0,0,0,0,0,0,0,0,0,0,0,0,0,0,0,0,0,0,0,0,0,0,0,0,0,0,0,null,null,"p(c3)=",0.28000000000000003]
[null,null,null,null,null,null,null,null,null,null,null,null,null,null,null,null,null,null,null,null,null,null,null,null,null,null,null,null,null,null,null,null,null,null,null,null,null,null,null,null,null,null,null,null,null,null,null,null,null,null,null,null,null,null,null,null,null,null,"p(ej/c4)",0,0,0,0,0,0,0,0,0,0,0,0,0,0,0,0,0,0,0,0,0,0,0,0,0,0,0,0,0,0,0,0,0,0,0,0,0,0,0,0,0,0,0,0,0,0,0,0,0,0,null,null,"p(c4)=",0]
[null,null,null,null,null,null,null,null,null,null,null,null,null,null,null,null,null,null,null,null,null,null,null,null,null,null,null,null,null,null,null,null,null,null,null,null,null,null,null,null,null,null,null,null,null,null,null,null,null,null,null,null,null,null,null,null,null,null,"p(ej/c5)",0,0,0,0,0,0,0,0,0,0,0,0,0,0,0,0,0,0,0,0,0,0,0,0,0,0,0,0,0,0,0,0,0,0,0,0,0,0,0,0,0,0,0,0,0,0,0,0,0,0,null,null,"p(c5)=",0]
[null,null,null,null,null,null,null,null,null,null,null,null,null,null,null,null,null,null,null,null,null,null,null,null,null,null,null,null,null,null,null,null,null,null,null,null,null,null,null,null,null,null,null,null,null,null,null,null,null,null,null,null,null,null,null,null,null,null,"p(ej/c6)",0,0,0,0,0,0,0,0,0,0,0,0,0,0,0,0,0,0,0,0,0,0,0,0,0,0,{"$f":"IF($BF58=0,0,CH58/$BF58)","v":0},0,0,0,0,0,0,0,0,0,0,0,0,0,0,0,0,0,0,0,0,0,0,0,null,null,"p(c6)=",0]
[null,null,null,null,null,null,null,null,null,null,null,null,null,null,null,null,null,null,null,null,null,null,null,null,null,null,null,null,null,null,null,null,null,null,null,null,null,null,null,null,null,null,null,null,null,null,null,null,null,null,null,null,null,null,null,null,null,null,"p(ej/c7)",0,0,0,0,0,0,0,0,0,0,0,0,0,0,0,0,0,0,0,0,0,0,0,0,0,0,0,0,0,0,0,0,0,0,0,0,0,0,0,0,0,0,0,0,0,0,0,0,0,0,null,null,"p(c7)=",0]
[null,null,null,null,null,null,null,null,null,null,null,null,null,null,null,null,null,null,null,null,null,null,null,null,null,null,null,null,null,null,null,null,null,null,null,null,null,null,null,null,null,null,null,null,null,null,null,null,null,null,null,null,null,null,null,null,null,null,"p(ej/c8)",0,0,0,0,0,0,0,0,0,0,0,0,0,0,0,0,0,0,0,0,0,0,0,0,0,0,0,0,0,0,0,0,0,0,0,0,0,0,0,0,0,0,0,0,0,0,0,0,0,0,null,null,"p(c8)=",0]
[null,null,null,null,null,null,null,null,null,null,null,null,null,null,null,null,null,null,null,null,null,null,null,null,null,null,null,null,null,null,null,null,null,null,null,null,null,null,null,null,null,null,null,null,null,null,null,null,null,null,null,null,null,null,null,null,null,null,"p(ej/c9)",0,0,0,0,0,0,0,0,0,0,0,0,0,0,0,0,0,0,0,0,0,0,0,0,0,0,0,0,0,0,0,0,0,0,0,0,0,0,0,0,0,0,0,0,0,0,0,0,0,0,null,null,"p(c9)=",0]
[null,null,null,null,null,null,null,null,null,null,null,null,null,null,null,null,null,null,null,null,null,null,null,null,null,null,null,null,null,null,null,null,null,null,null,null,null,null,null,null,null,null,null,null,null,null,null,null,null,null,null,null,null,null,null,null,null,null,"p(ej/c10)",0,0,0,0,0,0,0,0,0,0,0,0,0,0,0,0,0,0,0,0,0,0,0,0,0,0,0,0,0,0,0,0,0,0,0,0,0,0,0,0,0,0,0,0,0,0,0,0,0,0,null,null,"p(c10)=",0]
[null,null,null,null,null,null,null,null,null,null,null,null,null,null,null,null,null,null,null,null,null,null,null,null,null,null,null,null,null,null,null,null,null,null,null,null,null,null,null,null,null,null,null,null,null,null,null,null,null,null,null,null,null,null,null,null,null,null,"p(ej/c11)",0,0,0,0,0,0,0,0,0,0,0,0,0,0,0,0,0,0,0,0,0,0,0,0,0,0,0,0,0,0,0,0,0,0,0,0,{"$f":"IF($BF63=0,0,CR63/$BF63)","v":0},0,0,0,0,0,0,0,0,0,0,0,0,0,null,null,"p(c11)=",0]
[null,null,null,null,null,null,null,null,null,null,null,null,null,null,null,null,null,null,null,null,null,null,null,null,null,null,null,null,null,null,null,null,null,null,null,null,null,null,null,null,null,null,null,null,null,null,null,null,null,null,null,null,null,null,null,null,null,null,"p(ej/c12)",0,0,0,0,0,0,0,0,0,0,0,0,0,0,0,0,0,0,0,0,0,0,0,0,0,0,0,0,0,0,0,0,0,0,0,0,0,0,0,0,0,0,0,0,0,0,0,0,0,0,null,null,"p(c12)=",0]
[null,null,null,null,null,null,null,null,null,null,null,null,null,null,null,null,null,null,null,null,null,null,null,null,null,null,null,null,null,null,null,null,null,null,null,null,null,null,null,null,null,null,null,null,null,null,null,null,null,null,null,null,null,null,null,null,null,null,"p(ej/c13)",0,0,0,0,0,0,0,0,0,0,0,0,0,0,0,0,0,0,0,0,0,0,0,0,0,0,0,0,0,0,0,0,0,0,0,0,0,0,0,0,0,0,0,0,0,0,0,0,0,0,null,null,"p(c13)=",0]
[null,null,null,null,null,null,null,null,null,null,null,null,null,null,null,null,null,null,null,null,null,null,null,null,null,null,null,null,null,null,null,null,null,null,null,null,null,null,null,null,null,null,null,null,null,null,null,null,null,null,null,null,null,null,null,null,null,null,"p(ej/c14)",0,0,0,0,0,0,0,0,0,0,0,0,0,0,0,0,0,0,0,0,0,0,0,0,0,0,0,0,0,0,0,0,0,0,0,0,0,0,0,0,0,0,0,0,0,0,0,0,0,0,null,null,"p(c14)=",0]
[null,null,null,null,null,null,null,null,null,null,null,null,null,null,null,null,null,null,null,null,null,null,null,null,null,null,null,null,null,null,null,null,null,null,null,null,null,null,null,null,null,null,null,null,null,null,null,null,null,null,null,null,null,null,null,null,null,null,"p(ej/c15)",0,0,0,0,0,0,0,0,0,0,0,0,0,0,0,0,0,0,0,0,0,0,0,0,0,0,0,0,0,0,0,0,0,0,0,0,0,0,0,0,0,0,0,0,0,0,0,0,0,0,null,null,"p(c15)=",0]
[null,null,null,null,null,null,null,null,null,null,null,null,null,null,null,null,null,null,null,null,null,null,null,null,null,null,null,null,null,null,null,null,null,null,null,null,null,null,null,null,null,null,null,null,null,null,null,null,null,null,null,null,null,null,null,null,null,null,"p(ej/c16)",0,0,0,0,0,0,0,0,0,0,0,0,0,0,0,0,0,0,0,0,0,0,0,0,0,0,0,0,0,0,0,0,0,0,0,0,0,0,0,0,0,0,0,0,0,0,{"$f":"IF($BF68=0,0,DB68/$BF68)","v":0},0,0,0,null,null,"p(c16)=",0]
[null,null,null,null,null,null,null,null,null,null,null,null,null,null,null,null,null,null,null,null,null,null,null,null,null,null,null,null,null,null,null,null,null,null,null,null,null,null,null,null,null,null,null,null,null,null,null,null,null,null,null,null,null,null,null,null,null,null,"p(ej/c17)",0,0,0,0,0,0,0,0,0,0,0,0,0,0,0,0,0,0,0,0,0,0,0,0,0,0,0,0,0,0,0,0,0,0,0,0,0,0,0,0,0,0,0,0,0,0,0,0,0,0,null,null,"p(c17)=",0]
[null,null,null,null,null,null,null,null,null,null,null,null,null,null,null,null,null,null,null,null,null,null,null,null,null,null,null,null,null,null,null,null,null,null,null,null,null,null,null,null,null,null,null,null,null,null,null,null,null,null,null,null,null,null,null,null,null,null,"p(ej/c18)",0,0,0,0,0,0,0,0,0,0,0,0,0,0,0,0,0,0,0,0,0,0,0,0,0,0,0,0,0,0,0,0,0,0,0,0,0,0,0,0,0,0,0,0,0,0,0,0,0,0,null,null,"p(c18)=",0]
[null,null,null,null,null,null,null,null,null,null,null,null,null,null,null,null,null,null,null,null,null,null,null,null,null,null,null,null,null,null,null,null,null,null,null,null,null,null,null,null,null,null,null,null,null,null,null,null,null,null,null,null,null,null,null,null,null,null,"p(ej/c19)",0,0,0,0,0,0,0,0,0,0,0,0,0,0,0,0,0,0,0,0,0,0,0,0,0,0,0,0,0,0,0,0,0,0,0,0,0,0,0,0,0,0,0,0,0,0,0,0,0,0,null,null,"p(c19)=",0]
[null,null,null,null,null,null,null,null,null,null,null,null,null,null,null,null,null,null,null,null,null,null,null,null,null,null,null,null,null,null,null,null,null,null,null,null,null,null,null,null,null,null,null,null,null,null,null,null,null,null,null,null,null,null,null,null,null,null,"p(ej/c20)",0,0,0,0,0,0,0,0,0,0,0,0,0,0,0,0,0,0,0,0,0,0,0,0,0,0,0,0,0,0,0,0,0,0,0,0,0,0,0,0,0,0,0,0,0,0,0,0,0,0,null,null,"p(c20)=",0]
[null,null,null,null,null,null,null,null,null,null,null,null,null,null,null,null,null,null,null,null,null,null,null,null,null,null,null,null,null,null,null,null,null,null,null,null,null,null,null,null,null,null,null,null,null,null,null,null,null,null,null,null,null,null,null,null,null,null,"p(ej/c21)",0,0,0,0,0,0,0,0,0,0,0,0,0,0,0,0,0,0,0,0,0,0,0,0,0,0,0,0,0,0,0,0,0,0,0,0,0,0,0,0,0,0,0,0,0,0,0,0,0,0,null,null,"p(c21)=",0]
[null,null,null,null,null,null,null,null,null,null,null,null,null,null,null,null,null,null,null,null,null,null,null,null,null,null,null,null,null,null,null,null,null,null,null,null,null,null,null,null,null,null,null,null,null,null,null,null,null,null,null,null,null,null,null,null,null,null,"p(ej/c22)",0,0,0,0,0,0,0,{"$f":"IF($BF74=0,0,BO74/$BF74)","v":0},0,0,0,0,0,0,0,0,0,0,0,0,0,0,0,0,0,0,0,0,0,0,0,0,0,0,0,0,0,0,0,0,0,0,0,0,0,0,0,0,0,0,null,null,"p(c22)=",0]
[null,null,null,null,null,null,null,null,null,null,null,null,null,null,null,null,null,null,null,null,null,null,null,null,null,null,null,null,null,null,null,null,null,null,null,null,null,null,null,null,null,null,null,null,null,null,null,null,null,null,null,null,null,null,null,null,null,null,"p(ej/c23)",0,0,0,0,0,0,0,0,0,0,0,0,0,0,0,0,0,0,0,0,0,0,0,0,0,0,0,0,0,0,0,0,0,0,0,0,0,0,0,0,0,0,0,0,0,0,0,0,0,0,null,null,"p(c23)=",0]
[null,null,null,null,null,null,null,null,null,null,null,null,null,null,null,null,null,null,null,null,null,null,null,null,null,null,null,null,null,null,null,null,null,null,null,null,null,null,null,null,null,null,null,null,null,null,null,null,null,null,null,null,null,null,null,null,null,null,"p(ej/c24)",0,0,0,0,0,0,0,0,0,0,0,0,0,0,0,0,0,0,0,0,0,0,0,0,0,0,0,0,0,0,0,0,0,0,0,0,0,0,0,0,0,0,0,0,0,0,0,0,0,0,null,null,"p(c24)=",0]
[null,null,null,null,null,null,null,null,null,null,null,null,null,null,null,null,null,null,null,null,null,null,null,null,null,null,null,null,null,null,null,null,null,null,null,null,null,null,null,null,null,null,null,null,null,null,null,null,null,null,null,null,null,null,null,null,null,null,"p(ej/c25)",0,0,0,0,0,0,0,0,0,0,0,0,0,0,0,0,0,0,0,0,0,0,0,0,0,0,0,0,0,0,0,0,0,0,0,0,0,0,0,0,0,0,0,0,0,0,0,0,0,0,null,null,"p(c25)=",0]
[null,null,null,null,null,null,null,null,null,null,null,null,null,null,null,null,null,null,null,null,null,null,null,null,null,null,null,null,null,null,null,null,null,null,null,null,null,null,null,null,null,null,null,null,null,null,null,null,null,null,null,null,null,null,null,null,null,null,"p(ej/c26)",0,0,0,0,0,0,0,0,0,0,0,0,0,0,0,0,0,0,0,0,0,0,0,0,0,0,0,0,0,0,0,0,0,0,0,0,0,0,0,0,0,0,0,0,0,0,0,0,0,0,null,null,"p(c26)=",0]
[null,null,null,null,null,null,null,null,null,null,null,null,null,null,null,null,null,null,null,null,null,null,null,null,null,null,null,null,null,null,null,null,null,null,null,null,null,null,null,null,null,null,null,null,null,null,null,null,null,null,null,null,null,null,null,null,null,null,"p(ej/c27)",0,0,0,0,0,0,0,0,0,0,0,0,0,0,0,0,0,{"$f":"IF($BF79=0,0,BY79/$BF79)","v":0},0,0,0,0,0,0,0,0,0,0,0,0,0,0,0,0,0,0,0,0,0,0,0,0,0,0,0,0,0,0,0,0,null,null,"p(c27)=",0]
[null,null,null,null,null,null,null,null,null,null,null,null,null,null,null,null,null,null,null,null,null,null,null,null,null,null,null,null,null,null,null,null,null,null,null,null,null,null,null,null,null,null,null,null,null,null,null,null,null,null,null,null,null,null,null,null,null,null,"p(ej/c28)",0,0,0,0,0,0,0,0,0,0,0,0,0,0,0,0,0,0,0,0,0,0,0,0,0,0,0,0,0,0,0,0,0,0,0,0,0,0,0,0,0,0,0,0,0,0,0,0,0,0,null,null,"p(c28)=",0]
[null,null,null,null,null,null,null,null,null,null,null,null,null,null,null,null,null,null,null,null,null,null,null,null,null,null,null,null,null,null,null,null,null,null,null,null,null,null,null,null,null,null,null,null,null,null,null,null,null,null,null,null,null,null,null,null,null,null,"p(ej/c29)",0,0,0,0,0,0,0,0,0,0,0,0,0,0,0,0,0,0,0,0,0,0,0,0,0,0,0,0,0,0,0,0,0,0,0,0,0,0,0,0,0,0,0,0,0,0,0,0,0,0,null,null,"p(c29)=",0]
[null,null,null,null,null,null,null,null,null,null,null,null,null,null,null,null,null,null,null,null,null,null,null,null,null,null,null,null,null,null,null,null,null,null,null,null,null,null,null,null,null,null,null,null,null,null,null,null,null,null,null,null,null,null,null,null,null,null,"p(ej/c30)",0,0,0,0,0,0,0,0,0,0,0,0,0,0,0,0,0,0,0,0,0,0,0,0,0,0,0,0,0,0,0,0,0,0,0,0,0,0,0,0,0,0,0,0,0,0,0,0,0,0,null,null,"p(c30)=",0]
[null,null,null,null,null,null,null,null,null,null,null,null,null,null,null,null,null,null,null,null,null,null,null,null,null,null,null,null,null,null,null,null,null,null,null,null,null,null,null,null,null,null,null,null,null,null,null,null,null,null,null,null,null,null,null,null,null,null,"p(ej/c31)",0,0,0,0,0,0,0,0,0,0,0,0,0,0,0,0,0,0,0,0,0,0,0,0,0,0,0,0,0,0,0,0,0,0,0,0,0,0,0,0,0,0,0,0,0,0,0,0,0,0,null,null,"p(c31)=",0]
[null,null,null,null,null,null,null,null,null,null,null,null,null,null,null,null,null,null,null,null,null,null,null,null,null,null,null,null,null,null,null,null,null,null,null,null,null,null,null,null,null,null,null,null,null,null,null,null,null,null,null,null,null,null,null,null,null,null,"p(ej/c32)",0,0,0,0,0,0,0,0,0,0,0,0,0,0,0,0,0,0,0,0,0,0,0,0,0,0,0,{"$f":"IF($BF84=0,0,CI84/$BF84)","v":0},0,0,0,0,0,0,0,0,0,0,0,0,0,0,0,0,0,0,0,0,0,0,null,null,"p(c32)=",0]
[null,null,null,null,null,null,null,null,null,null,null,null,null,null,null,null,null,null,null,null,null,null,null,null,null,null,null,null,null,null,null,null,null,null,null,null,null,null,null,null,null,null,null,null,null,null,null,null,null,null,null,null,null,null,null,null,null,null,"p(ej/c33)",0,0,0,0,0,0,0,0,0,0,0,0,0,0,0,0,0,0,0,0,0,0,0,0,0,0,0,0,0,0,0,0,0,0,0,0,0,0,0,0,0,0,0,0,0,0,0,0,0,0,null,null,"p(c33)=",0]
[null,null,null,null,null,null,null,null,null,null,null,null,null,null,null,null,null,null,null,null,null,null,null,null,null,null,null,null,null,null,null,null,null,null,null,null,null,null,null,null,null,null,null,null,null,null,null,null,null,null,null,null,null,null,null,null,null,null,"p(ej/c34)",0,0,0,0,0,0,0,0,0,0,0,0,0,0,0,0,0,0,0,0,0,0,0,0,0,0,0,0,0,0,0,0,0,0,0,0,0,0,0,0,0,0,0,0,0,0,0,0,0,0,null,null,"p(c34)=",0]
[null,null,null,null,null,null,null,null,null,null,null,null,null,null,null,null,null,null,null,null,null,null,null,null,null,null,null,null,null,null,null,null,null,null,null,null,null,null,null,null,null,null,null,null,null,null,null,null,null,null,null,null,null,null,null,null,null,null,"p(ej/c35)",0,0,0,0,0,0,0,0,0,0,0,0,0,0,0,0,0,0,0,0,0,0,0,0,0,0,0,0,0,0,0,0,0,0,0,0,0,0,0,0,0,0,0,0,0,0,0,0,0,0,null,null,"p(c35)=",0]
[null,null,null,null,null,null,null,null,null,null,null,null,null,null,null,null,null,null,null,null,null,null,null,null,null,null,null,null,null,null,null,null,null,null,null,null,null,null,null,null,null,null,null,null,null,null,null,null,null,null,null,null,null,null,null,null,null,null,"p(ej/c36)",0,0,0,0,0,0,0,0,0,0,0,0,0,0,0,0,0,0,0,0,0,0,0,0,0,0,0,0,0,0,0,0,0,0,0,0,0,0,0,0,0,0,0,0,0,0,0,0,0,0,null,null,"p(c36)=",0]
[null,null,null,null,null,null,null,null,null,null,null,null,null,null,null,null,null,null,null,null,null,null,null,null,null,null,null,null,null,null,null,null,null,null,null,null,null,null,null,null,null,null,null,null,null,null,null,null,null,null,null,null,null,null,null,null,null,null,"p(ej/c37)",0,0,0,0,0,0,0,0,0,0,0,0,0,0,0,0,0,0,0,0,0,0,0,0,0,0,0,0,0,0,0,0,0,0,0,0,0,{"$f":"IF($BF89=0,0,CS89/$BF89)","v":0},0,0,0,0,0,0,0,0,0,0,0,0,null,null,"p(c37)=",0]
[null,null,null,null,null,null,null,null,null,null,null,null,null,null,null,null,null,null,null,null,null,null,null,null,null,null,null,null,null,null,null,null,null,null,null,null,null,null,null,null,null,null,null,null,null,null,null,null,null,null,null,null,null,null,null,null,null,null,"p(ej/c38)",0,0,0,0,0,0,0,0,0,0,0,0,0,0,0,0,0,0,0,0,0,0,0,0,0,0,0,0,0,0,0,0,0,0,0,0,0,0,0,0,0,0,0,0,0,0,0,0,0,0,null,null,"p(c38)=",0]
[null,null,null,null,null,null,null,null,null,null,null,null,null,null,null,null,null,null,null,null,null,null,null,null,null,null,null,null,null,null,null,null,null,null,null,null,null,null,null,null,null,null,null,null,null,null,null,null,null,null,null,null,null,null,null,null,null,null,"p(ej/c39)",0,0,0,0,0,0,0,0,0,0,0,0,0,0,0,0,0,0,0,0,0,0,0,0,0,0,0,0,0,0,0,0,0,0,0,0,0,0,0,0,0,0,0,0,0,0,0,0,0,0,null,null,"p(c39)=",0]
[null,null,null,null,null,null,null,null,null,null,null,null,null,null,null,null,null,null,null,null,null,null,null,null,null,null,null,null,null,null,null,null,null,null,null,null,null,null,null,null,null,null,null,null,null,null,null,null,null,null,null,null,null,null,null,null,null,null,"p(ej/c40)",0,0,0,0,0,0,0,0,0,0,0,0,0,0,0,0,0,0,0,0,0,0,0,0,0,0,0,0,0,0,0,0,0,0,0,0,0,0,0,0,0,0,0,0,0,0,0,0,0,0,null,null,"p(c40)=",0]
[null,null,null,null,null,null,null,null,null,null,null,null,null,null,null,null,null,null,null,null,null,null,null,null,null,null,null,null,null,null,null,null,null,null,null,null,null,null,null,null,null,null,null,null,null,null,null,null,null,null,null,null,null,null,null,null,null,null,"p(ej/c41)",0,0,0,0,0,0,0,0,0,0,0,0,0,0,0,0,0,0,0,0,0,0,0,0,0,0,0,0,0,0,0,0,0,0,0,0,0,0,0,0,0,0,0,0,0,0,0,0,0,0,null,null,"p(c41)=",0]
[null,null,null,null,null,null,null,null,null,null,null,null,null,null,null,null,null,null,null,null,null,null,null,null,null,null,null,null,null,null,null,null,null,null,null,null,null,null,null,null,null,null,null,null,null,null,null,null,null,null,null,null,null,null,null,null,null,null,"p(ej/c42)",0,0,0,0,0,0,0,0,0,0,0,0,0,0,0,0,0,0,0,0,0,0,0,0,0,0,0,0,0,0,0,0,0,0,0,0,0,0,0,0,0,0,0,0,0,0,0,{"$f":"IF($BF94=0,0,DC94/$BF94)","v":0},0,0,null,null,"p(c42)=",0]
[null,null,null,null,null,null,null,null,null,null,null,null,null,null,null,null,null,null,null,null,null,null,null,null,null,null,null,null,null,null,null,null,null,null,null,null,null,null,null,null,null,null,null,null,null,null,null,null,null,null,null,null,null,null,null,null,null,null,"p(ej/c43)",0,0,0,0,0,0,0,0,0,0,0,0,0,0,0,0,0,0,0,0,0,0,0,0,0,0,0,0,0,0,0,0,0,0,0,0,0,0,0,0,0,0,0,0,0,0,0,0,0,0,null,null,"p(c43)=",0]
[null,null,null,null,null,null,null,null,null,null,null,null,null,null,null,null,null,null,null,null,null,null,null,null,null,null,null,null,null,null,null,null,null,null,null,null,null,null,null,null,null,null,null,null,null,null,null,null,null,null,null,null,null,null,null,null,null,null,"p(ej/c44)",0,0,0,0,0,0,0,0,0,0,0,0,0,0,0,0,0,0,0,0,0,0,0,0,0,0,0,0,0,0,0,0,0,0,0,0,0,0,0,0,0,0,0,0,0,0,0,0,0,0,null,null,"p(c44)=",0]
[null,null,null,null,null,null,null,null,null,null,null,null,null,null,null,null,null,null,null,null,null,null,null,null,null,null,null,null,null,null,null,null,null,null,null,null,null,null,null,null,null,null,null,null,null,null,null,null,null,null,null,null,null,null,null,null,null,null,"p(ej/c45)",0,0,0,0,0,0,0,0,0,0,0,0,0,0,0,0,0,0,0,0,0,0,0,0,0,0,0,0,0,0,0,0,0,0,0,0,0,0,0,0,0,0,0,0,0,0,0,0,0,0,null,null,"p(c45)=",0]
[null,null,null,null,null,null,null,null,null,null,null,null,null,null,null,null,null,null,null,null,null,null,null,null,null,null,null,null,null,null,null,null,null,null,null,null,null,null,null,null,null,null,null,null,null,null,null,null,null,null,null,null,null,null,null,null,null,null,"p(ej/c46)",0,0,0,0,0,0,0,0,0,0,0,0,0,0,0,0,0,0,0,0,0,0,0,0,0,0,0,0,0,0,0,0,0,0,0,0,0,0,0,0,0,0,0,0,0,0,0,0,0,0,null,null,"p(c46)=",0]
[null,null,null,null,null,null,null,null,null,null,null,null,null,null,null,null,null,null,null,null,null,null,null,null,null,null,null,null,null,null,null,null,null,null,null,null,null,null,null,null,null,null,null,null,null,null,null,null,null,null,null,null,null,null,null,null,null,null,"p(ej/c47)",0,0,0,0,0,0,0,0,0,0,0,0,0,0,0,0,0,0,0,0,0,0,0,0,0,0,0,0,0,0,0,0,0,0,0,0,0,0,0,0,0,0,0,0,0,0,0,0,0,0,null,null,"p(c47)=",0]
[null,null,null,null,null,null,null,null,null,null,null,null,null,null,null,null,null,null,null,null,null,null,null,null,null,null,null,null,null,null,null,null,null,null,null,null,null,null,null,null,null,null,null,null,null,null,null,null,null,null,null,null,null,null,null,null,null,null,"p(ej/c48)",0,0,0,0,0,0,0,0,{"$f":"IF($BF100=0,0,BP100/$BF100)","v":0},0,0,0,0,0,0,0,0,0,0,0,0,0,0,0,0,0,0,0,0,0,0,0,0,0,0,0,0,0,0,0,0,0,0,0,0,0,0,0,0,0,null,null,"p(c48)=",0]
[null,null,null,null,null,null,null,null,null,null,null,null,null,null,null,null,null,null,null,null,null,null,null,null,null,null,null,null,null,null,null,null,null,null,null,null,null,null,null,null,null,null,null,null,null,null,null,null,null,null,null,null,null,null,null,null,null,null,"p(ej/c49)",0,0,0,0,0,0,0,0,0,0,0,0,0,0,0,0,0,0,0,0,0,0,0,0,0,0,0,0,0,0,0,0,0,0,0,0,0,0,0,0,0,0,0,0,0,0,0,0,0,0,null,null,"p(c49)=",0]
[null,null,null,null,null,null,null,null,null,null,null,null,null,null,null,null,null,null,null,null,null,null,null,null,null,null,null,null,null,null,null,null,null,null,null,null,null,null,null,null,null,null,null,null,null,null,null,null,null,null,null,null,null,null,null,null,null,null,"p(ej/c50)",0,0,0,0,0,0,0,0,0,0,0,0,0,0,0,0,0,0,0,0,0,0,0,0,0,0,0,0,0,0,0,0,0,0,0,0,0,0,0,0,0,0,0,0,0,0,0,0,0,0,null,null,"p(c50)=",0]
[]
[null,null,null,null,null,null,null,null,null,null,null,null,null,null,null,null,null,null,null,null,null,null,null,null,null,null,null,null,null,null,null,null,null,null,null,null,null,null,null,null,null,null,null,null,null,null,null,null,null,null,null,null,null,null,null,null,"p(c1)=",{"$f":"SUM(BH53:DE53)","v":0.46},"p(c1/ei)xp(ei)     →",{"$f":"BH104*BH$156","v":0.4},0.06,0,0,0,0,0,0,0,0,0,0,0,0,0,0,0,0,0,0,0,0,0,0,0,0,0,0,0,0,0,0,{"$f":"CN104*CN$156","v":0},0,0,0,0,0,0,0,0,0,0,0,0,0,0,0,0,0]
[null,null,null,null,null,null,null,null,null,null,null,null,null,null,null,null,null,null,null,null,null,null,null,null,null,null,null,null,null,null,null,null,null,null,null,null,null,null,null,null,null,null,null,null,null,null,null,null,null,null,null,null,null,null,null,null,"p(c2)=",{"$f":"SUM(BH54:DE54)","v":0.26},"p(c2/ei)xp(ei)     →",{"$f":"BH105*BH$156","v":0.05},0.21,0,0,0,0,0,0,0,0,0,0,0,0,0,0,0,0,0,0,0,0,0,0,0,0,0,0,0,0,0,0,{"$f":"CN105*CN$156","v":0},0,0,0,0,0,0,0,0,0,0,0,0,0,0,0,0,0]
[null,null,null,null,null,null,null,null,null,null,null,null,null,null,null,null,null,null,null,null,null,null,null,null,null,null,null,null,null,null,null,null,null,null,null,null,null,null,null,null,null,null,null,null,null,null,null,null,null,null,null,null,null,null,null,null,"p(c3)=",0.28000000000000003,"p(c3/ei)xp(ei)     →",{"$f":"BH106*BH$156","v":0.05},0.03,0.2,0,0,0,0,0,0,0,0,0,0,0,0,0,0,0,0,0,0,0,0,0,0,0,0,0,0,0,0,0,{"$f":"CN106*CN$156","v":0},0,0,0,0,0,0,0,0,0,0,0,0,0,0,0,0,0]
[null,null,null,null,null,null,null,null,null,null,null,null,null,null,null,null,null,null,null,null,null,null,null,null,null,null,null,null,null,null,null,null,null,null,null,null,null,null,null,null,null,null,null,null,null,null,null,null,null,null,null,null,null,null,null,null,"p(c4)=",0,"p(c4/ei)xp(ei)     →",{"$f":"BH107*BH$156","v":0},0,0,0,0,0,0,0,0,0,0,0,0,0,0,0,0,0,0,0,0,0,0,0,0,0,0,0,0,0,0,0,{"$f":"CN107*CN$156","v":0},0,0,0,0,0,0,0,0,0,0,0,0,0,0,0,0,0]
[null,null,null,null,null,null,null,null,null,null,null,null,null,null,null,null,null,null,null,null,null,null,null,null,null,null,null,null,null,null,null,null,null,null,null,null,null,null,null,null,null,null,null,null,null,null,null,null,null,null,null,null,null,null,null,null,"p(c5)=",0,"p(c5/ei)xp(ei)     →",{"$f":"BH108*BH$156","v":0},0,0,0,0,0,0,0,0,0,0,0,0,0,0,0,0,0,0,0,0,0,0,0,0,0,0,0,0,0,0,0,{"$f":"CN108*CN$156","v":0},0,0,0,0,0,0,0,0,0,0,0,0,0,0,0,0,0]
[null,null,null,null,null,null,null,null,null,null,null,null,null,null,null,null,null,null,null,null,null,null,null,null,null,null,null,null,null,null,null,null,null,null,null,null,null,null,null,null,null,null,null,null,null,null,null,null,null,null,null,null,null,null,null,null,"p(c6)=",0,"p(c6/ei)xp(ei)     →",{"$f":"BH109*BH$156","v":0},0,0,0,0,0,0,0,0,0,0,0,0,0,0,0,0,0,0,0,0,0,0,0,0,0,0,0,0,0,0,0,{"$f":"CN109*CN$156","v":0},0,0,0,0,0,0,0,0,0,0,0,0,0,0,0,0,0]
[null,null,null,null,null,null,null,null,null,null,null,null,null,null,null,null,null,null,null,null,null,null,null,null,null,null,null,null,null,null,null,null,null,null,null,null,null,null,null,null,null,null,null,null,null,null,null,null,null,null,null,null,null,null,null,null,"p(c7)=",0,"p(c7/ei)xp(ei)     →",{"$f":"BH110*BH$156","v":0},0,0,0,0,0,0,0,0,0,0,0,0,0,0,0,0,0,0,0,0,0,0,0,0,0,0,0,0,0,0,0,{"$f":"CN110*CN$156","v":0},0,0,0,0,0,0,0,0,0,0,0,0,0,0,0,0,0]
[null,null,null,null,null,null,null,null,null,null,null,null,null,null,null,null,null,null,null,null,null,null,null,null,null,null,null,null,null,null,null,null,null,null,null,null,null,null,null,null,null,null,null,null,null,null,null,null,null,null,null,null,null,null,null,null,"p(c8)=",0,"p(c8/ei)xp(ei)     →",{"$f":"BH111*BH$156","v":0},0,0,0,0,0,0,0,0,0,0,0,0,0,0,0,0,0,0,0,0,0,0,0,0,0,0,0,0,0,0,0,{"$f":"CN111*CN$156","v":0},0,0,0,0,0,0,0,0,0,0,0,0,0,0,0,0,0]
[null,null,null,null,null,null,null,null,null,null,null,null,null,null,null,null,null,null,null,null,null,null,null,null,null,null,null,null,null,null,null,null,null,null,null,null,null,null,null,null,null,null,null,null,null,null,null,null,null,null,null,null,null,null,null,null,"p(c9)=",0,"p(c9/ei)xp(ei)     →",{"$f":"BH112*BH$156","v":0},0,0,0,0,0,0,0,0,0,0,0,0,0,0,0,0,0,0,0,0,0,0,0,0,0,0,0,0,0,0,0,{"$f":"CN112*CN$156","v":0},0,0,0,0,0,0,0,0,0,0,0,0,0,0,0,0,0]
[null,null,null,null,null,null,null,null,null,null,null,null,null,null,null,null,null,null,null,null,null,null,null,null,null,null,null,null,null,null,null,null,null,null,null,null,null,null,null,null,null,null,null,null,null,null,null,null,null,null,null,null,null,null,null,null,"p(c10)=",0,"p(c10/ei)xp(ei)     →",{"$f":"BH113*BH$156","v":0},0,0,0,0,0,0,0,0,0,0,0,0,0,0,0,0,0,0,0,0,0,0,0,0,0,0,0,0,0,0,0,{"$f":"CN113*CN$156","v":0},0,0,0,0,0,0,0,0,0,0,0,0,0,0,0,0,0]
[null,null,null,null,null,null,null,null,null,null,null,null,null,null,null,null,null,null,null,null,null,null,null,null,null,null,null,null,null,null,null,null,null,null,null,null,null,null,null,null,null,null,null,null,null,null,null,null,null,null,null,null,null,null,null,null,"p(c11)=",0,"p(c11/ei)xp(ei)     →",{"$f":"BH114*BH$156","v":0},0,0,0,0,0,0,0,0,0,0,0,0,0,0,0,0,0,0,0,0,0,0,0,0,0,0,0,0,0,0,0,{"$f":"CN114*CN$156","v":0},0,0,0,0,0,0,0,0,0,0,0,0,0,0,0,0,0]
[null,null,null,null,null,null,null,null,null,null,null,null,null,null,null,null,null,null,null,null,null,null,null,null,null,null,null,null,null,null,null,null,null,null,null,null,null,null,null,null,null,null,null,null,null,null,null,null,null,null,null,null,null,null,null,null,"p(c12)=",0,"p(c12/ei)xp(ei)     →",{"$f":"BH115*BH$156","v":0},0,0,0,0,0,0,0,0,0,0,0,0,0,0,0,0,0,0,0,0,0,0,0,0,0,0,0,0,0,0,0,{"$f":"CN115*CN$156","v":0},0,0,0,0,0,0,0,0,0,0,0,0,0,0,0,0,0]
[null,null,null,null,null,null,null,null,null,null,null,null,null,null,null,null,null,null,null,null,null,null,null,null,null,null,null,null,null,null,null,null,null,null,null,null,null,null,null,null,null,null,null,null,null,null,null,null,null,null,null,null,null,null,null,null,"p(c13)=",0,"p(c13/ei)xp(ei)     →",{"$f":"BH116*BH$156","v":0},0,0,0,0,0,0,0,0,0,0,0,0,0,0,0,0,0,0,0,0,0,0,0,0,0,0,0,0,0,0,0,{"$f":"CN116*CN$156","v":0},0,0,0,0,0,0,0,0,0,0,0,0,0,0,0,0,0]
[null,null,null,null,null,null,null,null,null,null,null,null,null,null,null,null,null,null,null,null,null,null,null,null,null,null,null,null,null,null,null,null,null,null,null,null,null,null,null,null,null,null,null,null,null,null,null,null,null,null,null,null,null,null,null,null,"p(c14)=",0,"p(c14/ei)xp(ei)     →",{"$f":"BH117*BH$156","v":0},0,0,0,0,0,0,0,0,0,0,0,0,0,0,0,0,0,0,0,0,0,0,0,0,0,0,0,0,0,0,0,{"$f":"CN117*CN$156","v":0},0,0,0,0,0,0,0,0,0,0,0,0,0,0,0,0,0]
[null,null,null,null,null,null,null,null,null,null,null,null,null,null,null,null,null,null,null,null,null,null,null,null,null,null,null,null,null,null,null,null,null,null,null,null,null,null,null,null,null,null,null,null,null,null,null,null,null,null,null,null,null,null,null,null,"p(c15)=",0,"p(c15/ei)xp(ei)     →",{"$f":"BH118*BH$156","v":0},0,0,0,0,0,0,0,0,0,0,0,0,0,0,0,0,0,0,0,0,0,0,0,0,0,0,0,0,0,0,0,{"$f":"CN118*CN$156","v":0},0,0,0,0,0,0,0,0,0,0,0,0,0,0,0,0,0]
[null,null,null,null,null,null,null,null,null,null,null,null,null,null,null,null,null,null,null,null,null,null,null,null,null,null,null,null,null,null,null,null,null,null,null,null,null,null,null,null,null,null,null,null,null,null,null,null,null,null,null,null,null,null,null,null,"p(c16)=",0,"p(c16/ei)xp(ei)     →",{"$f":"BH119*BH$156","v":0},0,0,0,0,0,0,0,0,0,0,0,0,0,0,0,0,0,0,0,0,0,0,0,0,0,0,0,0,0,0,0,{"$f":"CN119*CN$156","v":0},0,0,0,0,0,0,0,0,0,0,0,0,0,0,0,0,0]
[null,null,null,null,null,null,null,null,null,null,null,null,null,null,null,null,null,null,null,null,null,null,null,null,null,null,null,null,null,null,null,null,null,null,null,null,null,null,null,null,null,null,null,null,null,null,null,null,null,null,null,null,null,null,null,null,"p(c17)=",0,"p(c17/ei)xp(ei)     →",{"$f":"BH120*BH$156","v":0},0,0,0,0,0,0,0,0,0,0,0,0,0,0,0,0,0,0,0,0,0,0,0,0,0,0,0,0,0,0,0,{"$f":"CN120*CN$156","v":0},0,0,0,0,0,0,0,0,0,0,0,0,0,0,0,0,0]
[null,null,null,null,null,null,null,null,null,null,null,null,null,null,null,null,null,null,null,null,null,null,null,null,null,null,null,null,null,null,null,null,null,null,null,null,null,null,null,null,null,null,null,null,null,null,null,null,null,null,null,null,null,null,null,null,"p(c18)=",0,"p(c18/ei)xp(ei)     →",{"$f":"BH121*BH$156","v":0},0,0,0,0,0,0,0,0,0,0,0,0,0,0,0,0,0,0,0,0,0,0,0,0,0,0,0,0,0,0,0,{"$f":"CN121*CN$156","v":0},0,0,0,0,0,0,0,0,0,0,0,0,0,0,0,0,0]
[null,null,null,null,null,null,null,null,null,null,null,null,null,null,null,null,null,null,null,null,null,null,null,null,null,null,null,null,null,null,null,null,null,null,null,null,null,null,null,null,null,null,null,null,null,null,null,null,null,null,null,null,null,null,null,null,"p(c19)=",0,"p(c19/ei)xp(ei)     →",{"$f":"BH122*BH$156","v":0},0,0,0,0,0,0,0,0,0,0,0,0,0,0,0,0,0,0,0,0,0,0,0,0,0,0,0,0,0,0,0,{"$f":"CN122*CN$156","v":0},0,0,0,0,0,0,0,0,0,0,0,0,0,0,0,0,0]
[null,null,null,null,null,null,null,null,null,null,null,null,null,null,null,null,null,null,null,null,null,null,null,null,null,null,null,null,null,null,null,null,null,null,null,null,null,null,null,null,null,null,null,null,null,null,null,null,null,null,null,null,null,null,null,null,"p(c20)=",0,"p(c20/ei)xp(ei)     →",{"$f":"BH123*BH$156","v":0},0,0,0,0,0,0,0,0,0,0,0,0,0,0,0,0,0,0,0,0,0,0,0,0,0,0,0,0,0,0,0,{"$f":"CN123*CN$156","v":0},0,0,0,0,0,0,0,0,0,0,0,0,0,0,0,0,0]
[null,null,null,null,null,null,null,null,null,null,null,null,null,null,null,null,null,null,null,null,null,null,null,null,null,null,null,null,null,null,null,null,null,null,null,null,null,null,null,null,null,null,null,null,null,null,null,null,null,null,null,null,null,null,null,null,"p(c21)=",0,"p(c21/ei)xp(ei)     →",{"$f":"BH124*BH$156","v":0},0,0,0,0,0,0,0,0,0,0,0,0,0,0,0,0,0,0,0,0,0,0,0,0,0,0,0,0,0,0,0,{"$f":"CN124*CN$156","v":0},0,0,0,0,0,0,0,0,0,0,0,0,0,0,0,0,0]
[null,null,null,null,null,null,null,null,null,null,null,null,null,null,null,null,null,null,null,null,null,null,null,null,null,null,null,null,null,null,null,null,null,null,null,null,null,null,null,null,null,null,null,null,null,null,null,null,null,null,null,null,null,null,null,null,"p(c22)=",0,"p(c22/ei)xp(ei)     →",{"$f":"BH125*BH$156","v":0},0,0,0,0,0,0,0,0,0,0,0,0,0,0,0,0,0,0,0,0,0,0,0,0,0,0,0,0,0,0,0,{"$f":"CN125*CN$156","v":0},0,0,0,0,0,0,0,0,0,0,0,0,0,0,0,0,0]
[null,null,null,null,null,null,null,null,null,null,null,null,null,null,null,null,null,null,null,null,null,null,null,null,null,null,null,null,null,null,null,null,null,null,null,null,null,null,null,null,null,null,null,null,null,null,null,null,null,null,null,null,null,null,null,null,"p(c23)=",0,"p(c23/ei)xp(ei)     →",{"$f":"BH126*BH$156","v":0},0,0,0,0,0,0,0,0,0,0,0,0,0,0,0,0,0,0,0,0,0,0,0,0,0,0,0,0,0,0,0,{"$f":"CN126*CN$156","v":0},0,0,0,0,0,0,0,0,0,0,0,0,0,0,0,0,0]
[null,null,null,null,null,null,null,null,null,null,null,null,null,null,null,null,null,null,null,null,null,null,null,null,null,null,null,null,null,null,null,null,null,null,null,null,null,null,null,null,null,null,null,null,null,null,null,null,null,null,null,null,null,null,null,null,"p(c24)=",0,"p(c24/ei)xp(ei)     →",{"$f":"BH127*BH$156","v":0},0,0,0,0,0,0,0,0,0,0,0,0,0,0,0,0,0,0,0,0,0,0,0,0,0,0,0,0,0,0,0,{"$f":"CN127*CN$156","v":0},0,0,0,0,0,0,0,0,0,0,0,0,0,0,0,0,0]
[null,null,null,null,null,null,null,null,null,null,null,null,null,null,null,null,null,null,null,null,null,null,null,null,null,null,null,null,null,null,null,null,null,null,null,null,null,null,null,null,null,null,null,null,null,null,null,null,null,null,null,null,null,null,null,null,"p(c25)=",0,"p(c25/ei)xp(ei)     →",{"$f":"BH128*BH$156","v":0},0,0,0,0,0,0,0,0,0,0,0,0,0,0,0,0,0,0,0,0,0,0,0,0,0,0,0,0,0,0,0,{"$f":"CN128*CN$156","v":0},0,0,0,0,0,0,0,0,0,0,0,0,0,0,0,0,0]
[null,null,null,null,null,null,null,null,null,null,null,null,null,null,null,null,null,null,null,null,null,null,null,null,null,null,null,null,null,null,null,null,null,null,null,null,null,null,null,null,null,null,null,null,null,null,null,null,null,null,null,null,null,null,null,null,"p(c26)=",0,"p(c26/ei)xp(ei)     →",{"$f":"BH129*BH$156","v":0},0,0,0,0,0,0,0,0,0,0,0,0,0,0,0,0,0,0,0,0,0,0,0,0,0,0,0,0,0,0,0,{"$f":"CN129*CN$156","v":0},0,0,0,0,0,0,0,0,0,0,0,0,0,0,0,0,0]
[null,null,null,null,null,null,null,null,null,null,null,null,null,null,null,null,null,null,null,null,null,null,null,null,null,null,null,null,null,null,null,null,null,null,null,null,null,null,null,null,null,null,null,null,null,null,null,null,null,null,null,null,null,null,null,null,"p(c27)=",0,"p(c27/ei)xp(ei)     →",{"$f":"BH130*BH$156","v":0},0,0,0,0,0,0,0,0,0,0,0,0,0,0,0,0,0,0,0,0,0,0,0,0,0,0,0,0,0,0,0,{"$f":"CN130*CN$156","v":0},0,0,0,0,0,0,0,0,0,0,0,0,0,0,0,0,0]
[null,null,null,null,null,null,null,null,null,null,null,null,null,null,null,null,null,null,null,null,null,null,null,null,null,null,null,null,null,null,null,null,null,null,null,null,null,null,null,null,null,null,null,null,null,null,null,null,null,null,null,null,null,null,null,null,"p(c28)=",0,"p(c28/ei)xp(ei)     →",{"$f":"BH131*BH$156","v":0},0,0,0,0,0,0,0,0,0,0,0,0,0,0,0,0,0,0,0,0,0,0,0,0,0,0,0,0,0,0,0,{"$f":"CN131*CN$156","v":0},0,0,0,0,0,0,0,0,0,0,0,0,0,0,0,0,0]
[null,null,null,null,null,null,null,null,null,null,null,null,null,null,null,null,null,null,null,null,null,null,null,null,null,null,null,null,null,null,null,null,null,null,null,null,null,null,null,null,null,null,null,null,null,null,null,null,null,null,null,null,null,null,null,null,"p(c29)=",0,"p(c29/ei)xp(ei)     →",{"$f":"BH132*BH$156","v":0},0,0,0,0,0,0,0,0,0,0,0,0,0,0,0,0,0,0,0,0,0,0,0,0,0,0,0,0,0,0,0,{"$f":"CN132*CN$156","v":0},0,0,0,0,0,0,0,0,0,0,0,0,0,0,0,0,0]
[null,null,null,null,null,null,null,null,null,null,null,null,null,null,null,null,null,null,null,null,null,null,null,null,null,null,null,null,null,null,null,null,null,null,null,null,null,null,null,null,null,null,null,null,null,null,null,null,null,null,null,null,null,null,null,null,"p(c30)=",0,"p(c30/ei)xp(ei)     →",{"$f":"BH133*BH$156","v":0},0,0,0,0,0,0,0,0,0,0,0,0,0,0,0,0,0,0,0,0,0,0,0,0,0,0,0,0,0,0,0,{"$f":"CN133*CN$156","v":0},0,0,0,0,0,0,0,0,0,0,0,0,0,0,0,0,0]
[null,null,null,null,null,null,null,null,null,null,null,null,null,null,null,null,null,null,null,null,null,null,null,null,null,null,null,null,null,null,null,null,null,null,null,null,null,null,null,null,null,null,null,null,null,null,null,null,null,null,null,null,null,null,null,null,"p(c31)=",0,"p(c31/ei)xp(ei)     →",{"$f":"BH134*BH$156","v":0},0,0,0,0,0,0,0,0,0,0,0,0,0,0,0,0,0,0,0,0,0,0,0,0,0,0,0,0,0,0,0,{"$f":"CN134*CN$156","v":0},0,0,0,0,0,0,0,0,0,0,0,0,0,0,0,0,0]
[null,null,null,null,null,null,null,null,null,null,null,null,null,null,null,null,null,null,null,null,null,null,null,null,null,null,null,null,null,null,null,null,null,null,null,null,null,null,null,null,null,null,null,null,null,null,null,null,null,null,null,null,null,null,null,null,"p(c32)=",0,"p(c32/ei)xp(ei)     →",{"$f":"BH135*BH$156","v":0},0,0,0,0,0,0,0,0,0,0,0,0,0,0,0,0,0,0,0,0,0,0,0,0,0,0,0,0,0,0,0,{"$f":"CN135*CN$156","v":0},0,0,0,0,0,0,0,0,0,0,0,0,0,0,0,0,0]
[null,null,null,null,null,null,null,null,null,null,null,null,null,null,null,null,null,null,null,null,null,null,null,null,null,null,null,null,null,null,null,null,null,null,null,null,null,null,null,null,null,null,null,null,null,null,null,null,null,null,null,null,null,null,null,null,"p(c33)=",0,"p(c33/ei)xp(ei)     →",{"$f":"BH136*BH$156","v":0},0,0,0,0,0,0,0,0,0,0,0,0,0,0,0,0,0,0,0,0,0,0,0,0,0,0,0,0,0,0,0,{"$f":"CN136*CN$156","v":0},0,0,0,0,0,0,0,0,0,0,0,0,0,0,0,0,0]
[null,null,null,null,null,null,null,null,null,null,null,null,null,null,null,null,null,null,null,null,null,null,null,null,null,null,null,null,null,null,null,null,null,null,null,null,null,null,null,null,null,null,null,null,null,null,null,null,null,null,null,null,null,null,null,null,"p(c34)=",0,"p(c34/ei)xp(ei)     →",{"$f":"BH137*BH$156","v":0},0,0,0,0,0,0,0,0,0,0,0,0,0,0,0,0,0,0,0,0,0,0,0,0,0,0,0,0,0,0,0,{"$f":"CN137*CN$156","v":0},0,0,0,0,0,0,0,0,0,0,0,0,0,0,0,0,0]
[null,null,null,null,null,null,null,null,null,null,null,null,null,null,null,null,null,null,null,null,null,null,null,null,null,null,null,null,null,null,null,null,null,null,null,null,null,null,null,null,null,null,null,null,null,null,null,null,null,null,null,null,null,null,null,null,"p(c35)=",0,"p(c35/ei)xp(ei)     →",{"$f":"BH138*BH$156","v":0},0,0,0,0,0,0,0,0,0,0,0,0,0,0,0,0,0,0,0,0,0,0,0,0,0,0,0,0,0,0,0,{"$f":"CN138*CN$156","v":0},0,0,0,0,0,0,0,0,0,0,0,0,0,0,0,0,0]
[null,null,null,null,null,null,null,null,null,null,null,null,null,null,null,null,null,null,null,null,null,null,null,null,null,null,null,null,null,null,null,null,null,null,null,null,null,null,null,null,null,null,null,null,null,null,null,null,null,null,null,null,null,null,null,null,"p(c36)=",0,"p(c36/ei)xp(ei)     →",{"$f":"BH139*BH$156","v":0},0,0,0,0,0,0,0,0,0,0,0,0,0,0,0,0,0,0,0,0,0,0,0,0,0,0,0,0,0,0,0,{"$f":"CN139*CN$156","v":0},0,0,0,0,0,0,0,0,0,0,0,0,0,0,0,0,0]
[null,null,null,null,null,null,null,null,null,null,null,null,null,null,null,null,null,null,null,null,null,null,null,null,null,null,null,null,null,null,null,null,null,null,null,null,null,null,null,null,null,null,null,null,null,null,null,null,null,null,null,null,null,null,null,null,"p(c37)=",0,"p(c37/ei)xp(ei)     →",{"$f":"BH140*BH$156","v":0},0,0,0,0,0,0,0,0,0,0,0,0,0,0,0,0,0,0,0,0,0,0,0,0,0,0,0,0,0,0,0,{"$f":"CN140*CN$156","v":0},0,0,0,0,0,0,0,0,0,0,0,0,0,0,0,0,0]
[null,null,null,null,null,null,null,null,null,null,null,null,null,null,null,null,null,null,null,null,null,null,null,null,null,null,null,null,null,null,null,null,null,null,null,null,null,null,null,null,null,null,null,null,null,null,null,null,null,null,null,null,null,null,null,null,"p(c38)=",0,"p(c38/ei)xp(ei)     →",{"$f":"BH141*BH$156","v":0},0,0,0,0,0,0,0,0,0,0,0,0,0,0,0,0,0,0,0,0,0,0,0,0,0,0,0,0,0,0,0,{"$f":"CN141*CN$156","v":0},0,0,0,0,0,0,0,0,0,0,0,0,0,0,0,0,0]
[null,null,null,null,null,null,null,null,null,null,null,null,null,null,null,null,null,null,null,null,null,null,null,null,null,null,null,null,null,null,null,null,null,null,null,null,null,null,null,null,null,null,null,null,null,null,null,null,null,null,null,null,null,null,null,null,"p(c39)=",0,"p(c39/ei)xp(ei)     →",{"$f":"BH142*BH$156","v":0},0,0,0,0,0,0,0,0,0,0,0,0,0,0,0,0,0,0,0,0,0,0,0,0,0,0,0,0,0,0,0,{"$f":"CN142*CN$156","v":0},0,0,0,0,0,0,0,0,0,0,0,0,0,0,0,0,0]
[null,null,null,null,null,null,null,null,null,null,null,null,null,null,null,null,null,null,null,null,null,null,null,null,null,null,null,null,null,null,null,null,null,null,null,null,null,null,null,null,null,null,null,null,null,null,null,null,null,null,null,null,null,null,null,null,"p(c40)=",0,"p(c40/ei)xp(ei)     →",{"$f":"BH143*BH$156","v":0},0,0,0,0,0,0,0,0,0,0,0,0,0,0,0,0,0,0,0,0,0,0,0,0,0,0,0,0,0,0,0,{"$f":"CN143*CN$156","v":0},0,0,0,0,0,0,0,0,0,0,0,0,0,0,0,0,0]
[null,null,null,null,null,null,null,null,null,null,null,null,null,null,null,null,null,null,null,null,null,null,null,null,null,null,null,null,null,null,null,null,null,null,null,null,null,null,null,null,null,null,null,null,null,null,null,null,null,null,null,null,null,null,null,null,"p(c41)=",0,"p(c41/ei)xp(ei)     →",{"$f":"BH144*BH$156","v":0},0,0,0,0,0,0,0,0,0,0,0,0,0,0,0,0,0,0,0,0,0,0,0,0,0,0,0,0,0,0,0,{"$f":"CN144*CN$156","v":0},0,0,0,0,0,0,0,0,0,0,0,0,0,0,0,0,0]
[null,null,null,null,null,null,null,null,null,null,null,null,null,null,null,null,null,null,null,null,null,null,null,null,null,null,null,null,null,null,null,null,null,null,null,null,null,null,null,null,null,null,null,null,null,null,null,null,null,null,null,null,null,null,null,null,"p(c42)=",0,"p(c42/ei)xp(ei)     →",{"$f":"BH145*BH$156","v":0},0,0,0,0,0,0,0,0,0,0,0,0,0,0,0,0,0,0,0,0,0,0,0,0,0,0,0,0,0,0,0,{"$f":"CN145*CN$156","v":0},0,0,0,0,0,0,0,0,0,0,0,0,0,0,0,0,0]
[null,null,null,null,null,null,null,null,null,null,null,null,null,null,null,null,null,null,null,null,null,null,null,null,null,null,null,null,null,null,null,null,null,null,null,null,null,null,null,null,null,null,null,null,null,null,null,null,null,null,null,null,null,null,null,null,"p(c43)=",0,"p(c43/ei)xp(ei)     →",{"$f":"BH146*BH$156","v":0},0,0,0,0,0,0,0,0,0,0,0,0,0,0,0,0,0,0,0,0,0,0,0,0,0,0,0,0,0,0,0,{"$f":"CN146*CN$156","v":0},0,0,0,0,0,0,0,0,0,0,0,0,0,0,0,0,0]
[null,null,null,null,null,null,null,null,null,null,null,null,null,null,null,null,null,null,null,null,null,null,null,null,null,null,null,null,null,null,null,null,null,null,null,null,null,null,null,null,null,null,null,null,null,null,null,null,null,null,null,null,null,null,null,null,"p(c44)=",0,"p(c44/ei)xp(ei)     →",{"$f":"BH147*BH$156","v":0},0,0,0,0,0,0,0,0,0,0,0,0,0,0,0,0,0,0,0,0,0,0,0,0,0,0,0,0,0,0,0,{"$f":"CN147*CN$156","v":0},0,0,0,0,0,0,0,0,0,0,0,0,0,0,0,0,0]
[null,null,null,null,null,null,null,null,null,null,null,null,null,null,null,null,null,null,null,null,null,null,null,null,null,null,null,null,null,null,null,null,null,null,null,null,null,null,null,null,null,null,null,null,null,null,null,null,null,null,null,null,null,null,null,null,"p(c45)=",0,"p(c45/ei)xp(ei)     →",{"$f":"BH148*BH$156","v":0},0,0,0,0,0,0,0,0,0,0,0,0,0,0,0,0,0,0,0,0,0,0,0,0,0,0,0,0,0,0,0,{"$f":"CN148*CN$156","v":0},0,0,0,0,0,0,0,0,0,0,0,0,0,0,0,0,0]
[null,null,null,null,null,null,null,null,null,null,null,null,null,null,null,null,null,null,null,null,null,null,null,null,null,null,null,null,null,null,null,null,null,null,null,null,null,null,null,null,null,null,null,null,null,null,null,null,null,null,null,null,null,null,null,null,"p(c46)=",0,"p(c46/ei)xp(ei)     →",{"$f":"BH149*BH$156","v":0},0,0,0,0,0,0,0,0,0,0,0,0,0,0,0,0,0,0,0,0,0,0,0,0,0,0,0,0,0,0,0,{"$f":"CN149*CN$156","v":0},0,0,0,0,0,0,0,0,0,0,0,0,0,0,0,0,0]
[null,null,null,null,null,null,null,null,null,null,null,null,null,null,null,null,null,null,null,null,null,null,null,null,null,null,null,null,null,null,null,null,null,null,null,null,null,null,null,null,null,null,null,null,null,null,null,null,null,null,null,null,null,null,null,null,"p(c47)=",0,"p(c47/ei)xp(ei)     →",{"$f":"BH150*BH$156","v":0},0,0,0,0,0,0,0,0,0,0,0,0,0,0,0,0,0,0,0,0,0,0,0,0,0,0,0,0,0,0,0,{"$f":"CN150*CN$156","v":0},0,0,0,0,0,0,0,0,0,0,0,0,0,0,0,0,0]
[null,null,null,null,null,null,null,null,null,null,null,null,null,null,null,null,null,null,null,null,null,null,null,null,null,null,null,null,null,null,null,null,null,null,null,null,null,null,null,null,null,null,null,null,null,null,null,null,null,null,null,null,null,null,null,null,"p(c48)=",0,"p(c48/ei)xp(ei)     →",{"$f":"BH151*BH$156","v":0},0,0,0,0,0,0,0,0,0,0,0,0,0,0,0,0,0,0,0,0,0,0,0,0,0,0,0,0,0,0,0,{"$f":"CN151*CN$156","v":0},0,0,0,0,0,0,0,0,0,0,0,0,0,0,0,0,0]
[null,null,null,null,null,null,null,null,null,null,null,null,null,null,null,null,null,null,null,null,null,null,null,null,null,null,null,null,null,null,null,null,null,null,null,null,null,null,null,null,null,null,null,null,null,null,null,null,null,null,null,null,null,null,null,null,"p(c49)=",0,"p(c49/ei)xp(ei)     →",{"$f":"BH152*BH$156","v":0},0,0,0,0,0,0,0,0,0,0,0,0,0,0,0,0,0,0,0,0,0,0,0,0,0,0,0,0,0,0,0,{"$f":"CN152*CN$156","v":0},0,0,0,0,0,0,0,0,0,0,0,0,0,0,0,0,0]
[null,null,null,null,null,null,null,null,null,null,null,null,null,null,null,null,null,null,null,null,null,null,null,null,null,null,null,null,null,null,null,null,null,null,null,null,null,null,null,null,null,null,null,null,null,null,null,null,null,null,null,null,null,null,null,null,"p(c50)=",{"$f":"SUM(BH102:DE102)","v":0},"p(c50/ei)xp(ei)     →",{"$f":"BH153*BH$156","v":0},0,0,0,0,0,0,0,0,0,0,0,0,0,0,0,0,0,0,0,0,0,0,0,0,0,0,0,0,0,0,0,{"$f":"CN153*CN$156","v":0},0,0,0,0,0,0,0,0,0,0,0,0,0,0,0,0,0]
[null,null,null,null,null,null,null,null,null,null,null,null,null,null,null,null,null,null,null,null,null,null,null,null,null,null,null,null,null,null,null,null,null,null,null,null,null,null,null,null,null,null,null,null,null,null,null,null,null,null,null,null,null,null,null,null,null,"↓ETIQUETAS ck (información):"," verosimilitudes               p(ck/ej)   ↘","e1","e2","e3","e4","e5","e6","e7","e8","e9","e10","e11","e12","e13","e14","e15","e16","e17","e18","e19","e20","e21","e22","e23","e24","e25","e26","e27","e28","e29","e30","e31","e32","e33","e34","e35","e36","e37","e38","e39","e40","e41","e42","e43","e44","e45","e46","e47","e48","e49","e50"]
[null,null,null,null,null,null,null,null,null,null,null,null,null,null,null,null,null,null,null,null,null,null,null,null,null,null,null,null,null,null,null,null,null,null,null,null,null,null,null,null,null,null,null,null,null,null,null,null,null,null,null,null,null,null,null,null,null,null,"p(c1/ej)",0.8,0.2,0]
[null,null,null,null,null,null,null,null,null,null,null,null,null,null,null,null,null,null,null,null,null,null,null,null,null,null,null,null,null,null,null,null,null,null,null,null,null,null,null,null,null,null,null,null,null,null,null,null,null,null,null,null,null,null,null,null,null,null,"p(c2/ej)",0.1,0.7,0]
[null,null,null,null,null,null,null,null,null,null,null,null,null,null,null,null,null,null,null,null,null,null,null,null,null,null,null,null,null,null,null,null,null,null,null,null,null,null,null,null,null,null,null,null,null,null,null,null,null,null,null,null,null,null,null,null,null,null,"p(c3/ej)",0.1,0.1,1]
[null,null,null,null,null,null,null,null,null,null,null,null,null,null,null,null,null,null,null,null,null,null,null,null,null,null,null,null,null,null,null,null,null,null,null,null,null,null,null,null,null,null,null,null,null,null,null,null,null,null,null,null,null,null,null,null,null,null,"p(c4/ej)"]
[null,null,null,null,null,null,null,null,null,null,null,null,null,null,null,null,null,null,null,null,null,null,null,null,null,null,null,null,null,null,null,null,null,null,null,null,null,null,null,null,null,null,null,null,null,null,null,null,null,null,null,null,null,null,null,null,null,null,"p(c5/ej)"]
[null,null,null,null,null,null,null,null,null,null,null,null,null,null,null,null,null,null,null,null,null,null,null,null,null,null,null,null,null,null,null,null,null,null,null,null,null,null,null,null,null,null,null,null,null,null,null,null,null,null,null,null,null,null,null,null,null,null,"p(c6/ej)"]
[null,null,null,null,null,null,null,null,null,null,null,null,null,null,null,null,null,null,null,null,null,null,null,null,null,null,null,null,null,null,null,null,null,null,null,null,null,null,null,null,null,null,null,null,null,null,null,null,null,null,null,null,null,null,null,null,null,null,"p(c7/ej)"]
[null,null,null,null,null,null,null,null,null,null,null,null,null,null,null,null,null,null,null,null,null,null,null,null,null,null,null,null,null,null,null,null,null,null,null,null,null,null,null,null,null,null,null,null,null,null,null,null,null,null,null,null,null,null,null,null,null,null,"p(c8/ej)"]
[null,null,null,null,null,null,null,null,null,null,null,null,null,null,null,null,null,null,null,null,null,null,null,null,null,null,null,null,null,null,null,null,null,null,null,null,null,null,null,null,null,null,null,null,null,null,null,null,null,null,null,null,null,null,null,null,null,null,"p(c9/ej)"]
[null,null,null,null,null,null,null,null,null,null,null,null,null,null,null,null,null,null,null,null,null,null,null,null,null,null,null,null,null,null,null,null,null,null,null,null,null,null,null,null,null,null,null,null,null,null,null,null,null,null,null,null,null,null,null,null,null,null,"p(c10/ej)"]
[null,null,null,null,null,null,null,null,null,null,null,null,null,null,null,null,null,null,null,null,null,null,null,null,null,null,null,null,null,null,null,null,null,null,null,null,null,null,null,null,null,null,null,null,null,null,null,null,null,null,null,null,null,null,null,null,null,null,"p(c11/ej)"]
[null,null,null,null,null,null,null,null,null,null,null,null,null,null,null,null,null,null,null,null,null,null,null,null,null,null,null,null,null,null,null,null,null,null,null,null,null,null,null,null,null,null,null,null,null,null,null,null,null,null,null,null,null,null,null,null,null,null,"p(c12/ej)"]
[null,null,null,null,null,null,null,null,null,null,null,null,null,null,null,null,null,null,null,null,null,null,null,null,null,null,null,null,null,null,null,null,null,null,null,null,null,null,null,null,null,null,null,null,null,null,null,null,null,null,null,null,null,null,null,null,null,null,"p(c13/ej)"]
[null,null,null,null,null,null,null,null,null,null,null,null,null,null,null,null,null,null,null,null,null,null,null,null,null,null,null,null,null,null,null,null,null,null,null,null,null,null,null,null,null,null,null,null,null,null,null,null,null,null,null,null,null,null,null,null,null,null,"p(c14/ej)"]
[null,null,null,null,null,null,null,null,null,null,null,null,null,null,null,null,null,null,null,null,null,null,null,null,null,null,null,null,null,null,null,null,null,null,null,null,null,null,null,null,null,null,null,null,null,null,null,null,null,null,null,null,null,null,null,null,null,null,"p(c15/ej)"]
[null,null,null,null,null,null,null,null,null,null,null,null,null,null,null,null,null,null,null,null,null,null,null,null,null,null,null,null,null,null,null,null,null,null,null,null,null,null,null,null,null,null,null,null,null,null,null,null,null,null,null,null,null,null,null,null,null,null,"p(c16/ej)"]
[null,null,null,null,null,null,null,null,null,null,null,null,null,null,null,null,null,null,null,null,null,null,null,null,null,null,null,null,null,null,null,null,null,null,null,null,null,null,null,null,null,null,null,null,null,null,null,null,null,null,null,null,null,null,null,null,null,null,"p(c17/ej)"]
[null,null,null,null,null,null,null,null,null,null,null,null,null,null,null,null,null,null,null,null,null,null,null,null,null,null,null,null,null,null,null,null,null,null,null,null,null,null,null,null,null,null,null,null,null,null,null,null,null,null,null,null,null,null,null,null,null,null,"p(c18/ej)"]
[null,null,null,null,null,null,null,null,null,null,null,null,null,null,null,null,null,null,null,null,null,null,null,null,null,null,null,null,null,null,null,null,null,null,null,null,null,null,null,null,null,null,null,null,null,null,null,null,null,null,null,null,null,null,null,null,null,null,"p(c19/ej)"]
[null,null,null,null,null,null,null,null,null,null,null,null,null,null,null,null,null,null,null,null,null,null,null,null,null,null,null,null,null,null,null,null,null,null,null,null,null,null,null,null,null,null,null,null,null,null,null,null,null,null,null,null,null,null,null,null,null,null,"p(c20/ej)"]
[null,null,null,null,null,null,null,null,null,null,null,null,null,null,null,null,null,null,null,null,null,null,null,null,null,null,null,null,null,null,null,null,null,null,null,null,null,null,null,null,null,null,null,null,null,null,null,null,null,null,null,null,null,null,null,null,null,null,"p(c21/ej)"]
[null,null,null,null,null,null,null,null,null,null,null,null,null,null,null,null,null,null,null,null,null,null,null,null,null,null,null,null,null,null,null,null,null,null,null,null,null,null,null,null,null,null,null,null,null,null,null,null,null,null,null,null,null,null,null,null,null,null,"p(c22/ej)"]
[null,null,null,null,null,null,null,null,null,null,null,null,null,null,null,null,null,null,null,null,null,null,null,null,null,null,null,null,null,null,null,null,null,null,null,null,null,null,null,null,null,null,null,null,null,null,null,null,null,null,null,null,null,null,null,null,null,null,"p(c23/ej)"]
[null,null,null,null,null,null,null,null,null,null,null,null,null,null,null,null,null,null,null,null,null,null,null,null,null,null,null,null,null,null,null,null,null,null,null,null,null,null,null,null,null,null,null,null,null,null,null,null,null,null,null,null,null,null,null,null,null,null,"p(c24/ej)"]
[null,null,null,null,null,null,null,null,null,null,null,null,null,null,null,null,null,null,null,null,null,null,null,null,null,null,null,null,null,null,null,null,null,null,null,null,null,null,null,null,null,null,null,null,null,null,null,null,null,null,null,null,null,null,null,null,null,null,"p(c25/ej)"]
[null,null,null,null,null,null,null,null,null,null,null,null,null,null,null,null,null,null,null,null,null,null,null,null,null,null,null,null,null,null,null,null,null,null,null,null,null,null,null,null,null,null,null,null,null,null,null,null,null,null,null,null,null,null,null,null,null,null,"p(c26/ej)"]
[null,null,null,null,null,null,null,null,null,null,null,null,null,null,null,null,null,null,null,null,null,null,null,null,null,null,null,null,null,null,null,null,null,null,null,null,null,null,null,null,null,null,null,null,null,null,null,null,null,null,null,null,null,null,null,null,null,null,"p(c27/ej)"]
[null,null,null,null,null,null,null,null,null,null,null,null,null,null,null,null,null,null,null,null,null,null,null,null,null,null,null,null,null,null,null,null,null,null,null,null,null,null,null,null,null,null,null,null,null,null,null,null,null,null,null,null,null,null,null,null,null,null,"p(c28/ej)"]
[null,null,null,null,null,null,null,null,null,null,null,null,null,null,null,null,null,null,null,null,null,null,null,null,null,null,null,null,null,null,null,null,null,null,null,null,null,null,null,null,null,null,null,null,null,null,null,null,null,null,null,null,null,null,null,null,null,null,"p(c29/ej)"]
[null,null,null,null,null,null,null,null,null,null,null,null,null,null,null,null,null,null,null,null,null,null,null,null,null,null,null,null,null,null,null,null,null,null,null,null,null,null,null,null,null,null,null,null,null,null,null,null,null,null,null,null,null,null,null,null,null,null,"p(c30/ej)"]
[null,null,null,null,null,null,null,null,null,null,null,null,null,null,null,null,null,null,null,null,null,null,null,null,null,null,null,null,null,null,null,null,null,null,null,null,null,null,null,null,null,null,null,null,null,null,null,null,null,null,null,null,null,null,null,null,null,null,"p(c31/ej)"]
[null,null,null,null,null,null,null,null,null,null,null,null,null,null,null,null,null,null,null,null,null,null,null,null,null,null,null,null,null,null,null,null,null,null,null,null,null,null,null,null,null,null,null,null,null,null,null,null,null,null,null,null,null,null,null,null,null,null,"p(c32/ej)"]
[null,null,null,null,null,null,null,null,null,null,null,null,null,null,null,null,null,null,null,null,null,null,null,null,null,null,null,null,null,null,null,null,null,null,null,null,null,null,null,null,null,null,null,null,null,null,null,null,null,null,null,null,null,null,null,null,null,null,"p(c33/ej)"]
[null,null,null,null,null,null,null,null,null,null,null,null,null,null,null,null,null,null,null,null,null,null,null,null,null,null,null,null,null,null,null,null,null,null,null,null,null,null,null,null,null,null,null,null,null,null,null,null,null,null,null,null,null,null,null,null,null,null,"p(c34/ej)"]
[null,null,null,null,null,null,null,null,null,null,null,null,null,null,null,null,null,null,null,null,null,null,null,null,null,null,null,null,null,null,null,null,null,null,null,null,null,null,null,null,null,null,null,null,null,null,null,null,null,null,null,null,null,null,null,null,null,null,"p(c35/ej)"]
[null,null,null,null,null,null,null,null,null,null,null,null,null,null,null,null,null,null,null,null,null,null,null,null,null,null,null,null,null,null,null,null,null,null,null,null,null,null,null,null,null,null,null,null,null,null,null,null,null,null,null,null,null,null,null,null,null,null,"p(c36/ej)"]
[null,null,null,null,null,null,null,null,null,null,null,null,null,null,null,null,null,null,null,null,null,null,null,null,null,null,null,null,null,null,null,null,null,null,null,null,null,null,null,null,null,null,null,null,null,null,null,null,null,null,null,null,null,null,null,null,null,null,"p(c37/ej)"]
[null,null,null,null,null,null,null,null,null,null,null,null,null,null,null,null,null,null,null,null,null,null,null,null,null,null,null,null,null,null,null,null,null,null,null,null,null,null,null,null,null,null,null,null,null,null,null,null,null,null,null,null,null,null,null,null,null,null,"p(c38/ej)"]
[null,null,null,null,null,null,null,null,null,null,null,null,null,null,null,null,null,null,null,null,null,null,null,null,null,null,null,null,null,null,null,null,null,null,null,null,null,null,null,null,null,null,null,null,null,null,null,null,null,null,null,null,null,null,null,null,null,null,"p(c39/ej)"]
[null,null,null,null,null,null,null,null,null,null,null,null,null,null,null,null,null,null,null,null,null,null,null,null,null,null,null,null,null,null,null,null,null,null,null,null,null,null,null,null,null,null,null,null,null,null,null,null,null,null,null,null,null,null,null,null,null,null,"p(c40/ej)"]
[null,null,null,null,null,null,null,null,null,null,null,null,null,null,null,null,null,null,null,null,null,null,null,null,null,null,null,null,null,null,null,null,null,null,null,null,null,null,null,null,null,null,null,null,null,null,null,null,null,null,null,null,null,null,null,null,null,null,"p(c41/ej)"]
[null,null,null,null,null,null,null,null,null,null,null,null,null,null,null,null,null,null,null,null,null,null,null,null,null,null,null,null,null,null,null,null,null,null,null,null,null,null,null,null,null,null,null,null,null,null,null,null,null,null,null,null,null,null,null,null,null,null,"p(c42/ej)"]
[null,null,null,null,null,null,null,null,null,null,null,null,null,null,null,null,null,null,null,null,null,null,null,null,null,null,null,null,null,null,null,null,null,null,null,null,null,null,null,null,null,null,null,null,null,null,null,null,null,null,null,null,null,null,null,null,null,null,"p(c43/ej)"]
[null,null,null,null,null,null,null,null,null,null,null,null,null,null,null,null,null,null,null,null,null,null,null,null,null,null,null,null,null,null,null,null,null,null,null,null,null,null,null,null,null,null,null,null,null,null,null,null,null,null,null,null,null,null,null,null,null,null,"p(c44/ej)"]
[null,null,null,null,null,null,null,null,null,null,null,null,null,null,null,null,null,null,null,null,null,null,null,null,null,null,null,null,null,null,null,null,null,null,null,null,null,null,null,null,null,null,null,null,null,null,null,null,null,null,null,null,null,null,null,null,null,null,"p(c45/ej)"]
[null,null,null,null,null,null,null,null,null,null,null,null,null,null,null,null,null,null,null,null,null,null,null,null,null,null,null,null,null,null,null,null,null,null,null,null,null,null,null,null,null,null,null,null,null,null,null,null,null,null,null,null,null,null,null,null,null,null,"p(c46/ej)"]
[null,null,null,null,null,null,null,null,null,null,null,null,null,null,null,null,null,null,null,null,null,null,null,null,null,null,null,null,null,null,null,null,null,null,null,null,null,null,null,null,null,null,null,null,null,null,null,null,null,null,null,null,null,null,null,null,null,null,"p(c47/ej)"]
[null,null,null,null,null,null,null,null,null,null,null,null,null,null,null,null,null,null,null,null,null,null,null,null,null,null,null,null,null,null,null,null,null,null,null,null,null,null,null,null,null,null,null,null,null,null,null,null,null,null,null,null,null,null,null,null,null,null,"p(c48/ej)"]
[null,null,null,null,null,null,null,null,null,null,null,null,null,null,null,null,null,null,null,null,null,null,null,null,null,null,null,null,null,null,null,null,null,null,null,null,null,null,null,null,null,null,null,null,null,null,null,null,null,null,null,null,null,null,null,null,null,null,"p(c49/ej)"]
[null,null,null,null,null,null,null,null,null,null,null,null,null,null,null,null,null,null,null,null,null,null,null,null,null,null,null,null,null,null,null,null,null,null,null,null,null,null,null,null,null,null,null,null,null,null,null,null,null,null,null,null,null,null,null,null,null,null,"p(c50/ej)"]
[]
["BENEF/COST",null,"(Hurwicz) α=",null,"VIP=",{"$f":"IF(A156=1,F156-E157,E157-F156)","v":1750},"VII=",{"$f":"IF(A156=1,H156-E157,E157-H156)","v":1150}]
[{"$f":"'DISEÑO TABLA DE DECISION'!B21","v":2},null,{"$f":"'DECISIÓN ÓPTIMA'!E2","v":0.5},null,"VMEIP=",{"$f":"BG209","v":4250},"VMEII=",{"$f":"SUM(BE159:BE208)","v":4850},null,null,null,null,null,null,null,null,null,null,null,null,null,null,null,null,null,null,null,null,null,null,null,null,null,null,null,null,null,null,null,null,null,null,null,null,null,null,null,null,null,null,null,null,null,null,null,null,null,"probabilidades a priori  p(ej): →",null,{"$f":"30/60","v":0.5},{"$f":"18/60","v":0.3},{"$f":"12/60","v":0.2}]
[{"$f":"IF(A156=1,MAX(A159:A208),MIN(A159:A208))","v":6666.666666666667},{"$f":"IF(A156=1,MAX(B159:B208),MIN(B159:B208))","v":7500},{"$f":"IF(A156=1,MAX(C159:C208),MIN(C159:C208))","v":7500},{"$f":"MIN(D159:D208)","v":2500},{"$f":"IF($A$156=1,MAX(E159:E208),MIN(E159:E208))","v":6000},null,{"$f":"IF($A$156=1,MAX(G159:G208),MIN(G159:G208))","v":3152.1739130434785},{"$f":"IF($A$156=1,MAX(H159:H208),MIN(H159:H208))","v":5000},{"$f":"IF($A$156=1,MAX(I159:I208),MIN(I159:I208))","v":7500},{"$f":"IF($A$156=1,MAX(J159:J208),MIN(J159:J208))","v":0},0,0,0,0,0,0,0,0,0,0,0,0,0,0,0,0,0,0,0,0,0,0,0,0,0,0,0,0,0,0,0,0,0,0,0,0,0,0,0,0,0,0,0,0,0,0,null,"↓ALTERNATIVAS   \\   ESTADOS→","etiquetas de los  ej:   →"]
["LAPLACE","WALD","HURWICZ","SAVAGE","VME",null,"VME/c1","VME/c2","VME/c3","VME/c4","VME/c5","VME/c6","VME/c7","VME/c8","VME/c9","VME/c10","VME/c11","VME/c12","VME/c13","VME/c14","VME/c15","VME/c16","VME/c17","VME/c18","VME/c19","VME/c20","VME/c21","VME/c22","VME/c23","VME/c24","VME/c25","VME/c26","VME/c27","VME/c28","VME/c29","VME/c30","VME/c31","VME/c32","VME/c33","VME/c34","VME/c35","VME/c36","VME/c37","VME/c38","VME/c39","VME/c40","VME/c41","VME/c42","VME/c43","VME/c44","VME/c45","VME/c46","VME/c47","VME/c48","VME/c49","VME/c50","↓p(ci)Xvmeii/ci","etiquetas de las  ai:   ↓","RESULTADOS (Xij)↘","e1","e2","e3","e4","e5","e6","e7","e8","e9","e10","e11","e12","e13","e14","e15","e16","e17","e18","e19","e20","e21","e22","e23","e24","e25","e26","e27","e28","e29","e30","e31","e32","e33","e34","e35","e36","e37","e38","e39","e40","e41","e42","e43","e44","e45","e46","e47","e48","e49","e50"]
[{"$f":"IF(BH159=\"\",\"\",AVERAGE(BH159:DE159))","v":7500},{"$f":"IF(BH159=\"\",\"\",IF($A$156=1,MIN(BH159:DE159),MAX(BH159:DE159)))","v":12500},{"$f":"IF(BH159=\"\",\"\",IF($A$156=1,($C$156*MAX(BH159:DE159))+((1-$C$156)*MIN(BH159:DE159)),($C$156*MIN(BH159:DE159))+((1-$C$156)*MAX(BH159:DE159))))","v":7500},{"$f":"IF(C159=\"\",\"\",MAX('MATRIZ-PÉRDIDA OPORTUNIDAD'!C3:AZ3))","v":5000},{"$f":"IF(OR(BH159=\"\",BH$156=\"\"),\"\",BH$156*BH159+BI$156*BI159+BJ$156*BJ159+BK$156*BK159+BL$156*BL159+BM$156*BM159+BN$156*BN159+BO$156*BO159+BP$156*BP159+BQ$156*BQ159+BR$156*BR159+BS$156*BS159+BT$156*BT159+BU$156*BU159+BV$156*BV159+BW$156*BW159+BX$156*BX159+BY$156*BY159+BZ$156*BZ159+CA$156*CA159+CB$156*CB159+CC$156*CC159+CD$156*CD159+CE$156*CE159+CF$156*CF159+CG$156*CG159+CH$156*CH159+CI$156*CI159+CJ$156*CJ159+CK$156*CK159+CL$156*CL159+CM$156*CM159+CN$156*CN159+CO$156*CO159+CP$156*CP159+CQ$156*CQ159+CR$156*CR159+CS$156*CS159+CT$156*CT159+CU$156*CU159+CV$156*CV159+CW$156*CW159+CX$156*CX159+CY$156*CY159+CZ$156*CZ159+DA$156*DA159+DB$156*DB159+DC$156*DC159+DD$156*DD159+DE$156*DE159)","v":6000},null,{"$f":"BG210","v":3152.1739130434785},{"$f":"BG211","v":6538.4615384615372},{"$f":"BG212","v":10178.571428571429},{"$f":"BG213","v":0},{"$f":"BG214","v":0},{"$f":"BG215","v":0},{"$f":"BG216","v":0},{"$f":"BG217","v":0},{"$f":"BG218","v":0},{"$f":"BG219","v":0},{"$f":"BG220","v":0},{"$f":"BG221","v":0},{"$f":"BG222","v":0},{"$f":"BG223","v":0},{"$f":"BG224","v":0},{"$f":"BG225","v":0},{"$f":"BG226","v":0},{"$f":"BG227","v":0},{"$f":"BG228","v":0},{"$f":"BG229","v":0},{"$f":"BG230","v":0},{"$f":"BG231","v":0},{"$f":"BG232","v":0},{"$f":"BG233","v":0},{"$f":"BG234","v":0},{"$f":"BG235","v":0},{"$f":"BG236","v":0},{"$f":"BG237","v":0},{"$f":"BG238","v":0},{"$f":"BG239","v":0},{"$f":"BG240","v":0},{"$f":"BG241","v":0},{"$f":"BG242","v":0},{"$f":"BG243","v":0},{"$f":"BG244","v":0},{"$f":"BG245","v":0},{"$f":"BG246","v":0},{"$f":"BG247","v":0},{"$f":"BG248","v":0},{"$f":"BG249","v":0},{"$f":"BG250","v":0},{"$f":"BG251","v":0},{"$f":"BG252","v":0},{"$f":"BG253","v":0},{"$f":"BG254","v":0},{"$f":"BG255","v":0},{"$f":"BG256","v":0},{"$f":"BG257","v":0},{"$f":"BG258","v":0},{"$f":"BG259","v":0},{"$f":"BF53*G157","v":1450.0000000000002},null,"a1",2500,7500,12500]
[6666.666666666667,{"$f":"IF(BH160=\"\",\"\",IF('DISEÑO TABLA DE DECISION'!$B$21=1,MIN(BH160:DE160),MAX(BH160:DE160)))","v":10000},{"$f":"IF(BH160=\"\",\"\",IF($A$156=1,($C$156*MAX(BH160:DE160))+((1-$C$156)*MIN(BH160:DE160)),($C$156*MIN(BH160:DE160))+((1-$C$156)*MAX(BH160:DE160))))","v":7500},{"$f":"IF(C160=\"\",\"\",MAX('MATRIZ-PÉRDIDA OPORTUNIDAD'!C4:AZ4))","v":2500},6000,null,{"$f":"BG260","v":5000},{"$f":"BG261","v":5000},{"$f":"BG262","v":8571.4285714285725},{"$f":"BG263","v":0},{"$f":"BG264","v":0},{"$f":"BG265","v":0},{"$f":"BG266","v":0},{"$f":"BG267","v":0},{"$f":"BG268","v":0},{"$f":"BG269","v":0},{"$f":"BG270","v":0},{"$f":"BG271","v":0},{"$f":"BG272","v":0},{"$f":"BG273","v":0},{"$f":"BG274","v":0},{"$f":"BG275","v":0},{"$f":"BG276","v":0},{"$f":"BG277","v":0},{"$f":"BG278","v":0},{"$f":"BG279","v":0},{"$f":"BG280","v":0},{"$f":"BG281","v":0},{"$f":"BG282","v":0},{"$f":"BG283","v":0},{"$f":"BG284","v":0},{"$f":"BG285","v":0},{"$f":"BG286","v":0},{"$f":"BG287","v":0},{"$f":"BG288","v":0},{"$f":"BG289","v":0},{"$f":"BG290","v":0},{"$f":"BG291","v":0},{"$f":"BG292","v":0},{"$f":"BG293","v":0},{"$f":"BG294","v":0},{"$f":"BG295","v":0},{"$f":"BG296","v":0},{"$f":"BG297","v":0},{"$f":"BG298","v":0},{"$f":"BG299","v":0},{"$f":"BG300","v":0},{"$f":"BG301","v":0},{"$f":"BG302","v":0},{"$f":"BG303","v":0},{"$f":"BG304","v":0},{"$f":"BG305","v":0},{"$f":"BG306","v":0},{"$f":"BG307","v":0},{"$f":"BG308","v":0},{"$f":"BG309","v":0},{"$f":"BF54*H157","v":1300},null,"a2",5000,5000,10000]
[7500,{"$f":"IF(BH161=\"\",\"\",IF('DISEÑO TABLA DE DECISION'!$B$21=1,MIN(BH161:DE161),MAX(BH161:DE161)))","v":7500},7500,{"$f":"IF(C161=\"\",\"\",MAX('MATRIZ-PÉRDIDA OPORTUNIDAD'!C5:AZ5))","v":5000},7500,null,{"$f":"BG310","v":7499.9999999999991},{"$f":"BG311","v":7499.9999999999991},{"$f":"BG312","v":7500},{"$f":"BG313","v":0},{"$f":"BG314","v":0},{"$f":"BG315","v":0},{"$f":"BG316","v":0},{"$f":"BG317","v":0},{"$f":"BG318","v":0},{"$f":"BG319","v":0},{"$f":"BG320","v":0},{"$f":"BG321","v":0},{"$f":"BG322","v":0},{"$f":"BG323","v":0},{"$f":"BG324","v":0},{"$f":"BG325","v":0},{"$f":"BG326","v":0},{"$f":"BG327","v":0},{"$f":"BG328","v":0},{"$f":"BG329","v":0},{"$f":"BG330","v":0},{"$f":"BG331","v":0},{"$f":"BG332","v":0},{"$f":"BG333","v":0},{"$f":"BG334","v":0},{"$f":"BG335","v":0},{"$f":"BG336","v":0},{"$f":"BG337","v":0},{"$f":"BG338","v":0},{"$f":"BG339","v":0},{"$f":"BG340","v":0},{"$f":"BG341","v":0},{"$f":"BG342","v":0},{"$f":"BG343","v":0},{"$f":"BG344","v":0},{"$f":"BG345","v":0},{"$f":"BG346","v":0},{"$f":"BG347","v":0},{"$f":"BG348","v":0},{"$f":"BG349","v":0},{"$f":"BG350","v":0},{"$f":"BG351","v":0},{"$f":"BG352","v":0},{"$f":"BG353","v":0},{"$f":"BG354","v":0},{"$f":"BG355","v":0},{"$f":"BG356","v":0},{"$f":"BG357","v":0},{"$f":"BG358","v":0},{"$f":"BG359","v":0},{"$f":"BF55*I157","v":2100},null,"a3",7500,7500,7500]
["",{"$f":"IF(BH162=\"\",\"\",IF('DISEÑO TABLA DE DECISION'!$B$21=1,MIN(BH162:DE162),MAX(BH162:DE162)))","v":""},"",{"$f":"IF(C162=\"\",\"\",MAX('MATRIZ-PÉRDIDA OPORTUNIDAD'!C6:AZ6))","v":""},"",null,{"$f":"BG360","v":""},{"$f":"BG361","v":""},{"$f":"BG362","v":""},{"$f":"BG363","v":""},{"$f":"BG364","v":""},{"$f":"BG365","v":""},{"$f":"BG366","v":""},{"$f":"BG367","v":""},{"$f":"BG368","v":""},{"$f":"BG369","v":""},{"$f":"BG370","v":""},{"$f":"BG371","v":""},{"$f":"BG372","v":""},{"$f":"BG373","v":""},{"$f":"BG374","v":""},{"$f":"BG375","v":""},{"$f":"BG376","v":""},{"$f":"BG377","v":""},{"$f":"BG378","v":""},{"$f":"BG379","v":""},{"$f":"BG380","v":""},{"$f":"BG381","v":""},{"$f":"BG382","v":""},{"$f":"BG383","v":""},{"$f":"BG384","v":""},{"$f":"BG385","v":""},{"$f":"BG386","v":""},{"$f":"BG387","v":""},{"$f":"BG388","v":""},{"$f":"BG389","v":""},{"$f":"BG390","v":""},{"$f":"BG391","v":""},{"$f":"BG392","v":""},{"$f":"BG393","v":""},{"$f":"BG394","v":""},{"$f":"BG395","v":""},{"$f":"BG396","v":""},{"$f":"BG397","v":""},{"$f":"BG398","v":""},{"$f":"BG399","v":""},{"$f":"BG400","v":""},{"$f":"BG401","v":""},{"$f":"BG402","v":""},{"$f":"BG403","v":""},{"$f":"BG404","v":""},{"$f":"BG405","v":""},{"$f":"BG406","v":""},{"$f":"BG407","v":""},{"$f":"BG408","v":""},{"$f":"BG409","v":""},{"$f":"BF56*J157","v":0},null,"a4"]
["",{"$f":"IF(BH163=\"\",\"\",IF('DISEÑO TABLA DE DECISION'!$B$21=1,MIN(BH163:DE163),MAX(BH163:DE163)))","v":""},{"$f":"IF(BH163=\"\",\"\",IF($A$156=1,($C$156*MAX(BH163:DE163))+((1-$C$156)*MIN(BH163:DE163)),($C$156*MIN(BH163:DE163))+((1-$C$156)*MAX(BH163:DE163))))","v":""},{"$f":"IF(C163=\"\",\"\",MAX('MATRIZ-PÉRDIDA OPORTUNIDAD'!C7:AZ7))","v":""},"",null,{"$f":"BG410","v":""},{"$f":"BG411","v":""},{"$f":"BG412","v":""},{"$f":"BG413","v":""},{"$f":"BG414","v":""},{"$f":"BG415","v":""},{"$f":"BG416","v":""},{"$f":"BG417","v":""},{"$f":"BG418","v":""},{"$f":"BG419","v":""},{"$f":"BG420","v":""},{"$f":"BG421","v":""},{"$f":"BG422","v":""},{"$f":"BG423","v":""},{"$f":"BG424","v":""},{"$f":"BG425","v":""},{"$f":"BG426","v":""},{"$f":"BG427","v":""},{"$f":"BG428","v":""},{"$f":"BG429","v":""},{"$f":"BG430","v":""},{"$f":"BG431","v":""},{"$f":"BG432","v":""},{"$f":"BG433","v":""},{"$f":"BG434","v":""},{"$f":"BG435","v":""},{"$f":"BG436","v":""},{"$f":"BG437","v":""},{"$f":"BG438","v":""},{"$f":"BG439","v":""},{"$f":"BG440","v":""},{"$f":"BG441","v":""},{"$f":"BG442","v":""},{"$f":"BG443","v":""},{"$f":"BG444","v":""},{"$f":"BG445","v":""},{"$f":"BG446","v":""},{"$f":"BG447","v":""},{"$f":"BG448","v":""},{"$f":"BG449","v":""},{"$f":"BG450","v":""},{"$f":"BG451","v":""},{"$f":"BG452","v":""},{"$f":"BG453","v":""},{"$f":"BG454","v":""},{"$f":"BG455","v":""},{"$f":"BG456","v":""},{"$f":"BG457","v":""},{"$f":"BG458","v":""},{"$f":"BG459","v":""},{"$f":"BF57*K157","v":0},null,"a5"]
["",{"$f":"IF(BH164=\"\",\"\",IF('DISEÑO TABLA DE DECISION'!$B$21=1,MIN(BH164:DE164),MAX(BH164:DE164)))","v":""},"",{"$f":"IF(C164=\"\",\"\",MAX('MATRIZ-PÉRDIDA OPORTUNIDAD'!C8:AZ8))","v":""},"",null,{"$f":"BG460","v":""},{"$f":"BG461","v":""},{"$f":"BG462","v":""},{"$f":"BG463","v":""},{"$f":"BG464","v":""},{"$f":"BG465","v":""},{"$f":"BG466","v":""},{"$f":"BG467","v":""},{"$f":"BG468","v":""},{"$f":"BG469","v":""},{"$f":"BG470","v":""},{"$f":"BG471","v":""},{"$f":"BG472","v":""},{"$f":"BG473","v":""},{"$f":"BG474","v":""},{"$f":"BG475","v":""},{"$f":"BG476","v":""},{"$f":"BG477","v":""},{"$f":"BG478","v":""},{"$f":"BG479","v":""},{"$f":"BG480","v":""},{"$f":"BG481","v":""},{"$f":"BG482","v":""},{"$f":"BG483","v":""},{"$f":"BG484","v":""},{"$f":"BG485","v":""},{"$f":"BG486","v":""},{"$f":"BG487","v":""},{"$f":"BG488","v":""},{"$f":"BG489","v":""},{"$f":"BG490","v":""},{"$f":"BG491","v":""},{"$f":"BG492","v":""},{"$f":"BG493","v":""},{"$f":"BG494","v":""},{"$f":"BG495","v":""},{"$f":"BG496","v":""},{"$f":"BG497","v":""},{"$f":"BG498","v":""},{"$f":"BG499","v":""},{"$f":"BG500","v":""},{"$f":"BG501","v":""},{"$f":"BG502","v":""},{"$f":"BG503","v":""},{"$f":"BG504","v":""},{"$f":"BG505","v":""},{"$f":"BG506","v":""},{"$f":"BG507","v":""},{"$f":"BG508","v":""},{"$f":"BG509","v":""},{"$f":"BF58*L157","v":0},null,"a6"]
["",{"$f":"IF(BH165=\"\",\"\",IF('DISEÑO TABLA DE DECISION'!$B$21=1,MIN(BH165:DE165),MAX(BH165:DE165)))","v":""},"",{"$f":"IF(C165=\"\",\"\",MAX('MATRIZ-PÉRDIDA OPORTUNIDAD'!C9:AZ9))","v":""},"",null,{"$f":"BG510","v":""},{"$f":"BG511","v":""},{"$f":"BG512","v":""},{"$f":"BG513","v":""},{"$f":"BG514","v":""},{"$f":"BG515","v":""},{"$f":"BG516","v":""},{"$f":"BG517","v":""},{"$f":"BG518","v":""},{"$f":"BG519","v":""},{"$f":"BG520","v":""},{"$f":"BG521","v":""},{"$f":"BG522","v":""},{"$f":"BG523","v":""},{"$f":"BG524","v":""},{"$f":"BG525","v":""},{"$f":"BG526","v":""},{"$f":"BG527","v":""},{"$f":"BG528","v":""},{"$f":"BG529","v":""},{"$f":"BG530","v":""},{"$f":"BG531","v":""},{"$f":"BG532","v":""},{"$f":"BG533","v":""},{"$f":"BG534","v":""},{"$f":"BG535","v":""},{"$f":"BG536","v":""},{"$f":"BG537","v":""},{"$f":"BG538","v":""},{"$f":"BG539","v":""},{"$f":"BG540","v":""},{"$f":"BG541","v":""},{"$f":"BG542","v":""},{"$f":"BG543","v":""},{"$f":"BG544","v":""},{"$f":"BG545","v":""},{"$f":"BG546","v":""},{"$f":"BG547","v":""},{"$f":"BG548","v":""},{"$f":"BG549","v":""},{"$f":"BG550","v":""},{"$f":"BG551","v":""},{"$f":"BG552","v":""},{"$f":"BG553","v":""},{"$f":"BG554","v":""},{"$f":"BG555","v":""},{"$f":"BG556","v":""},{"$f":"BG557","v":""},{"$f":"BG558","v":""},{"$f":"BG559","v":""},{"$f":"BF59*M157","v":0},null,"a7"]
["",{"$f":"IF(BH166=\"\",\"\",IF('DISEÑO TABLA DE DECISION'!$B$21=1,MIN(BH166:DE166),MAX(BH166:DE166)))","v":""},"",{"$f":"IF(C166=\"\",\"\",MAX('MATRIZ-PÉRDIDA OPORTUNIDAD'!C10:AZ10))","v":""},"",null,{"$f":"BG560","v":""},{"$f":"BG561","v":""},{"$f":"BG562","v":""},{"$f":"BG563","v":""},{"$f":"BG564","v":""},{"$f":"BG565","v":""},{"$f":"BG566","v":""},{"$f":"BG567","v":""},{"$f":"BG568","v":""},{"$f":"BG569","v":""},{"$f":"BG570","v":""},{"$f":"BG571","v":""},{"$f":"BG572","v":""},{"$f":"BG573","v":""},{"$f":"BG574","v":""},{"$f":"BG575","v":""},{"$f":"BG576","v":""},{"$f":"BG577","v":""},{"$f":"BG578","v":""},{"$f":"BG579","v":""},{"$f":"BG580","v":""},{"$f":"BG581","v":""},{"$f":"BG582","v":""},{"$f":"BG583","v":""},{"$f":"BG584","v":""},{"$f":"BG585","v":""},{"$f":"BG586","v":""},{"$f":"BG587","v":""},{"$f":"BG588","v":""},{"$f":"BG589","v":""},{"$f":"BG590","v":""},{"$f":"BG591","v":""},{"$f":"BG592","v":""},{"$f":"BG593","v":""},{"$f":"BG594","v":""},{"$f":"BG595","v":""},{"$f":"BG596","v":""},{"$f":"BG597","v":""},{"$f":"BG598","v":""},{"$f":"BG599","v":""},{"$f":"BG600","v":""},{"$f":"BG601","v":""},{"$f":"BG602","v":""},{"$f":"BG603","v":""},{"$f":"BG604","v":""},{"$f":"BG605","v":""},{"$f":"BG606","v":""},{"$f":"BG607","v":""},{"$f":"BG608","v":""},{"$f":"BG609","v":""},{"$f":"BF60*N157","v":0},null,"a8"]
["",{"$f":"IF(BH167=\"\",\"\",IF('DISEÑO TABLA DE DECISION'!$B$21=1,MIN(BH167:DE167),MAX(BH167:DE167)))","v":""},"",{"$f":"IF(C167=\"\",\"\",MAX('MATRIZ-PÉRDIDA OPORTUNIDAD'!C11:AZ11))","v":""},"",null,{"$f":"BG610","v":""},{"$f":"BG611","v":""},{"$f":"BG612","v":""},{"$f":"BG613","v":""},{"$f":"BG614","v":""},{"$f":"BG615","v":""},{"$f":"BG616","v":""},{"$f":"BG617","v":""},{"$f":"BG618","v":""},{"$f":"BG619","v":""},{"$f":"BG620","v":""},{"$f":"BG621","v":""},{"$f":"BG622","v":""},{"$f":"BG623","v":""},{"$f":"BG624","v":""},{"$f":"BG625","v":""},{"$f":"BG626","v":""},{"$f":"BG627","v":""},{"$f":"BG628","v":""},{"$f":"BG629","v":""},{"$f":"BG630","v":""},{"$f":"BG631","v":""},{"$f":"BG632","v":""},{"$f":"BG633","v":""},{"$f":"BG634","v":""},{"$f":"BG635","v":""},{"$f":"BG636","v":""},{"$f":"BG637","v":""},{"$f":"BG638","v":""},{"$f":"BG639","v":""},{"$f":"BG640","v":""},{"$f":"BG641","v":""},{"$f":"BG642","v":""},{"$f":"BG643","v":""},{"$f":"BG644","v":""},{"$f":"BG645","v":""},{"$f":"BG646","v":""},{"$f":"BG647","v":""},{"$f":"BG648","v":""},{"$f":"BG649","v":""},{"$f":"BG650","v":""},{"$f":"BG651","v":""},{"$f":"BG652","v":""},{"$f":"BG653","v":""},{"$f":"BG654","v":""},{"$f":"BG655","v":""},{"$f":"BG656","v":""},{"$f":"BG657","v":""},{"$f":"BG658","v":""},{"$f":"BG659","v":""},{"$f":"BF61*O157","v":0},null,"a9"]
["",{"$f":"IF(BH168=\"\",\"\",IF('DISEÑO TABLA DE DECISION'!$B$21=1,MIN(BH168:DE168),MAX(BH168:DE168)))","v":""},"",{"$f":"IF(C168=\"\",\"\",MAX('MATRIZ-PÉRDIDA OPORTUNIDAD'!C12:AZ12))","v":""},"",null,{"$f":"BG660","v":""},{"$f":"BG661","v":""},{"$f":"BG662","v":""},{"$f":"BG663","v":""},{"$f":"BG664","v":""},{"$f":"BG665","v":""},{"$f":"BG666","v":""},{"$f":"BG667","v":""},{"$f":"BG668","v":""},{"$f":"BG669","v":""},{"$f":"BG670","v":""},{"$f":"BG671","v":""},{"$f":"BG672","v":""},{"$f":"BG673","v":""},{"$f":"BG674","v":""},{"$f":"BG675","v":""},{"$f":"BG676","v":""},{"$f":"BG677","v":""},{"$f":"BG678","v":""},{"$f":"BG679","v":""},{"$f":"BG680","v":""},{"$f":"BG681","v":""},{"$f":"BG682","v":""},{"$f":"BG683","v":""},{"$f":"BG684","v":""},{"$f":"BG685","v":""},{"$f":"BG686","v":""},{"$f":"BG687","v":""},{"$f":"BG688","v":""},{"$f":"BG689","v":""},{"$f":"BG690","v":""},{"$f":"BG691","v":""},{"$f":"BG692","v":""},{"$f":"BG693","v":""},{"$f":"BG694","v":""},{"$f":"BG695","v":""},{"$f":"BG696","v":""},{"$f":"BG697","v":""},{"$f":"BG698","v":""},{"$f":"BG699","v":""},{"$f":"BG700","v":""},{"$f":"BG701","v":""},{"$f":"BG702","v":""},{"$f":"BG703","v":""},{"$f":"BG704","v":""},{"$f":"BG705","v":""},{"$f":"BG706","v":""},{"$f":"BG707","v":""},{"$f":"BG708","v":""},{"$f":"BG709","v":""},{"$f":"BF62*P157","v":0},null,"a10"]
["",{"$f":"IF(BH169=\"\",\"\",IF('DISEÑO TABLA DE DECISION'!$B$21=1,MIN(BH169:DE169),MAX(BH169:DE169)))","v":""},"",{"$f":"IF(C169=\"\",\"\",MAX('MATRIZ-PÉRDIDA OPORTUNIDAD'!C13:AZ13))","v":""},"",null,{"$f":"BG710","v":""},{"$f":"BG711","v":""},{"$f":"BG712","v":""},{"$f":"BG713","v":""},{"$f":"BG714","v":""},{"$f":"BG715","v":""},{"$f":"BG716","v":""},{"$f":"BG717","v":""},{"$f":"BG718","v":""},{"$f":"BG719","v":""},{"$f":"BG720","v":""},{"$f":"BG721","v":""},{"$f":"BG722","v":""},{"$f":"BG723","v":""},{"$f":"BG724","v":""},{"$f":"BG725","v":""},{"$f":"BG726","v":""},{"$f":"BG727","v":""},{"$f":"BG728","v":""},{"$f":"BG729","v":""},{"$f":"BG730","v":""},{"$f":"BG731","v":""},{"$f":"BG732","v":""},{"$f":"BG733","v":""},{"$f":"BG734","v":""},{"$f":"BG735","v":""},{"$f":"BG736","v":""},{"$f":"BG737","v":""},{"$f":"BG738","v":""},{"$f":"BG739","v":""},{"$f":"BG740","v":""},{"$f":"BG741","v":""},{"$f":"BG742","v":""},{"$f":"BG743","v":""},{"$f":"BG744","v":""},{"$f":"BG745","v":""},{"$f":"BG746","v":""},{"$f":"BG747","v":""},{"$f":"BG748","v":""},{"$f":"BG749","v":""},{"$f":"BG750","v":""},{"$f":"BG751","v":""},{"$f":"BG752","v":""},{"$f":"BG753","v":""},{"$f":"BG754","v":""},{"$f":"BG755","v":""},{"$f":"BG756","v":""},{"$f":"BG757","v":""},{"$f":"BG758","v":""},{"$f":"BG759","v":""},{"$f":"BF63*Q157","v":0},null,"a11"]
["",{"$f":"IF(BH170=\"\",\"\",IF('DISEÑO TABLA DE DECISION'!$B$21=1,MIN(BH170:DE170),MAX(BH170:DE170)))","v":""},"",{"$f":"IF(C170=\"\",\"\",MAX('MATRIZ-PÉRDIDA OPORTUNIDAD'!C14:AZ14))","v":""},"",null,{"$f":"BG760","v":""},{"$f":"BG761","v":""},{"$f":"BG762","v":""},{"$f":"BG763","v":""},{"$f":"BG764","v":""},{"$f":"BG765","v":""},{"$f":"BG766","v":""},{"$f":"BG767","v":""},{"$f":"BG768","v":""},{"$f":"BG769","v":""},{"$f":"BG770","v":""},{"$f":"BG771","v":""},{"$f":"BG772","v":""},{"$f":"BG773","v":""},{"$f":"BG774","v":""},{"$f":"BG775","v":""},{"$f":"BG776","v":""},{"$f":"BG777","v":""},{"$f":"BG778","v":""},{"$f":"BG779","v":""},{"$f":"BG780","v":""},{"$f":"BG781","v":""},{"$f":"BG782","v":""},{"$f":"BG783","v":""},{"$f":"BG784","v":""},{"$f":"BG785","v":""},{"$f":"BG786","v":""},{"$f":"BG787","v":""},{"$f":"BG788","v":""},{"$f":"BG789","v":""},{"$f":"BG790","v":""},{"$f":"BG791","v":""},{"$f":"BG792","v":""},{"$f":"BG793","v":""},{"$f":"BG794","v":""},{"$f":"BG795","v":""},{"$f":"BG796","v":""},{"$f":"BG797","v":""},{"$f":"BG798","v":""},{"$f":"BG799","v":""},{"$f":"BG800","v":""},{"$f":"BG801","v":""},{"$f":"BG802","v":""},{"$f":"BG803","v":""},{"$f":"BG804","v":""},{"$f":"BG805","v":""},{"$f":"BG806","v":""},{"$f":"BG807","v":""},{"$f":"BG808","v":""},{"$f":"BG809","v":""},{"$f":"BF64*R157","v":0},null,"a12"]
["",{"$f":"IF(BH171=\"\",\"\",IF('DISEÑO TABLA DE DECISION'!$B$21=1,MIN(BH171:DE171),MAX(BH171:DE171)))","v":""},"",{"$f":"IF(C171=\"\",\"\",MAX('MATRIZ-PÉRDIDA OPORTUNIDAD'!C15:AZ15))","v":""},"",null,{"$f":"BG810","v":""},{"$f":"BG811","v":""},{"$f":"BG812","v":""},{"$f":"BG813","v":""},{"$f":"BG814","v":""},{"$f":"BG815","v":""},{"$f":"BG816","v":""},{"$f":"BG817","v":""},{"$f":"BG818","v":""},{"$f":"BG819","v":""},{"$f":"BG820","v":""},{"$f":"BG821","v":""},{"$f":"BG822","v":""},{"$f":"BG823","v":""},{"$f":"BG824","v":""},{"$f":"BG825","v":""},{"$f":"BG826","v":""},{"$f":"BG827","v":""},{"$f":"BG828","v":""},{"$f":"BG829","v":""},{"$f":"BG830","v":""},{"$f":"BG831","v":""},{"$f":"BG832","v":""},{"$f":"BG833","v":""},{"$f":"BG834","v":""},{"$f":"BG835","v":""},{"$f":"BG836","v":""},{"$f":"BG837","v":""},{"$f":"BG838","v":""},{"$f":"BG839","v":""},{"$f":"BG840","v":""},{"$f":"BG841","v":""},{"$f":"BG842","v":""},{"$f":"BG843","v":""},{"$f":"BG844","v":""},{"$f":"BG845","v":""},{"$f":"BG846","v":""},{"$f":"BG847","v":""},{"$f":"BG848","v":""},{"$f":"BG849","v":""},{"$f":"BG850","v":""},{"$f":"BG851","v":""},{"$f":"BG852","v":""},{"$f":"BG853","v":""},{"$f":"BG854","v":""},{"$f":"BG855","v":""},{"$f":"BG856","v":""},{"$f":"BG857","v":""},{"$f":"BG858","v":""},{"$f":"BG859","v":""},{"$f":"BF65*S157","v":0},null,"a13"]
["",{"$f":"IF(BH172=\"\",\"\",IF('DISEÑO TABLA DE DECISION'!$B$21=1,MIN(BH172:DE172),MAX(BH172:DE172)))","v":""},"",{"$f":"IF(C172=\"\",\"\",MAX('MATRIZ-PÉRDIDA OPORTUNIDAD'!C16:AZ16))","v":""},"",null,{"$f":"BG860","v":""},{"$f":"BG861","v":""},{"$f":"BG862","v":""},{"$f":"BG863","v":""},{"$f":"BG864","v":""},{"$f":"BG865","v":""},{"$f":"BG866","v":""},{"$f":"BG867","v":""},{"$f":"BG868","v":""},{"$f":"BG869","v":""},{"$f":"BG870","v":""},{"$f":"BG871","v":""},{"$f":"BG872","v":""},{"$f":"BG873","v":""},{"$f":"BG874","v":""},{"$f":"BG875","v":""},{"$f":"BG876","v":""},{"$f":"BG877","v":""},{"$f":"BG878","v":""},{"$f":"BG879","v":""},{"$f":"BG880","v":""},{"$f":"BG881","v":""},{"$f":"BG882","v":""},{"$f":"BG883","v":""},{"$f":"BG884","v":""},{"$f":"BG885","v":""},{"$f":"BG886","v":""},{"$f":"BG887","v":""},{"$f":"BG888","v":""},{"$f":"BG889","v":""},{"$f":"BG890","v":""},{"$f":"BG891","v":""},{"$f":"BG892","v":""},{"$f":"BG893","v":""},{"$f":"BG894","v":""},{"$f":"BG895","v":""},{"$f":"BG896","v":""},{"$f":"BG897","v":""},{"$f":"BG898","v":""},{"$f":"BG899","v":""},{"$f":"BG900","v":""},{"$f":"BG901","v":""},{"$f":"BG902","v":""},{"$f":"BG903","v":""},{"$f":"BG904","v":""},{"$f":"BG905","v":""},{"$f":"BG906","v":""},{"$f":"BG907","v":""},{"$f":"BG908","v":""},{"$f":"BG909","v":""},{"$f":"BF66*T157","v":0},null,"a14"]
["",{"$f":"IF(BH173=\"\",\"\",IF('DISEÑO TABLA DE DECISION'!$B$21=1,MIN(BH173:DE173),MAX(BH173:DE173)))","v":""},"",{"$f":"IF(C173=\"\",\"\",MAX('MATRIZ-PÉRDIDA OPORTUNIDAD'!C17:AZ17))","v":""},"",null,{"$f":"BG910","v":""},{"$f":"BG911","v":""},{"$f":"BG912","v":""},{"$f":"BG913","v":""},{"$f":"BG914","v":""},{"$f":"BG915","v":""},{"$f":"BG916","v":""},{"$f":"BG917","v":""},{"$f":"BG918","v":""},{"$f":"BG919","v":""},{"$f":"BG920","v":""},{"$f":"BG921","v":""},{"$f":"BG922","v":""},{"$f":"BG923","v":""},{"$f":"BG924","v":""},{"$f":"BG925","v":""},{"$f":"BG926","v":""},{"$f":"BG927","v":""},{"$f":"BG928","v":""},{"$f":"BG929","v":""},{"$f":"BG930","v":""},{"$f":"BG931","v":""},{"$f":"BG932","v":""},{"$f":"BG933","v":""},{"$f":"BG934","v":""},{"$f":"BG935","v":""},{"$f":"BG936","v":""},{"$f":"BG937","v":""},{"$f":"BG938","v":""},{"$f":"BG939","v":""},{"$f":"BG940","v":""},{"$f":"BG941","v":""},{"$f":"BG942","v":""},{"$f":"BG943","v":""},{"$f":"BG944","v":""},{"$f":"BG945","v":""},{"$f":"BG946","v":""},{"$f":"BG947","v":""},{"$f":"BG948","v":""},{"$f":"BG949","v":""},{"$f":"BG950","v":""},{"$f":"BG951","v":""},{"$f":"BG952","v":""},{"$f":"BG953","v":""},{"$f":"BG954","v":""},{"$f":"BG955","v":""},{"$f":"BG956","v":""},{"$f":"BG957","v":""},{"$f":"BG958","v":""},{"$f":"BG959","v":""},{"$f":"BF67*U157","v":0},null,"a15"]
["",{"$f":"IF(BH174=\"\",\"\",IF('DISEÑO TABLA DE DECISION'!$B$21=1,MIN(BH174:DE174),MAX(BH174:DE174)))","v":""},"",{"$f":"IF(C174=\"\",\"\",MAX('MATRIZ-PÉRDIDA OPORTUNIDAD'!C18:AZ18))","v":""},"",null,{"$f":"BG960","v":""},{"$f":"BG961","v":""},{"$f":"BG962","v":""},{"$f":"BG963","v":""},{"$f":"BG964","v":""},{"$f":"BG965","v":""},{"$f":"BG966","v":""},{"$f":"BG967","v":""},{"$f":"BG968","v":""},{"$f":"BG969","v":""},{"$f":"BG970","v":""},{"$f":"BG971","v":""},{"$f":"BG972","v":""},{"$f":"BG973","v":""},{"$f":"BG974","v":""},{"$f":"BG975","v":""},{"$f":"BG976","v":""},{"$f":"BG977","v":""},{"$f":"BG978","v":""},{"$f":"BG979","v":""},{"$f":"BG980","v":""},{"$f":"BG981","v":""},{"$f":"BG982","v":""},{"$f":"BG983","v":""},{"$f":"BG984","v":""},{"$f":"BG985","v":""},{"$f":"BG986","v":""},{"$f":"BG987","v":""},{"$f":"BG988","v":""},{"$f":"BG989","v":""},{"$f":"BG990","v":""},{"$f":"BG991","v":""},{"$f":"BG992","v":""},{"$f":"BG993","v":""},{"$f":"BG994","v":""},{"$f":"BG995","v":""},{"$f":"BG996","v":""},{"$f":"BG997","v":""},{"$f":"BG998","v":""},{"$f":"BG999","v":""},{"$f":"BG1000","v":""},{"$f":"BG1001","v":""},{"$f":"BG1002","v":""},{"$f":"BG1003","v":""},{"$f":"BG1004","v":""},{"$f":"BG1005","v":""},{"$f":"BG1006","v":""},{"$f":"BG1007","v":""},{"$f":"BG1008","v":""},{"$f":"BG1009","v":""},{"$f":"BF68*V157","v":0},null,"a16"]
["",{"$f":"IF(BH175=\"\",\"\",IF('DISEÑO TABLA DE DECISION'!$B$21=1,MIN(BH175:DE175),MAX(BH175:DE175)))","v":""},"",{"$f":"IF(C175=\"\",\"\",MAX('MATRIZ-PÉRDIDA OPORTUNIDAD'!C19:AZ19))","v":""},"",null,{"$f":"BG1010","v":""},{"$f":"BG1011","v":""},{"$f":"BG1012","v":""},{"$f":"BG1013","v":""},{"$f":"BG1014","v":""},{"$f":"BG1015","v":""},{"$f":"BG1016","v":""},{"$f":"BG1017","v":""},{"$f":"BG1018","v":""},{"$f":"BG1019","v":""},{"$f":"BG1020","v":""},{"$f":"BG1021","v":""},{"$f":"BG1022","v":""},{"$f":"BG1023","v":""},{"$f":"BG1024","v":""},{"$f":"BG1025","v":""},{"$f":"BG1026","v":""},{"$f":"BG1027","v":""},{"$f":"BG1028","v":""},{"$f":"BG1029","v":""},{"$f":"BG1030","v":""},{"$f":"BG1031","v":""},{"$f":"BG1032","v":""},{"$f":"BG1033","v":""},{"$f":"BG1034","v":""},{"$f":"BG1035","v":""},{"$f":"BG1036","v":""},{"$f":"BG1037","v":""},{"$f":"BG1038","v":""},{"$f":"BG1039","v":""},{"$f":"BG1040","v":""},{"$f":"BG1041","v":""},{"$f":"BG1042","v":""},{"$f":"BG1043","v":""},{"$f":"BG1044","v":""},{"$f":"BG1045","v":""},{"$f":"BG1046","v":""},{"$f":"BG1047","v":""},{"$f":"BG1048","v":""},{"$f":"BG1049","v":""},{"$f":"BG1050","v":""},{"$f":"BG1051","v":""},{"$f":"BG1052","v":""},{"$f":"BG1053","v":""},{"$f":"BG1054","v":""},{"$f":"BG1055","v":""},{"$f":"BG1056","v":""},{"$f":"BG1057","v":""},{"$f":"BG1058","v":""},{"$f":"BG1059","v":""},{"$f":"BF69*W157","v":0},null,"a17"]
["",{"$f":"IF(BH176=\"\",\"\",IF('DISEÑO TABLA DE DECISION'!$B$21=1,MIN(BH176:DE176),MAX(BH176:DE176)))","v":""},"",{"$f":"IF(C176=\"\",\"\",MAX('MATRIZ-PÉRDIDA OPORTUNIDAD'!C20:AZ20))","v":""},"",null,{"$f":"BG1060","v":""},{"$f":"BG1061","v":""},{"$f":"BG1062","v":""},{"$f":"BG1063","v":""},{"$f":"BG1064","v":""},{"$f":"BG1065","v":""},{"$f":"BG1066","v":""},{"$f":"BG1067","v":""},{"$f":"BG1068","v":""},{"$f":"BG1069","v":""},{"$f":"BG1070","v":""},{"$f":"BG1071","v":""},{"$f":"BG1072","v":""},{"$f":"BG1073","v":""},{"$f":"BG1074","v":""},{"$f":"BG1075","v":""},{"$f":"BG1076","v":""},{"$f":"BG1077","v":""},{"$f":"BG1078","v":""},{"$f":"BG1079","v":""},{"$f":"BG1080","v":""},{"$f":"BG1081","v":""},{"$f":"BG1082","v":""},{"$f":"BG1083","v":""},{"$f":"BG1084","v":""},{"$f":"BG1085","v":""},{"$f":"BG1086","v":""},{"$f":"BG1087","v":""},{"$f":"BG1088","v":""},{"$f":"BG1089","v":""},{"$f":"BG1090","v":""},{"$f":"BG1091","v":""},{"$f":"BG1092","v":""},{"$f":"BG1093","v":""},{"$f":"BG1094","v":""},{"$f":"BG1095","v":""},{"$f":"BG1096","v":""},{"$f":"BG1097","v":""},{"$f":"BG1098","v":""},{"$f":"BG1099","v":""},{"$f":"BG1100","v":""},{"$f":"BG1101","v":""},{"$f":"BG1102","v":""},{"$f":"BG1103","v":""},{"$f":"BG1104","v":""},{"$f":"BG1105","v":""},{"$f":"BG1106","v":""},{"$f":"BG1107","v":""},{"$f":"BG1108","v":""},{"$f":"BG1109","v":""},{"$f":"BF70*X157","v":0},null,"a18"]
["",{"$f":"IF(BH177=\"\",\"\",IF('DISEÑO TABLA DE DECISION'!$B$21=1,MIN(BH177:DE177),MAX(BH177:DE177)))","v":""},"",{"$f":"IF(C177=\"\",\"\",MAX('MATRIZ-PÉRDIDA OPORTUNIDAD'!C21:AZ21))","v":""},"",null,{"$f":"BG1110","v":""},{"$f":"BG1111","v":""},{"$f":"BG1112","v":""},{"$f":"BG1113","v":""},{"$f":"BG1114","v":""},{"$f":"BG1115","v":""},{"$f":"BG1116","v":""},{"$f":"BG1117","v":""},{"$f":"BG1118","v":""},{"$f":"BG1119","v":""},{"$f":"BG1120","v":""},{"$f":"BG1121","v":""},{"$f":"BG1122","v":""},{"$f":"BG1123","v":""},{"$f":"BG1124","v":""},{"$f":"BG1125","v":""},{"$f":"BG1126","v":""},{"$f":"BG1127","v":""},{"$f":"BG1128","v":""},{"$f":"BG1129","v":""},{"$f":"BG1130","v":""},{"$f":"BG1131","v":""},{"$f":"BG1132","v":""},{"$f":"BG1133","v":""},{"$f":"BG1134","v":""},{"$f":"BG1135","v":""},{"$f":"BG1136","v":""},{"$f":"BG1137","v":""},{"$f":"BG1138","v":""},{"$f":"BG1139","v":""},{"$f":"BG1140","v":""},{"$f":"BG1141","v":""},{"$f":"BG1142","v":""},{"$f":"BG1143","v":""},{"$f":"BG1144","v":""},{"$f":"BG1145","v":""},{"$f":"BG1146","v":""},{"$f":"BG1147","v":""},{"$f":"BG1148","v":""},{"$f":"BG1149","v":""},{"$f":"BG1150","v":""},{"$f":"BG1151","v":""},{"$f":"BG1152","v":""},{"$f":"BG1153","v":""},{"$f":"BG1154","v":""},{"$f":"BG1155","v":""},{"$f":"BG1156","v":""},{"$f":"BG1157","v":""},{"$f":"BG1158","v":""},{"$f":"BG1159","v":""},{"$f":"BF71*Y157","v":0},null,"a19"]
["",{"$f":"IF(BH178=\"\",\"\",IF('DISEÑO TABLA DE DECISION'!$B$21=1,MIN(BH178:DE178),MAX(BH178:DE178)))","v":""},"",{"$f":"IF(C178=\"\",\"\",MAX('MATRIZ-PÉRDIDA OPORTUNIDAD'!C22:AZ22))","v":""},"",null,{"$f":"BG1160","v":""},{"$f":"BG1161","v":""},{"$f":"BG1162","v":""},{"$f":"BG1163","v":""},{"$f":"BG1164","v":""},{"$f":"BG1165","v":""},{"$f":"BG1166","v":""},{"$f":"BG1167","v":""},{"$f":"BG1168","v":""},{"$f":"BG1169","v":""},{"$f":"BG1170","v":""},{"$f":"BG1171","v":""},{"$f":"BG1172","v":""},{"$f":"BG1173","v":""},{"$f":"BG1174","v":""},{"$f":"BG1175","v":""},{"$f":"BG1176","v":""},{"$f":"BG1177","v":""},{"$f":"BG1178","v":""},{"$f":"BG1179","v":""},{"$f":"BG1180","v":""},{"$f":"BG1181","v":""},{"$f":"BG1182","v":""},{"$f":"BG1183","v":""},{"$f":"BG1184","v":""},{"$f":"BG1185","v":""},{"$f":"BG1186","v":""},{"$f":"BG1187","v":""},{"$f":"BG1188","v":""},{"$f":"BG1189","v":""},{"$f":"BG1190","v":""},{"$f":"BG1191","v":""},{"$f":"BG1192","v":""},{"$f":"BG1193","v":""},{"$f":"BG1194","v":""},{"$f":"BG1195","v":""},{"$f":"BG1196","v":""},{"$f":"BG1197","v":""},{"$f":"BG1198","v":""},{"$f":"BG1199","v":""},{"$f":"BG1200","v":""},{"$f":"BG1201","v":""},{"$f":"BG1202","v":""},{"$f":"BG1203","v":""},{"$f":"BG1204","v":""},{"$f":"BG1205","v":""},{"$f":"BG1206","v":""},{"$f":"BG1207","v":""},{"$f":"BG1208","v":""},{"$f":"BG1209","v":""},{"$f":"BF72*Z157","v":0},null,"a20"]
["",{"$f":"IF(BH179=\"\",\"\",IF('DISEÑO TABLA DE DECISION'!$B$21=1,MIN(BH179:DE179),MAX(BH179:DE179)))","v":""},"",{"$f":"IF(C179=\"\",\"\",MAX('MATRIZ-PÉRDIDA OPORTUNIDAD'!C23:AZ23))","v":""},"",null,{"$f":"BG1210","v":""},{"$f":"BG1211","v":""},{"$f":"BG1212","v":""},{"$f":"BG1213","v":""},{"$f":"BG1214","v":""},{"$f":"BG1215","v":""},{"$f":"BG1216","v":""},{"$f":"BG1217","v":""},{"$f":"BG1218","v":""},{"$f":"BG1219","v":""},{"$f":"BG1220","v":""},{"$f":"BG1221","v":""},{"$f":"BG1222","v":""},{"$f":"BG1223","v":""},{"$f":"BG1224","v":""},{"$f":"BG1225","v":""},{"$f":"BG1226","v":""},{"$f":"BG1227","v":""},{"$f":"BG1228","v":""},{"$f":"BG1229","v":""},{"$f":"BG1230","v":""},{"$f":"BG1231","v":""},{"$f":"BG1232","v":""},{"$f":"BG1233","v":""},{"$f":"BG1234","v":""},{"$f":"BG1235","v":""},{"$f":"BG1236","v":""},{"$f":"BG1237","v":""},{"$f":"BG1238","v":""},{"$f":"BG1239","v":""},{"$f":"BG1240","v":""},{"$f":"BG1241","v":""},{"$f":"BG1242","v":""},{"$f":"BG1243","v":""},{"$f":"BG1244","v":""},{"$f":"BG1245","v":""},{"$f":"BG1246","v":""},{"$f":"BG1247","v":""},{"$f":"BG1248","v":""},{"$f":"BG1249","v":""},{"$f":"BG1250","v":""},{"$f":"BG1251","v":""},{"$f":"BG1252","v":""},{"$f":"BG1253","v":""},{"$f":"BG1254","v":""},{"$f":"BG1255","v":""},{"$f":"BG1256","v":""},{"$f":"BG1257","v":""},{"$f":"BG1258","v":""},{"$f":"BG1259","v":""},{"$f":"BF73*AA157","v":0},null,"a21"]
["",{"$f":"IF(BH180=\"\",\"\",IF('DISEÑO TABLA DE DECISION'!$B$21=1,MIN(BH180:DE180),MAX(BH180:DE180)))","v":""},"",{"$f":"IF(C180=\"\",\"\",MAX('MATRIZ-PÉRDIDA OPORTUNIDAD'!C24:AZ24))","v":""},"",null,{"$f":"BG1260","v":""},{"$f":"BG1261","v":""},{"$f":"BG1262","v":""},{"$f":"BG1263","v":""},{"$f":"BG1264","v":""},{"$f":"BG1265","v":""},{"$f":"BG1266","v":""},{"$f":"BG1267","v":""},{"$f":"BG1268","v":""},{"$f":"BG1269","v":""},{"$f":"BG1270","v":""},{"$f":"BG1271","v":""},{"$f":"BG1272","v":""},{"$f":"BG1273","v":""},{"$f":"BG1274","v":""},{"$f":"BG1275","v":""},{"$f":"BG1276","v":""},{"$f":"BG1277","v":""},{"$f":"BG1278","v":""},{"$f":"BG1279","v":""},{"$f":"BG1280","v":""},{"$f":"BG1281","v":""},{"$f":"BG1282","v":""},{"$f":"BG1283","v":""},{"$f":"BG1284","v":""},{"$f":"BG1285","v":""},{"$f":"BG1286","v":""},{"$f":"BG1287","v":""},{"$f":"BG1288","v":""},{"$f":"BG1289","v":""},{"$f":"BG1290","v":""},{"$f":"BG1291","v":""},{"$f":"BG1292","v":""},{"$f":"BG1293","v":""},{"$f":"BG1294","v":""},{"$f":"BG1295","v":""},{"$f":"BG1296","v":""},{"$f":"BG1297","v":""},{"$f":"BG1298","v":""},{"$f":"BG1299","v":""},{"$f":"BG1300","v":""},{"$f":"BG1301","v":""},{"$f":"BG1302","v":""},{"$f":"BG1303","v":""},{"$f":"BG1304","v":""},{"$f":"BG1305","v":""},{"$f":"BG1306","v":""},{"$f":"BG1307","v":""},{"$f":"BG1308","v":""},{"$f":"BG1309","v":""},{"$f":"BF74*AB157","v":0},null,"a22"]
["",{"$f":"IF(BH181=\"\",\"\",IF('DISEÑO TABLA DE DECISION'!$B$21=1,MIN(BH181:DE181),MAX(BH181:DE181)))","v":""},"",{"$f":"IF(C181=\"\",\"\",MAX('MATRIZ-PÉRDIDA OPORTUNIDAD'!C25:AZ25))","v":""},"",null,{"$f":"BG1310","v":""},{"$f":"BG1311","v":""},{"$f":"BG1312","v":""},{"$f":"BG1313","v":""},{"$f":"BG1314","v":""},{"$f":"BG1315","v":""},{"$f":"BG1316","v":""},{"$f":"BG1317","v":""},{"$f":"BG1318","v":""},{"$f":"BG1319","v":""},{"$f":"BG1320","v":""},{"$f":"BG1321","v":""},{"$f":"BG1322","v":""},{"$f":"BG1323","v":""},{"$f":"BG1324","v":""},{"$f":"BG1325","v":""},{"$f":"BG1326","v":""},{"$f":"BG1327","v":""},{"$f":"BG1328","v":""},{"$f":"BG1329","v":""},{"$f":"BG1330","v":""},{"$f":"BG1331","v":""},{"$f":"BG1332","v":""},{"$f":"BG1333","v":""},{"$f":"BG1334","v":""},{"$f":"BG1335","v":""},{"$f":"BG1336","v":""},{"$f":"BG1337","v":""},{"$f":"BG1338","v":""},{"$f":"BG1339","v":""},{"$f":"BG1340","v":""},{"$f":"BG1341","v":""},{"$f":"BG1342","v":""},{"$f":"BG1343","v":""},{"$f":"BG1344","v":""},{"$f":"BG1345","v":""},{"$f":"BG1346","v":""},{"$f":"BG1347","v":""},{"$f":"BG1348","v":""},{"$f":"BG1349","v":""},{"$f":"BG1350","v":""},{"$f":"BG1351","v":""},{"$f":"BG1352","v":""},{"$f":"BG1353","v":""},{"$f":"BG1354","v":""},{"$f":"BG1355","v":""},{"$f":"BG1356","v":""},{"$f":"BG1357","v":""},{"$f":"BG1358","v":""},{"$f":"BG1359","v":""},{"$f":"BF75*AC157","v":0},null,"a23"]
["",{"$f":"IF(BH182=\"\",\"\",IF('DISEÑO TABLA DE DECISION'!$B$21=1,MIN(BH182:DE182),MAX(BH182:DE182)))","v":""},"",{"$f":"IF(C182=\"\",\"\",MAX('MATRIZ-PÉRDIDA OPORTUNIDAD'!C26:AZ26))","v":""},"",null,{"$f":"BG1360","v":""},{"$f":"BG1361","v":""},{"$f":"BG1362","v":""},{"$f":"BG1363","v":""},{"$f":"BG1364","v":""},{"$f":"BG1365","v":""},{"$f":"BG1366","v":""},{"$f":"BG1367","v":""},{"$f":"BG1368","v":""},{"$f":"BG1369","v":""},{"$f":"BG1370","v":""},{"$f":"BG1371","v":""},{"$f":"BG1372","v":""},{"$f":"BG1373","v":""},{"$f":"BG1374","v":""},{"$f":"BG1375","v":""},{"$f":"BG1376","v":""},{"$f":"BG1377","v":""},{"$f":"BG1378","v":""},{"$f":"BG1379","v":""},{"$f":"BG1380","v":""},{"$f":"BG1381","v":""},{"$f":"BG1382","v":""},{"$f":"BG1383","v":""},{"$f":"BG1384","v":""},{"$f":"BG1385","v":""},{"$f":"BG1386","v":""},{"$f":"BG1387","v":""},{"$f":"BG1388","v":""},{"$f":"BG1389","v":""},{"$f":"BG1390","v":""},{"$f":"BG1391","v":""},{"$f":"BG1392","v":""},{"$f":"BG1393","v":""},{"$f":"BG1394","v":""},{"$f":"BG1395","v":""},{"$f":"BG1396","v":""},{"$f":"BG1397","v":""},{"$f":"BG1398","v":""},{"$f":"BG1399","v":""},{"$f":"BG1400","v":""},{"$f":"BG1401","v":""},{"$f":"BG1402","v":""},{"$f":"BG1403","v":""},{"$f":"BG1404","v":""},{"$f":"BG1405","v":""},{"$f":"BG1406","v":""},{"$f":"BG1407","v":""},{"$f":"BG1408","v":""},{"$f":"BG1409","v":""},{"$f":"BF76*AD157","v":0},null,"a24"]
["",{"$f":"IF(BH183=\"\",\"\",IF('DISEÑO TABLA DE DECISION'!$B$21=1,MIN(BH183:DE183),MAX(BH183:DE183)))","v":""},"",{"$f":"IF(C183=\"\",\"\",MAX('MATRIZ-PÉRDIDA OPORTUNIDAD'!C27:AZ27))","v":""},"",null,{"$f":"BG1410","v":""},{"$f":"BG1411","v":""},{"$f":"BG1412","v":""},{"$f":"BG1413","v":""},{"$f":"BG1414","v":""},{"$f":"BG1415","v":""},{"$f":"BG1416","v":""},{"$f":"BG1417","v":""},{"$f":"BG1418","v":""},{"$f":"BG1419","v":""},{"$f":"BG1420","v":""},{"$f":"BG1421","v":""},{"$f":"BG1422","v":""},{"$f":"BG1423","v":""},{"$f":"BG1424","v":""},{"$f":"BG1425","v":""},{"$f":"BG1426","v":""},{"$f":"BG1427","v":""},{"$f":"BG1428","v":""},{"$f":"BG1429","v":""},{"$f":"BG1430","v":""},{"$f":"BG1431","v":""},{"$f":"BG1432","v":""},{"$f":"BG1433","v":""},{"$f":"BG1434","v":""},{"$f":"BG1435","v":""},{"$f":"BG1436","v":""},{"$f":"BG1437","v":""},{"$f":"BG1438","v":""},{"$f":"BG1439","v":""},{"$f":"BG1440","v":""},{"$f":"BG1441","v":""},{"$f":"BG1442","v":""},{"$f":"BG1443","v":""},{"$f":"BG1444","v":""},{"$f":"BG1445","v":""},{"$f":"BG1446","v":""},{"$f":"BG1447","v":""},{"$f":"BG1448","v":""},{"$f":"BG1449","v":""},{"$f":"BG1450","v":""},{"$f":"BG1451","v":""},{"$f":"BG1452","v":""},{"$f":"BG1453","v":""},{"$f":"BG1454","v":""},{"$f":"BG1455","v":""},{"$f":"BG1456","v":""},{"$f":"BG1457","v":""},{"$f":"BG1458","v":""},{"$f":"BG1459","v":""},{"$f":"BF77*AE157","v":0},null,"a25"]
["",{"$f":"IF(BH184=\"\",\"\",IF('DISEÑO TABLA DE DECISION'!$B$21=1,MIN(BH184:DE184),MAX(BH184:DE184)))","v":""},"",{"$f":"IF(C184=\"\",\"\",MAX('MATRIZ-PÉRDIDA OPORTUNIDAD'!C28:AZ28))","v":""},"",null,{"$f":"BG1460","v":""},{"$f":"BG1461","v":""},{"$f":"BG1462","v":""},{"$f":"BG1463","v":""},{"$f":"BG1464","v":""},{"$f":"BG1465","v":""},{"$f":"BG1466","v":""},{"$f":"BG1467","v":""},{"$f":"BG1468","v":""},{"$f":"BG1469","v":""},{"$f":"BG1470","v":""},{"$f":"BG1471","v":""},{"$f":"BG1472","v":""},{"$f":"BG1473","v":""},{"$f":"BG1474","v":""},{"$f":"BG1475","v":""},{"$f":"BG1476","v":""},{"$f":"BG1477","v":""},{"$f":"BG1478","v":""},{"$f":"BG1479","v":""},{"$f":"BG1480","v":""},{"$f":"BG1481","v":""},{"$f":"BG1482","v":""},{"$f":"BG1483","v":""},{"$f":"BG1484","v":""},{"$f":"BG1485","v":""},{"$f":"BG1486","v":""},{"$f":"BG1487","v":""},{"$f":"BG1488","v":""},{"$f":"BG1489","v":""},{"$f":"BG1490","v":""},{"$f":"BG1491","v":""},{"$f":"BG1492","v":""},{"$f":"BG1493","v":""},{"$f":"BG1494","v":""},{"$f":"BG1495","v":""},{"$f":"BG1496","v":""},{"$f":"BG1497","v":""},{"$f":"BG1498","v":""},{"$f":"BG1499","v":""},{"$f":"BG1500","v":""},{"$f":"BG1501","v":""},{"$f":"BG1502","v":""},{"$f":"BG1503","v":""},{"$f":"BG1504","v":""},{"$f":"BG1505","v":""},{"$f":"BG1506","v":""},{"$f":"BG1507","v":""},{"$f":"BG1508","v":""},{"$f":"BG1509","v":""},{"$f":"BF78*AF157","v":0},null,"a26"]
["",{"$f":"IF(BH185=\"\",\"\",IF('DISEÑO TABLA DE DECISION'!$B$21=1,MIN(BH185:DE185),MAX(BH185:DE185)))","v":""},"",{"$f":"IF(C185=\"\",\"\",MAX('MATRIZ-PÉRDIDA OPORTUNIDAD'!C29:AZ29))","v":""},"",null,{"$f":"BG1510","v":""},{"$f":"BG1511","v":""},{"$f":"BG1512","v":""},{"$f":"BG1513","v":""},{"$f":"BG1514","v":""},{"$f":"BG1515","v":""},{"$f":"BG1516","v":""},{"$f":"BG1517","v":""},{"$f":"BG1518","v":""},{"$f":"BG1519","v":""},{"$f":"BG1520","v":""},{"$f":"BG1521","v":""},{"$f":"BG1522","v":""},{"$f":"BG1523","v":""},{"$f":"BG1524","v":""},{"$f":"BG1525","v":""},{"$f":"BG1526","v":""},{"$f":"BG1527","v":""},{"$f":"BG1528","v":""},{"$f":"BG1529","v":""},{"$f":"BG1530","v":""},{"$f":"BG1531","v":""},{"$f":"BG1532","v":""},{"$f":"BG1533","v":""},{"$f":"BG1534","v":""},{"$f":"BG1535","v":""},{"$f":"BG1536","v":""},{"$f":"BG1537","v":""},{"$f":"BG1538","v":""},{"$f":"BG1539","v":""},{"$f":"BG1540","v":""},{"$f":"BG1541","v":""},{"$f":"BG1542","v":""},{"$f":"BG1543","v":""},{"$f":"BG1544","v":""},{"$f":"BG1545","v":""},{"$f":"BG1546","v":""},{"$f":"BG1547","v":""},{"$f":"BG1548","v":""},{"$f":"BG1549","v":""},{"$f":"BG1550","v":""},{"$f":"BG1551","v":""},{"$f":"BG1552","v":""},{"$f":"BG1553","v":""},{"$f":"BG1554","v":""},{"$f":"BG1555","v":""},{"$f":"BG1556","v":""},{"$f":"BG1557","v":""},{"$f":"BG1558","v":""},{"$f":"BG1559","v":""},{"$f":"BF79*AG157","v":0},null,"a27"]
["",{"$f":"IF(BH186=\"\",\"\",IF('DISEÑO TABLA DE DECISION'!$B$21=1,MIN(BH186:DE186),MAX(BH186:DE186)))","v":""},"",{"$f":"IF(C186=\"\",\"\",MAX('MATRIZ-PÉRDIDA OPORTUNIDAD'!C30:AZ30))","v":""},"",null,{"$f":"BG1560","v":""},{"$f":"BG1561","v":""},{"$f":"BG1562","v":""},{"$f":"BG1563","v":""},{"$f":"BG1564","v":""},{"$f":"BG1565","v":""},{"$f":"BG1566","v":""},{"$f":"BG1567","v":""},{"$f":"BG1568","v":""},{"$f":"BG1569","v":""},{"$f":"BG1570","v":""},{"$f":"BG1571","v":""},{"$f":"BG1572","v":""},{"$f":"BG1573","v":""},{"$f":"BG1574","v":""},{"$f":"BG1575","v":""},{"$f":"BG1576","v":""},{"$f":"BG1577","v":""},{"$f":"BG1578","v":""},{"$f":"BG1579","v":""},{"$f":"BG1580","v":""},{"$f":"BG1581","v":""},{"$f":"BG1582","v":""},{"$f":"BG1583","v":""},{"$f":"BG1584","v":""},{"$f":"BG1585","v":""},{"$f":"BG1586","v":""},{"$f":"BG1587","v":""},{"$f":"BG1588","v":""},{"$f":"BG1589","v":""},{"$f":"BG1590","v":""},{"$f":"BG1591","v":""},{"$f":"BG1592","v":""},{"$f":"BG1593","v":""},{"$f":"BG1594","v":""},{"$f":"BG1595","v":""},{"$f":"BG1596","v":""},{"$f":"BG1597","v":""},{"$f":"BG1598","v":""},{"$f":"BG1599","v":""},{"$f":"BG1600","v":""},{"$f":"BG1601","v":""},{"$f":"BG1602","v":""},{"$f":"BG1603","v":""},{"$f":"BG1604","v":""},{"$f":"BG1605","v":""},{"$f":"BG1606","v":""},{"$f":"BG1607","v":""},{"$f":"BG1608","v":""},{"$f":"BG1609","v":""},{"$f":"BF80*AH157","v":0},null,"a28"]
["",{"$f":"IF(BH187=\"\",\"\",IF('DISEÑO TABLA DE DECISION'!$B$21=1,MIN(BH187:DE187),MAX(BH187:DE187)))","v":""},"",{"$f":"IF(C187=\"\",\"\",MAX('MATRIZ-PÉRDIDA OPORTUNIDAD'!C31:AZ31))","v":""},"",null,{"$f":"BG1610","v":""},{"$f":"BG1611","v":""},{"$f":"BG1612","v":""},{"$f":"BG1613","v":""},{"$f":"BG1614","v":""},{"$f":"BG1615","v":""},{"$f":"BG1616","v":""},{"$f":"BG1617","v":""},{"$f":"BG1618","v":""},{"$f":"BG1619","v":""},{"$f":"BG1620","v":""},{"$f":"BG1621","v":""},{"$f":"BG1622","v":""},{"$f":"BG1623","v":""},{"$f":"BG1624","v":""},{"$f":"BG1625","v":""},{"$f":"BG1626","v":""},{"$f":"BG1627","v":""},{"$f":"BG1628","v":""},{"$f":"BG1629","v":""},{"$f":"BG1630","v":""},{"$f":"BG1631","v":""},{"$f":"BG1632","v":""},{"$f":"BG1633","v":""},{"$f":"BG1634","v":""},{"$f":"BG1635","v":""},{"$f":"BG1636","v":""},{"$f":"BG1637","v":""},{"$f":"BG1638","v":""},{"$f":"BG1639","v":""},{"$f":"BG1640","v":""},{"$f":"BG1641","v":""},{"$f":"BG1642","v":""},{"$f":"BG1643","v":""},{"$f":"BG1644","v":""},{"$f":"BG1645","v":""},{"$f":"BG1646","v":""},{"$f":"BG1647","v":""},{"$f":"BG1648","v":""},{"$f":"BG1649","v":""},{"$f":"BG1650","v":""},{"$f":"BG1651","v":""},{"$f":"BG1652","v":""},{"$f":"BG1653","v":""},{"$f":"BG1654","v":""},{"$f":"BG1655","v":""},{"$f":"BG1656","v":""},{"$f":"BG1657","v":""},{"$f":"BG1658","v":""},{"$f":"BG1659","v":""},{"$f":"BF81*AI157","v":0},null,"a29"]
["",{"$f":"IF(BH188=\"\",\"\",IF('DISEÑO TABLA DE DECISION'!$B$21=1,MIN(BH188:DE188),MAX(BH188:DE188)))","v":""},"",{"$f":"IF(C188=\"\",\"\",MAX('MATRIZ-PÉRDIDA OPORTUNIDAD'!C32:AZ32))","v":""},"",null,{"$f":"BG1660","v":""},{"$f":"BG1661","v":""},{"$f":"BG1662","v":""},{"$f":"BG1663","v":""},{"$f":"BG1664","v":""},{"$f":"BG1665","v":""},{"$f":"BG1666","v":""},{"$f":"BG1667","v":""},{"$f":"BG1668","v":""},{"$f":"BG1669","v":""},{"$f":"BG1670","v":""},{"$f":"BG1671","v":""},{"$f":"BG1672","v":""},{"$f":"BG1673","v":""},{"$f":"BG1674","v":""},{"$f":"BG1675","v":""},{"$f":"BG1676","v":""},{"$f":"BG1677","v":""},{"$f":"BG1678","v":""},{"$f":"BG1679","v":""},{"$f":"BG1680","v":""},{"$f":"BG1681","v":""},{"$f":"BG1682","v":""},{"$f":"BG1683","v":""},{"$f":"BG1684","v":""},{"$f":"BG1685","v":""},{"$f":"BG1686","v":""},{"$f":"BG1687","v":""},{"$f":"BG1688","v":""},{"$f":"BG1689","v":""},{"$f":"BG1690","v":""},{"$f":"BG1691","v":""},{"$f":"BG1692","v":""},{"$f":"BG1693","v":""},{"$f":"BG1694","v":""},{"$f":"BG1695","v":""},{"$f":"BG1696","v":""},{"$f":"BG1697","v":""},{"$f":"BG1698","v":""},{"$f":"BG1699","v":""},{"$f":"BG1700","v":""},{"$f":"BG1701","v":""},{"$f":"BG1702","v":""},{"$f":"BG1703","v":""},{"$f":"BG1704","v":""},{"$f":"BG1705","v":""},{"$f":"BG1706","v":""},{"$f":"BG1707","v":""},{"$f":"BG1708","v":""},{"$f":"BG1709","v":""},{"$f":"BF82*AJ157","v":0},null,"a30"]
["",{"$f":"IF(BH189=\"\",\"\",IF('DISEÑO TABLA DE DECISION'!$B$21=1,MIN(BH189:DE189),MAX(BH189:DE189)))","v":""},"",{"$f":"IF(C189=\"\",\"\",MAX('MATRIZ-PÉRDIDA OPORTUNIDAD'!C33:AZ33))","v":""},"",null,{"$f":"BG1710","v":""},{"$f":"BG1711","v":""},{"$f":"BG1712","v":""},{"$f":"BG1713","v":""},{"$f":"BG1714","v":""},{"$f":"BG1715","v":""},{"$f":"BG1716","v":""},{"$f":"BG1717","v":""},{"$f":"BG1718","v":""},{"$f":"BG1719","v":""},{"$f":"BG1720","v":""},{"$f":"BG1721","v":""},{"$f":"BG1722","v":""},{"$f":"BG1723","v":""},{"$f":"BG1724","v":""},{"$f":"BG1725","v":""},{"$f":"BG1726","v":""},{"$f":"BG1727","v":""},{"$f":"BG1728","v":""},{"$f":"BG1729","v":""},{"$f":"BG1730","v":""},{"$f":"BG1731","v":""},{"$f":"BG1732","v":""},{"$f":"BG1733","v":""},{"$f":"BG1734","v":""},{"$f":"BG1735","v":""},{"$f":"BG1736","v":""},{"$f":"BG1737","v":""},{"$f":"BG1738","v":""},{"$f":"BG1739","v":""},{"$f":"BG1740","v":""},{"$f":"BG1741","v":""},{"$f":"BG1742","v":""},{"$f":"BG1743","v":""},{"$f":"BG1744","v":""},{"$f":"BG1745","v":""},{"$f":"BG1746","v":""},{"$f":"BG1747","v":""},{"$f":"BG1748","v":""},{"$f":"BG1749","v":""},{"$f":"BG1750","v":""},{"$f":"BG1751","v":""},{"$f":"BG1752","v":""},{"$f":"BG1753","v":""},{"$f":"BG1754","v":""},{"$f":"BG1755","v":""},{"$f":"BG1756","v":""},{"$f":"BG1757","v":""},{"$f":"BG1758","v":""},{"$f":"BG1759","v":""},{"$f":"BF83*AK157","v":0},null,"a31"]
["",{"$f":"IF(BH190=\"\",\"\",IF('DISEÑO TABLA DE DECISION'!$B$21=1,MIN(BH190:DE190),MAX(BH190:DE190)))","v":""},"",{"$f":"IF(C190=\"\",\"\",MAX('MATRIZ-PÉRDIDA OPORTUNIDAD'!C34:AZ34))","v":""},"",null,{"$f":"BG1760","v":""},{"$f":"BG1761","v":""},{"$f":"BG1762","v":""},{"$f":"BG1763","v":""},{"$f":"BG1764","v":""},{"$f":"BG1765","v":""},{"$f":"BG1766","v":""},{"$f":"BG1767","v":""},{"$f":"BG1768","v":""},{"$f":"BG1769","v":""},{"$f":"BG1770","v":""},{"$f":"BG1771","v":""},{"$f":"BG1772","v":""},{"$f":"BG1773","v":""},{"$f":"BG1774","v":""},{"$f":"BG1775","v":""},{"$f":"BG1776","v":""},{"$f":"BG1777","v":""},{"$f":"BG1778","v":""},{"$f":"BG1779","v":""},{"$f":"BG1780","v":""},{"$f":"BG1781","v":""},{"$f":"BG1782","v":""},{"$f":"BG1783","v":""},{"$f":"BG1784","v":""},{"$f":"BG1785","v":""},{"$f":"BG1786","v":""},{"$f":"BG1787","v":""},{"$f":"BG1788","v":""},{"$f":"BG1789","v":""},{"$f":"BG1790","v":""},{"$f":"BG1791","v":""},{"$f":"BG1792","v":""},{"$f":"BG1793","v":""},{"$f":"BG1794","v":""},{"$f":"BG1795","v":""},{"$f":"BG1796","v":""},{"$f":"BG1797","v":""},{"$f":"BG1798","v":""},{"$f":"BG1799","v":""},{"$f":"BG1800","v":""},{"$f":"BG1801","v":""},{"$f":"BG1802","v":""},{"$f":"BG1803","v":""},{"$f":"BG1804","v":""},{"$f":"BG1805","v":""},{"$f":"BG1806","v":""},{"$f":"BG1807","v":""},{"$f":"BG1808","v":""},{"$f":"BG1809","v":""},{"$f":"BF84*AL157","v":0},null,"a32"]
[{"$f":"IF(BH191=\"\",\"\",AVERAGE(BH191:DE191))","v":""},{"$f":"IF(BH191=\"\",\"\",IF('DISEÑO TABLA DE DECISION'!$B$21=1,MIN(BH191:DE191),MAX(BH191:DE191)))","v":""},"",{"$f":"IF(C191=\"\",\"\",MAX('MATRIZ-PÉRDIDA OPORTUNIDAD'!C35:AZ35))","v":""},{"$f":"IF(OR(BH191=\"\",BH$156=\"\"),\"\",BH$156*BH191+BI$156*BI191+BJ$156*BJ191+BK$156*BK191+BL$156*BL191+BM$156*BM191+BN$156*BN191+BO$156*BO191+BP$156*BP191+BQ$156*BQ191+BR$156*BR191+BS$156*BS191+BT$156*BT191+BU$156*BU191+BV$156*BV191+BW$156*BW191+BX$156*BX191+BY$156*BY191+BZ$156*BZ191+CA$156*CA191+CB$156*CB191+CC$156*CC191+CD$156*CD191+CE$156*CE191+CF$156*CF191+CG$156*CG191+CH$156*CH191+CI$156*CI191+CJ$156*CJ191+CK$156*CK191+CL$156*CL191+CM$156*CM191+CN$156*CN191+CO$156*CO191+CP$156*CP191+CQ$156*CQ191+CR$156*CR191+CS$156*CS191+CT$156*CT191+CU$156*CU191+CV$156*CV191+CW$156*CW191+CX$156*CX191+CY$156*CY191+CZ$156*CZ191+DA$156*DA191+DB$156*DB191+DC$156*DC191+DD$156*DD191+DE$156*DE191)","v":""},null,{"$f":"BG1810","v":""},{"$f":"BG1811","v":""},{"$f":"BG1812","v":""},{"$f":"BG1813","v":""},{"$f":"BG1814","v":""},{"$f":"BG1815","v":""},{"$f":"BG1816","v":""},{"$f":"BG1817","v":""},{"$f":"BG1818","v":""},{"$f":"BG1819","v":""},{"$f":"BG1820","v":""},{"$f":"BG1821","v":""},{"$f":"BG1822","v":""},{"$f":"BG1823","v":""},{"$f":"BG1824","v":""},{"$f":"BG1825","v":""},{"$f":"BG1826","v":""},{"$f":"BG1827","v":""},{"$f":"BG1828","v":""},{"$f":"BG1829","v":""},{"$f":"BG1830","v":""},{"$f":"BG1831","v":""},{"$f":"BG1832","v":""},{"$f":"BG1833","v":""},{"$f":"BG1834","v":""},{"$f":"BG1835","v":""},{"$f":"BG1836","v":""},{"$f":"BG1837","v":""},{"$f":"BG1838","v":""},{"$f":"BG1839","v":""},{"$f":"BG1840","v":""},{"$f":"BG1841","v":""},{"$f":"BG1842","v":""},{"$f":"BG1843","v":""},{"$f":"BG1844","v":""},{"$f":"BG1845","v":""},{"$f":"BG1846","v":""},{"$f":"BG1847","v":""},{"$f":"BG1848","v":""},{"$f":"BG1849","v":""},{"$f":"BG1850","v":""},{"$f":"BG1851","v":""},{"$f":"BG1852","v":""},{"$f":"BG1853","v":""},{"$f":"BG1854","v":""},{"$f":"BG1855","v":""},{"$f":"BG1856","v":""},{"$f":"BG1857","v":""},{"$f":"BG1858","v":""},{"$f":"BG1859","v":""},{"$f":"BF85*AM157","v":0},null,"a33"]
["",{"$f":"IF(BH192=\"\",\"\",IF('DISEÑO TABLA DE DECISION'!$B$21=1,MIN(BH192:DE192),MAX(BH192:DE192)))","v":""},"",{"$f":"IF(C192=\"\",\"\",MAX('MATRIZ-PÉRDIDA OPORTUNIDAD'!C36:AZ36))","v":""},"",null,{"$f":"BG1860","v":""},{"$f":"BG1861","v":""},{"$f":"BG1862","v":""},{"$f":"BG1863","v":""},{"$f":"BG1864","v":""},{"$f":"BG1865","v":""},{"$f":"BG1866","v":""},{"$f":"BG1867","v":""},{"$f":"BG1868","v":""},{"$f":"BG1869","v":""},{"$f":"BG1870","v":""},{"$f":"BG1871","v":""},{"$f":"BG1872","v":""},{"$f":"BG1873","v":""},{"$f":"BG1874","v":""},{"$f":"BG1875","v":""},{"$f":"BG1876","v":""},{"$f":"BG1877","v":""},{"$f":"BG1878","v":""},{"$f":"BG1879","v":""},{"$f":"BG1880","v":""},{"$f":"BG1881","v":""},{"$f":"BG1882","v":""},{"$f":"BG1883","v":""},{"$f":"BG1884","v":""},{"$f":"BG1885","v":""},{"$f":"BG1886","v":""},{"$f":"BG1887","v":""},{"$f":"BG1888","v":""},{"$f":"BG1889","v":""},{"$f":"BG1890","v":""},{"$f":"BG1891","v":""},{"$f":"BG1892","v":""},{"$f":"BG1893","v":""},{"$f":"BG1894","v":""},{"$f":"BG1895","v":""},{"$f":"BG1896","v":""},{"$f":"BG1897","v":""},{"$f":"BG1898","v":""},{"$f":"BG1899","v":""},{"$f":"BG1900","v":""},{"$f":"BG1901","v":""},{"$f":"BG1902","v":""},{"$f":"BG1903","v":""},{"$f":"BG1904","v":""},{"$f":"BG1905","v":""},{"$f":"BG1906","v":""},{"$f":"BG1907","v":""},{"$f":"BG1908","v":""},{"$f":"BG1909","v":""},{"$f":"BF86*AN157","v":0},null,"a34"]
["",{"$f":"IF(BH193=\"\",\"\",IF('DISEÑO TABLA DE DECISION'!$B$21=1,MIN(BH193:DE193),MAX(BH193:DE193)))","v":""},"",{"$f":"IF(C193=\"\",\"\",MAX('MATRIZ-PÉRDIDA OPORTUNIDAD'!C37:AZ37))","v":""},"",null,{"$f":"BG1910","v":""},{"$f":"BG1911","v":""},{"$f":"BG1912","v":""},{"$f":"BG1913","v":""},{"$f":"BG1914","v":""},{"$f":"BG1915","v":""},{"$f":"BG1916","v":""},{"$f":"BG1917","v":""},{"$f":"BG1918","v":""},{"$f":"BG1919","v":""},{"$f":"BG1920","v":""},{"$f":"BG1921","v":""},{"$f":"BG1922","v":""},{"$f":"BG1923","v":""},{"$f":"BG1924","v":""},{"$f":"BG1925","v":""},{"$f":"BG1926","v":""},{"$f":"BG1927","v":""},{"$f":"BG1928","v":""},{"$f":"BG1929","v":""},{"$f":"BG1930","v":""},{"$f":"BG1931","v":""},{"$f":"BG1932","v":""},{"$f":"BG1933","v":""},{"$f":"BG1934","v":""},{"$f":"BG1935","v":""},{"$f":"BG1936","v":""},{"$f":"BG1937","v":""},{"$f":"BG1938","v":""},{"$f":"BG1939","v":""},{"$f":"BG1940","v":""},{"$f":"BG1941","v":""},{"$f":"BG1942","v":""},{"$f":"BG1943","v":""},{"$f":"BG1944","v":""},{"$f":"BG1945","v":""},{"$f":"BG1946","v":""},{"$f":"BG1947","v":""},{"$f":"BG1948","v":""},{"$f":"BG1949","v":""},{"$f":"BG1950","v":""},{"$f":"BG1951","v":""},{"$f":"BG1952","v":""},{"$f":"BG1953","v":""},{"$f":"BG1954","v":""},{"$f":"BG1955","v":""},{"$f":"BG1956","v":""},{"$f":"BG1957","v":""},{"$f":"BG1958","v":""},{"$f":"BG1959","v":""},{"$f":"BF87*AO157","v":0},null,"a35"]
["",{"$f":"IF(BH194=\"\",\"\",IF('DISEÑO TABLA DE DECISION'!$B$21=1,MIN(BH194:DE194),MAX(BH194:DE194)))","v":""},"",{"$f":"IF(C194=\"\",\"\",MAX('MATRIZ-PÉRDIDA OPORTUNIDAD'!C38:AZ38))","v":""},"",null,{"$f":"BG1960","v":""},{"$f":"BG1961","v":""},{"$f":"BG1962","v":""},{"$f":"BG1963","v":""},{"$f":"BG1964","v":""},{"$f":"BG1965","v":""},{"$f":"BG1966","v":""},{"$f":"BG1967","v":""},{"$f":"BG1968","v":""},{"$f":"BG1969","v":""},{"$f":"BG1970","v":""},{"$f":"BG1971","v":""},{"$f":"BG1972","v":""},{"$f":"BG1973","v":""},{"$f":"BG1974","v":""},{"$f":"BG1975","v":""},{"$f":"BG1976","v":""},{"$f":"BG1977","v":""},{"$f":"BG1978","v":""},{"$f":"BG1979","v":""},{"$f":"BG1980","v":""},{"$f":"BG1981","v":""},{"$f":"BG1982","v":""},{"$f":"BG1983","v":""},{"$f":"BG1984","v":""},{"$f":"BG1985","v":""},{"$f":"BG1986","v":""},{"$f":"BG1987","v":""},{"$f":"BG1988","v":""},{"$f":"BG1989","v":""},{"$f":"BG1990","v":""},{"$f":"BG1991","v":""},{"$f":"BG1992","v":""},{"$f":"BG1993","v":""},{"$f":"BG1994","v":""},{"$f":"BG1995","v":""},{"$f":"BG1996","v":""},{"$f":"BG1997","v":""},{"$f":"BG1998","v":""},{"$f":"BG1999","v":""},{"$f":"BG2000","v":""},{"$f":"BG2001","v":""},{"$f":"BG2002","v":""},{"$f":"BG2003","v":""},{"$f":"BG2004","v":""},{"$f":"BG2005","v":""},{"$f":"BG2006","v":""},{"$f":"BG2007","v":""},{"$f":"BG2008","v":""},{"$f":"BG2009","v":""},{"$f":"BF88*AP157","v":0},null,"a36"]
["",{"$f":"IF(BH195=\"\",\"\",IF('DISEÑO TABLA DE DECISION'!$B$21=1,MIN(BH195:DE195),MAX(BH195:DE195)))","v":""},"",{"$f":"IF(C195=\"\",\"\",MAX('MATRIZ-PÉRDIDA OPORTUNIDAD'!C39:AZ39))","v":""},"",null,{"$f":"BG2010","v":""},{"$f":"BG2011","v":""},{"$f":"BG2012","v":""},{"$f":"BG2013","v":""},{"$f":"BG2014","v":""},{"$f":"BG2015","v":""},{"$f":"BG2016","v":""},{"$f":"BG2017","v":""},{"$f":"BG2018","v":""},{"$f":"BG2019","v":""},{"$f":"BG2020","v":""},{"$f":"BG2021","v":""},{"$f":"BG2022","v":""},{"$f":"BG2023","v":""},{"$f":"BG2024","v":""},{"$f":"BG2025","v":""},{"$f":"BG2026","v":""},{"$f":"BG2027","v":""},{"$f":"BG2028","v":""},{"$f":"BG2029","v":""},{"$f":"BG2030","v":""},{"$f":"BG2031","v":""},{"$f":"BG2032","v":""},{"$f":"BG2033","v":""},{"$f":"BG2034","v":""},{"$f":"BG2035","v":""},{"$f":"BG2036","v":""},{"$f":"BG2037","v":""},{"$f":"BG2038","v":""},{"$f":"BG2039","v":""},{"$f":"BG2040","v":""},{"$f":"BG2041","v":""},{"$f":"BG2042","v":""},{"$f":"BG2043","v":""},{"$f":"BG2044","v":""},{"$f":"BG2045","v":""},{"$f":"BG2046","v":""},{"$f":"BG2047","v":""},{"$f":"BG2048","v":""},{"$f":"BG2049","v":""},{"$f":"BG2050","v":""},{"$f":"BG2051","v":""},{"$f":"BG2052","v":""},{"$f":"BG2053","v":""},{"$f":"BG2054","v":""},{"$f":"BG2055","v":""},{"$f":"BG2056","v":""},{"$f":"BG2057","v":""},{"$f":"BG2058","v":""},{"$f":"BG2059","v":""},{"$f":"BF89*AQ157","v":0},null,"a37"]
["",{"$f":"IF(BH196=\"\",\"\",IF('DISEÑO TABLA DE DECISION'!$B$21=1,MIN(BH196:DE196),MAX(BH196:DE196)))","v":""},"",{"$f":"IF(C196=\"\",\"\",MAX('MATRIZ-PÉRDIDA OPORTUNIDAD'!C40:AZ40))","v":""},"",null,{"$f":"BG2060","v":""},{"$f":"BG2061","v":""},{"$f":"BG2062","v":""},{"$f":"BG2063","v":""},{"$f":"BG2064","v":""},{"$f":"BG2065","v":""},{"$f":"BG2066","v":""},{"$f":"BG2067","v":""},{"$f":"BG2068","v":""},{"$f":"BG2069","v":""},{"$f":"BG2070","v":""},{"$f":"BG2071","v":""},{"$f":"BG2072","v":""},{"$f":"BG2073","v":""},{"$f":"BG2074","v":""},{"$f":"BG2075","v":""},{"$f":"BG2076","v":""},{"$f":"BG2077","v":""},{"$f":"BG2078","v":""},{"$f":"BG2079","v":""},{"$f":"BG2080","v":""},{"$f":"BG2081","v":""},{"$f":"BG2082","v":""},{"$f":"BG2083","v":""},{"$f":"BG2084","v":""},{"$f":"BG2085","v":""},{"$f":"BG2086","v":""},{"$f":"BG2087","v":""},{"$f":"BG2088","v":""},{"$f":"BG2089","v":""},{"$f":"BG2090","v":""},{"$f":"BG2091","v":""},{"$f":"BG2092","v":""},{"$f":"BG2093","v":""},{"$f":"BG2094","v":""},{"$f":"BG2095","v":""},{"$f":"BG2096","v":""},{"$f":"BG2097","v":""},{"$f":"BG2098","v":""},{"$f":"BG2099","v":""},{"$f":"BG2100","v":""},{"$f":"BG2101","v":""},{"$f":"BG2102","v":""},{"$f":"BG2103","v":""},{"$f":"BG2104","v":""},{"$f":"BG2105","v":""},{"$f":"BG2106","v":""},{"$f":"BG2107","v":""},{"$f":"BG2108","v":""},{"$f":"BG2109","v":""},{"$f":"BF90*AR157","v":0},null,"a38"]
["",{"$f":"IF(BH197=\"\",\"\",IF('DISEÑO TABLA DE DECISION'!$B$21=1,MIN(BH197:DE197),MAX(BH197:DE197)))","v":""},"",{"$f":"IF(C197=\"\",\"\",MAX('MATRIZ-PÉRDIDA OPORTUNIDAD'!C41:AZ41))","v":""},"",null,{"$f":"BG2110","v":""},{"$f":"BG2111","v":""},{"$f":"BG2112","v":""},{"$f":"BG2113","v":""},{"$f":"BG2114","v":""},{"$f":"BG2115","v":""},{"$f":"BG2116","v":""},{"$f":"BG2117","v":""},{"$f":"BG2118","v":""},{"$f":"BG2119","v":""},{"$f":"BG2120","v":""},{"$f":"BG2121","v":""},{"$f":"BG2122","v":""},{"$f":"BG2123","v":""},{"$f":"BG2124","v":""},{"$f":"BG2125","v":""},{"$f":"BG2126","v":""},{"$f":"BG2127","v":""},{"$f":"BG2128","v":""},{"$f":"BG2129","v":""},{"$f":"BG2130","v":""},{"$f":"BG2131","v":""},{"$f":"BG2132","v":""},{"$f":"BG2133","v":""},{"$f":"BG2134","v":""},{"$f":"BG2135","v":""},{"$f":"BG2136","v":""},{"$f":"BG2137","v":""},{"$f":"BG2138","v":""},{"$f":"BG2139","v":""},{"$f":"BG2140","v":""},{"$f":"BG2141","v":""},{"$f":"BG2142","v":""},{"$f":"BG2143","v":""},{"$f":"BG2144","v":""},{"$f":"BG2145","v":""},{"$f":"BG2146","v":""},{"$f":"BG2147","v":""},{"$f":"BG2148","v":""},{"$f":"BG2149","v":""},{"$f":"BG2150","v":""},{"$f":"BG2151","v":""},{"$f":"BG2152","v":""},{"$f":"BG2153","v":""},{"$f":"BG2154","v":""},{"$f":"BG2155","v":""},{"$f":"BG2156","v":""},{"$f":"BG2157","v":""},{"$f":"BG2158","v":""},{"$f":"BG2159","v":""},{"$f":"BF91*AS157","v":0},null,"a39"]
["",{"$f":"IF(BH198=\"\",\"\",IF('DISEÑO TABLA DE DECISION'!$B$21=1,MIN(BH198:DE198),MAX(BH198:DE198)))","v":""},"",{"$f":"IF(C198=\"\",\"\",MAX('MATRIZ-PÉRDIDA OPORTUNIDAD'!C42:AZ42))","v":""},"",null,{"$f":"BG2160","v":""},{"$f":"BG2161","v":""},{"$f":"BG2162","v":""},{"$f":"BG2163","v":""},{"$f":"BG2164","v":""},{"$f":"BG2165","v":""},{"$f":"BG2166","v":""},{"$f":"BG2167","v":""},{"$f":"BG2168","v":""},{"$f":"BG2169","v":""},{"$f":"BG2170","v":""},{"$f":"BG2171","v":""},{"$f":"BG2172","v":""},{"$f":"BG2173","v":""},{"$f":"BG2174","v":""},{"$f":"BG2175","v":""},{"$f":"BG2176","v":""},{"$f":"BG2177","v":""},{"$f":"BG2178","v":""},{"$f":"BG2179","v":""},{"$f":"BG2180","v":""},{"$f":"BG2181","v":""},{"$f":"BG2182","v":""},{"$f":"BG2183","v":""},{"$f":"BG2184","v":""},{"$f":"BG2185","v":""},{"$f":"BG2186","v":""},{"$f":"BG2187","v":""},{"$f":"BG2188","v":""},{"$f":"BG2189","v":""},{"$f":"BG2190","v":""},{"$f":"BG2191","v":""},{"$f":"BG2192","v":""},{"$f":"BG2193","v":""},{"$f":"BG2194","v":""},{"$f":"BG2195","v":""},{"$f":"BG2196","v":""},{"$f":"BG2197","v":""},{"$f":"BG2198","v":""},{"$f":"BG2199","v":""},{"$f":"BG2200","v":""},{"$f":"BG2201","v":""},{"$f":"BG2202","v":""},{"$f":"BG2203","v":""},{"$f":"BG2204","v":""},{"$f":"BG2205","v":""},{"$f":"BG2206","v":""},{"$f":"BG2207","v":""},{"$f":"BG2208","v":""},{"$f":"BG2209","v":""},{"$f":"BF92*AT157","v":0},null,"a40"]
["",{"$f":"IF(BH199=\"\",\"\",IF('DISEÑO TABLA DE DECISION'!$B$21=1,MIN(BH199:DE199),MAX(BH199:DE199)))","v":""},"",{"$f":"IF(C199=\"\",\"\",MAX('MATRIZ-PÉRDIDA OPORTUNIDAD'!C43:AZ43))","v":""},"",null,{"$f":"BG2210","v":""},{"$f":"BG2211","v":""},{"$f":"BG2212","v":""},{"$f":"BG2213","v":""},{"$f":"BG2214","v":""},{"$f":"BG2215","v":""},{"$f":"BG2216","v":""},{"$f":"BG2217","v":""},{"$f":"BG2218","v":""},{"$f":"BG2219","v":""},{"$f":"BG2220","v":""},{"$f":"BG2221","v":""},{"$f":"BG2222","v":""},{"$f":"BG2223","v":""},{"$f":"BG2224","v":""},{"$f":"BG2225","v":""},{"$f":"BG2226","v":""},{"$f":"BG2227","v":""},{"$f":"BG2228","v":""},{"$f":"BG2229","v":""},{"$f":"BG2230","v":""},{"$f":"BG2231","v":""},{"$f":"BG2232","v":""},{"$f":"BG2233","v":""},{"$f":"BG2234","v":""},{"$f":"BG2235","v":""},{"$f":"BG2236","v":""},{"$f":"BG2237","v":""},{"$f":"BG2238","v":""},{"$f":"BG2239","v":""},{"$f":"BG2240","v":""},{"$f":"BG2241","v":""},{"$f":"BG2242","v":""},{"$f":"BG2243","v":""},{"$f":"BG2244","v":""},{"$f":"BG2245","v":""},{"$f":"BG2246","v":""},{"$f":"BG2247","v":""},{"$f":"BG2248","v":""},{"$f":"BG2249","v":""},{"$f":"BG2250","v":""},{"$f":"BG2251","v":""},{"$f":"BG2252","v":""},{"$f":"BG2253","v":""},{"$f":"BG2254","v":""},{"$f":"BG2255","v":""},{"$f":"BG2256","v":""},{"$f":"BG2257","v":""},{"$f":"BG2258","v":""},{"$f":"BG2259","v":""},{"$f":"BF93*AU157","v":0},null,"a41"]
["",{"$f":"IF(BH200=\"\",\"\",IF('DISEÑO TABLA DE DECISION'!$B$21=1,MIN(BH200:DE200),MAX(BH200:DE200)))","v":""},"",{"$f":"IF(C200=\"\",\"\",MAX('MATRIZ-PÉRDIDA OPORTUNIDAD'!C44:AZ44))","v":""},"",null,{"$f":"BG2260","v":""},{"$f":"BG2261","v":""},{"$f":"BG2262","v":""},{"$f":"BG2263","v":""},{"$f":"BG2264","v":""},{"$f":"BG2265","v":""},{"$f":"BG2266","v":""},{"$f":"BG2267","v":""},{"$f":"BG2268","v":""},{"$f":"BG2269","v":""},{"$f":"BG2270","v":""},{"$f":"BG2271","v":""},{"$f":"BG2272","v":""},{"$f":"BG2273","v":""},{"$f":"BG2274","v":""},{"$f":"BG2275","v":""},{"$f":"BG2276","v":""},{"$f":"BG2277","v":""},{"$f":"BG2278","v":""},{"$f":"BG2279","v":""},{"$f":"BG2280","v":""},{"$f":"BG2281","v":""},{"$f":"BG2282","v":""},{"$f":"BG2283","v":""},{"$f":"BG2284","v":""},{"$f":"BG2285","v":""},{"$f":"BG2286","v":""},{"$f":"BG2287","v":""},{"$f":"BG2288","v":""},{"$f":"BG2289","v":""},{"$f":"BG2290","v":""},{"$f":"BG2291","v":""},{"$f":"BG2292","v":""},{"$f":"BG2293","v":""},{"$f":"BG2294","v":""},{"$f":"BG2295","v":""},{"$f":"BG2296","v":""},{"$f":"BG2297","v":""},{"$f":"BG2298","v":""},{"$f":"BG2299","v":""},{"$f":"BG2300","v":""},{"$f":"BG2301","v":""},{"$f":"BG2302","v":""},{"$f":"BG2303","v":""},{"$f":"BG2304","v":""},{"$f":"BG2305","v":""},{"$f":"BG2306","v":""},{"$f":"BG2307","v":""},{"$f":"BG2308","v":""},{"$f":"BG2309","v":""},{"$f":"BF94*AV157","v":0},null,"a42"]
["",{"$f":"IF(BH201=\"\",\"\",IF('DISEÑO TABLA DE DECISION'!$B$21=1,MIN(BH201:DE201),MAX(BH201:DE201)))","v":""},"",{"$f":"IF(C201=\"\",\"\",MAX('MATRIZ-PÉRDIDA OPORTUNIDAD'!C45:AZ45))","v":""},"",null,{"$f":"BG2310","v":""},{"$f":"BG2311","v":""},{"$f":"BG2312","v":""},{"$f":"BG2313","v":""},{"$f":"BG2314","v":""},{"$f":"BG2315","v":""},{"$f":"BG2316","v":""},{"$f":"BG2317","v":""},{"$f":"BG2318","v":""},{"$f":"BG2319","v":""},{"$f":"BG2320","v":""},{"$f":"BG2321","v":""},{"$f":"BG2322","v":""},{"$f":"BG2323","v":""},{"$f":"BG2324","v":""},{"$f":"BG2325","v":""},{"$f":"BG2326","v":""},{"$f":"BG2327","v":""},{"$f":"BG2328","v":""},{"$f":"BG2329","v":""},{"$f":"BG2330","v":""},{"$f":"BG2331","v":""},{"$f":"BG2332","v":""},{"$f":"BG2333","v":""},{"$f":"BG2334","v":""},{"$f":"BG2335","v":""},{"$f":"BG2336","v":""},{"$f":"BG2337","v":""},{"$f":"BG2338","v":""},{"$f":"BG2339","v":""},{"$f":"BG2340","v":""},{"$f":"BG2341","v":""},{"$f":"BG2342","v":""},{"$f":"BG2343","v":""},{"$f":"BG2344","v":""},{"$f":"BG2345","v":""},{"$f":"BG2346","v":""},{"$f":"BG2347","v":""},{"$f":"BG2348","v":""},{"$f":"BG2349","v":""},{"$f":"BG2350","v":""},{"$f":"BG2351","v":""},{"$f":"BG2352","v":""},{"$f":"BG2353","v":""},{"$f":"BG2354","v":""},{"$f":"BG2355","v":""},{"$f":"BG2356","v":""},{"$f":"BG2357","v":""},{"$f":"BG2358","v":""},{"$f":"BG2359","v":""},{"$f":"BF95*AW157","v":0},null,"a43"]
["",{"$f":"IF(BH202=\"\",\"\",IF('DISEÑO TABLA DE DECISION'!$B$21=1,MIN(BH202:DE202),MAX(BH202:DE202)))","v":""},"",{"$f":"IF(C202=\"\",\"\",MAX('MATRIZ-PÉRDIDA OPORTUNIDAD'!C46:AZ46))","v":""},"",null,{"$f":"BG2360","v":""},{"$f":"BG2361","v":""},{"$f":"BG2362","v":""},{"$f":"BG2363","v":""},{"$f":"BG2364","v":""},{"$f":"BG2365","v":""},{"$f":"BG2366","v":""},{"$f":"BG2367","v":""},{"$f":"BG2368","v":""},{"$f":"BG2369","v":""},{"$f":"BG2370","v":""},{"$f":"BG2371","v":""},{"$f":"BG2372","v":""},{"$f":"BG2373","v":""},{"$f":"BG2374","v":""},{"$f":"BG2375","v":""},{"$f":"BG2376","v":""},{"$f":"BG2377","v":""},{"$f":"BG2378","v":""},{"$f":"BG2379","v":""},{"$f":"BG2380","v":""},{"$f":"BG2381","v":""},{"$f":"BG2382","v":""},{"$f":"BG2383","v":""},{"$f":"BG2384","v":""},{"$f":"BG2385","v":""},{"$f":"BG2386","v":""},{"$f":"BG2387","v":""},{"$f":"BG2388","v":""},{"$f":"BG2389","v":""},{"$f":"BG2390","v":""},{"$f":"BG2391","v":""},{"$f":"BG2392","v":""},{"$f":"BG2393","v":""},{"$f":"BG2394","v":""},{"$f":"BG2395","v":""},{"$f":"BG2396","v":""},{"$f":"BG2397","v":""},{"$f":"BG2398","v":""},{"$f":"BG2399","v":""},{"$f":"BG2400","v":""},{"$f":"BG2401","v":""},{"$f":"BG2402","v":""},{"$f":"BG2403","v":""},{"$f":"BG2404","v":""},{"$f":"BG2405","v":""},{"$f":"BG2406","v":""},{"$f":"BG2407","v":""},{"$f":"BG2408","v":""},{"$f":"BG2409","v":""},{"$f":"BF96*AX157","v":0},null,"a44"]
["",{"$f":"IF(BH203=\"\",\"\",IF('DISEÑO TABLA DE DECISION'!$B$21=1,MIN(BH203:DE203),MAX(BH203:DE203)))","v":""},"",{"$f":"IF(C203=\"\",\"\",MAX('MATRIZ-PÉRDIDA OPORTUNIDAD'!C47:AZ47))","v":""},"",null,{"$f":"BG2410","v":""},{"$f":"BG2411","v":""},{"$f":"BG2412","v":""},{"$f":"BG2413","v":""},{"$f":"BG2414","v":""},{"$f":"BG2415","v":""},{"$f":"BG2416","v":""},{"$f":"BG2417","v":""},{"$f":"BG2418","v":""},{"$f":"BG2419","v":""},{"$f":"BG2420","v":""},{"$f":"BG2421","v":""},{"$f":"BG2422","v":""},{"$f":"BG2423","v":""},{"$f":"BG2424","v":""},{"$f":"BG2425","v":""},{"$f":"BG2426","v":""},{"$f":"BG2427","v":""},{"$f":"BG2428","v":""},{"$f":"BG2429","v":""},{"$f":"BG2430","v":""},{"$f":"BG2431","v":""},{"$f":"BG2432","v":""},{"$f":"BG2433","v":""},{"$f":"BG2434","v":""},{"$f":"BG2435","v":""},{"$f":"BG2436","v":""},{"$f":"BG2437","v":""},{"$f":"BG2438","v":""},{"$f":"BG2439","v":""},{"$f":"BG2440","v":""},{"$f":"BG2441","v":""},{"$f":"BG2442","v":""},{"$f":"BG2443","v":""},{"$f":"BG2444","v":""},{"$f":"BG2445","v":""},{"$f":"BG2446","v":""},{"$f":"BG2447","v":""},{"$f":"BG2448","v":""},{"$f":"BG2449","v":""},{"$f":"BG2450","v":""},{"$f":"BG2451","v":""},{"$f":"BG2452","v":""},{"$f":"BG2453","v":""},{"$f":"BG2454","v":""},{"$f":"BG2455","v":""},{"$f":"BG2456","v":""},{"$f":"BG2457","v":""},{"$f":"BG2458","v":""},{"$f":"BG2459","v":""},{"$f":"BF97*AY157","v":0},null,"a45"]
["",{"$f":"IF(BH204=\"\",\"\",IF('DISEÑO TABLA DE DECISION'!$B$21=1,MIN(BH204:DE204),MAX(BH204:DE204)))","v":""},"",{"$f":"IF(C204=\"\",\"\",MAX('MATRIZ-PÉRDIDA OPORTUNIDAD'!C48:AZ48))","v":""},"",null,{"$f":"BG2460","v":""},{"$f":"BG2461","v":""},{"$f":"BG2462","v":""},{"$f":"BG2463","v":""},{"$f":"BG2464","v":""},{"$f":"BG2465","v":""},{"$f":"BG2466","v":""},{"$f":"BG2467","v":""},{"$f":"BG2468","v":""},{"$f":"BG2469","v":""},{"$f":"BG2470","v":""},{"$f":"BG2471","v":""},{"$f":"BG2472","v":""},{"$f":"BG2473","v":""},{"$f":"BG2474","v":""},{"$f":"BG2475","v":""},{"$f":"BG2476","v":""},{"$f":"BG2477","v":""},{"$f":"BG2478","v":""},{"$f":"BG2479","v":""},{"$f":"BG2480","v":""},{"$f":"BG2481","v":""},{"$f":"BG2482","v":""},{"$f":"BG2483","v":""},{"$f":"BG2484","v":""},{"$f":"BG2485","v":""},{"$f":"BG2486","v":""},{"$f":"BG2487","v":""},{"$f":"BG2488","v":""},{"$f":"BG2489","v":""},{"$f":"BG2490","v":""},{"$f":"BG2491","v":""},{"$f":"BG2492","v":""},{"$f":"BG2493","v":""},{"$f":"BG2494","v":""},{"$f":"BG2495","v":""},{"$f":"BG2496","v":""},{"$f":"BG2497","v":""},{"$f":"BG2498","v":""},{"$f":"BG2499","v":""},{"$f":"BG2500","v":""},{"$f":"BG2501","v":""},{"$f":"BG2502","v":""},{"$f":"BG2503","v":""},{"$f":"BG2504","v":""},{"$f":"BG2505","v":""},{"$f":"BG2506","v":""},{"$f":"BG2507","v":""},{"$f":"BG2508","v":""},{"$f":"BG2509","v":""},{"$f":"BF98*AZ157","v":0},null,"a46"]
["",{"$f":"IF(BH205=\"\",\"\",IF('DISEÑO TABLA DE DECISION'!$B$21=1,MIN(BH205:DE205),MAX(BH205:DE205)))","v":""},"",{"$f":"IF(C205=\"\",\"\",MAX('MATRIZ-PÉRDIDA OPORTUNIDAD'!C49:AZ49))","v":""},"",null,{"$f":"BG2510","v":""},{"$f":"BG2511","v":""},{"$f":"BG2512","v":""},{"$f":"BG2513","v":""},{"$f":"BG2514","v":""},{"$f":"BG2515","v":""},{"$f":"BG2516","v":""},{"$f":"BG2517","v":""},{"$f":"BG2518","v":""},{"$f":"BG2519","v":""},{"$f":"BG2520","v":""},{"$f":"BG2521","v":""},{"$f":"BG2522","v":""},{"$f":"BG2523","v":""},{"$f":"BG2524","v":""},{"$f":"BG2525","v":""},{"$f":"BG2526","v":""},{"$f":"BG2527","v":""},{"$f":"BG2528","v":""},{"$f":"BG2529","v":""},{"$f":"BG2530","v":""},{"$f":"BG2531","v":""},{"$f":"BG2532","v":""},{"$f":"BG2533","v":""},{"$f":"BG2534","v":""},{"$f":"BG2535","v":""},{"$f":"BG2536","v":""},{"$f":"BG2537","v":""},{"$f":"BG2538","v":""},{"$f":"BG2539","v":""},{"$f":"BG2540","v":""},{"$f":"BG2541","v":""},{"$f":"BG2542","v":""},{"$f":"BG2543","v":""},{"$f":"BG2544","v":""},{"$f":"BG2545","v":""},{"$f":"BG2546","v":""},{"$f":"BG2547","v":""},{"$f":"BG2548","v":""},{"$f":"BG2549","v":""},{"$f":"BG2550","v":""},{"$f":"BG2551","v":""},{"$f":"BG2552","v":""},{"$f":"BG2553","v":""},{"$f":"BG2554","v":""},{"$f":"BG2555","v":""},{"$f":"BG2556","v":""},{"$f":"BG2557","v":""},{"$f":"BG2558","v":""},{"$f":"BG2559","v":""},{"$f":"BF99*BA157","v":0},null,"a47"]
["",{"$f":"IF(BH206=\"\",\"\",IF('DISEÑO TABLA DE DECISION'!$B$21=1,MIN(BH206:DE206),MAX(BH206:DE206)))","v":""},"",{"$f":"IF(C206=\"\",\"\",MAX('MATRIZ-PÉRDIDA OPORTUNIDAD'!C50:AZ50))","v":""},"",null,{"$f":"BG2560","v":""},{"$f":"BG2561","v":""},{"$f":"BG2562","v":""},{"$f":"BG2563","v":""},{"$f":"BG2564","v":""},{"$f":"BG2565","v":""},{"$f":"BG2566","v":""},{"$f":"BG2567","v":""},{"$f":"BG2568","v":""},{"$f":"BG2569","v":""},{"$f":"BG2570","v":""},{"$f":"BG2571","v":""},{"$f":"BG2572","v":""},{"$f":"BG2573","v":""},{"$f":"BG2574","v":""},{"$f":"BG2575","v":""},{"$f":"BG2576","v":""},{"$f":"BG2577","v":""},{"$f":"BG2578","v":""},{"$f":"BG2579","v":""},{"$f":"BG2580","v":""},{"$f":"BG2581","v":""},{"$f":"BG2582","v":""},{"$f":"BG2583","v":""},{"$f":"BG2584","v":""},{"$f":"BG2585","v":""},{"$f":"BG2586","v":""},{"$f":"BG2587","v":""},{"$f":"BG2588","v":""},{"$f":"BG2589","v":""},{"$f":"BG2590","v":""},{"$f":"BG2591","v":""},{"$f":"BG2592","v":""},{"$f":"BG2593","v":""},{"$f":"BG2594","v":""},{"$f":"BG2595","v":""},{"$f":"BG2596","v":""},{"$f":"BG2597","v":""},{"$f":"BG2598","v":""},{"$f":"BG2599","v":""},{"$f":"BG2600","v":""},{"$f":"BG2601","v":""},{"$f":"BG2602","v":""},{"$f":"BG2603","v":""},{"$f":"BG2604","v":""},{"$f":"BG2605","v":""},{"$f":"BG2606","v":""},{"$f":"BG2607","v":""},{"$f":"BG2608","v":""},{"$f":"BG2609","v":""},{"$f":"BF100*BB157","v":0},null,"a48"]
["",{"$f":"IF(BH207=\"\",\"\",IF('DISEÑO TABLA DE DECISION'!$B$21=1,MIN(BH207:DE207),MAX(BH207:DE207)))","v":""},"",{"$f":"IF(C207=\"\",\"\",MAX('MATRIZ-PÉRDIDA OPORTUNIDAD'!C51:AZ51))","v":""},"",null,{"$f":"BG2610","v":""},{"$f":"BG2611","v":""},{"$f":"BG2612","v":""},{"$f":"BG2613","v":""},{"$f":"BG2614","v":""},{"$f":"BG2615","v":""},{"$f":"BG2616","v":""},{"$f":"BG2617","v":""},{"$f":"BG2618","v":""},{"$f":"BG2619","v":""},{"$f":"BG2620","v":""},{"$f":"BG2621","v":""},{"$f":"BG2622","v":""},{"$f":"BG2623","v":""},{"$f":"BG2624","v":""},{"$f":"BG2625","v":""},{"$f":"BG2626","v":""},{"$f":"BG2627","v":""},{"$f":"BG2628","v":""},{"$f":"BG2629","v":""},{"$f":"BG2630","v":""},{"$f":"BG2631","v":""},{"$f":"BG2632","v":""},{"$f":"BG2633","v":""},{"$f":"BG2634","v":""},{"$f":"BG2635","v":""},{"$f":"BG2636","v":""},{"$f":"BG2637","v":""},{"$f":"BG2638","v":""},{"$f":"BG2639","v":""},{"$f":"BG2640","v":""},{"$f":"BG2641","v":""},{"$f":"BG2642","v":""},{"$f":"BG2643","v":""},{"$f":"BG2644","v":""},{"$f":"BG2645","v":""},{"$f":"BG2646","v":""},{"$f":"BG2647","v":""},{"$f":"BG2648","v":""},{"$f":"BG2649","v":""},{"$f":"BG2650","v":""},{"$f":"BG2651","v":""},{"$f":"BG2652","v":""},{"$f":"BG2653","v":""},{"$f":"BG2654","v":""},{"$f":"BG2655","v":""},{"$f":"BG2656","v":""},{"$f":"BG2657","v":""},{"$f":"BG2658","v":""},{"$f":"BG2659","v":""},{"$f":"BF101*BC157","v":0},null,"a49"]
["",{"$f":"IF(BH208=\"\",\"\",IF('DISEÑO TABLA DE DECISION'!$B$21=1,MIN(BH208:DE208),MAX(BH208:DE208)))","v":""},"",{"$f":"IF(C208=\"\",\"\",MAX('MATRIZ-PÉRDIDA OPORTUNIDAD'!C52:AZ52))","v":""},"",null,{"$f":"BG2660","v":""},{"$f":"BG2661","v":""},{"$f":"BG2662","v":""},{"$f":"BG2663","v":""},{"$f":"BG2664","v":""},{"$f":"BG2665","v":""},{"$f":"BG2666","v":""},{"$f":"BG2667","v":""},{"$f":"BG2668","v":""},{"$f":"BG2669","v":""},{"$f":"BG2670","v":""},{"$f":"BG2671","v":""},{"$f":"BG2672","v":""},{"$f":"BG2673","v":""},{"$f":"BG2674","v":""},{"$f":"BG2675","v":""},{"$f":"BG2676","v":""},{"$f":"BG2677","v":""},{"$f":"BG2678","v":""},{"$f":"BG2679","v":""},{"$f":"BG2680","v":""},{"$f":"BG2681","v":""},{"$f":"BG2682","v":""},{"$f":"BG2683","v":""},{"$f":"BG2684","v":""},{"$f":"BG2685","v":""},{"$f":"BG2686","v":""},{"$f":"BG2687","v":""},{"$f":"BG2688","v":""},{"$f":"BG2689","v":""},{"$f":"BG2690","v":""},{"$f":"BG2691","v":""},{"$f":"BG2692","v":""},{"$f":"BG2693","v":""},{"$f":"BG2694","v":""},{"$f":"BG2695","v":""},{"$f":"BG2696","v":""},{"$f":"BG2697","v":""},{"$f":"BG2698","v":""},{"$f":"BG2699","v":""},{"$f":"BG2700","v":""},{"$f":"BG2701","v":""},{"$f":"BG2702","v":""},{"$f":"BG2703","v":""},{"$f":"BG2704","v":""},{"$f":"BG2705","v":""},{"$f":"BG2706","v":""},{"$f":"BG2707","v":""},{"$f":"BG2708","v":""},{"$f":"BG2709","v":""},{"$f":"BF102*BD157","v":0},null,"a50"]
[null,null,null,null,null,null,null,null,null,null,null,null,null,null,null,null,null,null,null,null,null,null,null,null,null,null,null,null,null,null,null,null,null,null,null,null,null,null,null,null,null,null,null,null,null,null,null,null,null,null,null,null,null,null,null,null,null,"VMEIP=",{"$f":"SUM(BH209:DE209)","v":4250},{"$f":"IF($A$156=1,MAX(BH159:BH208)*BH156,MIN(BH159:BH208)*BH156)","v":1250},{"$f":"IF($A$156=1,MAX(BI159:BI208)*BI156,MIN(BI159:BI208)*BI156)","v":1500},{"$f":"IF($A$156=1,MAX(BJ159:BJ208)*BJ156,MIN(BJ159:BJ208)*BJ156)","v":1500},0,0,0,0,0,0,0,0,0,0,0,0,0,0,0,0,0,0,0,0,0,0,0,0,0,0,0,0,0,0,0,0,0,0,0,0,0,0,0,0,0,0,0,0,0,0,0]
[null,null,null,null,null,null,null,null,null,null,null,null,null,null,null,null,null,null,null,null,null,null,null,null,null,null,null,null,null,null,null,null,null,null,null,null,null,null,null,null,null,null,null,null,null,null,null,null,null,null,null,null,null,null,null,null,null,"VME(a1/c1)",{"$f":"IF(BH$159=\"\",\"\",SUM(BH210:DE210))","v":3152.1739130434785},{"$f":"BH$159*BH2","v":2173.913043478261},978.26086956521738,0,0,0,0,0,0,0,0,0,0,0,0,0,0,0,0,0,0,0,0,0,0,0,0,0,0,0,0,0,0,{"$f":"CN$159*CN2","v":0},0,0,0,0,0,0,0,0,0,0,0,0,0,0,0,0,0]
[null,null,null,null,null,null,null,null,null,null,null,null,null,null,null,null,null,null,null,null,null,null,null,null,null,null,null,null,null,null,null,null,null,null,null,null,null,null,null,null,null,null,null,null,null,null,null,null,null,null,null,null,null,null,null,null,null,"VME(a1/c2)",{"$f":"IF(BH$159=\"\",\"\",SUM(BH211:DE211))","v":6538.4615384615372},{"$f":"BH$159*BH3","v":480.76923076923077},6057.6923076923067,0,0,0,0,0,0,0,0,0,0,0,0,0,0,0,0,0,0,0,0,0,0,0,0,0,0,0,0,0,0,{"$f":"CN$159*CN3","v":0},0,0,0,0,0,0,0,0,0,0,0,0,0,0,0,0,0]
[null,null,null,null,null,null,null,null,null,null,null,null,null,null,null,null,null,null,null,null,null,null,null,null,null,null,null,null,null,null,null,null,null,null,null,null,null,null,null,null,null,null,null,null,null,null,null,null,null,null,null,null,null,null,null,null,null,"VME(a1/c3)",10178.571428571429,{"$f":"BH$159*BH4","v":446.42857142857144},803.57142857142844,8928.5714285714294,0,0,0,0,0,0,0,0,0,0,0,0,0,0,0,0,0,0,0,0,0,0,0,0,0,0,0,0,0,{"$f":"CN$159*CN4","v":0},0,0,0,0,0,0,0,0,0,0,0,0,0,0,0,0,0]
[null,null,null,null,null,null,null,null,null,null,null,null,null,null,null,null,null,null,null,null,null,null,null,null,null,null,null,null,null,null,null,null,null,null,null,null,null,null,null,null,null,null,null,null,null,null,null,null,null,null,null,null,null,null,null,null,null,"VME(a1/c4)",0,{"$f":"BH$159*BH5","v":0},0,0,0,0,0,0,0,0,0,0,0,0,0,0,0,0,0,0,0,0,0,0,0,0,0,0,0,0,0,0,0,{"$f":"CN$159*CN5","v":0},0,0,0,0,0,0,0,0,0,0,0,0,0,0,0,0,0]
[null,null,null,null,null,null,null,null,null,null,null,null,null,null,null,null,null,null,null,null,null,null,null,null,null,null,null,null,null,null,null,null,null,null,null,null,null,null,null,null,null,null,null,null,null,null,null,null,null,null,null,null,null,null,null,null,null,"VME(a1/c5)",0,{"$f":"BH$159*BH6","v":0},0,0,0,0,0,0,0,0,0,0,0,0,0,0,0,0,0,0,0,0,0,0,0,0,0,0,0,0,0,0,0,{"$f":"CN$159*CN6","v":0},0,0,0,0,0,0,0,0,0,0,0,0,0,0,0,0,0]
[null,null,null,null,null,null,null,null,null,null,null,null,null,null,null,null,null,null,null,null,null,null,null,null,null,null,null,null,null,null,null,null,null,null,null,null,null,null,null,null,null,null,null,null,null,null,null,null,null,null,null,null,null,null,null,null,null,"VME(a1/c6)",0,{"$f":"BH$159*BH7","v":0},0,0,0,0,0,0,0,0,0,0,0,0,0,0,0,0,0,0,0,0,0,0,0,0,0,0,0,0,0,0,0,{"$f":"CN$159*CN7","v":0},0,0,0,0,0,0,0,0,0,0,0,0,0,0,0,0,0]
[null,null,null,null,null,null,null,null,null,null,null,null,null,null,null,null,null,null,null,null,null,null,null,null,null,null,null,null,null,null,null,null,null,null,null,null,null,null,null,null,null,null,null,null,null,null,null,null,null,null,null,null,null,null,null,null,null,"VME(a1/c7)",0,{"$f":"BH$159*BH8","v":0},0,0,0,0,0,0,0,0,0,0,0,0,0,0,0,0,0,0,0,0,0,0,0,0,0,0,0,0,0,0,0,{"$f":"CN$159*CN8","v":0},0,0,0,0,0,0,0,0,0,0,0,0,0,0,0,0,0]
[null,null,null,null,null,null,null,null,null,null,null,null,null,null,null,null,null,null,null,null,null,null,null,null,null,null,null,null,null,null,null,null,null,null,null,null,null,null,null,null,null,null,null,null,null,null,null,null,null,null,null,null,null,null,null,null,null,"VME(a1/c8)",0,{"$f":"BH$159*BH9","v":0},0,0,0,0,0,0,0,0,0,0,0,0,0,0,0,0,0,0,0,0,0,0,0,0,0,0,0,0,0,0,0,{"$f":"CN$159*CN9","v":0},0,0,0,0,0,0,0,0,0,0,0,0,0,0,0,0,0]
[null,null,null,null,null,null,null,null,null,null,null,null,null,null,null,null,null,null,null,null,null,null,null,null,null,null,null,null,null,null,null,null,null,null,null,null,null,null,null,null,null,null,null,null,null,null,null,null,null,null,null,null,null,null,null,null,null,"VME(a1/c9)",0,{"$f":"BH$159*BH10","v":0},0,0,0,0,0,0,0,0,0,0,0,0,0,0,0,0,0,0,0,0,0,0,0,0,0,0,0,0,0,0,0,{"$f":"CN$159*CN10","v":0},0,0,0,0,0,0,0,0,0,0,0,0,0,0,0,0,0]
[null,null,null,null,null,null,null,null,null,null,null,null,null,null,null,null,null,null,null,null,null,null,null,null,null,null,null,null,null,null,null,null,null,null,null,null,null,null,null,null,null,null,null,null,null,null,null,null,null,null,null,null,null,null,null,null,null,"VME(a1/c10)",0,{"$f":"BH$159*BH11","v":0},0,0,0,0,0,0,0,0,0,0,0,0,0,0,0,0,0,0,0,0,0,0,0,0,0,0,0,0,0,0,0,{"$f":"CN$159*CN11","v":0},0,0,0,0,0,0,0,0,0,0,0,0,0,0,0,0,0]
[null,null,null,null,null,null,null,null,null,null,null,null,null,null,null,null,null,null,null,null,null,null,null,null,null,null,null,null,null,null,null,null,null,null,null,null,null,null,null,null,null,null,null,null,null,null,null,null,null,null,null,null,null,null,null,null,null,"VME(a1/c11)",0,{"$f":"BH$159*BH12","v":0},0,0,0,0,0,0,0,0,0,0,0,0,0,0,0,0,0,0,0,0,0,0,0,0,0,0,0,0,0,0,0,{"$f":"CN$159*CN12","v":0},0,0,0,0,0,0,0,0,0,0,0,0,0,0,0,0,0]
[null,null,null,null,null,null,null,null,null,null,null,null,null,null,null,null,null,null,null,null,null,null,null,null,null,null,null,null,null,null,null,null,null,null,null,null,null,null,null,null,null,null,null,null,null,null,null,null,null,null,null,null,null,null,null,null,null,"VME(a1/c12)",0,{"$f":"BH$159*BH13","v":0},0,0,0,0,0,0,0,0,0,0,0,0,0,0,0,0,0,0,0,0,0,0,0,0,0,0,0,0,0,0,0,{"$f":"CN$159*CN13","v":0},0,0,0,0,0,0,0,0,0,0,0,0,0,0,0,0,0]
[null,null,null,null,null,null,null,null,null,null,null,null,null,null,null,null,null,null,null,null,null,null,null,null,null,null,null,null,null,null,null,null,null,null,null,null,null,null,null,null,null,null,null,null,null,null,null,null,null,null,null,null,null,null,null,null,null,"VME(a1/c13)",0,{"$f":"BH$159*BH14","v":0},0,0,0,0,0,0,0,0,0,0,0,0,0,0,0,0,0,0,0,0,0,0,0,0,0,0,0,0,0,0,0,{"$f":"CN$159*CN14","v":0},0,0,0,0,0,0,0,0,0,0,0,0,0,0,0,0,0]
[null,null,null,null,null,null,null,null,null,null,null,null,null,null,null,null,null,null,null,null,null,null,null,null,null,null,null,null,null,null,null,null,null,null,null,null,null,null,null,null,null,null,null,null,null,null,null,null,null,null,null,null,null,null,null,null,null,"VME(a1/c14)",0,{"$f":"BH$159*BH15","v":0},0,0,0,0,0,0,0,0,0,0,0,0,0,0,0,0,0,0,0,0,0,0,0,0,0,0,0,0,0,0,0,{"$f":"CN$159*CN15","v":0},0,0,0,0,0,0,0,0,0,0,0,0,0,0,0,0,0]
[null,null,null,null,null,null,null,null,null,null,null,null,null,null,null,null,null,null,null,null,null,null,null,null,null,null,null,null,null,null,null,null,null,null,null,null,null,null,null,null,null,null,null,null,null,null,null,null,null,null,null,null,null,null,null,null,null,"VME(a1/c15)",0,{"$f":"BH$159*BH16","v":0},0,0,0,0,0,0,0,0,0,0,0,0,0,0,0,0,0,0,0,0,0,0,0,0,0,0,0,0,0,0,0,{"$f":"CN$159*CN16","v":0},0,0,0,0,0,0,0,0,0,0,0,0,0,0,0,0,0]
[null,null,null,null,null,null,null,null,null,null,null,null,null,null,null,null,null,null,null,null,null,null,null,null,null,null,null,null,null,null,null,null,null,null,null,null,null,null,null,null,null,null,null,null,null,null,null,null,null,null,null,null,null,null,null,null,null,"VME(a1/c16)",0,{"$f":"BH$159*BH17","v":0},0,0,0,0,0,0,0,0,0,0,0,0,0,0,0,0,0,0,0,0,0,0,0,0,0,0,0,0,0,0,0,{"$f":"CN$159*CN17","v":0},0,0,0,0,0,0,0,0,0,0,0,0,0,0,0,0,0]
[null,null,null,null,null,null,null,null,null,null,null,null,null,null,null,null,null,null,null,null,null,null,null,null,null,null,null,null,null,null,null,null,null,null,null,null,null,null,null,null,null,null,null,null,null,null,null,null,null,null,null,null,null,null,null,null,null,"VME(a1/c17)",0,{"$f":"BH$159*BH18","v":0},0,0,0,0,0,0,0,0,0,0,0,0,0,0,0,0,0,0,0,0,0,0,0,0,0,0,0,0,0,0,0,{"$f":"CN$159*CN18","v":0},0,0,0,0,0,0,0,0,0,0,0,0,0,0,0,0,0]
[null,null,null,null,null,null,null,null,null,null,null,null,null,null,null,null,null,null,null,null,null,null,null,null,null,null,null,null,null,null,null,null,null,null,null,null,null,null,null,null,null,null,null,null,null,null,null,null,null,null,null,null,null,null,null,null,null,"VME(a1/c18)",0,{"$f":"BH$159*BH19","v":0},0,0,0,0,0,0,0,0,0,0,0,0,0,0,0,0,0,0,0,0,0,0,0,0,0,0,0,0,0,0,0,{"$f":"CN$159*CN19","v":0},0,0,0,0,0,0,0,0,0,0,0,0,0,0,0,0,0]
[null,null,null,null,null,null,null,null,null,null,null,null,null,null,null,null,null,null,null,null,null,null,null,null,null,null,null,null,null,null,null,null,null,null,null,null,null,null,null,null,null,null,null,null,null,null,null,null,null,null,null,null,null,null,null,null,null,"VME(a1/c19)",0,{"$f":"BH$159*BH20","v":0},0,0,0,0,0,0,0,0,0,0,0,0,0,0,0,0,0,0,0,0,0,0,0,0,0,0,0,0,0,0,0,{"$f":"CN$159*CN20","v":0},0,0,0,0,0,0,0,0,0,0,0,0,0,0,0,0,0]
[null,null,null,null,null,null,null,null,null,null,null,null,null,null,null,null,null,null,null,null,null,null,null,null,null,null,null,null,null,null,null,null,null,null,null,null,null,null,null,null,null,null,null,null,null,null,null,null,null,null,null,null,null,null,null,null,null,"VME(a1/c20)",0,{"$f":"BH$159*BH21","v":0},0,0,0,0,0,0,0,0,0,0,0,0,0,0,0,0,0,0,0,0,0,0,0,0,0,0,0,0,0,0,0,{"$f":"CN$159*CN21","v":0},0,0,0,0,0,0,0,0,0,0,0,0,0,0,0,0,0]
[null,null,null,null,null,null,null,null,null,null,null,null,null,null,null,null,null,null,null,null,null,null,null,null,null,null,null,null,null,null,null,null,null,null,null,null,null,null,null,null,null,null,null,null,null,null,null,null,null,null,null,null,null,null,null,null,null,"VME(a1/c21)",0,{"$f":"BH$159*BH22","v":0},0,0,0,0,0,0,0,0,0,0,0,0,0,0,0,0,0,0,0,0,0,0,0,0,0,0,0,0,0,0,0,{"$f":"CN$159*CN22","v":0},0,0,0,0,0,0,0,0,0,0,0,0,0,0,0,0,0]
[null,null,null,null,null,null,null,null,null,null,null,null,null,null,null,null,null,null,null,null,null,null,null,null,null,null,null,null,null,null,null,null,null,null,null,null,null,null,null,null,null,null,null,null,null,null,null,null,null,null,null,null,null,null,null,null,null,"VME(a1/c22)",0,{"$f":"BH$159*BH23","v":0},0,0,0,0,0,0,0,0,0,0,0,0,0,0,0,0,0,0,0,0,0,0,0,0,0,0,0,0,0,0,0,{"$f":"CN$159*CN23","v":0},0,0,0,0,0,0,0,0,0,0,0,0,0,0,0,0,0]
[null,null,null,null,null,null,null,null,null,null,null,null,null,null,null,null,null,null,null,null,null,null,null,null,null,null,null,null,null,null,null,null,null,null,null,null,null,null,null,null,null,null,null,null,null,null,null,null,null,null,null,null,null,null,null,null,null,"VME(a1/c23)",0,{"$f":"BH$159*BH24","v":0},0,0,0,0,0,0,0,0,0,0,0,0,0,0,0,0,0,0,0,0,0,0,0,0,0,0,0,0,0,0,0,{"$f":"CN$159*CN24","v":0},0,0,0,0,0,0,0,0,0,0,0,0,0,0,0,0,0]
[null,null,null,null,null,null,null,null,null,null,null,null,null,null,null,null,null,null,null,null,null,null,null,null,null,null,null,null,null,null,null,null,null,null,null,null,null,null,null,null,null,null,null,null,null,null,null,null,null,null,null,null,null,null,null,null,null,"VME(a1/c24)",0,{"$f":"BH$159*BH25","v":0},0,0,0,0,0,0,0,0,0,0,0,0,0,0,0,0,0,0,0,0,0,0,0,0,0,0,0,0,0,0,0,{"$f":"CN$159*CN25","v":0},0,0,0,0,0,0,0,0,0,0,0,0,0,0,0,0,0]
[null,null,null,null,null,null,null,null,null,null,null,null,null,null,null,null,null,null,null,null,null,null,null,null,null,null,null,null,null,null,null,null,null,null,null,null,null,null,null,null,null,null,null,null,null,null,null,null,null,null,null,null,null,null,null,null,null,"VME(a1/c25)",0,{"$f":"BH$159*BH26","v":0},0,0,0,0,0,0,0,0,0,0,0,0,0,0,0,0,0,0,0,0,0,0,0,0,0,0,0,0,0,0,0,{"$f":"CN$159*CN26","v":0},0,0,0,0,0,0,0,0,0,0,0,0,0,0,0,0,0]
[null,null,null,null,null,null,null,null,null,null,null,null,null,null,null,null,null,null,null,null,null,null,null,null,null,null,null,null,null,null,null,null,null,null,null,null,null,null,null,null,null,null,null,null,null,null,null,null,null,null,null,null,null,null,null,null,null,"VME(a1/c26)",0,{"$f":"BH$159*BH27","v":0},0,0,0,0,0,0,0,0,0,0,0,0,0,0,0,0,0,0,0,0,0,0,0,0,0,0,0,0,0,0,0,{"$f":"CN$159*CN27","v":0},0,0,0,0,0,0,0,0,0,0,0,0,0,0,0,0,0]
[null,null,null,null,null,null,null,null,null,null,null,null,null,null,null,null,null,null,null,null,null,null,null,null,null,null,null,null,null,null,null,null,null,null,null,null,null,null,null,null,null,null,null,null,null,null,null,null,null,null,null,null,null,null,null,null,null,"VME(a1/c27)",0,{"$f":"BH$159*BH28","v":0},0,0,0,0,0,0,0,0,0,0,0,0,0,0,0,0,0,0,0,0,0,0,0,0,0,0,0,0,0,0,0,{"$f":"CN$159*CN28","v":0},0,0,0,0,0,0,0,0,0,0,0,0,0,0,0,0,0]
[null,null,null,null,null,null,null,null,null,null,null,null,null,null,null,null,null,null,null,null,null,null,null,null,null,null,null,null,null,null,null,null,null,null,null,null,null,null,null,null,null,null,null,null,null,null,null,null,null,null,null,null,null,null,null,null,null,"VME(a1/c28)",0,{"$f":"BH$159*BH29","v":0},0,0,0,0,0,0,0,0,0,0,0,0,0,0,0,0,0,0,0,0,0,0,0,0,0,0,0,0,0,0,0,{"$f":"CN$159*CN29","v":0},0,0,0,0,0,0,0,0,0,0,0,0,0,0,0,0,0]
[null,null,null,null,null,null,null,null,null,null,null,null,null,null,null,null,null,null,null,null,null,null,null,null,null,null,null,null,null,null,null,null,null,null,null,null,null,null,null,null,null,null,null,null,null,null,null,null,null,null,null,null,null,null,null,null,null,"VME(a1/c29)",0,{"$f":"BH$159*BH30","v":0},0,0,0,0,0,0,0,0,0,0,0,0,0,0,0,0,0,0,0,0,0,0,0,0,0,0,0,0,0,0,0,{"$f":"CN$159*CN30","v":0},0,0,0,0,0,0,0,0,0,0,0,0,0,0,0,0,0]
[null,null,null,null,null,null,null,null,null,null,null,null,null,null,null,null,null,null,null,null,null,null,null,null,null,null,null,null,null,null,null,null,null,null,null,null,null,null,null,null,null,null,null,null,null,null,null,null,null,null,null,null,null,null,null,null,null,"VME(a1/c30)",0,{"$f":"BH$159*BH31","v":0},0,0,0,0,0,0,0,0,0,0,0,0,0,0,0,0,0,0,0,0,0,0,0,0,0,0,0,0,0,0,0,{"$f":"CN$159*CN31","v":0},0,0,0,0,0,0,0,0,0,0,0,0,0,0,0,0,0]
[null,null,null,null,null,null,null,null,null,null,null,null,null,null,null,null,null,null,null,null,null,null,null,null,null,null,null,null,null,null,null,null,null,null,null,null,null,null,null,null,null,null,null,null,null,null,null,null,null,null,null,null,null,null,null,null,null,"VME(a1/c31)",0,{"$f":"BH$159*BH32","v":0},0,0,0,0,0,0,0,0,0,0,0,0,0,0,0,0,0,0,0,0,0,0,0,0,0,0,0,0,0,0,0,{"$f":"CN$159*CN32","v":0},0,0,0,0,0,0,0,0,0,0,0,0,0,0,0,0,0]
[null,null,null,null,null,null,null,null,null,null,null,null,null,null,null,null,null,null,null,null,null,null,null,null,null,null,null,null,null,null,null,null,null,null,null,null,null,null,null,null,null,null,null,null,null,null,null,null,null,null,null,null,null,null,null,null,null,"VME(a1/c32)",0,{"$f":"BH$159*BH33","v":0},0,0,0,0,0,0,0,0,0,0,0,0,0,0,0,0,0,0,0,0,0,0,0,0,0,0,0,0,0,0,0,{"$f":"CN$159*CN33","v":0},0,0,0,0,0,0,0,0,0,0,0,0,0,0,0,0,0]
[null,null,null,null,null,null,null,null,null,null,null,null,null,null,null,null,null,null,null,null,null,null,null,null,null,null,null,null,null,null,null,null,null,null,null,null,null,null,null,null,null,null,null,null,null,null,null,null,null,null,null,null,null,null,null,null,null,"VME(a1/c33)",0,{"$f":"BH$159*BH34","v":0},0,0,0,0,0,0,0,0,0,0,0,0,0,0,0,0,0,0,0,0,0,0,0,0,0,0,0,0,0,0,0,{"$f":"CN$159*CN34","v":0},0,0,0,0,0,0,0,0,0,0,0,0,0,0,0,0,0]
[null,null,null,null,null,null,null,null,null,null,null,null,null,null,null,null,null,null,null,null,null,null,null,null,null,null,null,null,null,null,null,null,null,null,null,null,null,null,null,null,null,null,null,null,null,null,null,null,null,null,null,null,null,null,null,null,null,"VME(a1/c34)",0,{"$f":"BH$159*BH35","v":0},0,0,0,0,0,0,0,0,0,0,0,0,0,0,0,0,0,0,0,0,0,0,0,0,0,0,0,0,0,0,0,{"$f":"CN$159*CN35","v":0},0,0,0,0,0,0,0,0,0,0,0,0,0,0,0,0,0]
[null,null,null,null,null,null,null,null,null,null,null,null,null,null,null,null,null,null,null,null,null,null,null,null,null,null,null,null,null,null,null,null,null,null,null,null,null,null,null,null,null,null,null,null,null,null,null,null,null,null,null,null,null,null,null,null,null,"VME(a1/c35)",0,{"$f":"BH$159*BH36","v":0},0,0,0,0,0,0,0,0,0,0,0,0,0,0,0,0,0,0,0,0,0,0,0,0,0,0,0,0,0,0,0,{"$f":"CN$159*CN36","v":0},0,0,0,0,0,0,0,0,0,0,0,0,0,0,0,0,0]
[null,null,null,null,null,null,null,null,null,null,null,null,null,null,null,null,null,null,null,null,null,null,null,null,null,null,null,null,null,null,null,null,null,null,null,null,null,null,null,null,null,null,null,null,null,null,null,null,null,null,null,null,null,null,null,null,null,"VME(a1/c36)",0,{"$f":"BH$159*BH37","v":0},0,0,0,0,0,0,0,0,0,0,0,0,0,0,0,0,0,0,0,0,0,0,0,0,0,0,0,0,0,0,0,{"$f":"CN$159*CN37","v":0},0,0,0,0,0,0,0,0,0,0,0,0,0,0,0,0,0]
[null,null,null,null,null,null,null,null,null,null,null,null,null,null,null,null,null,null,null,null,null,null,null,null,null,null,null,null,null,null,null,null,null,null,null,null,null,null,null,null,null,null,null,null,null,null,null,null,null,null,null,null,null,null,null,null,null,"VME(a1/c37)",0,{"$f":"BH$159*BH38","v":0},0,0,0,0,0,0,0,0,0,0,0,0,0,0,0,0,0,0,0,0,0,0,0,0,0,0,0,0,0,0,0,{"$f":"CN$159*CN38","v":0},0,0,0,0,0,0,0,0,0,0,0,0,0,0,0,0,0]
[null,null,null,null,null,null,null,null,null,null,null,null,null,null,null,null,null,null,null,null,null,null,null,null,null,null,null,null,null,null,null,null,null,null,null,null,null,null,null,null,null,null,null,null,null,null,null,null,null,null,null,null,null,null,null,null,null,"VME(a1/c38)",0,{"$f":"BH$159*BH39","v":0},0,0,0,0,0,0,0,0,0,0,0,0,0,0,0,0,0,0,0,0,0,0,0,0,0,0,0,0,0,0,0,{"$f":"CN$159*CN39","v":0},0,0,0,0,0,0,0,0,0,0,0,0,0,0,0,0,0]
[null,null,null,null,null,null,null,null,null,null,null,null,null,null,null,null,null,null,null,null,null,null,null,null,null,null,null,null,null,null,null,null,null,null,null,null,null,null,null,null,null,null,null,null,null,null,null,null,null,null,null,null,null,null,null,null,null,"VME(a1/c39)",0,{"$f":"BH$159*BH40","v":0},0,0,0,0,0,0,0,0,0,0,0,0,0,0,0,0,0,0,0,0,0,0,0,0,0,0,0,0,0,0,0,{"$f":"CN$159*CN40","v":0},0,0,0,0,0,0,0,0,0,0,0,0,0,0,0,0,0]
[null,null,null,null,null,null,null,null,null,null,null,null,null,null,null,null,null,null,null,null,null,null,null,null,null,null,null,null,null,null,null,null,null,null,null,null,null,null,null,null,null,null,null,null,null,null,null,null,null,null,null,null,null,null,null,null,null,"VME(a1/c40)",0,{"$f":"BH$159*BH41","v":0},0,0,0,0,0,0,0,0,0,0,0,0,0,0,0,0,0,0,0,0,0,0,0,0,0,0,0,0,0,0,0,{"$f":"CN$159*CN41","v":0},0,0,0,0,0,0,0,0,0,0,0,0,0,0,0,0,0]
[null,null,null,null,null,null,null,null,null,null,null,null,null,null,null,null,null,null,null,null,null,null,null,null,null,null,null,null,null,null,null,null,null,null,null,null,null,null,null,null,null,null,null,null,null,null,null,null,null,null,null,null,null,null,null,null,null,"VME(a1/c41)",0,{"$f":"BH$159*BH42","v":0},0,0,0,0,0,0,0,0,0,0,0,0,0,0,0,0,0,0,0,0,0,0,0,0,0,0,0,0,0,0,0,{"$f":"CN$159*CN42","v":0},0,0,0,0,0,0,0,0,0,0,0,0,0,0,0,0,0]
[null,null,null,null,null,null,null,null,null,null,null,null,null,null,null,null,null,null,null,null,null,null,null,null,null,null,null,null,null,null,null,null,null,null,null,null,null,null,null,null,null,null,null,null,null,null,null,null,null,null,null,null,null,null,null,null,null,"VME(a1/c48)",0,{"$f":"BH$159*BH49","v":0},0,0,0,0,0,0,0,0,0,0,0,0,0,0,0,0,0,0,0,0,0,0,0,0,0,0,0,0,0,0,0,{"$f":"CN$159*CN49","v":0},0,0,0,0,0,0,0,0,0,0,0,0,0,0,0,0,0]
[null,null,null,null,null,null,null,null,null,null,null,null,null,null,null,null,null,null,null,null,null,null,null,null,null,null,null,null,null,null,null,null,null,null,null,null,null,null,null,null,null,null,null,null,null,null,null,null,null,null,null,null,null,null,null,null,null,"VME(a2/c7)",0,{"$f":"BH$160*BH8","v":0},0,0,0,0,0,0,0,0,0,0,0,0,0,0,0,0,0,0,0,0,0,0,0,0,0,0,0,0,0,0,0,{"$f":"CN$160*CN8","v":0},0,0,0,0,0,0,0,0,0,0,0,0,0,0,0,0,0]
[null,null,null,null,null,null,null,null,null,null,null,null,null,null,null,null,null,null,null,null,null,null,null,null,null,null,null,null,null,null,null,null,null,null,null,null,null,null,null,null,null,null,null,null,null,null,null,null,null,null,null,null,null,null,null,null,null,"VME(a2/c18)",0,{"$f":"BH$160*BH19","v":0},0,0,0,0,0,0,0,0,0,0,0,0,0,0,0,0,0,0,0,0,0,0,0,0,0,0,0,0,0,0,0,{"$f":"CN$160*CN19","v":0},0,0,0,0,0,0,0,0,0,0,0,0,0,0,0,0,0]
[null,null,null,null,null,null,null,null,null,null,null,null,null,null,null,null,null,null,null,null,null,null,null,null,null,null,null,null,null,null,null,null,null,null,null,null,null,null,null,null,null,null,null,null,null,null,null,null,null,null,null,null,null,null,null,null,null,"VME(a2/c22)",0,{"$f":"BH$160*BH23","v":0},0,0,0,0,0,0,0,0,0,0,0,0,0,0,0,0,0,0,0,0,0,0,0,0,0,0,0,0,0,0,0,{"$f":"CN$160*CN23","v":0},0,0,0,0,0,0,0,0,0,0,0,0,0,0,0,0,0]
[null,null,null,null,null,null,null,null,null,null,null,null,null,null,null,null,null,null,null,null,null,null,null,null,null,null,null,null,null,null,null,null,null,null,null,null,null,null,null,null,null,null,null,null,null,null,null,null,null,null,null,null,null,null,null,null,null,"VME(a2/c38)",0,{"$f":"BH$160*BH39","v":0},0,0,0,0,0,0,0,0,0,0,0,0,0,0,0,0,0,0,0,0,0,0,0,0,0,0,0,0,0,0,0,{"$f":"CN$160*CN39","v":0},0,0,0,0,0,0,0,0,0,0,0,0,0,0,0,0,0]
[null,null,null,null,null,null,null,null,null,null,null,null,null,null,null,null,null,null,null,null,null,null,null,null,null,null,null,null,null,null,null,null,null,null,null,null,null,null,null,null,null,null,null,null,null,null,null,null,null,null,null,null,null,null,null,null,null,"VME(a2/c41)",0,{"$f":"BH$160*BH42","v":0},0,0,0,0,0,0,0,0,0,0,0,0,0,0,0,0,0,0,0,0,0,0,0,0,0,0,0,0,0,0,0,{"$f":"CN$160*CN42","v":0},0,0,0,0,0,0,0,0,0,0,0,0,0,0,0,0,0]
[null,null,null,null,null,null,null,null,null,null,null,null,null,null,null,null,null,null,null,null,null,null,null,null,null,null,null,null,null,null,null,null,null,null,null,null,null,null,null,null,null,null,null,null,null,null,null,null,null,null,null,null,null,null,null,null,null,"VME(a3/c2)",{"$f":"IF(BH$161=\"\",\"\",SUM(BH311:DE311))","v":7499.9999999999991},{"$f":"BH$161*BH3","v":1442.3076923076924},6057.6923076923067,0,0,0,0,0,0,0,0,0,0,0,0,0,0,0,0,0,0,0,0,0,0,0,0,0,0,0,0,0,0,{"$f":"CN$161*CN3","v":0},0,0,0,0,0,0,0,0,0,0,0,0,0,0,0,0,0]
[null,null,null,null,null,null,null,null,null,null,null,null,null,null,null,null,null,null,null,null,null,null,null,null,null,null,null,null,null,null,null,null,null,null,null,null,null,null,null,null,null,null,null,null,null,null,null,null,null,null,null,null,null,null,null,null,null,"VME(a3/c12)",0,{"$f":"BH$161*BH13","v":0},0,0,0,0,0,0,0,0,0,0,0,0,0,0,0,0,0,0,0,0,0,0,0,0,0,0,0,0,0,0,0,{"$f":"CN$161*CN13","v":0},0,0,0,0,0,0,0,0,0,0,0,0,0,0,0,0,0]
[null,null,null,null,null,null,null,null,null,null,null,null,null,null,null,null,null,null,null,null,null,null,null,null,null,null,null,null,null,null,null,null,null,null,null,null,null,null,null,null,null,null,null,null,null,null,null,null,null,null,null,null,null,null,null,null,null,"VME(a3/c27)",0,{"$f":"BH$161*BH28","v":0},0,0,0,0,0,0,0,0,0,0,0,0,0,0,0,0,0,0,0,0,0,0,0,0,0,0,0,0,0,0,0,{"$f":"CN$161*CN28","v":0},0,0,0,0,0,0,0,0,0,0,0,0,0,0,0,0,0]
[null,null,null,null,null,null,null,null,null,null,null,null,null,null,null,null,null,null,null,null,null,null,null,null,null,null,null,null,null,null,null,null,null,null,null,null,null,null,null,null,null,null,null,null,null,null,null,null,null,null,null,null,null,null,null,null,null,"VME(a3/c32)",0,{"$f":"BH$161*BH33","v":0},0,0,0,0,0,0,0,0,0,0,0,0,0,0,0,0,0,0,0,0,0,0,0,0,0,0,0,0,0,0,0,{"$f":"CN$161*CN33","v":0},0,0,0,0,0,0,0,0,0,0,0,0,0,0,0,0,0]
[null,null,null,null,null,null,null,null,null,null,null,null,null,null,null,null,null,null,null,null,null,null,null,null,null,null,null,null,null,null,null,null,null,null,null,null,null,null,null,null,null,null,null,null,null,null,null,null,null,null,null,null,null,null,null,null,null,"VME(a3/c46)",0,{"$f":"BH$161*BH47","v":0},0,0,0,0,0,0,0,0,0,0,0,0,0,0,0,0,0,0,0,0,0,0,0,0,0,0,0,0,0,0,0,{"$f":"CN$161*CN47","v":0},0,0,0,0,0,0,0,0,0,0,0,0,0,0,0,0,0]
[null,null,null,null,null,null,null,null,null,null,null,null,null,null,null,null,null,null,null,null,null,null,null,null,null,null,null,null,null,null,null,null,null,null,null,null,null,null,null,null,null,null,null,null,null,null,null,null,null,null,null,null,null,null,null,null,null,"VME(a3/c47)",0,{"$f":"BH$161*BH48","v":0},0,0,0,0,0,0,0,0,0,0,0,0,0,0,0,0,0,0,0,0,0,0,0,0,0,0,0,0,0,0,0,{"$f":"CN$161*CN48","v":0},0,0,0,0,0,0,0,0,0,0,0,0,0,0,0,0,0]
[null,null,null,null,null,null,null,null,null,null,null,null,null,null,null,null,null,null,null,null,null,null,null,null,null,null,null,null,null,null,null,null,null,null,null,null,null,null,null,null,null,null,null,null,null,null,null,null,null,null,null,null,null,null,null,null,null,"VME(a4/c15)","",{"$f":"BH$162*BH16","v":0},0,0,0,0,0,0,0,0,0,0,0,0,0,0,0,0,0,0,0,0,0,0,0,0,0,0,0,0,0,0,0,{"$f":"CN$162*CN16","v":0},0,0,0,0,0,0,0,0,0,0,0,0,0,0,0,0,0]
[null,null,null,null,null,null,null,null,null,null,null,null,null,null,null,null,null,null,null,null,null,null,null,null,null,null,null,null,null,null,null,null,null,null,null,null,null,null,null,null,null,null,null,null,null,null,null,null,null,null,null,null,null,null,null,null,null,"VME(a4/c16)","",{"$f":"BH$162*BH17","v":0},0,0,0,0,0,0,0,0,0,0,0,0,0,0,0,0,0,0,0,0,0,0,0,0,0,0,0,0,0,0,0,{"$f":"CN$162*CN17","v":0},0,0,0,0,0,0,0,0,0,0,0,0,0,0,0,0,0]
[null,null,null,null,null,null,null,null,null,null,null,null,null,null,null,null,null,null,null,null,null,null,null,null,null,null,null,null,null,null,null,null,null,null,null,null,null,null,null,null,null,null,null,null,null,null,null,null,null,null,null,null,null,null,null,null,null,"VME(a4/c26)","",{"$f":"BH$162*BH27","v":0},0,0,0,0,0,0,0,0,0,0,0,0,0,0,0,0,0,0,0,0,0,0,0,0,0,0,0,0,0,0,0,{"$f":"CN$162*CN27","v":0},0,0,0,0,0,0,0,0,0,0,0,0,0,0,0,0,0]
[null,null,null,null,null,null,null,null,null,null,null,null,null,null,null,null,null,null,null,null,null,null,null,null,null,null,null,null,null,null,null,null,null,null,null,null,null,null,null,null,null,null,null,null,null,null,null,null,null,null,null,null,null,null,null,null,null,"VME(a4/c41)","",{"$f":"BH$162*BH42","v":0},0,0,0,0,0,0,0,0,0,0,0,0,0,0,0,0,0,0,0,0,0,0,0,0,0,0,0,0,0,0,0,{"$f":"CN$162*CN42","v":0},0,0,0,0,0,0,0,0,0,0,0,0,0,0,0,0,0]
[null,null,null,null,null,null,null,null,null,null,null,null,null,null,null,null,null,null,null,null,null,null,null,null,null,null,null,null,null,null,null,null,null,null,null,null,null,null,null,null,null,null,null,null,null,null,null,null,null,null,null,null,null,null,null,null,null,"VME(a4/c46)","",{"$f":"BH$162*BH47","v":0},0,0,0,0,0,0,0,0,0,0,0,0,0,0,0,0,0,0,0,0,0,0,0,0,0,0,0,0,0,0,0,{"$f":"CN$162*CN47","v":0},0,0,0,0,0,0,0,0,0,0,0,0,0,0,0,0,0]
[null,null,null,null,null,null,null,null,null,null,null,null,null,null,null,null,null,null,null,null,null,null,null,null,null,null,null,null,null,null,null,null,null,null,null,null,null,null,null,null,null,null,null,null,null,null,null,null,null,null,null,null,null,null,null,null,null,"VME(a5/c6)","",{"$f":"BH$163*BH7","v":0},0,0,0,0,0,0,0,0,0,0,0,0,0,0,0,0,0,0,0,0,0,0,0,0,0,0,0,0,0,0,0,{"$f":"CN$163*CN7","v":0},0,0,0,0,0,0,0,0,0,0,0,0,0,0,0,0,0]
[null,null,null,null,null,null,null,null,null,null,null,null,null,null,null,null,null,null,null,null,null,null,null,null,null,null,null,null,null,null,null,null,null,null,null,null,null,null,null,null,null,null,null,null,null,null,null,null,null,null,null,null,null,null,null,null,null,"VME(a5/c21)","",{"$f":"BH$163*BH22","v":0},0,0,0,0,0,0,0,0,0,0,0,0,0,0,0,0,0,0,0,0,0,0,0,0,0,0,0,0,0,0,0,{"$f":"CN$163*CN22","v":0},0,0,0,0,0,0,0,0,0,0,0,0,0,0,0,0,0]
[null,null,null,null,null,null,null,null,null,null,null,null,null,null,null,null,null,null,null,null,null,null,null,null,null,null,null,null,null,null,null,null,null,null,null,null,null,null,null,null,null,null,null,null,null,null,null,null,null,null,null,null,null,null,null,null,null,"VME(a5/c29)","",{"$f":"BH$163*BH30","v":0},0,0,0,0,0,0,0,0,0,0,0,0,0,0,0,0,0,0,0,0,0,0,0,0,0,0,0,0,0,0,0,{"$f":"CN$163*CN30","v":0},0,0,0,0,0,0,0,0,0,0,0,0,0,0,0,0,0]
[null,null,null,null,null,null,null,null,null,null,null,null,null,null,null,null,null,null,null,null,null,null,null,null,null,null,null,null,null,null,null,null,null,null,null,null,null,null,null,null,null,null,null,null,null,null,null,null,null,null,null,null,null,null,null,null,null,"VME(a5/c36)","",{"$f":"BH$163*BH37","v":0},0,0,0,0,0,0,0,0,0,0,0,0,0,0,0,0,0,0,0,0,0,0,0,0,0,0,0,0,0,0,0,{"$f":"CN$163*CN37","v":0},0,0,0,0,0,0,0,0,0,0,0,0,0,0,0,0,0]
[null,null,null,null,null,null,null,null,null,null,null,null,null,null,null,null,null,null,null,null,null,null,null,null,null,null,null,null,null,null,null,null,null,null,null,null,null,null,null,null,null,null,null,null,null,null,null,null,null,null,null,null,null,null,null,null,null,"VME(a5/c49)","",{"$f":"BH$163*BH50","v":0},0,0,0,0,0,0,0,0,0,0,0,0,0,0,0,0,0,0,0,0,0,0,0,0,0,0,0,0,0,0,0,{"$f":"CN$163*CN50","v":0},0,0,0,0,0,0,0,0,0,0,0,0,0,0,0,0,0]
[null,null,null,null,null,null,null,null,null,null,null,null,null,null,null,null,null,null,null,null,null,null,null,null,null,null,null,null,null,null,null,null,null,null,null,null,null,null,null,null,null,null,null,null,null,null,null,null,null,null,null,null,null,null,null,null,null,"VME(a6/c11)","",{"$f":"BH$164*BH12","v":0},0,0,0,0,0,0,0,0,0,0,0,0,0,0,0,0,0,0,0,0,0,0,0,0,0,0,0,0,0,0,0,{"$f":"CN$164*CN12","v":0},0,0,0,0,0,0,0,0,0,0,0,0,0,0,0,0,0]
[null,null,null,null,null,null,null,null,null,null,null,null,null,null,null,null,null,null,null,null,null,null,null,null,null,null,null,null,null,null,null,null,null,null,null,null,null,null,null,null,null,null,null,null,null,null,null,null,null,null,null,null,null,null,null,null,null,"VME(a6/c16)","",{"$f":"BH$164*BH17","v":0},0,0,0,0,0,0,0,0,0,0,0,0,0,0,0,0,0,0,0,0,0,0,0,0,0,0,0,0,0,0,0,{"$f":"CN$164*CN17","v":0},0,0,0,0,0,0,0,0,0,0,0,0,0,0,0,0,0]
[null,null,null,null,null,null,null,null,null,null,null,null,null,null,null,null,null,null,null,null,null,null,null,null,null,null,null,null,null,null,null,null,null,null,null,null,null,null,null,null,null,null,null,null,null,null,null,null,null,null,null,null,null,null,null,null,null,"VME(a6/c23)","",{"$f":"BH$164*BH24","v":0},0,0,0,0,0,0,0,0,0,0,0,0,0,0,0,0,0,0,0,0,0,0,0,0,0,0,0,0,0,0,0,{"$f":"CN$164*CN24","v":0},0,0,0,0,0,0,0,0,0,0,0,0,0,0,0,0,0]
[null,null,null,null,null,null,null,null,null,null,null,null,null,null,null,null,null,null,null,null,null,null,null,null,null,null,null,null,null,null,null,null,null,null,null,null,null,null,null,null,null,null,null,null,null,null,null,null,null,null,null,null,null,null,null,null,null,"VME(a6/c31)","",{"$f":"BH$164*BH32","v":0},0,0,0,0,0,0,0,0,0,0,0,0,0,0,0,0,0,0,0,0,0,0,0,0,0,0,0,0,0,0,0,{"$f":"CN$164*CN32","v":0},0,0,0,0,0,0,0,0,0,0,0,0,0,0,0,0,0]
[null,null,null,null,null,null,null,null,null,null,null,null,null,null,null,null,null,null,null,null,null,null,null,null,null,null,null,null,null,null,null,null,null,null,null,null,null,null,null,null,null,null,null,null,null,null,null,null,null,null,null,null,null,null,null,null,null,"VME(a6/c48)","",{"$f":"BH$164*BH49","v":0},0,0,0,0,0,0,0,0,0,0,0,0,0,0,0,0,0,0,0,0,0,0,0,0,0,0,0,0,0,0,0,{"$f":"CN$164*CN49","v":0},0,0,0,0,0,0,0,0,0,0,0,0,0,0,0,0,0]
[null,null,null,null,null,null,null,null,null,null,null,null,null,null,null,null,null,null,null,null,null,null,null,null,null,null,null,null,null,null,null,null,null,null,null,null,null,null,null,null,null,null,null,null,null,null,null,null,null,null,null,null,null,null,null,null,null,"VME(a7/c6)","",{"$f":"BH$165*BH7","v":0},0,0,0,0,0,0,0,0,0,0,0,0,0,0,0,0,0,0,0,0,0,0,0,0,0,0,0,0,0,0,0,{"$f":"CN$165*CN7","v":0},0,0,0,0,0,0,0,0,0,0,0,0,0,0,0,0,0]
[null,null,null,null,null,null,null,null,null,null,null,null,null,null,null,null,null,null,null,null,null,null,null,null,null,null,null,null,null,null,null,null,null,null,null,null,null,null,null,null,null,null,null,null,null,null,null,null,null,null,null,null,null,null,null,null,null,"VME(a7/c11)","",{"$f":"BH$165*BH12","v":0},0,0,0,0,0,0,0,0,0,0,0,0,0,0,0,0,0,0,0,0,0,0,0,0,0,0,0,0,0,0,0,{"$f":"CN$165*CN12","v":0},0,0,0,0,0,0,0,0,0,0,0,0,0,0,0,0,0]
[null,null,null,null,null,null,null,null,null,null,null,null,null,null,null,null,null,null,null,null,null,null,null,null,null,null,null,null,null,null,null,null,null,null,null,null,null,null,null,null,null,null,null,null,null,null,null,null,null,null,null,null,null,null,null,null,null,"VME(a7/c26)","",{"$f":"BH$165*BH27","v":0},0,0,0,0,0,0,0,0,0,0,0,0,0,0,0,0,0,0,0,0,0,0,0,0,0,0,0,0,0,0,0,{"$f":"CN$165*CN27","v":0},0,0,0,0,0,0,0,0,0,0,0,0,0,0,0,0,0]
[null,null,null,null,null,null,null,null,null,null,null,null,null,null,null,null,null,null,null,null,null,null,null,null,null,null,null,null,null,null,null,null,null,null,null,null,null,null,null,null,null,null,null,null,null,null,null,null,null,null,null,null,null,null,null,null,null,"VME(a7/c36)","",{"$f":"BH$165*BH37","v":0},0,0,0,0,0,0,0,0,0,0,0,0,0,0,0,0,0,0,0,0,0,0,0,0,0,0,0,0,0,0,0,{"$f":"CN$165*CN37","v":0},0,0,0,0,0,0,0,0,0,0,0,0,0,0,0,0,0]
[null,null,null,null,null,null,null,null,null,null,null,null,null,null,null,null,null,null,null,null,null,null,null,null,null,null,null,null,null,null,null,null,null,null,null,null,null,null,null,null,null,null,null,null,null,null,null,null,null,null,null,null,null,null,null,null,null,"VME(a7/c42)","",{"$f":"BH$165*BH43","v":0},0,0,0,0,0,0,0,0,0,0,0,0,0,0,0,0,0,0,0,0,0,0,0,0,0,0,0,0,0,0,0,{"$f":"CN$165*CN43","v":0},0,0,0,0,0,0,0,0,0,0,0,0,0,0,0,0,0]
[null,null,null,null,null,null,null,null,null,null,null,null,null,null,null,null,null,null,null,null,null,null,null,null,null,null,null,null,null,null,null,null,null,null,null,null,null,null,null,null,null,null,null,null,null,null,null,null,null,null,null,null,null,null,null,null,null,"VME(a8/c1)",{"$f":"IF(BH$166=\"\",\"\",SUM(BH560:DE560))","v":""},{"$f":"BH$166*BH2","v":0},0,0,0,0,0,0,0,0,0,0,0,0,0,0,0,0,0,0,0,0,0,0,0,0,0,0,0,0,0,0,0,{"$f":"CN$166*CN2","v":0},0,0,0,0,0,0,0,0,0,0,0,0,0,0,0,0,0]
[null,null,null,null,null,null,null,null,null,null,null,null,null,null,null,null,null,null,null,null,null,null,null,null,null,null,null,null,null,null,null,null,null,null,null,null,null,null,null,null,null,null,null,null,null,null,null,null,null,null,null,null,null,null,null,null,null,"VME(a8/c12)","",{"$f":"BH$166*BH13","v":0},0,0,0,0,0,0,0,0,0,0,0,0,0,0,0,0,0,0,0,0,0,0,0,0,0,0,0,0,0,0,0,{"$f":"CN$166*CN13","v":0},0,0,0,0,0,0,0,0,0,0,0,0,0,0,0,0,0]
[null,null,null,null,null,null,null,null,null,null,null,null,null,null,null,null,null,null,null,null,null,null,null,null,null,null,null,null,null,null,null,null,null,null,null,null,null,null,null,null,null,null,null,null,null,null,null,null,null,null,null,null,null,null,null,null,null,"VME(a8/c20)","",{"$f":"BH$166*BH21","v":0},0,0,0,0,0,0,0,0,0,0,0,0,0,0,0,0,0,0,0,0,0,0,0,0,0,0,0,0,0,0,0,{"$f":"CN$166*CN21","v":0},0,0,0,0,0,0,0,0,0,0,0,0,0,0,0,0,0]
[null,null,null,null,null,null,null,null,null,null,null,null,null,null,null,null,null,null,null,null,null,null,null,null,null,null,null,null,null,null,null,null,null,null,null,null,null,null,null,null,null,null,null,null,null,null,null,null,null,null,null,null,null,null,null,null,null,"VME(a8/c31)","",{"$f":"BH$166*BH32","v":0},0,0,0,0,0,0,0,0,0,0,0,0,0,0,0,0,0,0,0,0,0,0,0,0,0,0,0,0,0,0,0,{"$f":"CN$166*CN32","v":0},0,0,0,0,0,0,0,0,0,0,0,0,0,0,0,0,0]
[null,null,null,null,null,null,null,null,null,null,null,null,null,null,null,null,null,null,null,null,null,null,null,null,null,null,null,null,null,null,null,null,null,null,null,null,null,null,null,null,null,null,null,null,null,null,null,null,null,null,null,null,null,null,null,null,null,"VME(a8/c45)","",{"$f":"BH$166*BH46","v":0},0,0,0,0,0,0,0,0,0,0,0,0,0,0,0,0,0,0,0,0,0,0,0,0,0,0,0,0,0,0,0,{"$f":"CN$166*CN46","v":0},0,0,0,0,0,0,0,0,0,0,0,0,0,0,0,0,0]
[null,null,null,null,null,null,null,null,null,null,null,null,null,null,null,null,null,null,null,null,null,null,null,null,null,null,null,null,null,null,null,null,null,null,null,null,null,null,null,null,null,null,null,null,null,null,null,null,null,null,null,null,null,null,null,null,null,"VME(a8/c46)","",{"$f":"BH$166*BH47","v":0},0,0,0,0,0,0,0,0,0,0,0,0,0,0,0,0,0,0,0,0,0,0,0,0,0,0,0,0,0,0,0,{"$f":"CN$166*CN47","v":0},0,0,0,0,0,0,0,0,0,0,0,0,0,0,0,0,0]
[null,null,null,null,null,null,null,null,null,null,null,null,null,null,null,null,null,null,null,null,null,null,null,null,null,null,null,null,null,null,null,null,null,null,null,null,null,null,null,null,null,null,null,null,null,null,null,null,null,null,null,null,null,null,null,null,null,"VME(a9/c6)","",{"$f":"BH$167*BH7","v":0},0,0,0,0,0,0,0,0,0,0,0,0,0,0,0,0,0,0,0,0,0,0,0,0,0,0,0,0,0,0,0,{"$f":"CN$167*CN7","v":0},0,0,0,0,0,0,0,0,0,0,0,0,0,0,0,0,0]
[null,null,null,null,null,null,null,null,null,null,null,null,null,null,null,null,null,null,null,null,null,null,null,null,null,null,null,null,null,null,null,null,null,null,null,null,null,null,null,null,null,null,null,null,null,null,null,null,null,null,null,null,null,null,null,null,null,"VME(a9/c15)","",{"$f":"BH$167*BH16","v":0},0,0,0,0,0,0,0,0,0,0,0,0,0,0,0,0,0,0,0,0,0,0,0,0,0,0,0,0,0,0,0,{"$f":"CN$167*CN16","v":0},0,0,0,0,0,0,0,0,0,0,0,0,0,0,0,0,0]
[null,null,null,null,null,null,null,null,null,null,null,null,null,null,null,null,null,null,null,null,null,null,null,null,null,null,null,null,null,null,null,null,null,null,null,null,null,null,null,null,null,null,null,null,null,null,null,null,null,null,null,null,null,null,null,null,null,"VME(a9/c26)","",{"$f":"BH$167*BH27","v":0},0,0,0,0,0,0,0,0,0,0,0,0,0,0,0,0,0,0,0,0,0,0,0,0,0,0,0,0,0,0,0,{"$f":"CN$167*CN27","v":0},0,0,0,0,0,0,0,0,0,0,0,0,0,0,0,0,0]
[null,null,null,null,null,null,null,null,null,null,null,null,null,null,null,null,null,null,null,null,null,null,null,null,null,null,null,null,null,null,null,null,null,null,null,null,null,null,null,null,null,null,null,null,null,null,null,null,null,null,null,null,null,null,null,null,null,"VME(a9/c39)","",{"$f":"BH$167*BH40","v":0},0,0,0,0,0,0,0,0,0,0,0,0,0,0,0,0,0,0,0,0,0,0,0,0,0,0,0,0,0,0,0,{"$f":"CN$167*CN40","v":0},0,0,0,0,0,0,0,0,0,0,0,0,0,0,0,0,0]
[null,null,null,null,null,null,null,null,null,null,null,null,null,null,null,null,null,null,null,null,null,null,null,null,null,null,null,null,null,null,null,null,null,null,null,null,null,null,null,null,null,null,null,null,null,null,null,null,null,null,null,null,null,null,null,null,null,"VME(a10/c1)",{"$f":"IF(BH$168=\"\",\"\",SUM(BH660:DE660))","v":""},{"$f":"BH$168*BH2","v":0},0,0,0,0,0,0,0,0,0,0,0,0,0,0,0,0,0,0,0,0,0,0,0,0,0,0,0,0,0,0,0,{"$f":"CN$168*CN2","v":0},0,0,0,0,0,0,0,0,0,0,0,0,0,0,0,0,0]
[null,null,null,null,null,null,null,null,null,null,null,null,null,null,null,null,null,null,null,null,null,null,null,null,null,null,null,null,null,null,null,null,null,null,null,null,null,null,null,null,null,null,null,null,null,null,null,null,null,null,null,null,null,null,null,null,null,"VME(a10/c9)","",{"$f":"BH$168*BH10","v":0},0,0,0,0,0,0,0,0,0,0,0,0,0,0,0,0,0,0,0,0,0,0,0,0,0,0,0,0,0,0,0,{"$f":"CN$168*CN10","v":0},0,0,0,0,0,0,0,0,0,0,0,0,0,0,0,0,0]
[null,null,null,null,null,null,null,null,null,null,null,null,null,null,null,null,null,null,null,null,null,null,null,null,null,null,null,null,null,null,null,null,null,null,null,null,null,null,null,null,null,null,null,null,null,null,null,null,null,null,null,null,null,null,null,null,null,"VME(a10/c20)","",{"$f":"BH$168*BH21","v":0},0,0,0,0,0,0,0,0,0,0,0,0,0,0,0,0,0,0,0,0,0,0,0,0,0,0,0,0,0,0,0,{"$f":"CN$168*CN21","v":0},0,0,0,0,0,0,0,0,0,0,0,0,0,0,0,0,0]
[null,null,null,null,null,null,null,null,null,null,null,null,null,null,null,null,null,null,null,null,null,null,null,null,null,null,null,null,null,null,null,null,null,null,null,null,null,null,null,null,null,null,null,null,null,null,null,null,null,null,null,null,null,null,null,null,null,"VME(a10/c31)","",{"$f":"BH$168*BH32","v":0},0,0,0,0,0,0,0,0,0,0,0,0,0,0,0,0,0,0,0,0,0,0,0,0,0,0,0,0,0,0,0,{"$f":"CN$168*CN32","v":0},0,0,0,0,0,0,0,0,0,0,0,0,0,0,0,0,0]
[null,null,null,null,null,null,null,null,null,null,null,null,null,null,null,null,null,null,null,null,null,null,null,null,null,null,null,null,null,null,null,null,null,null,null,null,null,null,null,null,null,null,null,null,null,null,null,null,null,null,null,null,null,null,null,null,null,"VME(a10/c33)","",{"$f":"BH$168*BH34","v":0},0,0,0,0,0,0,0,0,0,0,0,0,0,0,0,0,0,0,0,0,0,0,0,0,0,0,0,0,0,0,0,{"$f":"CN$168*CN34","v":0},0,0,0,0,0,0,0,0,0,0,0,0,0,0,0,0,0]
[null,null,null,null,null,null,null,null,null,null,null,null,null,null,null,null,null,null,null,null,null,null,null,null,null,null,null,null,null,null,null,null,null,null,null,null,null,null,null,null,null,null,null,null,null,null,null,null,null,null,null,null,null,null,null,null,null,"VME(a10/c50)","",{"$f":"BH$168*BH51","v":0},0,0,0,0,0,0,0,0,0,0,0,0,0,0,0,0,0,0,0,0,0,0,0,0,0,0,0,0,0,0,0,{"$f":"CN$168*CN51","v":0},0,0,0,0,0,0,0,0,0,0,0,0,0,0,0,0,0]
[null,null,null,null,null,null,null,null,null,null,null,null,null,null,null,null,null,null,null,null,null,null,null,null,null,null,null,null,null,null,null,null,null,null,null,null,null,null,null,null,null,null,null,null,null,null,null,null,null,null,null,null,null,null,null,null,null,"VME(a11/c3)","",{"$f":"BH$169*BH4","v":0},0,0,0,0,0,0,0,0,0,0,0,0,0,0,0,0,0,0,0,0,0,0,0,0,0,0,0,0,0,0,0,{"$f":"CN$169*CN4","v":0},0,0,0,0,0,0,0,0,0,0,0,0,0,0,0,0,0]
[null,null,null,null,null,null,null,null,null,null,null,null,null,null,null,null,null,null,null,null,null,null,null,null,null,null,null,null,null,null,null,null,null,null,null,null,null,null,null,null,null,null,null,null,null,null,null,null,null,null,null,null,null,null,null,null,null,"VME(a11/c15)","",{"$f":"BH$169*BH16","v":0},0,0,0,0,0,0,0,0,0,0,0,0,0,0,0,0,0,0,0,0,0,0,0,0,0,0,0,0,0,0,0,{"$f":"CN$169*CN16","v":0},0,0,0,0,0,0,0,0,0,0,0,0,0,0,0,0,0]
[null,null,null,null,null,null,null,null,null,null,null,null,null,null,null,null,null,null,null,null,null,null,null,null,null,null,null,null,null,null,null,null,null,null,null,null,null,null,null,null,null,null,null,null,null,null,null,null,null,null,null,null,null,null,null,null,null,"VME(a11/c23)","",{"$f":"BH$169*BH24","v":0},0,0,0,0,0,0,0,0,0,0,0,0,0,0,0,0,0,0,0,0,0,0,0,0,0,0,0,0,0,0,0,{"$f":"CN$169*CN24","v":0},0,0,0,0,0,0,0,0,0,0,0,0,0,0,0,0,0]
[null,null,null,null,null,null,null,null,null,null,null,null,null,null,null,null,null,null,null,null,null,null,null,null,null,null,null,null,null,null,null,null,null,null,null,null,null,null,null,null,null,null,null,null,null,null,null,null,null,null,null,null,null,null,null,null,null,"VME(a11/c30)","",{"$f":"BH$169*BH31","v":0},0,0,0,0,0,0,0,0,0,0,0,0,0,0,0,0,0,0,0,0,0,0,0,0,0,0,0,0,0,0,0,{"$f":"CN$169*CN31","v":0},0,0,0,0,0,0,0,0,0,0,0,0,0,0,0,0,0]
[null,null,null,null,null,null,null,null,null,null,null,null,null,null,null,null,null,null,null,null,null,null,null,null,null,null,null,null,null,null,null,null,null,null,null,null,null,null,null,null,null,null,null,null,null,null,null,null,null,null,null,null,null,null,null,null,null,"VME(a11/c45)","",{"$f":"BH$169*BH46","v":0},0,0,0,0,0,0,0,0,0,0,0,0,0,0,0,0,0,0,0,0,0,0,0,0,0,0,0,0,0,0,0,{"$f":"CN$169*CN46","v":0},0,0,0,0,0,0,0,0,0,0,0,0,0,0,0,0,0]
[null,null,null,null,null,null,null,null,null,null,null,null,null,null,null,null,null,null,null,null,null,null,null,null,null,null,null,null,null,null,null,null,null,null,null,null,null,null,null,null,null,null,null,null,null,null,null,null,null,null,null,null,null,null,null,null,null,"VME(a12/c6)","",{"$f":"BH$170*BH7","v":0},0,0,0,0,0,0,0,0,0,0,0,0,0,0,0,0,0,0,0,0,0,0,0,0,0,0,0,0,0,0,0,{"$f":"CN$170*CN7","v":0},0,0,0,0,0,0,0,0,0,0,0,0,0,0,0,0,0]
[null,null,null,null,null,null,null,null,null,null,null,null,null,null,null,null,null,null,null,null,null,null,null,null,null,null,null,null,null,null,null,null,null,null,null,null,null,null,null,null,null,null,null,null,null,null,null,null,null,null,null,null,null,null,null,null,null,"VME(a12/c10)","",{"$f":"BH$170*BH11","v":0},0,0,0,0,0,0,0,0,0,0,0,0,0,0,0,0,0,0,0,0,0,0,0,0,0,0,0,0,0,0,0,{"$f":"CN$170*CN11","v":0},0,0,0,0,0,0,0,0,0,0,0,0,0,0,0,0,0]
[null,null,null,null,null,null,null,null,null,null,null,null,null,null,null,null,null,null,null,null,null,null,null,null,null,null,null,null,null,null,null,null,null,null,null,null,null,null,null,null,null,null,null,null,null,null,null,null,null,null,null,null,null,null,null,null,null,"VME(a12/c26)","",{"$f":"BH$170*BH27","v":0},0,0,0,0,0,0,0,0,0,0,0,0,0,0,0,0,0,0,0,0,0,0,0,0,0,0,0,0,0,0,0,{"$f":"CN$170*CN27","v":0},0,0,0,0,0,0,0,0,0,0,0,0,0,0,0,0,0]
[null,null,null,null,null,null,null,null,null,null,null,null,null,null,null,null,null,null,null,null,null,null,null,null,null,null,null,null,null,null,null,null,null,null,null,null,null,null,null,null,null,null,null,null,null,null,null,null,null,null,null,null,null,null,null,null,null,"VME(a12/c35)","",{"$f":"BH$170*BH36","v":0},0,0,0,0,0,0,0,0,0,0,0,0,0,0,0,0,0,0,0,0,0,0,0,0,0,0,0,0,0,0,0,{"$f":"CN$170*CN36","v":0},0,0,0,0,0,0,0,0,0,0,0,0,0,0,0,0,0]
[null,null,null,null,null,null,null,null,null,null,null,null,null,null,null,null,null,null,null,null,null,null,null,null,null,null,null,null,null,null,null,null,null,null,null,null,null,null,null,null,null,null,null,null,null,null,null,null,null,null,null,null,null,null,null,null,null,"VME(a12/c40)","",{"$f":"BH$170*BH41","v":0},0,0,0,0,0,0,0,0,0,0,0,0,0,0,0,0,0,0,0,0,0,0,0,0,0,0,0,0,0,0,0,{"$f":"CN$170*CN41","v":0},0,0,0,0,0,0,0,0,0,0,0,0,0,0,0,0,0]
[null,null,null,null,null,null,null,null,null,null,null,null,null,null,null,null,null,null,null,null,null,null,null,null,null,null,null,null,null,null,null,null,null,null,null,null,null,null,null,null,null,null,null,null,null,null,null,null,null,null,null,null,null,null,null,null,null,"VME(a12/c50)","",{"$f":"BH$170*BH51","v":0},0,0,0,0,0,0,0,0,0,0,0,0,0,0,0,0,0,0,0,0,0,0,0,0,0,0,0,0,0,0,0,{"$f":"CN$170*CN51","v":0},0,0,0,0,0,0,0,0,0,0,0,0,0,0,0,0,0]
[null,null,null,null,null,null,null,null,null,null,null,null,null,null,null,null,null,null,null,null,null,null,null,null,null,null,null,null,null,null,null,null,null,null,null,null,null,null,null,null,null,null,null,null,null,null,null,null,null,null,null,null,null,null,null,null,null,"VME(a13/c15)","",{"$f":"BH$171*BH16","v":0},0,0,0,0,0,0,0,0,0,0,0,0,0,0,0,0,0,0,0,0,0,0,0,0,0,0,0,0,0,0,0,{"$f":"CN$171*CN16","v":0},0,0,0,0,0,0,0,0,0,0,0,0,0,0,0,0,0]
[null,null,null,null,null,null,null,null,null,null,null,null,null,null,null,null,null,null,null,null,null,null,null,null,null,null,null,null,null,null,null,null,null,null,null,null,null,null,null,null,null,null,null,null,null,null,null,null,null,null,null,null,null,null,null,null,null,"VME(a13/c25)","",{"$f":"BH$171*BH26","v":0},0,0,0,0,0,0,0,0,0,0,0,0,0,0,0,0,0,0,0,0,0,0,0,0,0,0,0,0,0,0,0,{"$f":"CN$171*CN26","v":0},0,0,0,0,0,0,0,0,0,0,0,0,0,0,0,0,0]
[null,null,null,null,null,null,null,null,null,null,null,null,null,null,null,null,null,null,null,null,null,null,null,null,null,null,null,null,null,null,null,null,null,null,null,null,null,null,null,null,null,null,null,null,null,null,null,null,null,null,null,null,null,null,null,null,null,"VME(a13/c30)","",{"$f":"BH$171*BH31","v":0},0,0,0,0,0,0,0,0,0,0,0,0,0,0,0,0,0,0,0,0,0,0,0,0,0,0,0,0,0,0,0,{"$f":"CN$171*CN31","v":0},0,0,0,0,0,0,0,0,0,0,0,0,0,0,0,0,0]
[null,null,null,null,null,null,null,null,null,null,null,null,null,null,null,null,null,null,null,null,null,null,null,null,null,null,null,null,null,null,null,null,null,null,null,null,null,null,null,null,null,null,null,null,null,null,null,null,null,null,null,null,null,null,null,null,null,"VME(a13/c45)","",{"$f":"BH$171*BH46","v":0},0,0,0,0,0,0,0,0,0,0,0,0,0,0,0,0,0,0,0,0,0,0,0,0,0,0,0,0,0,0,0,{"$f":"CN$171*CN46","v":0},0,0,0,0,0,0,0,0,0,0,0,0,0,0,0,0,0]
[null,null,null,null,null,null,null,null,null,null,null,null,null,null,null,null,null,null,null,null,null,null,null,null,null,null,null,null,null,null,null,null,null,null,null,null,null,null,null,null,null,null,null,null,null,null,null,null,null,null,null,null,null,null,null,null,null,"VME(a14/c3)","",{"$f":"BH$172*BH4","v":0},0,0,0,0,0,0,0,0,0,0,0,0,0,0,0,0,0,0,0,0,0,0,0,0,0,0,0,0,0,0,0,{"$f":"CN$172*CN4","v":0},0,0,0,0,0,0,0,0,0,0,0,0,0,0,0,0,0]
[null,null,null,null,null,null,null,null,null,null,null,null,null,null,null,null,null,null,null,null,null,null,null,null,null,null,null,null,null,null,null,null,null,null,null,null,null,null,null,null,null,null,null,null,null,null,null,null,null,null,null,null,null,null,null,null,null,"VME(a14/c10)","",{"$f":"BH$172*BH11","v":0},0,0,0,0,0,0,0,0,0,0,0,0,0,0,0,0,0,0,0,0,0,0,0,0,0,0,0,0,0,0,0,{"$f":"CN$172*CN11","v":0},0,0,0,0,0,0,0,0,0,0,0,0,0,0,0,0,0]
[null,null,null,null,null,null,null,null,null,null,null,null,null,null,null,null,null,null,null,null,null,null,null,null,null,null,null,null,null,null,null,null,null,null,null,null,null,null,null,null,null,null,null,null,null,null,null,null,null,null,null,null,null,null,null,null,null,"VME(a14/c19)","",{"$f":"BH$172*BH20","v":0},0,0,0,0,0,0,0,0,0,0,0,0,0,0,0,0,0,0,0,0,0,0,0,0,0,0,0,0,0,0,0,{"$f":"CN$172*CN20","v":0},0,0,0,0,0,0,0,0,0,0,0,0,0,0,0,0,0]
[null,null,null,null,null,null,null,null,null,null,null,null,null,null,null,null,null,null,null,null,null,null,null,null,null,null,null,null,null,null,null,null,null,null,null,null,null,null,null,null,null,null,null,null,null,null,null,null,null,null,null,null,null,null,null,null,null,"VME(a14/c25)","",{"$f":"BH$172*BH26","v":0},0,0,0,0,0,0,0,0,0,0,0,0,0,0,0,0,0,0,0,0,0,0,0,0,0,0,0,0,0,0,0,{"$f":"CN$172*CN26","v":0},0,0,0,0,0,0,0,0,0,0,0,0,0,0,0,0,0]
[null,null,null,null,null,null,null,null,null,null,null,null,null,null,null,null,null,null,null,null,null,null,null,null,null,null,null,null,null,null,null,null,null,null,null,null,null,null,null,null,null,null,null,null,null,null,null,null,null,null,null,null,null,null,null,null,null,"VME(a14/c39)","",{"$f":"BH$172*BH40","v":0},0,0,0,0,0,0,0,0,0,0,0,0,0,0,0,0,0,0,0,0,0,0,0,0,0,0,0,0,0,0,0,{"$f":"CN$172*CN40","v":0},0,0,0,0,0,0,0,0,0,0,0,0,0,0,0,0,0]
[null,null,null,null,null,null,null,null,null,null,null,null,null,null,null,null,null,null,null,null,null,null,null,null,null,null,null,null,null,null,null,null,null,null,null,null,null,null,null,null,null,null,null,null,null,null,null,null,null,null,null,null,null,null,null,null,null,"VME(a14/c44)","",{"$f":"BH$172*BH45","v":0},0,0,0,0,0,0,0,0,0,0,0,0,0,0,0,0,0,0,0,0,0,0,0,0,0,0,0,0,0,0,0,{"$f":"CN$172*CN45","v":0},0,0,0,0,0,0,0,0,0,0,0,0,0,0,0,0,0]
[null,null,null,null,null,null,null,null,null,null,null,null,null,null,null,null,null,null,null,null,null,null,null,null,null,null,null,null,null,null,null,null,null,null,null,null,null,null,null,null,null,null,null,null,null,null,null,null,null,null,null,null,null,null,null,null,null,"VME(a15/c5)","",{"$f":"BH$173*BH6","v":0},0,0,0,0,0,0,0,0,0,0,0,0,0,0,0,0,0,0,0,0,0,0,0,0,0,0,0,0,0,0,0,{"$f":"CN$173*CN6","v":0},0,0,0,0,0,0,0,0,0,0,0,0,0,0,0,0,0]
[null,null,null,null,null,null,null,null,null,null,null,null,null,null,null,null,null,null,null,null,null,null,null,null,null,null,null,null,null,null,null,null,null,null,null,null,null,null,null,null,null,null,null,null,null,null,null,null,null,null,null,null,null,null,null,null,null,"VME(a15/c13)","",{"$f":"BH$173*BH14","v":0},0,0,0,0,0,0,0,0,0,0,0,0,0,0,0,0,0,0,0,0,0,0,0,0,0,0,0,0,0,0,0,{"$f":"CN$173*CN14","v":0},0,0,0,0,0,0,0,0,0,0,0,0,0,0,0,0,0]
[null,null,null,null,null,null,null,null,null,null,null,null,null,null,null,null,null,null,null,null,null,null,null,null,null,null,null,null,null,null,null,null,null,null,null,null,null,null,null,null,null,null,null,null,null,null,null,null,null,null,null,null,null,null,null,null,null,"VME(a15/c30)","",{"$f":"BH$173*BH31","v":0},0,0,0,0,0,0,0,0,0,0,0,0,0,0,0,0,0,0,0,0,0,0,0,0,0,0,0,0,0,0,0,{"$f":"CN$173*CN31","v":0},0,0,0,0,0,0,0,0,0,0,0,0,0,0,0,0,0]
[null,null,null,null,null,null,null,null,null,null,null,null,null,null,null,null,null,null,null,null,null,null,null,null,null,null,null,null,null,null,null,null,null,null,null,null,null,null,null,null,null,null,null,null,null,null,null,null,null,null,null,null,null,null,null,null,null,"VME(a15/c33)","",{"$f":"BH$173*BH34","v":0},0,0,0,0,0,0,0,0,0,0,0,0,0,0,0,0,0,0,0,0,0,0,0,0,0,0,0,0,0,0,0,{"$f":"CN$173*CN34","v":0},0,0,0,0,0,0,0,0,0,0,0,0,0,0,0,0,0]
[null,null,null,null,null,null,null,null,null,null,null,null,null,null,null,null,null,null,null,null,null,null,null,null,null,null,null,null,null,null,null,null,null,null,null,null,null,null,null,null,null,null,null,null,null,null,null,null,null,null,null,null,null,null,null,null,null,"VME(a15/c49)","",{"$f":"BH$173*BH50","v":0},0,0,0,0,0,0,0,0,0,0,0,0,0,0,0,0,0,0,0,0,0,0,0,0,0,0,0,0,0,0,0,{"$f":"CN$173*CN50","v":0},0,0,0,0,0,0,0,0,0,0,0,0,0,0,0,0,0]
[null,null,null,null,null,null,null,null,null,null,null,null,null,null,null,null,null,null,null,null,null,null,null,null,null,null,null,null,null,null,null,null,null,null,null,null,null,null,null,null,null,null,null,null,null,null,null,null,null,null,null,null,null,null,null,null,null,"VME(a16/c10)","",{"$f":"BH$174*BH11","v":0},0,0,0,0,0,0,0,0,0,0,0,0,0,0,0,0,0,0,0,0,0,0,0,0,0,0,0,0,0,0,0,{"$f":"CN$174*CN11","v":0},0,0,0,0,0,0,0,0,0,0,0,0,0,0,0,0,0]
[null,null,null,null,null,null,null,null,null,null,null,null,null,null,null,null,null,null,null,null,null,null,null,null,null,null,null,null,null,null,null,null,null,null,null,null,null,null,null,null,null,null,null,null,null,null,null,null,null,null,null,null,null,null,null,null,null,"VME(a16/c16)","",{"$f":"BH$174*BH17","v":0},0,0,0,0,0,0,0,0,0,0,0,0,0,0,0,0,0,0,0,0,0,0,0,0,0,0,0,0,0,0,0,{"$f":"CN$174*CN17","v":0},0,0,0,0,0,0,0,0,0,0,0,0,0,0,0,0,0]
[null,null,null,null,null,null,null,null,null,null,null,null,null,null,null,null,null,null,null,null,null,null,null,null,null,null,null,null,null,null,null,null,null,null,null,null,null,null,null,null,null,null,null,null,null,null,null,null,null,null,null,null,null,null,null,null,null,"VME(a16/c25)","",{"$f":"BH$174*BH26","v":0},0,0,0,0,0,0,0,0,0,0,0,0,0,0,0,0,0,0,0,0,0,0,0,0,0,0,0,0,0,0,0,{"$f":"CN$174*CN26","v":0},0,0,0,0,0,0,0,0,0,0,0,0,0,0,0,0,0]
[null,null,null,null,null,null,null,null,null,null,null,null,null,null,null,null,null,null,null,null,null,null,null,null,null,null,null,null,null,null,null,null,null,null,null,null,null,null,null,null,null,null,null,null,null,null,null,null,null,null,null,null,null,null,null,null,null,"VME(a16/c36)","",{"$f":"BH$174*BH37","v":0},0,0,0,0,0,0,0,0,0,0,0,0,0,0,0,0,0,0,0,0,0,0,0,0,0,0,0,0,0,0,0,{"$f":"CN$174*CN37","v":0},0,0,0,0,0,0,0,0,0,0,0,0,0,0,0,0,0]
[null,null,null,null,null,null,null,null,null,null,null,null,null,null,null,null,null,null,null,null,null,null,null,null,null,null,null,null,null,null,null,null,null,null,null,null,null,null,null,null,null,null,null,null,null,null,null,null,null,null,null,null,null,null,null,null,null,"VME(a16/c44)","",{"$f":"BH$174*BH45","v":0},0,0,0,0,0,0,0,0,0,0,0,0,0,0,0,0,0,0,0,0,0,0,0,0,0,0,0,0,0,0,0,{"$f":"CN$174*CN45","v":0},0,0,0,0,0,0,0,0,0,0,0,0,0,0,0,0,0]
[null,null,null,null,null,null,null,null,null,null,null,null,null,null,null,null,null,null,null,null,null,null,null,null,null,null,null,null,null,null,null,null,null,null,null,null,null,null,null,null,null,null,null,null,null,null,null,null,null,null,null,null,null,null,null,null,null,"VME(a17/c5)","",{"$f":"BH$175*BH6","v":0},0,0,0,0,0,0,0,0,0,0,0,0,0,0,0,0,0,0,0,0,0,0,0,0,0,0,0,0,0,0,0,{"$f":"CN$175*CN6","v":0},0,0,0,0,0,0,0,0,0,0,0,0,0,0,0,0,0]
[null,null,null,null,null,null,null,null,null,null,null,null,null,null,null,null,null,null,null,null,null,null,null,null,null,null,null,null,null,null,null,null,null,null,null,null,null,null,null,null,null,null,null,null,null,null,null,null,null,null,null,null,null,null,null,null,null,"VME(a17/c10)","",{"$f":"BH$175*BH11","v":0},0,0,0,0,0,0,0,0,0,0,0,0,0,0,0,0,0,0,0,0,0,0,0,0,0,0,0,0,0,0,0,{"$f":"CN$175*CN11","v":0},0,0,0,0,0,0,0,0,0,0,0,0,0,0,0,0,0]
[null,null,null,null,null,null,null,null,null,null,null,null,null,null,null,null,null,null,null,null,null,null,null,null,null,null,null,null,null,null,null,null,null,null,null,null,null,null,null,null,null,null,null,null,null,null,null,null,null,null,null,null,null,null,null,null,null,"VME(a17/c24)","",{"$f":"BH$175*BH25","v":0},0,0,0,0,0,0,0,0,0,0,0,0,0,0,0,0,0,0,0,0,0,0,0,0,0,0,0,0,0,0,0,{"$f":"CN$175*CN25","v":0},0,0,0,0,0,0,0,0,0,0,0,0,0,0,0,0,0]
[null,null,null,null,null,null,null,null,null,null,null,null,null,null,null,null,null,null,null,null,null,null,null,null,null,null,null,null,null,null,null,null,null,null,null,null,null,null,null,null,null,null,null,null,null,null,null,null,null,null,null,null,null,null,null,null,null,"VME(a17/c30)","",{"$f":"BH$175*BH31","v":0},0,0,0,0,0,0,0,0,0,0,0,0,0,0,0,0,0,0,0,0,0,0,0,0,0,0,0,0,0,0,0,{"$f":"CN$175*CN31","v":0},0,0,0,0,0,0,0,0,0,0,0,0,0,0,0,0,0]
[null,null,null,null,null,null,null,null,null,null,null,null,null,null,null,null,null,null,null,null,null,null,null,null,null,null,null,null,null,null,null,null,null,null,null,null,null,null,null,null,null,null,null,null,null,null,null,null,null,null,null,null,null,null,null,null,null,"VME(a17/c39)","",{"$f":"BH$175*BH40","v":0},0,0,0,0,0,0,0,0,0,0,0,0,0,0,0,0,0,0,0,0,0,0,0,0,0,0,0,0,0,0,0,{"$f":"CN$175*CN40","v":0},0,0,0,0,0,0,0,0,0,0,0,0,0,0,0,0,0]
[null,null,null,null,null,null,null,null,null,null,null,null,null,null,null,null,null,null,null,null,null,null,null,null,null,null,null,null,null,null,null,null,null,null,null,null,null,null,null,null,null,null,null,null,null,null,null,null,null,null,null,null,null,null,null,null,null,"VME(a17/c50)","",{"$f":"BH$175*BH51","v":0},0,0,0,0,0,0,0,0,0,0,0,0,0,0,0,0,0,0,0,0,0,0,0,0,0,0,0,0,0,0,0,{"$f":"CN$175*CN51","v":0},0,0,0,0,0,0,0,0,0,0,0,0,0,0,0,0,0]
[null,null,null,null,null,null,null,null,null,null,null,null,null,null,null,null,null,null,null,null,null,null,null,null,null,null,null,null,null,null,null,null,null,null,null,null,null,null,null,null,null,null,null,null,null,null,null,null,null,null,null,null,null,null,null,null,null,"VME(a18/c14)","",{"$f":"BH$176*BH15","v":0},0,0,0,0,0,0,0,0,0,0,0,0,0,0,0,0,0,0,0,0,0,0,0,0,0,0,0,0,0,0,0,{"$f":"CN$176*CN15","v":0},0,0,0,0,0,0,0,0,0,0,0,0,0,0,0,0,0]
[null,null,null,null,null,null,null,null,null,null,null,null,null,null,null,null,null,null,null,null,null,null,null,null,null,null,null,null,null,null,null,null,null,null,null,null,null,null,null,null,null,null,null,null,null,null,null,null,null,null,null,null,null,null,null,null,null,"VME(a18/c19)","",{"$f":"BH$176*BH20","v":0},0,0,0,0,0,0,0,0,0,0,0,0,0,0,0,0,0,0,0,0,0,0,0,0,0,0,0,0,0,0,0,{"$f":"CN$176*CN20","v":0},0,0,0,0,0,0,0,0,0,0,0,0,0,0,0,0,0]
[null,null,null,null,null,null,null,null,null,null,null,null,null,null,null,null,null,null,null,null,null,null,null,null,null,null,null,null,null,null,null,null,null,null,null,null,null,null,null,null,null,null,null,null,null,null,null,null,null,null,null,null,null,null,null,null,null,"VME(a18/c33)","",{"$f":"BH$176*BH34","v":0},0,0,0,0,0,0,0,0,0,0,0,0,0,0,0,0,0,0,0,0,0,0,0,0,0,0,0,0,0,0,0,{"$f":"CN$176*CN34","v":0},0,0,0,0,0,0,0,0,0,0,0,0,0,0,0,0,0]
[null,null,null,null,null,null,null,null,null,null,null,null,null,null,null,null,null,null,null,null,null,null,null,null,null,null,null,null,null,null,null,null,null,null,null,null,null,null,null,null,null,null,null,null,null,null,null,null,null,null,null,null,null,null,null,null,null,"VME(a18/c44)","",{"$f":"BH$176*BH45","v":0},0,0,0,0,0,0,0,0,0,0,0,0,0,0,0,0,0,0,0,0,0,0,0,0,0,0,0,0,0,0,0,{"$f":"CN$176*CN45","v":0},0,0,0,0,0,0,0,0,0,0,0,0,0,0,0,0,0]
[null,null,null,null,null,null,null,null,null,null,null,null,null,null,null,null,null,null,null,null,null,null,null,null,null,null,null,null,null,null,null,null,null,null,null,null,null,null,null,null,null,null,null,null,null,null,null,null,null,null,null,null,null,null,null,null,null,"VME(a18/c49)","",{"$f":"BH$176*BH50","v":0},0,0,0,0,0,0,0,0,0,0,0,0,0,0,0,0,0,0,0,0,0,0,0,0,0,0,0,0,0,0,0,{"$f":"CN$176*CN50","v":0},0,0,0,0,0,0,0,0,0,0,0,0,0,0,0,0,0]
[null,null,null,null,null,null,null,null,null,null,null,null,null,null,null,null,null,null,null,null,null,null,null,null,null,null,null,null,null,null,null,null,null,null,null,null,null,null,null,null,null,null,null,null,null,null,null,null,null,null,null,null,null,null,null,null,null,"VME(a19/c9)","",{"$f":"BH$177*BH10","v":0},0,0,0,0,0,0,0,0,0,0,0,0,0,0,0,0,0,0,0,0,0,0,0,0,0,0,0,0,0,0,0,{"$f":"CN$177*CN10","v":0},0,0,0,0,0,0,0,0,0,0,0,0,0,0,0,0,0]
[null,null,null,null,null,null,null,null,null,null,null,null,null,null,null,null,null,null,null,null,null,null,null,null,null,null,null,null,null,null,null,null,null,null,null,null,null,null,null,null,null,null,null,null,null,null,null,null,null,null,null,null,null,null,null,null,null,"VME(a19/c14)","",{"$f":"BH$177*BH15","v":0},0,0,0,0,0,0,0,0,0,0,0,0,0,0,0,0,0,0,0,0,0,0,0,0,0,0,0,0,0,0,0,{"$f":"CN$177*CN15","v":0},0,0,0,0,0,0,0,0,0,0,0,0,0,0,0,0,0]
[null,null,null,null,null,null,null,null,null,null,null,null,null,null,null,null,null,null,null,null,null,null,null,null,null,null,null,null,null,null,null,null,null,null,null,null,null,null,null,null,null,null,null,null,null,null,null,null,null,null,null,null,null,null,null,null,null,"VME(a19/c27)","",{"$f":"BH$177*BH28","v":0},0,0,0,0,0,0,0,0,0,0,0,0,0,0,0,0,0,0,0,0,0,0,0,0,0,0,0,0,0,0,0,{"$f":"CN$177*CN28","v":0},0,0,0,0,0,0,0,0,0,0,0,0,0,0,0,0,0]
[null,null,null,null,null,null,null,null,null,null,null,null,null,null,null,null,null,null,null,null,null,null,null,null,null,null,null,null,null,null,null,null,null,null,null,null,null,null,null,null,null,null,null,null,null,null,null,null,null,null,null,null,null,null,null,null,null,"VME(a19/c39)","",{"$f":"BH$177*BH40","v":0},0,0,0,0,0,0,0,0,0,0,0,0,0,0,0,0,0,0,0,0,0,0,0,0,0,0,0,0,0,0,0,{"$f":"CN$177*CN40","v":0},0,0,0,0,0,0,0,0,0,0,0,0,0,0,0,0,0]
[null,null,null,null,null,null,null,null,null,null,null,null,null,null,null,null,null,null,null,null,null,null,null,null,null,null,null,null,null,null,null,null,null,null,null,null,null,null,null,null,null,null,null,null,null,null,null,null,null,null,null,null,null,null,null,null,null,"VME(a19/c43)","",{"$f":"BH$177*BH44","v":0},0,0,0,0,0,0,0,0,0,0,0,0,0,0,0,0,0,0,0,0,0,0,0,0,0,0,0,0,0,0,0,{"$f":"CN$177*CN44","v":0},0,0,0,0,0,0,0,0,0,0,0,0,0,0,0,0,0]
[null,null,null,null,null,null,null,null,null,null,null,null,null,null,null,null,null,null,null,null,null,null,null,null,null,null,null,null,null,null,null,null,null,null,null,null,null,null,null,null,null,null,null,null,null,null,null,null,null,null,null,null,null,null,null,null,null,"VME(a20/c4)","",{"$f":"BH$178*BH5","v":0},0,0,0,0,0,0,0,0,0,0,0,0,0,0,0,0,0,0,0,0,0,0,0,0,0,0,0,0,0,0,0,{"$f":"CN$178*CN5","v":0},0,0,0,0,0,0,0,0,0,0,0,0,0,0,0,0,0]
[null,null,null,null,null,null,null,null,null,null,null,null,null,null,null,null,null,null,null,null,null,null,null,null,null,null,null,null,null,null,null,null,null,null,null,null,null,null,null,null,null,null,null,null,null,null,null,null,null,null,null,null,null,null,null,null,null,"VME(a20/c19)","",{"$f":"BH$178*BH20","v":0},0,0,0,0,0,0,0,0,0,0,0,0,0,0,0,0,0,0,0,0,0,0,0,0,0,0,0,0,0,0,0,{"$f":"CN$178*CN20","v":0},0,0,0,0,0,0,0,0,0,0,0,0,0,0,0,0,0]
[null,null,null,null,null,null,null,null,null,null,null,null,null,null,null,null,null,null,null,null,null,null,null,null,null,null,null,null,null,null,null,null,null,null,null,null,null,null,null,null,null,null,null,null,null,null,null,null,null,null,null,null,null,null,null,null,null,"VME(a20/c30)","",{"$f":"BH$178*BH31","v":0},0,0,0,0,0,0,0,0,0,0,0,0,0,0,0,0,0,0,0,0,0,0,0,0,0,0,0,0,0,0,0,{"$f":"CN$178*CN31","v":0},0,0,0,0,0,0,0,0,0,0,0,0,0,0,0,0,0]
[null,null,null,null,null,null,null,null,null,null,null,null,null,null,null,null,null,null,null,null,null,null,null,null,null,null,null,null,null,null,null,null,null,null,null,null,null,null,null,null,null,null,null,null,null,null,null,null,null,null,null,null,null,null,null,null,null,"VME(a20/c34)","",{"$f":"BH$178*BH35","v":0},0,0,0,0,0,0,0,0,0,0,0,0,0,0,0,0,0,0,0,0,0,0,0,0,0,0,0,0,0,0,0,{"$f":"CN$178*CN35","v":0},0,0,0,0,0,0,0,0,0,0,0,0,0,0,0,0,0]
[null,null,null,null,null,null,null,null,null,null,null,null,null,null,null,null,null,null,null,null,null,null,null,null,null,null,null,null,null,null,null,null,null,null,null,null,null,null,null,null,null,null,null,null,null,null,null,null,null,null,null,null,null,null,null,null,null,"VME(a20/c46)","",{"$f":"BH$178*BH47","v":0},0,0,0,0,0,0,0,0,0,0,0,0,0,0,0,0,0,0,0,0,0,0,0,0,0,0,0,0,0,0,0,{"$f":"CN$178*CN47","v":0},0,0,0,0,0,0,0,0,0,0,0,0,0,0,0,0,0]
[null,null,null,null,null,null,null,null,null,null,null,null,null,null,null,null,null,null,null,null,null,null,null,null,null,null,null,null,null,null,null,null,null,null,null,null,null,null,null,null,null,null,null,null,null,null,null,null,null,null,null,null,null,null,null,null,null,"VME(a21/c9)","",{"$f":"BH$179*BH10","v":0},0,0,0,0,0,0,0,0,0,0,0,0,0,0,0,0,0,0,0,0,0,0,0,0,0,0,0,0,0,0,0,{"$f":"CN$179*CN10","v":0},0,0,0,0,0,0,0,0,0,0,0,0,0,0,0,0,0]
[null,null,null,null,null,null,null,null,null,null,null,null,null,null,null,null,null,null,null,null,null,null,null,null,null,null,null,null,null,null,null,null,null,null,null,null,null,null,null,null,null,null,null,null,null,null,null,null,null,null,null,null,null,null,null,null,null,"VME(a21/c16)","",{"$f":"BH$179*BH17","v":0},0,0,0,0,0,0,0,0,0,0,0,0,0,0,0,0,0,0,0,0,0,0,0,0,0,0,0,0,0,0,0,{"$f":"CN$179*CN17","v":0},0,0,0,0,0,0,0,0,0,0,0,0,0,0,0,0,0]
[null,null,null,null,null,null,null,null,null,null,null,null,null,null,null,null,null,null,null,null,null,null,null,null,null,null,null,null,null,null,null,null,null,null,null,null,null,null,null,null,null,null,null,null,null,null,null,null,null,null,null,null,null,null,null,null,null,"VME(a21/c28)","",{"$f":"BH$179*BH29","v":0},0,0,0,0,0,0,0,0,0,0,0,0,0,0,0,0,0,0,0,0,0,0,0,0,0,0,0,0,0,0,0,{"$f":"CN$179*CN29","v":0},0,0,0,0,0,0,0,0,0,0,0,0,0,0,0,0,0]
[null,null,null,null,null,null,null,null,null,null,null,null,null,null,null,null,null,null,null,null,null,null,null,null,null,null,null,null,null,null,null,null,null,null,null,null,null,null,null,null,null,null,null,null,null,null,null,null,null,null,null,null,null,null,null,null,null,"VME(a21/c29)","",{"$f":"BH$179*BH30","v":0},0,0,0,0,0,0,0,0,0,0,0,0,0,0,0,0,0,0,0,0,0,0,0,0,0,0,0,0,0,0,0,{"$f":"CN$179*CN30","v":0},0,0,0,0,0,0,0,0,0,0,0,0,0,0,0,0,0]
[null,null,null,null,null,null,null,null,null,null,null,null,null,null,null,null,null,null,null,null,null,null,null,null,null,null,null,null,null,null,null,null,null,null,null,null,null,null,null,null,null,null,null,null,null,null,null,null,null,null,null,null,null,null,null,null,null,"VME(a21/c40)","",{"$f":"BH$179*BH41","v":0},0,0,0,0,0,0,0,0,0,0,0,0,0,0,0,0,0,0,0,0,0,0,0,0,0,0,0,0,0,0,0,{"$f":"CN$179*CN41","v":0},0,0,0,0,0,0,0,0,0,0,0,0,0,0,0,0,0]
[null,null,null,null,null,null,null,null,null,null,null,null,null,null,null,null,null,null,null,null,null,null,null,null,null,null,null,null,null,null,null,null,null,null,null,null,null,null,null,null,null,null,null,null,null,null,null,null,null,null,null,null,null,null,null,null,null,"VME(a22/c4)","",{"$f":"BH$180*BH5","v":0},0,0,0,0,0,0,0,0,0,0,0,0,0,0,0,0,0,0,0,0,0,0,0,0,0,0,0,0,0,0,0,{"$f":"CN$180*CN5","v":0},0,0,0,0,0,0,0,0,0,0,0,0,0,0,0,0,0]
[null,null,null,null,null,null,null,null,null,null,null,null,null,null,null,null,null,null,null,null,null,null,null,null,null,null,null,null,null,null,null,null,null,null,null,null,null,null,null,null,null,null,null,null,null,null,null,null,null,null,null,null,null,null,null,null,null,"VME(a22/c10)","",{"$f":"BH$180*BH11","v":0},0,0,0,0,0,0,0,0,0,0,0,0,0,0,0,0,0,0,0,0,0,0,0,0,0,0,0,0,0,0,0,{"$f":"CN$180*CN11","v":0},0,0,0,0,0,0,0,0,0,0,0,0,0,0,0,0,0]
[null,null,null,null,null,null,null,null,null,null,null,null,null,null,null,null,null,null,null,null,null,null,null,null,null,null,null,null,null,null,null,null,null,null,null,null,null,null,null,null,null,null,null,null,null,null,null,null,null,null,null,null,null,null,null,null,null,"VME(a22/c23)","",{"$f":"BH$180*BH24","v":0},0,0,0,0,0,0,0,0,0,0,0,0,0,0,0,0,0,0,0,0,0,0,0,0,0,0,0,0,0,0,0,{"$f":"CN$180*CN24","v":0},0,0,0,0,0,0,0,0,0,0,0,0,0,0,0,0,0]
[null,null,null,null,null,null,null,null,null,null,null,null,null,null,null,null,null,null,null,null,null,null,null,null,null,null,null,null,null,null,null,null,null,null,null,null,null,null,null,null,null,null,null,null,null,null,null,null,null,null,null,null,null,null,null,null,null,"VME(a22/c34)","",{"$f":"BH$180*BH35","v":0},0,0,0,0,0,0,0,0,0,0,0,0,0,0,0,0,0,0,0,0,0,0,0,0,0,0,0,0,0,0,0,{"$f":"CN$180*CN35","v":0},0,0,0,0,0,0,0,0,0,0,0,0,0,0,0,0,0]
[null,null,null,null,null,null,null,null,null,null,null,null,null,null,null,null,null,null,null,null,null,null,null,null,null,null,null,null,null,null,null,null,null,null,null,null,null,null,null,null,null,null,null,null,null,null,null,null,null,null,null,null,null,null,null,null,null,"VME(a22/c43)","",{"$f":"BH$180*BH44","v":0},0,0,0,0,0,0,0,0,0,0,0,0,0,0,0,0,0,0,0,0,0,0,0,0,0,0,0,0,0,0,0,{"$f":"CN$180*CN44","v":0},0,0,0,0,0,0,0,0,0,0,0,0,0,0,0,0,0]
[null,null,null,null,null,null,null,null,null,null,null,null,null,null,null,null,null,null,null,null,null,null,null,null,null,null,null,null,null,null,null,null,null,null,null,null,null,null,null,null,null,null,null,null,null,null,null,null,null,null,null,null,null,null,null,null,null,"VME(a22/c49)","",{"$f":"BH$180*BH50","v":0},0,0,0,0,0,0,0,0,0,0,0,0,0,0,0,0,0,0,0,0,0,0,0,0,0,0,0,0,0,0,0,{"$f":"CN$180*CN50","v":0},0,0,0,0,0,0,0,0,0,0,0,0,0,0,0,0,0]
[null,null,null,null,null,null,null,null,null,null,null,null,null,null,null,null,null,null,null,null,null,null,null,null,null,null,null,null,null,null,null,null,null,null,null,null,null,null,null,null,null,null,null,null,null,null,null,null,null,null,null,null,null,null,null,null,null,"VME(a23/c13)","",{"$f":"BH$181*BH14","v":0},0,0,0,0,0,0,0,0,0,0,0,0,0,0,0,0,0,0,0,0,0,0,0,0,0,0,0,0,0,0,0,{"$f":"CN$181*CN14","v":0},0,0,0,0,0,0,0,0,0,0,0,0,0,0,0,0,0]
[null,null,null,null,null,null,null,null,null,null,null,null,null,null,null,null,null,null,null,null,null,null,null,null,null,null,null,null,null,null,null,null,null,null,null,null,null,null,null,null,null,null,null,null,null,null,null,null,null,null,null,null,null,null,null,null,null,"VME(a23/c18)","",{"$f":"BH$181*BH19","v":0},0,0,0,0,0,0,0,0,0,0,0,0,0,0,0,0,0,0,0,0,0,0,0,0,0,0,0,0,0,0,0,{"$f":"CN$181*CN19","v":0},0,0,0,0,0,0,0,0,0,0,0,0,0,0,0,0,0]
[null,null,null,null,null,null,null,null,null,null,null,null,null,null,null,null,null,null,null,null,null,null,null,null,null,null,null,null,null,null,null,null,null,null,null,null,null,null,null,null,null,null,null,null,null,null,null,null,null,null,null,null,null,null,null,null,null,"VME(a23/c29)","",{"$f":"BH$181*BH30","v":0},0,0,0,0,0,0,0,0,0,0,0,0,0,0,0,0,0,0,0,0,0,0,0,0,0,0,0,0,0,0,0,{"$f":"CN$181*CN30","v":0},0,0,0,0,0,0,0,0,0,0,0,0,0,0,0,0,0]
[null,null,null,null,null,null,null,null,null,null,null,null,null,null,null,null,null,null,null,null,null,null,null,null,null,null,null,null,null,null,null,null,null,null,null,null,null,null,null,null,null,null,null,null,null,null,null,null,null,null,null,null,null,null,null,null,null,"VME(a23/c37)","",{"$f":"BH$181*BH38","v":0},0,0,0,0,0,0,0,0,0,0,0,0,0,0,0,0,0,0,0,0,0,0,0,0,0,0,0,0,0,0,0,{"$f":"CN$181*CN38","v":0},0,0,0,0,0,0,0,0,0,0,0,0,0,0,0,0,0]
[null,null,null,null,null,null,null,null,null,null,null,null,null,null,null,null,null,null,null,null,null,null,null,null,null,null,null,null,null,null,null,null,null,null,null,null,null,null,null,null,null,null,null,null,null,null,null,null,null,null,null,null,null,null,null,null,null,"VME(a23/c48)","",{"$f":"BH$181*BH49","v":0},0,0,0,0,0,0,0,0,0,0,0,0,0,0,0,0,0,0,0,0,0,0,0,0,0,0,0,0,0,0,0,{"$f":"CN$181*CN49","v":0},0,0,0,0,0,0,0,0,0,0,0,0,0,0,0,0,0]
[null,null,null,null,null,null,null,null,null,null,null,null,null,null,null,null,null,null,null,null,null,null,null,null,null,null,null,null,null,null,null,null,null,null,null,null,null,null,null,null,null,null,null,null,null,null,null,null,null,null,null,null,null,null,null,null,null,"VME(a24/c7)","",{"$f":"BH$182*BH8","v":0},0,0,0,0,0,0,0,0,0,0,0,0,0,0,0,0,0,0,0,0,0,0,0,0,0,0,0,0,0,0,0,{"$f":"CN$182*CN8","v":0},0,0,0,0,0,0,0,0,0,0,0,0,0,0,0,0,0]
[null,null,null,null,null,null,null,null,null,null,null,null,null,null,null,null,null,null,null,null,null,null,null,null,null,null,null,null,null,null,null,null,null,null,null,null,null,null,null,null,null,null,null,null,null,null,null,null,null,null,null,null,null,null,null,null,null,"VME(a24/c13)","",{"$f":"BH$182*BH14","v":0},0,0,0,0,0,0,0,0,0,0,0,0,0,0,0,0,0,0,0,0,0,0,0,0,0,0,0,0,0,0,0,{"$f":"CN$182*CN14","v":0},0,0,0,0,0,0,0,0,0,0,0,0,0,0,0,0,0]
[null,null,null,null,null,null,null,null,null,null,null,null,null,null,null,null,null,null,null,null,null,null,null,null,null,null,null,null,null,null,null,null,null,null,null,null,null,null,null,null,null,null,null,null,null,null,null,null,null,null,null,null,null,null,null,null,null,"VME(a24/c27)","",{"$f":"BH$182*BH28","v":0},0,0,0,0,0,0,0,0,0,0,0,0,0,0,0,0,0,0,0,0,0,0,0,0,0,0,0,0,0,0,0,{"$f":"CN$182*CN28","v":0},0,0,0,0,0,0,0,0,0,0,0,0,0,0,0,0,0]
[null,null,null,null,null,null,null,null,null,null,null,null,null,null,null,null,null,null,null,null,null,null,null,null,null,null,null,null,null,null,null,null,null,null,null,null,null,null,null,null,null,null,null,null,null,null,null,null,null,null,null,null,null,null,null,null,null,"VME(a24/c38)","",{"$f":"BH$182*BH39","v":0},0,0,0,0,0,0,0,0,0,0,0,0,0,0,0,0,0,0,0,0,0,0,0,0,0,0,0,0,0,0,0,{"$f":"CN$182*CN39","v":0},0,0,0,0,0,0,0,0,0,0,0,0,0,0,0,0,0]
[null,null,null,null,null,null,null,null,null,null,null,null,null,null,null,null,null,null,null,null,null,null,null,null,null,null,null,null,null,null,null,null,null,null,null,null,null,null,null,null,null,null,null,null,null,null,null,null,null,null,null,null,null,null,null,null,null,"VME(a24/c43)","",{"$f":"BH$182*BH44","v":0},0,0,0,0,0,0,0,0,0,0,0,0,0,0,0,0,0,0,0,0,0,0,0,0,0,0,0,0,0,0,0,{"$f":"CN$182*CN44","v":0},0,0,0,0,0,0,0,0,0,0,0,0,0,0,0,0,0]
[null,null,null,null,null,null,null,null,null,null,null,null,null,null,null,null,null,null,null,null,null,null,null,null,null,null,null,null,null,null,null,null,null,null,null,null,null,null,null,null,null,null,null,null,null,null,null,null,null,null,null,null,null,null,null,null,null,"VME(a25/c10)","",{"$f":"BH$183*BH11","v":0},0,0,0,0,0,0,0,0,0,0,0,0,0,0,0,0,0,0,0,0,0,0,0,0,0,0,0,0,0,0,0,{"$f":"CN$183*CN11","v":0},0,0,0,0,0,0,0,0,0,0,0,0,0,0,0,0,0]
[null,null,null,null,null,null,null,null,null,null,null,null,null,null,null,null,null,null,null,null,null,null,null,null,null,null,null,null,null,null,null,null,null,null,null,null,null,null,null,null,null,null,null,null,null,null,null,null,null,null,null,null,null,null,null,null,null,"VME(a25/c18)","",{"$f":"BH$183*BH19","v":0},0,0,0,0,0,0,0,0,0,0,0,0,0,0,0,0,0,0,0,0,0,0,0,0,0,0,0,0,0,0,0,{"$f":"CN$183*CN19","v":0},0,0,0,0,0,0,0,0,0,0,0,0,0,0,0,0,0]
[null,null,null,null,null,null,null,null,null,null,null,null,null,null,null,null,null,null,null,null,null,null,null,null,null,null,null,null,null,null,null,null,null,null,null,null,null,null,null,null,null,null,null,null,null,null,null,null,null,null,null,null,null,null,null,null,null,"VME(a25/c26)","",{"$f":"BH$183*BH27","v":0},0,0,0,0,0,0,0,0,0,0,0,0,0,0,0,0,0,0,0,0,0,0,0,0,0,0,0,0,0,0,0,{"$f":"CN$183*CN27","v":0},0,0,0,0,0,0,0,0,0,0,0,0,0,0,0,0,0]
[null,null,null,null,null,null,null,null,null,null,null,null,null,null,null,null,null,null,null,null,null,null,null,null,null,null,null,null,null,null,null,null,null,null,null,null,null,null,null,null,null,null,null,null,null,null,null,null,null,null,null,null,null,null,null,null,null,"VME(a25/c33)","",{"$f":"BH$183*BH34","v":0},0,0,0,0,0,0,0,0,0,0,0,0,0,0,0,0,0,0,0,0,0,0,0,0,0,0,0,0,0,0,0,{"$f":"CN$183*CN34","v":0},0,0,0,0,0,0,0,0,0,0,0,0,0,0,0,0,0]
[null,null,null,null,null,null,null,null,null,null,null,null,null,null,null,null,null,null,null,null,null,null,null,null,null,null,null,null,null,null,null,null,null,null,null,null,null,null,null,null,null,null,null,null,null,null,null,null,null,null,null,null,null,null,null,null,null,"VME(a25/c48)","",{"$f":"BH$183*BH49","v":0},0,0,0,0,0,0,0,0,0,0,0,0,0,0,0,0,0,0,0,0,0,0,0,0,0,0,0,0,0,0,0,{"$f":"CN$183*CN49","v":0},0,0,0,0,0,0,0,0,0,0,0,0,0,0,0,0,0]
[null,null,null,null,null,null,null,null,null,null,null,null,null,null,null,null,null,null,null,null,null,null,null,null,null,null,null,null,null,null,null,null,null,null,null,null,null,null,null,null,null,null,null,null,null,null,null,null,null,null,null,null,null,null,null,null,null,"VME(a26/c4)","",{"$f":"BH$184*BH5","v":0},0,0,0,0,0,0,0,0,0,0,0,0,0,0,0,0,0,0,0,0,0,0,0,0,0,0,0,0,0,0,0,{"$f":"CN$184*CN5","v":0},0,0,0,0,0,0,0,0,0,0,0,0,0,0,0,0,0]
[null,null,null,null,null,null,null,null,null,null,null,null,null,null,null,null,null,null,null,null,null,null,null,null,null,null,null,null,null,null,null,null,null,null,null,null,null,null,null,null,null,null,null,null,null,null,null,null,null,null,null,null,null,null,null,null,null,"VME(a26/c13)","",{"$f":"BH$184*BH14","v":0},0,0,0,0,0,0,0,0,0,0,0,0,0,0,0,0,0,0,0,0,0,0,0,0,0,0,0,0,0,0,0,{"$f":"CN$184*CN14","v":0},0,0,0,0,0,0,0,0,0,0,0,0,0,0,0,0,0]
[null,null,null,null,null,null,null,null,null,null,null,null,null,null,null,null,null,null,null,null,null,null,null,null,null,null,null,null,null,null,null,null,null,null,null,null,null,null,null,null,null,null,null,null,null,null,null,null,null,null,null,null,null,null,null,null,null,"VME(a26/c20)","",{"$f":"BH$184*BH21","v":0},0,0,0,0,0,0,0,0,0,0,0,0,0,0,0,0,0,0,0,0,0,0,0,0,0,0,0,0,0,0,0,{"$f":"CN$184*CN21","v":0},0,0,0,0,0,0,0,0,0,0,0,0,0,0,0,0,0]
[null,null,null,null,null,null,null,null,null,null,null,null,null,null,null,null,null,null,null,null,null,null,null,null,null,null,null,null,null,null,null,null,null,null,null,null,null,null,null,null,null,null,null,null,null,null,null,null,null,null,null,null,null,null,null,null,null,"VME(a26/c28)","",{"$f":"BH$184*BH29","v":0},0,0,0,0,0,0,0,0,0,0,0,0,0,0,0,0,0,0,0,0,0,0,0,0,0,0,0,0,0,0,0,{"$f":"CN$184*CN29","v":0},0,0,0,0,0,0,0,0,0,0,0,0,0,0,0,0,0]
[null,null,null,null,null,null,null,null,null,null,null,null,null,null,null,null,null,null,null,null,null,null,null,null,null,null,null,null,null,null,null,null,null,null,null,null,null,null,null,null,null,null,null,null,null,null,null,null,null,null,null,null,null,null,null,null,null,"VME(a26/c43)","",{"$f":"BH$184*BH44","v":0},0,0,0,0,0,0,0,0,0,0,0,0,0,0,0,0,0,0,0,0,0,0,0,0,0,0,0,0,0,0,0,{"$f":"CN$184*CN44","v":0},0,0,0,0,0,0,0,0,0,0,0,0,0,0,0,0,0]
[null,null,null,null,null,null,null,null,null,null,null,null,null,null,null,null,null,null,null,null,null,null,null,null,null,null,null,null,null,null,null,null,null,null,null,null,null,null,null,null,null,null,null,null,null,null,null,null,null,null,null,null,null,null,null,null,null,"VME(a26/c48)","",{"$f":"BH$184*BH49","v":0},0,0,0,0,0,0,0,0,0,0,0,0,0,0,0,0,0,0,0,0,0,0,0,0,0,0,0,0,0,0,0,{"$f":"CN$184*CN49","v":0},0,0,0,0,0,0,0,0,0,0,0,0,0,0,0,0,0]
[null,null,null,null,null,null,null,null,null,null,null,null,null,null,null,null,null,null,null,null,null,null,null,null,null,null,null,null,null,null,null,null,null,null,null,null,null,null,null,null,null,null,null,null,null,null,null,null,null,null,null,null,null,null,null,null,null,"VME(a27/c8)","",{"$f":"BH$185*BH9","v":0},0,0,0,0,0,0,0,0,0,0,0,0,0,0,0,0,0,0,0,0,0,0,0,0,0,0,0,0,0,0,0,{"$f":"CN$185*CN9","v":0},0,0,0,0,0,0,0,0,0,0,0,0,0,0,0,0,0]
[null,null,null,null,null,null,null,null,null,null,null,null,null,null,null,null,null,null,null,null,null,null,null,null,null,null,null,null,null,null,null,null,null,null,null,null,null,null,null,null,null,null,null,null,null,null,null,null,null,null,null,null,null,null,null,null,null,"VME(a27/c23)","",{"$f":"BH$185*BH24","v":0},0,0,0,0,0,0,0,0,0,0,0,0,0,0,0,0,0,0,0,0,0,0,0,0,0,0,0,0,0,0,0,{"$f":"CN$185*CN24","v":0},0,0,0,0,0,0,0,0,0,0,0,0,0,0,0,0,0]
[null,null,null,null,null,null,null,null,null,null,null,null,null,null,null,null,null,null,null,null,null,null,null,null,null,null,null,null,null,null,null,null,null,null,null,null,null,null,null,null,null,null,null,null,null,null,null,null,null,null,null,null,null,null,null,null,null,"VME(a27/c33)","",{"$f":"BH$185*BH34","v":0},0,0,0,0,0,0,0,0,0,0,0,0,0,0,0,0,0,0,0,0,0,0,0,0,0,0,0,0,0,0,0,{"$f":"CN$185*CN34","v":0},0,0,0,0,0,0,0,0,0,0,0,0,0,0,0,0,0]
[null,null,null,null,null,null,null,null,null,null,null,null,null,null,null,null,null,null,null,null,null,null,null,null,null,null,null,null,null,null,null,null,null,null,null,null,null,null,null,null,null,null,null,null,null,null,null,null,null,null,null,null,null,null,null,null,null,"VME(a27/c43)","",{"$f":"BH$185*BH44","v":0},0,0,0,0,0,0,0,0,0,0,0,0,0,0,0,0,0,0,0,0,0,0,0,0,0,0,0,0,0,0,0,{"$f":"CN$185*CN44","v":0},0,0,0,0,0,0,0,0,0,0,0,0,0,0,0,0,0]
[null,null,null,null,null,null,null,null,null,null,null,null,null,null,null,null,null,null,null,null,null,null,null,null,null,null,null,null,null,null,null,null,null,null,null,null,null,null,null,null,null,null,null,null,null,null,null,null,null,null,null,null,null,null,null,null,null,"VME(a28/c2)",{"$f":"IF(BH$186=\"\",\"\",SUM(BH1561:DE1561))","v":""},{"$f":"BH$186*BH3","v":0},0,0,0,0,0,0,0,0,0,0,0,0,0,0,0,0,0,0,0,0,0,0,0,0,0,0,0,0,0,0,0,{"$f":"CN$186*CN3","v":0},0,0,0,0,0,0,0,0,0,0,0,0,0,0,0,0,0]
[null,null,null,null,null,null,null,null,null,null,null,null,null,null,null,null,null,null,null,null,null,null,null,null,null,null,null,null,null,null,null,null,null,null,null,null,null,null,null,null,null,null,null,null,null,null,null,null,null,null,null,null,null,null,null,null,null,"VME(a28/c13)","",{"$f":"BH$186*BH14","v":0},0,0,0,0,0,0,0,0,0,0,0,0,0,0,0,0,0,0,0,0,0,0,0,0,0,0,0,0,0,0,0,{"$f":"CN$186*CN14","v":0},0,0,0,0,0,0,0,0,0,0,0,0,0,0,0,0,0]
[null,null,null,null,null,null,null,null,null,null,null,null,null,null,null,null,null,null,null,null,null,null,null,null,null,null,null,null,null,null,null,null,null,null,null,null,null,null,null,null,null,null,null,null,null,null,null,null,null,null,null,null,null,null,null,null,null,"VME(a28/c17)","",{"$f":"BH$186*BH18","v":0},0,0,0,0,0,0,0,0,0,0,0,0,0,0,0,0,0,0,0,0,0,0,0,0,0,0,0,0,0,0,0,{"$f":"CN$186*CN18","v":0},0,0,0,0,0,0,0,0,0,0,0,0,0,0,0,0,0]
[null,null,null,null,null,null,null,null,null,null,null,null,null,null,null,null,null,null,null,null,null,null,null,null,null,null,null,null,null,null,null,null,null,null,null,null,null,null,null,null,null,null,null,null,null,null,null,null,null,null,null,null,null,null,null,null,null,"VME(a28/c28)","",{"$f":"BH$186*BH29","v":0},0,0,0,0,0,0,0,0,0,0,0,0,0,0,0,0,0,0,0,0,0,0,0,0,0,0,0,0,0,0,0,{"$f":"CN$186*CN29","v":0},0,0,0,0,0,0,0,0,0,0,0,0,0,0,0,0,0]
[null,null,null,null,null,null,null,null,null,null,null,null,null,null,null,null,null,null,null,null,null,null,null,null,null,null,null,null,null,null,null,null,null,null,null,null,null,null,null,null,null,null,null,null,null,null,null,null,null,null,null,null,null,null,null,null,null,"VME(a28/c37)","",{"$f":"BH$186*BH38","v":0},0,0,0,0,0,0,0,0,0,0,0,0,0,0,0,0,0,0,0,0,0,0,0,0,0,0,0,0,0,0,0,{"$f":"CN$186*CN38","v":0},0,0,0,0,0,0,0,0,0,0,0,0,0,0,0,0,0]
[null,null,null,null,null,null,null,null,null,null,null,null,null,null,null,null,null,null,null,null,null,null,null,null,null,null,null,null,null,null,null,null,null,null,null,null,null,null,null,null,null,null,null,null,null,null,null,null,null,null,null,null,null,null,null,null,null,"VME(a28/c47)","",{"$f":"BH$186*BH48","v":0},0,0,0,0,0,0,0,0,0,0,0,0,0,0,0,0,0,0,0,0,0,0,0,0,0,0,0,0,0,0,0,{"$f":"CN$186*CN48","v":0},0,0,0,0,0,0,0,0,0,0,0,0,0,0,0,0,0]
[null,null,null,null,null,null,null,null,null,null,null,null,null,null,null,null,null,null,null,null,null,null,null,null,null,null,null,null,null,null,null,null,null,null,null,null,null,null,null,null,null,null,null,null,null,null,null,null,null,null,null,null,null,null,null,null,null,"VME(a29/c8)","",{"$f":"BH$187*BH9","v":0},0,0,0,0,0,0,0,0,0,0,0,0,0,0,0,0,0,0,0,0,0,0,0,0,0,0,0,0,0,0,0,{"$f":"CN$187*CN9","v":0},0,0,0,0,0,0,0,0,0,0,0,0,0,0,0,0,0]
[null,null,null,null,null,null,null,null,null,null,null,null,null,null,null,null,null,null,null,null,null,null,null,null,null,null,null,null,null,null,null,null,null,null,null,null,null,null,null,null,null,null,null,null,null,null,null,null,null,null,null,null,null,null,null,null,null,"VME(a29/c20)","",{"$f":"BH$187*BH21","v":0},0,0,0,0,0,0,0,0,0,0,0,0,0,0,0,0,0,0,0,0,0,0,0,0,0,0,0,0,0,0,0,{"$f":"CN$187*CN21","v":0},0,0,0,0,0,0,0,0,0,0,0,0,0,0,0,0,0]
[null,null,null,null,null,null,null,null,null,null,null,null,null,null,null,null,null,null,null,null,null,null,null,null,null,null,null,null,null,null,null,null,null,null,null,null,null,null,null,null,null,null,null,null,null,null,null,null,null,null,null,null,null,null,null,null,null,"VME(a29/c23)","",{"$f":"BH$187*BH24","v":0},0,0,0,0,0,0,0,0,0,0,0,0,0,0,0,0,0,0,0,0,0,0,0,0,0,0,0,0,0,0,0,{"$f":"CN$187*CN24","v":0},0,0,0,0,0,0,0,0,0,0,0,0,0,0,0,0,0]
[null,null,null,null,null,null,null,null,null,null,null,null,null,null,null,null,null,null,null,null,null,null,null,null,null,null,null,null,null,null,null,null,null,null,null,null,null,null,null,null,null,null,null,null,null,null,null,null,null,null,null,null,null,null,null,null,null,"VME(a29/c40)","",{"$f":"BH$187*BH41","v":0},0,0,0,0,0,0,0,0,0,0,0,0,0,0,0,0,0,0,0,0,0,0,0,0,0,0,0,0,0,0,0,{"$f":"CN$187*CN41","v":0},0,0,0,0,0,0,0,0,0,0,0,0,0,0,0,0,0]
[null,null,null,null,null,null,null,null,null,null,null,null,null,null,null,null,null,null,null,null,null,null,null,null,null,null,null,null,null,null,null,null,null,null,null,null,null,null,null,null,null,null,null,null,null,null,null,null,null,null,null,null,null,null,null,null,null,"VME(a29/c42)","",{"$f":"BH$187*BH43","v":0},0,0,0,0,0,0,0,0,0,0,0,0,0,0,0,0,0,0,0,0,0,0,0,0,0,0,0,0,0,0,0,{"$f":"CN$187*CN43","v":0},0,0,0,0,0,0,0,0,0,0,0,0,0,0,0,0,0]
[null,null,null,null,null,null,null,null,null,null,null,null,null,null,null,null,null,null,null,null,null,null,null,null,null,null,null,null,null,null,null,null,null,null,null,null,null,null,null,null,null,null,null,null,null,null,null,null,null,null,null,null,null,null,null,null,null,"VME(a30/c3)","",{"$f":"BH$188*BH4","v":0},0,0,0,0,0,0,0,0,0,0,0,0,0,0,0,0,0,0,0,0,0,0,0,0,0,0,0,0,0,0,0,{"$f":"CN$188*CN4","v":0},0,0,0,0,0,0,0,0,0,0,0,0,0,0,0,0,0]
[null,null,null,null,null,null,null,null,null,null,null,null,null,null,null,null,null,null,null,null,null,null,null,null,null,null,null,null,null,null,null,null,null,null,null,null,null,null,null,null,null,null,null,null,null,null,null,null,null,null,null,null,null,null,null,null,null,"VME(a30/c14)","",{"$f":"BH$188*BH15","v":0},0,0,0,0,0,0,0,0,0,0,0,0,0,0,0,0,0,0,0,0,0,0,0,0,0,0,0,0,0,0,0,{"$f":"CN$188*CN15","v":0},0,0,0,0,0,0,0,0,0,0,0,0,0,0,0,0,0]
[null,null,null,null,null,null,null,null,null,null,null,null,null,null,null,null,null,null,null,null,null,null,null,null,null,null,null,null,null,null,null,null,null,null,null,null,null,null,null,null,null,null,null,null,null,null,null,null,null,null,null,null,null,null,null,null,null,"VME(a30/c22)","",{"$f":"BH$188*BH23","v":0},0,0,0,0,0,0,0,0,0,0,0,0,0,0,0,0,0,0,0,0,0,0,0,0,0,0,0,0,0,0,0,{"$f":"CN$188*CN23","v":0},0,0,0,0,0,0,0,0,0,0,0,0,0,0,0,0,0]
[null,null,null,null,null,null,null,null,null,null,null,null,null,null,null,null,null,null,null,null,null,null,null,null,null,null,null,null,null,null,null,null,null,null,null,null,null,null,null,null,null,null,null,null,null,null,null,null,null,null,null,null,null,null,null,null,null,"VME(a30/c34)","",{"$f":"BH$188*BH35","v":0},0,0,0,0,0,0,0,0,0,0,0,0,0,0,0,0,0,0,0,0,0,0,0,0,0,0,0,0,0,0,0,{"$f":"CN$188*CN35","v":0},0,0,0,0,0,0,0,0,0,0,0,0,0,0,0,0,0]
[null,null,null,null,null,null,null,null,null,null,null,null,null,null,null,null,null,null,null,null,null,null,null,null,null,null,null,null,null,null,null,null,null,null,null,null,null,null,null,null,null,null,null,null,null,null,null,null,null,null,null,null,null,null,null,null,null,"VME(a30/c47)","",{"$f":"BH$188*BH48","v":0},0,0,0,0,0,0,0,0,0,0,0,0,0,0,0,0,0,0,0,0,0,0,0,0,0,0,0,0,0,0,0,{"$f":"CN$188*CN48","v":0},0,0,0,0,0,0,0,0,0,0,0,0,0,0,0,0,0]
[null,null,null,null,null,null,null,null,null,null,null,null,null,null,null,null,null,null,null,null,null,null,null,null,null,null,null,null,null,null,null,null,null,null,null,null,null,null,null,null,null,null,null,null,null,null,null,null,null,null,null,null,null,null,null,null,null,"VME(a31/c4)","",{"$f":"BH$189*BH5","v":0},0,0,0,0,0,0,0,0,0,0,0,0,0,0,0,0,0,0,0,0,0,0,0,0,0,0,0,0,0,0,0,{"$f":"CN$189*CN5","v":0},0,0,0,0,0,0,0,0,0,0,0,0,0,0,0,0,0]
[null,null,null,null,null,null,null,null,null,null,null,null,null,null,null,null,null,null,null,null,null,null,null,null,null,null,null,null,null,null,null,null,null,null,null,null,null,null,null,null,null,null,null,null,null,null,null,null,null,null,null,null,null,null,null,null,null,"VME(a31/c12)","",{"$f":"BH$189*BH13","v":0},0,0,0,0,0,0,0,0,0,0,0,0,0,0,0,0,0,0,0,0,0,0,0,0,0,0,0,0,0,0,0,{"$f":"CN$189*CN13","v":0},0,0,0,0,0,0,0,0,0,0,0,0,0,0,0,0,0]
[null,null,null,null,null,null,null,null,null,null,null,null,null,null,null,null,null,null,null,null,null,null,null,null,null,null,null,null,null,null,null,null,null,null,null,null,null,null,null,null,null,null,null,null,null,null,null,null,null,null,null,null,null,null,null,null,null,"VME(a31/c27)","",{"$f":"BH$189*BH28","v":0},0,0,0,0,0,0,0,0,0,0,0,0,0,0,0,0,0,0,0,0,0,0,0,0,0,0,0,0,0,0,0,{"$f":"CN$189*CN28","v":0},0,0,0,0,0,0,0,0,0,0,0,0,0,0,0,0,0]
[null,null,null,null,null,null,null,null,null,null,null,null,null,null,null,null,null,null,null,null,null,null,null,null,null,null,null,null,null,null,null,null,null,null,null,null,null,null,null,null,null,null,null,null,null,null,null,null,null,null,null,null,null,null,null,null,null,"VME(a31/c28)","",{"$f":"BH$189*BH29","v":0},0,0,0,0,0,0,0,0,0,0,0,0,0,0,0,0,0,0,0,0,0,0,0,0,0,0,0,0,0,0,0,{"$f":"CN$189*CN29","v":0},0,0,0,0,0,0,0,0,0,0,0,0,0,0,0,0,0]
[null,null,null,null,null,null,null,null,null,null,null,null,null,null,null,null,null,null,null,null,null,null,null,null,null,null,null,null,null,null,null,null,null,null,null,null,null,null,null,null,null,null,null,null,null,null,null,null,null,null,null,null,null,null,null,null,null,"VME(a31/c42)","",{"$f":"BH$189*BH43","v":0},0,0,0,0,0,0,0,0,0,0,0,0,0,0,0,0,0,0,0,0,0,0,0,0,0,0,0,0,0,0,0,{"$f":"CN$189*CN43","v":0},0,0,0,0,0,0,0,0,0,0,0,0,0,0,0,0,0]
[null,null,null,null,null,null,null,null,null,null,null,null,null,null,null,null,null,null,null,null,null,null,null,null,null,null,null,null,null,null,null,null,null,null,null,null,null,null,null,null,null,null,null,null,null,null,null,null,null,null,null,null,null,null,null,null,null,"VME(a32/c3)","",{"$f":"BH$190*BH4","v":0},0,0,0,0,0,0,0,0,0,0,0,0,0,0,0,0,0,0,0,0,0,0,0,0,0,0,0,0,0,0,0,{"$f":"CN$190*CN4","v":0},0,0,0,0,0,0,0,0,0,0,0,0,0,0,0,0,0]
[null,null,null,null,null,null,null,null,null,null,null,null,null,null,null,null,null,null,null,null,null,null,null,null,null,null,null,null,null,null,null,null,null,null,null,null,null,null,null,null,null,null,null,null,null,null,null,null,null,null,null,null,null,null,null,null,null,"VME(a32/c7)","",{"$f":"BH$190*BH8","v":0},0,0,0,0,0,0,0,0,0,0,0,0,0,0,0,0,0,0,0,0,0,0,0,0,0,0,0,0,0,0,0,{"$f":"CN$190*CN8","v":0},0,0,0,0,0,0,0,0,0,0,0,0,0,0,0,0,0]
[null,null,null,null,null,null,null,null,null,null,null,null,null,null,null,null,null,null,null,null,null,null,null,null,null,null,null,null,null,null,null,null,null,null,null,null,null,null,null,null,null,null,null,null,null,null,null,null,null,null,null,null,null,null,null,null,null,"VME(a32/c22)","",{"$f":"BH$190*BH23","v":0},0,0,0,0,0,0,0,0,0,0,0,0,0,0,0,0,0,0,0,0,0,0,0,0,0,0,0,0,0,0,0,{"$f":"CN$190*CN23","v":0},0,0,0,0,0,0,0,0,0,0,0,0,0,0,0,0,0]
[null,null,null,null,null,null,null,null,null,null,null,null,null,null,null,null,null,null,null,null,null,null,null,null,null,null,null,null,null,null,null,null,null,null,null,null,null,null,null,null,null,null,null,null,null,null,null,null,null,null,null,null,null,null,null,null,null,"VME(a32/c31)","",{"$f":"BH$190*BH32","v":0},0,0,0,0,0,0,0,0,0,0,0,0,0,0,0,0,0,0,0,0,0,0,0,0,0,0,0,0,0,0,0,{"$f":"CN$190*CN32","v":0},0,0,0,0,0,0,0,0,0,0,0,0,0,0,0,0,0]
[null,null,null,null,null,null,null,null,null,null,null,null,null,null,null,null,null,null,null,null,null,null,null,null,null,null,null,null,null,null,null,null,null,null,null,null,null,null,null,null,null,null,null,null,null,null,null,null,null,null,null,null,null,null,null,null,null,"VME(a32/c37)","",{"$f":"BH$190*BH38","v":0},0,0,0,0,0,0,0,0,0,0,0,0,0,0,0,0,0,0,0,0,0,0,0,0,0,0,0,0,0,0,0,{"$f":"CN$190*CN38","v":0},0,0,0,0,0,0,0,0,0,0,0,0,0,0,0,0,0]
[null,null,null,null,null,null,null,null,null,null,null,null,null,null,null,null,null,null,null,null,null,null,null,null,null,null,null,null,null,null,null,null,null,null,null,null,null,null,null,null,null,null,null,null,null,null,null,null,null,null,null,null,null,null,null,null,null,"VME(a32/c47)","",{"$f":"BH$190*BH48","v":0},0,0,0,0,0,0,0,0,0,0,0,0,0,0,0,0,0,0,0,0,0,0,0,0,0,0,0,0,0,0,0,{"$f":"CN$190*CN48","v":0},0,0,0,0,0,0,0,0,0,0,0,0,0,0,0,0,0]
[null,null,null,null,null,null,null,null,null,null,null,null,null,null,null,null,null,null,null,null,null,null,null,null,null,null,null,null,null,null,null,null,null,null,null,null,null,null,null,null,null,null,null,null,null,null,null,null,null,null,null,null,null,null,null,null,null,"VME(a33/c12)","",{"$f":"BH$191*BH13","v":0},0,0,0,0,0,0,0,0,0,0,0,0,0,0,0,0,0,0,0,0,0,0,0,0,0,0,0,0,0,0,0,{"$f":"CN$191*CN13","v":0},0,0,0,0,0,0,0,0,0,0,0,0,0,0,0,0,0]
[null,null,null,null,null,null,null,null,null,null,null,null,null,null,null,null,null,null,null,null,null,null,null,null,null,null,null,null,null,null,null,null,null,null,null,null,null,null,null,null,null,null,null,null,null,null,null,null,null,null,null,null,null,null,null,null,null,"VME(a33/c17)","",{"$f":"BH$191*BH18","v":0},0,0,0,0,0,0,0,0,0,0,0,0,0,0,0,0,0,0,0,0,0,0,0,0,0,0,0,0,0,0,0,{"$f":"CN$191*CN18","v":0},0,0,0,0,0,0,0,0,0,0,0,0,0,0,0,0,0]
[null,null,null,null,null,null,null,null,null,null,null,null,null,null,null,null,null,null,null,null,null,null,null,null,null,null,null,null,null,null,null,null,null,null,null,null,null,null,null,null,null,null,null,null,null,null,null,null,null,null,null,null,null,null,null,null,null,"VME(a33/c25)","",{"$f":"BH$191*BH26","v":0},0,0,0,0,0,0,0,0,0,0,0,0,0,0,0,0,0,0,0,0,0,0,0,0,0,0,0,0,0,0,0,{"$f":"CN$191*CN26","v":0},0,0,0,0,0,0,0,0,0,0,0,0,0,0,0,0,0]
[null,null,null,null,null,null,null,null,null,null,null,null,null,null,null,null,null,null,null,null,null,null,null,null,null,null,null,null,null,null,null,null,null,null,null,null,null,null,null,null,null,null,null,null,null,null,null,null,null,null,null,null,null,null,null,null,null,"VME(a33/c42)","",{"$f":"BH$191*BH43","v":0},0,0,0,0,0,0,0,0,0,0,0,0,0,0,0,0,0,0,0,0,0,0,0,0,0,0,0,0,0,0,0,{"$f":"CN$191*CN43","v":0},0,0,0,0,0,0,0,0,0,0,0,0,0,0,0,0,0]
[null,null,null,null,null,null,null,null,null,null,null,null,null,null,null,null,null,null,null,null,null,null,null,null,null,null,null,null,null,null,null,null,null,null,null,null,null,null,null,null,null,null,null,null,null,null,null,null,null,null,null,null,null,null,null,null,null,"VME(a33/c50)","",{"$f":"BH$191*BH51","v":0},0,0,0,0,0,0,0,0,0,0,0,0,0,0,0,0,0,0,0,0,0,0,0,0,0,0,0,0,0,0,0,{"$f":"CN$191*CN51","v":0},0,0,0,0,0,0,0,0,0,0,0,0,0,0,0,0,0]
[null,null,null,null,null,null,null,null,null,null,null,null,null,null,null,null,null,null,null,null,null,null,null,null,null,null,null,null,null,null,null,null,null,null,null,null,null,null,null,null,null,null,null,null,null,null,null,null,null,null,null,null,null,null,null,null,null,"VME(a34/c7)","",{"$f":"BH$192*BH8","v":0},0,0,0,0,0,0,0,0,0,0,0,0,0,0,0,0,0,0,0,0,0,0,0,0,0,0,0,0,0,0,0,{"$f":"CN$192*CN8","v":0},0,0,0,0,0,0,0,0,0,0,0,0,0,0,0,0,0]
[null,null,null,null,null,null,null,null,null,null,null,null,null,null,null,null,null,null,null,null,null,null,null,null,null,null,null,null,null,null,null,null,null,null,null,null,null,null,null,null,null,null,null,null,null,null,null,null,null,null,null,null,null,null,null,null,null,"VME(a34/c20)","",{"$f":"BH$192*BH21","v":0},0,0,0,0,0,0,0,0,0,0,0,0,0,0,0,0,0,0,0,0,0,0,0,0,0,0,0,0,0,0,0,{"$f":"CN$192*CN21","v":0},0,0,0,0,0,0,0,0,0,0,0,0,0,0,0,0,0]
[null,null,null,null,null,null,null,null,null,null,null,null,null,null,null,null,null,null,null,null,null,null,null,null,null,null,null,null,null,null,null,null,null,null,null,null,null,null,null,null,null,null,null,null,null,null,null,null,null,null,null,null,null,null,null,null,null,"VME(a34/c26)","",{"$f":"BH$192*BH27","v":0},0,0,0,0,0,0,0,0,0,0,0,0,0,0,0,0,0,0,0,0,0,0,0,0,0,0,0,0,0,0,0,{"$f":"CN$192*CN27","v":0},0,0,0,0,0,0,0,0,0,0,0,0,0,0,0,0,0]
[null,null,null,null,null,null,null,null,null,null,null,null,null,null,null,null,null,null,null,null,null,null,null,null,null,null,null,null,null,null,null,null,null,null,null,null,null,null,null,null,null,null,null,null,null,null,null,null,null,null,null,null,null,null,null,null,null,"VME(a34/c37)","",{"$f":"BH$192*BH38","v":0},0,0,0,0,0,0,0,0,0,0,0,0,0,0,0,0,0,0,0,0,0,0,0,0,0,0,0,0,0,0,0,{"$f":"CN$192*CN38","v":0},0,0,0,0,0,0,0,0,0,0,0,0,0,0,0,0,0]
[null,null,null,null,null,null,null,null,null,null,null,null,null,null,null,null,null,null,null,null,null,null,null,null,null,null,null,null,null,null,null,null,null,null,null,null,null,null,null,null,null,null,null,null,null,null,null,null,null,null,null,null,null,null,null,null,null,"VME(a34/c44)","",{"$f":"BH$192*BH45","v":0},0,0,0,0,0,0,0,0,0,0,0,0,0,0,0,0,0,0,0,0,0,0,0,0,0,0,0,0,0,0,0,{"$f":"CN$192*CN45","v":0},0,0,0,0,0,0,0,0,0,0,0,0,0,0,0,0,0]
[null,null,null,null,null,null,null,null,null,null,null,null,null,null,null,null,null,null,null,null,null,null,null,null,null,null,null,null,null,null,null,null,null,null,null,null,null,null,null,null,null,null,null,null,null,null,null,null,null,null,null,null,null,null,null,null,null,"VME(a35/c2)",{"$f":"IF(BH$193=\"\",\"\",SUM(BH1911:DE1911))","v":""},{"$f":"BH$193*BH3","v":0},0,0,0,0,0,0,0,0,0,0,0,0,0,0,0,0,0,0,0,0,0,0,0,0,0,0,0,0,0,0,0,{"$f":"CN$193*CN3","v":0},0,0,0,0,0,0,0,0,0,0,0,0,0,0,0,0,0]
[null,null,null,null,null,null,null,null,null,null,null,null,null,null,null,null,null,null,null,null,null,null,null,null,null,null,null,null,null,null,null,null,null,null,null,null,null,null,null,null,null,null,null,null,null,null,null,null,null,null,null,null,null,null,null,null,null,"VME(a35/c14)","",{"$f":"BH$193*BH15","v":0},0,0,0,0,0,0,0,0,0,0,0,0,0,0,0,0,0,0,0,0,0,0,0,0,0,0,0,0,0,0,0,{"$f":"CN$193*CN15","v":0},0,0,0,0,0,0,0,0,0,0,0,0,0,0,0,0,0]
[null,null,null,null,null,null,null,null,null,null,null,null,null,null,null,null,null,null,null,null,null,null,null,null,null,null,null,null,null,null,null,null,null,null,null,null,null,null,null,null,null,null,null,null,null,null,null,null,null,null,null,null,null,null,null,null,null,"VME(a35/c21)","",{"$f":"BH$193*BH22","v":0},0,0,0,0,0,0,0,0,0,0,0,0,0,0,0,0,0,0,0,0,0,0,0,0,0,0,0,0,0,0,0,{"$f":"CN$193*CN22","v":0},0,0,0,0,0,0,0,0,0,0,0,0,0,0,0,0,0]
[null,null,null,null,null,null,null,null,null,null,null,null,null,null,null,null,null,null,null,null,null,null,null,null,null,null,null,null,null,null,null,null,null,null,null,null,null,null,null,null,null,null,null,null,null,null,null,null,null,null,null,null,null,null,null,null,null,"VME(a35/c32)","",{"$f":"BH$193*BH33","v":0},0,0,0,0,0,0,0,0,0,0,0,0,0,0,0,0,0,0,0,0,0,0,0,0,0,0,0,0,0,0,0,{"$f":"CN$193*CN33","v":0},0,0,0,0,0,0,0,0,0,0,0,0,0,0,0,0,0]
[null,null,null,null,null,null,null,null,null,null,null,null,null,null,null,null,null,null,null,null,null,null,null,null,null,null,null,null,null,null,null,null,null,null,null,null,null,null,null,null,null,null,null,null,null,null,null,null,null,null,null,null,null,null,null,null,null,"VME(a35/c47)","",{"$f":"BH$193*BH48","v":0},0,0,0,0,0,0,0,0,0,0,0,0,0,0,0,0,0,0,0,0,0,0,0,0,0,0,0,0,0,0,0,{"$f":"CN$193*CN48","v":0},0,0,0,0,0,0,0,0,0,0,0,0,0,0,0,0,0]
[null,null,null,null,null,null,null,null,null,null,null,null,null,null,null,null,null,null,null,null,null,null,null,null,null,null,null,null,null,null,null,null,null,null,null,null,null,null,null,null,null,null,null,null,null,null,null,null,null,null,null,null,null,null,null,null,null,"VME(a36/c1)",{"$f":"IF(BH$194=\"\",\"\",SUM(BH1960:DE1960))","v":""},{"$f":"BH$194*BH2","v":0},0,0,0,0,0,0,0,0,0,0,0,0,0,0,0,0,0,0,0,0,0,0,0,0,0,0,0,0,0,0,0,{"$f":"CN$194*CN2","v":0},0,0,0,0,0,0,0,0,0,0,0,0,0,0,0,0,0]
[null,null,null,null,null,null,null,null,null,null,null,null,null,null,null,null,null,null,null,null,null,null,null,null,null,null,null,null,null,null,null,null,null,null,null,null,null,null,null,null,null,null,null,null,null,null,null,null,null,null,null,null,null,null,null,null,null,"VME(a36/c8)","",{"$f":"BH$194*BH9","v":0},0,0,0,0,0,0,0,0,0,0,0,0,0,0,0,0,0,0,0,0,0,0,0,0,0,0,0,0,0,0,0,{"$f":"CN$194*CN9","v":0},0,0,0,0,0,0,0,0,0,0,0,0,0,0,0,0,0]
[null,null,null,null,null,null,null,null,null,null,null,null,null,null,null,null,null,null,null,null,null,null,null,null,null,null,null,null,null,null,null,null,null,null,null,null,null,null,null,null,null,null,null,null,null,null,null,null,null,null,null,null,null,null,null,null,null,"VME(a36/c26)","",{"$f":"BH$194*BH27","v":0},0,0,0,0,0,0,0,0,0,0,0,0,0,0,0,0,0,0,0,0,0,0,0,0,0,0,0,0,0,0,0,{"$f":"CN$194*CN27","v":0},0,0,0,0,0,0,0,0,0,0,0,0,0,0,0,0,0]
[null,null,null,null,null,null,null,null,null,null,null,null,null,null,null,null,null,null,null,null,null,null,null,null,null,null,null,null,null,null,null,null,null,null,null,null,null,null,null,null,null,null,null,null,null,null,null,null,null,null,null,null,null,null,null,null,null,"VME(a36/c27)","",{"$f":"BH$194*BH28","v":0},0,0,0,0,0,0,0,0,0,0,0,0,0,0,0,0,0,0,0,0,0,0,0,0,0,0,0,0,0,0,0,{"$f":"CN$194*CN28","v":0},0,0,0,0,0,0,0,0,0,0,0,0,0,0,0,0,0]
[null,null,null,null,null,null,null,null,null,null,null,null,null,null,null,null,null,null,null,null,null,null,null,null,null,null,null,null,null,null,null,null,null,null,null,null,null,null,null,null,null,null,null,null,null,null,null,null,null,null,null,null,null,null,null,null,null,"VME(a36/c41)","",{"$f":"BH$194*BH42","v":0},0,0,0,0,0,0,0,0,0,0,0,0,0,0,0,0,0,0,0,0,0,0,0,0,0,0,0,0,0,0,0,{"$f":"CN$194*CN42","v":0},0,0,0,0,0,0,0,0,0,0,0,0,0,0,0,0,0]
[null,null,null,null,null,null,null,null,null,null,null,null,null,null,null,null,null,null,null,null,null,null,null,null,null,null,null,null,null,null,null,null,null,null,null,null,null,null,null,null,null,null,null,null,null,null,null,null,null,null,null,null,null,null,null,null,null,"VME(a36/c46)","",{"$f":"BH$194*BH47","v":0},0,0,0,0,0,0,0,0,0,0,0,0,0,0,0,0,0,0,0,0,0,0,0,0,0,0,0,0,0,0,0,{"$f":"CN$194*CN47","v":0},0,0,0,0,0,0,0,0,0,0,0,0,0,0,0,0,0]
[null,null,null,null,null,null,null,null,null,null,null,null,null,null,null,null,null,null,null,null,null,null,null,null,null,null,null,null,null,null,null,null,null,null,null,null,null,null,null,null,null,null,null,null,null,null,null,null,null,null,null,null,null,null,null,null,null,"VME(a37/c11)","",{"$f":"BH$195*BH12","v":0},0,0,0,0,0,0,0,0,0,0,0,0,0,0,0,0,0,0,0,0,0,0,0,0,0,0,0,0,0,0,0,{"$f":"CN$195*CN12","v":0},0,0,0,0,0,0,0,0,0,0,0,0,0,0,0,0,0]
[null,null,null,null,null,null,null,null,null,null,null,null,null,null,null,null,null,null,null,null,null,null,null,null,null,null,null,null,null,null,null,null,null,null,null,null,null,null,null,null,null,null,null,null,null,null,null,null,null,null,null,null,null,null,null,null,null,"VME(a37/c21)","",{"$f":"BH$195*BH22","v":0},0,0,0,0,0,0,0,0,0,0,0,0,0,0,0,0,0,0,0,0,0,0,0,0,0,0,0,0,0,0,0,{"$f":"CN$195*CN22","v":0},0,0,0,0,0,0,0,0,0,0,0,0,0,0,0,0,0]
[null,null,null,null,null,null,null,null,null,null,null,null,null,null,null,null,null,null,null,null,null,null,null,null,null,null,null,null,null,null,null,null,null,null,null,null,null,null,null,null,null,null,null,null,null,null,null,null,null,null,null,null,null,null,null,null,null,"VME(a37/c31)","",{"$f":"BH$195*BH32","v":0},0,0,0,0,0,0,0,0,0,0,0,0,0,0,0,0,0,0,0,0,0,0,0,0,0,0,0,0,0,0,0,{"$f":"CN$195*CN32","v":0},0,0,0,0,0,0,0,0,0,0,0,0,0,0,0,0,0]
[null,null,null,null,null,null,null,null,null,null,null,null,null,null,null,null,null,null,null,null,null,null,null,null,null,null,null,null,null,null,null,null,null,null,null,null,null,null,null,null,null,null,null,null,null,null,null,null,null,null,null,null,null,null,null,null,null,"VME(a37/c36)","",{"$f":"BH$195*BH37","v":0},0,0,0,0,0,0,0,0,0,0,0,0,0,0,0,0,0,0,0,0,0,0,0,0,0,0,0,0,0,0,0,{"$f":"CN$195*CN37","v":0},0,0,0,0,0,0,0,0,0,0,0,0,0,0,0,0,0]
[null,null,null,null,null,null,null,null,null,null,null,null,null,null,null,null,null,null,null,null,null,null,null,null,null,null,null,null,null,null,null,null,null,null,null,null,null,null,null,null,null,null,null,null,null,null,null,null,null,null,null,null,null,null,null,null,null,"VME(a38/c1)",{"$f":"IF(BH$196=\"\",\"\",SUM(BH2060:DE2060))","v":""},{"$f":"BH$196*BH2","v":0},0,0,0,0,0,0,0,0,0,0,0,0,0,0,0,0,0,0,0,0,0,0,0,0,0,0,0,0,0,0,0,{"$f":"CN$196*CN2","v":0},0,0,0,0,0,0,0,0,0,0,0,0,0,0,0,0,0]
[null,null,null,null,null,null,null,null,null,null,null,null,null,null,null,null,null,null,null,null,null,null,null,null,null,null,null,null,null,null,null,null,null,null,null,null,null,null,null,null,null,null,null,null,null,null,null,null,null,null,null,null,null,null,null,null,null,"VME(a38/c5)","",{"$f":"BH$196*BH6","v":0},0,0,0,0,0,0,0,0,0,0,0,0,0,0,0,0,0,0,0,0,0,0,0,0,0,0,0,0,0,0,0,{"$f":"CN$196*CN6","v":0},0,0,0,0,0,0,0,0,0,0,0,0,0,0,0,0,0]
[null,null,null,null,null,null,null,null,null,null,null,null,null,null,null,null,null,null,null,null,null,null,null,null,null,null,null,null,null,null,null,null,null,null,null,null,null,null,null,null,null,null,null,null,null,null,null,null,null,null,null,null,null,null,null,null,null,"VME(a38/c16)","",{"$f":"BH$196*BH17","v":0},0,0,0,0,0,0,0,0,0,0,0,0,0,0,0,0,0,0,0,0,0,0,0,0,0,0,0,0,0,0,0,{"$f":"CN$196*CN17","v":0},0,0,0,0,0,0,0,0,0,0,0,0,0,0,0,0,0]
[null,null,null,null,null,null,null,null,null,null,null,null,null,null,null,null,null,null,null,null,null,null,null,null,null,null,null,null,null,null,null,null,null,null,null,null,null,null,null,null,null,null,null,null,null,null,null,null,null,null,null,null,null,null,null,null,null,"VME(a38/c30)","",{"$f":"BH$196*BH31","v":0},0,0,0,0,0,0,0,0,0,0,0,0,0,0,0,0,0,0,0,0,0,0,0,0,0,0,0,0,0,0,0,{"$f":"CN$196*CN31","v":0},0,0,0,0,0,0,0,0,0,0,0,0,0,0,0,0,0]
[null,null,null,null,null,null,null,null,null,null,null,null,null,null,null,null,null,null,null,null,null,null,null,null,null,null,null,null,null,null,null,null,null,null,null,null,null,null,null,null,null,null,null,null,null,null,null,null,null,null,null,null,null,null,null,null,null,"VME(a38/c41)","",{"$f":"BH$196*BH42","v":0},0,0,0,0,0,0,0,0,0,0,0,0,0,0,0,0,0,0,0,0,0,0,0,0,0,0,0,0,0,0,0,{"$f":"CN$196*CN42","v":0},0,0,0,0,0,0,0,0,0,0,0,0,0,0,0,0,0]
[null,null,null,null,null,null,null,null,null,null,null,null,null,null,null,null,null,null,null,null,null,null,null,null,null,null,null,null,null,null,null,null,null,null,null,null,null,null,null,null,null,null,null,null,null,null,null,null,null,null,null,null,null,null,null,null,null,"VME(a38/c46)","",{"$f":"BH$196*BH47","v":0},0,0,0,0,0,0,0,0,0,0,0,0,0,0,0,0,0,0,0,0,0,0,0,0,0,0,0,0,0,0,0,{"$f":"CN$196*CN47","v":0},0,0,0,0,0,0,0,0,0,0,0,0,0,0,0,0,0]
[null,null,null,null,null,null,null,null,null,null,null,null,null,null,null,null,null,null,null,null,null,null,null,null,null,null,null,null,null,null,null,null,null,null,null,null,null,null,null,null,null,null,null,null,null,null,null,null,null,null,null,null,null,null,null,null,null,"VME(a39/c8)","",{"$f":"BH$197*BH9","v":0},0,0,0,0,0,0,0,0,0,0,0,0,0,0,0,0,0,0,0,0,0,0,0,0,0,0,0,0,0,0,0,{"$f":"CN$197*CN9","v":0},0,0,0,0,0,0,0,0,0,0,0,0,0,0,0,0,0]
[null,null,null,null,null,null,null,null,null,null,null,null,null,null,null,null,null,null,null,null,null,null,null,null,null,null,null,null,null,null,null,null,null,null,null,null,null,null,null,null,null,null,null,null,null,null,null,null,null,null,null,null,null,null,null,null,null,"VME(a39/c11)","",{"$f":"BH$197*BH12","v":0},0,0,0,0,0,0,0,0,0,0,0,0,0,0,0,0,0,0,0,0,0,0,0,0,0,0,0,0,0,0,0,{"$f":"CN$197*CN12","v":0},0,0,0,0,0,0,0,0,0,0,0,0,0,0,0,0,0]
[null,null,null,null,null,null,null,null,null,null,null,null,null,null,null,null,null,null,null,null,null,null,null,null,null,null,null,null,null,null,null,null,null,null,null,null,null,null,null,null,null,null,null,null,null,null,null,null,null,null,null,null,null,null,null,null,null,"VME(a39/c24)","",{"$f":"BH$197*BH25","v":0},0,0,0,0,0,0,0,0,0,0,0,0,0,0,0,0,0,0,0,0,0,0,0,0,0,0,0,0,0,0,0,{"$f":"CN$197*CN25","v":0},0,0,0,0,0,0,0,0,0,0,0,0,0,0,0,0,0]
[null,null,null,null,null,null,null,null,null,null,null,null,null,null,null,null,null,null,null,null,null,null,null,null,null,null,null,null,null,null,null,null,null,null,null,null,null,null,null,null,null,null,null,null,null,null,null,null,null,null,null,null,null,null,null,null,null,"VME(a39/c36)","",{"$f":"BH$197*BH37","v":0},0,0,0,0,0,0,0,0,0,0,0,0,0,0,0,0,0,0,0,0,0,0,0,0,0,0,0,0,0,0,0,{"$f":"CN$197*CN37","v":0},0,0,0,0,0,0,0,0,0,0,0,0,0,0,0,0,0]
[null,null,null,null,null,null,null,null,null,null,null,null,null,null,null,null,null,null,null,null,null,null,null,null,null,null,null,null,null,null,null,null,null,null,null,null,null,null,null,null,null,null,null,null,null,null,null,null,null,null,null,null,null,null,null,null,null,"VME(a39/c41)","",{"$f":"BH$197*BH42","v":0},0,0,0,0,0,0,0,0,0,0,0,0,0,0,0,0,0,0,0,0,0,0,0,0,0,0,0,0,0,0,0,{"$f":"CN$197*CN42","v":0},0,0,0,0,0,0,0,0,0,0,0,0,0,0,0,0,0]
[null,null,null,null,null,null,null,null,null,null,null,null,null,null,null,null,null,null,null,null,null,null,null,null,null,null,null,null,null,null,null,null,null,null,null,null,null,null,null,null,null,null,null,null,null,null,null,null,null,null,null,null,null,null,null,null,null,"VME(a40/c2)",{"$f":"IF(BH$198=\"\",\"\",SUM(BH2161:DE2161))","v":""},{"$f":"BH$198*BH3","v":0},0,0,0,0,0,0,0,0,0,0,0,0,0,0,0,0,0,0,0,0,0,0,0,0,0,0,0,0,0,0,0,{"$f":"CN$198*CN3","v":0},0,0,0,0,0,0,0,0,0,0,0,0,0,0,0,0,0]
[null,null,null,null,null,null,null,null,null,null,null,null,null,null,null,null,null,null,null,null,null,null,null,null,null,null,null,null,null,null,null,null,null,null,null,null,null,null,null,null,null,null,null,null,null,null,null,null,null,null,null,null,null,null,null,null,null,"VME(a40/c16)","",{"$f":"BH$198*BH17","v":0},0,0,0,0,0,0,0,0,0,0,0,0,0,0,0,0,0,0,0,0,0,0,0,0,0,0,0,0,0,0,0,{"$f":"CN$198*CN17","v":0},0,0,0,0,0,0,0,0,0,0,0,0,0,0,0,0,0]
[null,null,null,null,null,null,null,null,null,null,null,null,null,null,null,null,null,null,null,null,null,null,null,null,null,null,null,null,null,null,null,null,null,null,null,null,null,null,null,null,null,null,null,null,null,null,null,null,null,null,null,null,null,null,null,null,null,"VME(a40/c27)","",{"$f":"BH$198*BH28","v":0},0,0,0,0,0,0,0,0,0,0,0,0,0,0,0,0,0,0,0,0,0,0,0,0,0,0,0,0,0,0,0,{"$f":"CN$198*CN28","v":0},0,0,0,0,0,0,0,0,0,0,0,0,0,0,0,0,0]
[null,null,null,null,null,null,null,null,null,null,null,null,null,null,null,null,null,null,null,null,null,null,null,null,null,null,null,null,null,null,null,null,null,null,null,null,null,null,null,null,null,null,null,null,null,null,null,null,null,null,null,null,null,null,null,null,null,"VME(a40/c31)","",{"$f":"BH$198*BH32","v":0},0,0,0,0,0,0,0,0,0,0,0,0,0,0,0,0,0,0,0,0,0,0,0,0,0,0,0,0,0,0,0,{"$f":"CN$198*CN32","v":0},0,0,0,0,0,0,0,0,0,0,0,0,0,0,0,0,0]
[null,null,null,null,null,null,null,null,null,null,null,null,null,null,null,null,null,null,null,null,null,null,null,null,null,null,null,null,null,null,null,null,null,null,null,null,null,null,null,null,null,null,null,null,null,null,null,null,null,null,null,null,null,null,null,null,null,"VME(a40/c38)","",{"$f":"BH$198*BH39","v":0},0,0,0,0,0,0,0,0,0,0,0,0,0,0,0,0,0,0,0,0,0,0,0,0,0,0,0,0,0,0,0,{"$f":"CN$198*CN39","v":0},0,0,0,0,0,0,0,0,0,0,0,0,0,0,0,0,0]
[null,null,null,null,null,null,null,null,null,null,null,null,null,null,null,null,null,null,null,null,null,null,null,null,null,null,null,null,null,null,null,null,null,null,null,null,null,null,null,null,null,null,null,null,null,null,null,null,null,null,null,null,null,null,null,null,null,"VME(a40/c50)","",{"$f":"BH$198*BH51","v":0},0,0,0,0,0,0,0,0,0,0,0,0,0,0,0,0,0,0,0,0,0,0,0,0,0,0,0,0,0,0,0,{"$f":"CN$198*CN51","v":0},0,0,0,0,0,0,0,0,0,0,0,0,0,0,0,0,0]
[null,null,null,null,null,null,null,null,null,null,null,null,null,null,null,null,null,null,null,null,null,null,null,null,null,null,null,null,null,null,null,null,null,null,null,null,null,null,null,null,null,null,null,null,null,null,null,null,null,null,null,null,null,null,null,null,null,"VME(a41/c11)","",{"$f":"BH$199*BH12","v":0},0,0,0,0,0,0,0,0,0,0,0,0,0,0,0,0,0,0,0,0,0,0,0,0,0,0,0,0,0,0,0,{"$f":"CN$199*CN12","v":0},0,0,0,0,0,0,0,0,0,0,0,0,0,0,0,0,0]
[null,null,null,null,null,null,null,null,null,null,null,null,null,null,null,null,null,null,null,null,null,null,null,null,null,null,null,null,null,null,null,null,null,null,null,null,null,null,null,null,null,null,null,null,null,null,null,null,null,null,null,null,null,null,null,null,null,"VME(a41/c21)","",{"$f":"BH$199*BH22","v":0},0,0,0,0,0,0,0,0,0,0,0,0,0,0,0,0,0,0,0,0,0,0,0,0,0,0,0,0,0,0,0,{"$f":"CN$199*CN22","v":0},0,0,0,0,0,0,0,0,0,0,0,0,0,0,0,0,0]
[null,null,null,null,null,null,null,null,null,null,null,null,null,null,null,null,null,null,null,null,null,null,null,null,null,null,null,null,null,null,null,null,null,null,null,null,null,null,null,null,null,null,null,null,null,null,null,null,null,null,null,null,null,null,null,null,null,"VME(a41/c26)","",{"$f":"BH$199*BH27","v":0},0,0,0,0,0,0,0,0,0,0,0,0,0,0,0,0,0,0,0,0,0,0,0,0,0,0,0,0,0,0,0,{"$f":"CN$199*CN27","v":0},0,0,0,0,0,0,0,0,0,0,0,0,0,0,0,0,0]
[null,null,null,null,null,null,null,null,null,null,null,null,null,null,null,null,null,null,null,null,null,null,null,null,null,null,null,null,null,null,null,null,null,null,null,null,null,null,null,null,null,null,null,null,null,null,null,null,null,null,null,null,null,null,null,null,null,"VME(a41/c41)","",{"$f":"BH$199*BH42","v":0},0,0,0,0,0,0,0,0,0,0,0,0,0,0,0,0,0,0,0,0,0,0,0,0,0,0,0,0,0,0,0,{"$f":"CN$199*CN42","v":0},0,0,0,0,0,0,0,0,0,0,0,0,0,0,0,0,0]
[null,null,null,null,null,null,null,null,null,null,null,null,null,null,null,null,null,null,null,null,null,null,null,null,null,null,null,null,null,null,null,null,null,null,null,null,null,null,null,null,null,null,null,null,null,null,null,null,null,null,null,null,null,null,null,null,null,"VME(a41/c45)","",{"$f":"BH$199*BH46","v":0},0,0,0,0,0,0,0,0,0,0,0,0,0,0,0,0,0,0,0,0,0,0,0,0,0,0,0,0,0,0,0,{"$f":"CN$199*CN46","v":0},0,0,0,0,0,0,0,0,0,0,0,0,0,0,0,0,0]
[null,null,null,null,null,null,null,null,null,null,null,null,null,null,null,null,null,null,null,null,null,null,null,null,null,null,null,null,null,null,null,null,null,null,null,null,null,null,null,null,null,null,null,null,null,null,null,null,null,null,null,null,null,null,null,null,null,"VME(a42/c6)","",{"$f":"BH$200*BH7","v":0},0,0,0,0,0,0,0,0,0,0,0,0,0,0,0,0,0,0,0,0,0,0,0,0,0,0,0,0,0,0,0,{"$f":"CN$200*CN7","v":0},0,0,0,0,0,0,0,0,0,0,0,0,0,0,0,0,0]
[null,null,null,null,null,null,null,null,null,null,null,null,null,null,null,null,null,null,null,null,null,null,null,null,null,null,null,null,null,null,null,null,null,null,null,null,null,null,null,null,null,null,null,null,null,null,null,null,null,null,null,null,null,null,null,null,null,"VME(a42/c15)","",{"$f":"BH$200*BH16","v":0},0,0,0,0,0,0,0,0,0,0,0,0,0,0,0,0,0,0,0,0,0,0,0,0,0,0,0,0,0,0,0,{"$f":"CN$200*CN16","v":0},0,0,0,0,0,0,0,0,0,0,0,0,0,0,0,0,0]
[null,null,null,null,null,null,null,null,null,null,null,null,null,null,null,null,null,null,null,null,null,null,null,null,null,null,null,null,null,null,null,null,null,null,null,null,null,null,null,null,null,null,null,null,null,null,null,null,null,null,null,null,null,null,null,null,null,"VME(a42/c25)","",{"$f":"BH$200*BH26","v":0},0,0,0,0,0,0,0,0,0,0,0,0,0,0,0,0,0,0,0,0,0,0,0,0,0,0,0,0,0,0,0,{"$f":"CN$200*CN26","v":0},0,0,0,0,0,0,0,0,0,0,0,0,0,0,0,0,0]
[null,null,null,null,null,null,null,null,null,null,null,null,null,null,null,null,null,null,null,null,null,null,null,null,null,null,null,null,null,null,null,null,null,null,null,null,null,null,null,null,null,null,null,null,null,null,null,null,null,null,null,null,null,null,null,null,null,"VME(a42/c35)","",{"$f":"BH$200*BH36","v":0},0,0,0,0,0,0,0,0,0,0,0,0,0,0,0,0,0,0,0,0,0,0,0,0,0,0,0,0,0,0,0,{"$f":"CN$200*CN36","v":0},0,0,0,0,0,0,0,0,0,0,0,0,0,0,0,0,0]
[null,null,null,null,null,null,null,null,null,null,null,null,null,null,null,null,null,null,null,null,null,null,null,null,null,null,null,null,null,null,null,null,null,null,null,null,null,null,null,null,null,null,null,null,null,null,null,null,null,null,null,null,null,null,null,null,null,"VME(a42/c50)","",{"$f":"BH$200*BH51","v":0},0,0,0,0,0,0,0,0,0,0,0,0,0,0,0,0,0,0,0,0,0,0,0,0,0,0,0,0,0,0,0,{"$f":"CN$200*CN51","v":0},0,0,0,0,0,0,0,0,0,0,0,0,0,0,0,0,0]
[null,null,null,null,null,null,null,null,null,null,null,null,null,null,null,null,null,null,null,null,null,null,null,null,null,null,null,null,null,null,null,null,null,null,null,null,null,null,null,null,null,null,null,null,null,null,null,null,null,null,null,null,null,null,null,null,null,"VME(a43/c11)","",{"$f":"BH$201*BH12","v":0},0,0,0,0,0,0,0,0,0,0,0,0,0,0,0,0,0,0,0,0,0,0,0,0,0,0,0,0,0,0,0,{"$f":"CN$201*CN12","v":0},0,0,0,0,0,0,0,0,0,0,0,0,0,0,0,0,0]
[null,null,null,null,null,null,null,null,null,null,null,null,null,null,null,null,null,null,null,null,null,null,null,null,null,null,null,null,null,null,null,null,null,null,null,null,null,null,null,null,null,null,null,null,null,null,null,null,null,null,null,null,null,null,null,null,null,"VME(a43/c18)","",{"$f":"BH$201*BH19","v":0},0,0,0,0,0,0,0,0,0,0,0,0,0,0,0,0,0,0,0,0,0,0,0,0,0,0,0,0,0,0,0,{"$f":"CN$201*CN19","v":0},0,0,0,0,0,0,0,0,0,0,0,0,0,0,0,0,0]
[null,null,null,null,null,null,null,null,null,null,null,null,null,null,null,null,null,null,null,null,null,null,null,null,null,null,null,null,null,null,null,null,null,null,null,null,null,null,null,null,null,null,null,null,null,null,null,null,null,null,null,null,null,null,null,null,null,"VME(a43/c30)","",{"$f":"BH$201*BH31","v":0},0,0,0,0,0,0,0,0,0,0,0,0,0,0,0,0,0,0,0,0,0,0,0,0,0,0,0,0,0,0,0,{"$f":"CN$201*CN31","v":0},0,0,0,0,0,0,0,0,0,0,0,0,0,0,0,0,0]
[null,null,null,null,null,null,null,null,null,null,null,null,null,null,null,null,null,null,null,null,null,null,null,null,null,null,null,null,null,null,null,null,null,null,null,null,null,null,null,null,null,null,null,null,null,null,null,null,null,null,null,null,null,null,null,null,null,"VME(a43/c38)","",{"$f":"BH$201*BH39","v":0},0,0,0,0,0,0,0,0,0,0,0,0,0,0,0,0,0,0,0,0,0,0,0,0,0,0,0,0,0,0,0,{"$f":"CN$201*CN39","v":0},0,0,0,0,0,0,0,0,0,0,0,0,0,0,0,0,0]
[null,null,null,null,null,null,null,null,null,null,null,null,null,null,null,null,null,null,null,null,null,null,null,null,null,null,null,null,null,null,null,null,null,null,null,null,null,null,null,null,null,null,null,null,null,null,null,null,null,null,null,null,null,null,null,null,null,"VME(a43/c45)","",{"$f":"BH$201*BH46","v":0},0,0,0,0,0,0,0,0,0,0,0,0,0,0,0,0,0,0,0,0,0,0,0,0,0,0,0,0,0,0,0,{"$f":"CN$201*CN46","v":0},0,0,0,0,0,0,0,0,0,0,0,0,0,0,0,0,0]
[null,null,null,null,null,null,null,null,null,null,null,null,null,null,null,null,null,null,null,null,null,null,null,null,null,null,null,null,null,null,null,null,null,null,null,null,null,null,null,null,null,null,null,null,null,null,null,null,null,null,null,null,null,null,null,null,null,"VME(a44/c8)","",{"$f":"BH$202*BH9","v":0},0,0,0,0,0,0,0,0,0,0,0,0,0,0,0,0,0,0,0,0,0,0,0,0,0,0,0,0,0,0,0,{"$f":"CN$202*CN9","v":0},0,0,0,0,0,0,0,0,0,0,0,0,0,0,0,0,0]
[null,null,null,null,null,null,null,null,null,null,null,null,null,null,null,null,null,null,null,null,null,null,null,null,null,null,null,null,null,null,null,null,null,null,null,null,null,null,null,null,null,null,null,null,null,null,null,null,null,null,null,null,null,null,null,null,null,"VME(a44/c10)","",{"$f":"BH$202*BH11","v":0},0,0,0,0,0,0,0,0,0,0,0,0,0,0,0,0,0,0,0,0,0,0,0,0,0,0,0,0,0,0,0,{"$f":"CN$202*CN11","v":0},0,0,0,0,0,0,0,0,0,0,0,0,0,0,0,0,0]
[null,null,null,null,null,null,null,null,null,null,null,null,null,null,null,null,null,null,null,null,null,null,null,null,null,null,null,null,null,null,null,null,null,null,null,null,null,null,null,null,null,null,null,null,null,null,null,null,null,null,null,null,null,null,null,null,null,"VME(a44/c25)","",{"$f":"BH$202*BH26","v":0},0,0,0,0,0,0,0,0,0,0,0,0,0,0,0,0,0,0,0,0,0,0,0,0,0,0,0,0,0,0,0,{"$f":"CN$202*CN26","v":0},0,0,0,0,0,0,0,0,0,0,0,0,0,0,0,0,0]
[null,null,null,null,null,null,null,null,null,null,null,null,null,null,null,null,null,null,null,null,null,null,null,null,null,null,null,null,null,null,null,null,null,null,null,null,null,null,null,null,null,null,null,null,null,null,null,null,null,null,null,null,null,null,null,null,null,"VME(a44/c32)","",{"$f":"BH$202*BH33","v":0},0,0,0,0,0,0,0,0,0,0,0,0,0,0,0,0,0,0,0,0,0,0,0,0,0,0,0,0,0,0,0,{"$f":"CN$202*CN33","v":0},0,0,0,0,0,0,0,0,0,0,0,0,0,0,0,0,0]
[null,null,null,null,null,null,null,null,null,null,null,null,null,null,null,null,null,null,null,null,null,null,null,null,null,null,null,null,null,null,null,null,null,null,null,null,null,null,null,null,null,null,null,null,null,null,null,null,null,null,null,null,null,null,null,null,null,"VME(a44/c40)","",{"$f":"BH$202*BH41","v":0},0,0,0,0,0,0,0,0,0,0,0,0,0,0,0,0,0,0,0,0,0,0,0,0,0,0,0,0,0,0,0,{"$f":"CN$202*CN41","v":0},0,0,0,0,0,0,0,0,0,0,0,0,0,0,0,0,0]
[null,null,null,null,null,null,null,null,null,null,null,null,null,null,null,null,null,null,null,null,null,null,null,null,null,null,null,null,null,null,null,null,null,null,null,null,null,null,null,null,null,null,null,null,null,null,null,null,null,null,null,null,null,null,null,null,null,"VME(a45/c7)","",{"$f":"BH$203*BH8","v":0},0,0,0,0,0,0,0,0,0,0,0,0,0,0,0,0,0,0,0,0,0,0,0,0,0,0,0,0,0,0,0,{"$f":"CN$203*CN8","v":0},0,0,0,0,0,0,0,0,0,0,0,0,0,0,0,0,0]
[null,null,null,null,null,null,null,null,null,null,null,null,null,null,null,null,null,null,null,null,null,null,null,null,null,null,null,null,null,null,null,null,null,null,null,null,null,null,null,null,null,null,null,null,null,null,null,null,null,null,null,null,null,null,null,null,null,"VME(a45/c15)","",{"$f":"BH$203*BH16","v":0},0,0,0,0,0,0,0,0,0,0,0,0,0,0,0,0,0,0,0,0,0,0,0,0,0,0,0,0,0,0,0,{"$f":"CN$203*CN16","v":0},0,0,0,0,0,0,0,0,0,0,0,0,0,0,0,0,0]
[null,null,null,null,null,null,null,null,null,null,null,null,null,null,null,null,null,null,null,null,null,null,null,null,null,null,null,null,null,null,null,null,null,null,null,null,null,null,null,null,null,null,null,null,null,null,null,null,null,null,null,null,null,null,null,null,null,"VME(a45/c20)","",{"$f":"BH$203*BH21","v":0},0,0,0,0,0,0,0,0,0,0,0,0,0,0,0,0,0,0,0,0,0,0,0,0,0,0,0,0,0,0,0,{"$f":"CN$203*CN21","v":0},0,0,0,0,0,0,0,0,0,0,0,0,0,0,0,0,0]
[null,null,null,null,null,null,null,null,null,null,null,null,null,null,null,null,null,null,null,null,null,null,null,null,null,null,null,null,null,null,null,null,null,null,null,null,null,null,null,null,null,null,null,null,null,null,null,null,null,null,null,null,null,null,null,null,null,"VME(a45/c35)","",{"$f":"BH$203*BH36","v":0},0,0,0,0,0,0,0,0,0,0,0,0,0,0,0,0,0,0,0,0,0,0,0,0,0,0,0,0,0,0,0,{"$f":"CN$203*CN36","v":0},0,0,0,0,0,0,0,0,0,0,0,0,0,0,0,0,0]
[null,null,null,null,null,null,null,null,null,null,null,null,null,null,null,null,null,null,null,null,null,null,null,null,null,null,null,null,null,null,null,null,null,null,null,null,null,null,null,null,null,null,null,null,null,null,null,null,null,null,null,null,null,null,null,null,null,"VME(a45/c45)","",{"$f":"BH$203*BH46","v":0},0,0,0,0,0,0,0,0,0,0,0,0,0,0,0,0,0,0,0,0,0,0,0,0,0,0,0,0,0,0,0,{"$f":"CN$203*CN46","v":0},0,0,0,0,0,0,0,0,0,0,0,0,0,0,0,0,0]
[null,null,null,null,null,null,null,null,null,null,null,null,null,null,null,null,null,null,null,null,null,null,null,null,null,null,null,null,null,null,null,null,null,null,null,null,null,null,null,null,null,null,null,null,null,null,null,null,null,null,null,null,null,null,null,null,null,"VME(a46/c1)",{"$f":"IF(BH$204=\"\",\"\",SUM(BH2460:DE2460))","v":""},{"$f":"BH$204*BH2","v":0},0,0,0,0,0,0,0,0,0,0,0,0,0,0,0,0,0,0,0,0,0,0,0,0,0,0,0,0,0,0,0,{"$f":"CN$204*CN2","v":0},0,0,0,0,0,0,0,0,0,0,0,0,0,0,0,0,0]
[null,null,null,null,null,null,null,null,null,null,null,null,null,null,null,null,null,null,null,null,null,null,null,null,null,null,null,null,null,null,null,null,null,null,null,null,null,null,null,null,null,null,null,null,null,null,null,null,null,null,null,null,null,null,null,null,null,"VME(a46/c10)","",{"$f":"BH$204*BH11","v":0},0,0,0,0,0,0,0,0,0,0,0,0,0,0,0,0,0,0,0,0,0,0,0,0,0,0,0,0,0,0,0,{"$f":"CN$204*CN11","v":0},0,0,0,0,0,0,0,0,0,0,0,0,0,0,0,0,0]
[null,null,null,null,null,null,null,null,null,null,null,null,null,null,null,null,null,null,null,null,null,null,null,null,null,null,null,null,null,null,null,null,null,null,null,null,null,null,null,null,null,null,null,null,null,null,null,null,null,null,null,null,null,null,null,null,null,"VME(a46/c25)","",{"$f":"BH$204*BH26","v":0},0,0,0,0,0,0,0,0,0,0,0,0,0,0,0,0,0,0,0,0,0,0,0,0,0,0,0,0,0,0,0,{"$f":"CN$204*CN26","v":0},0,0,0,0,0,0,0,0,0,0,0,0,0,0,0,0,0]
[null,null,null,null,null,null,null,null,null,null,null,null,null,null,null,null,null,null,null,null,null,null,null,null,null,null,null,null,null,null,null,null,null,null,null,null,null,null,null,null,null,null,null,null,null,null,null,null,null,null,null,null,null,null,null,null,null,"VME(a46/c34)","",{"$f":"BH$204*BH35","v":0},0,0,0,0,0,0,0,0,0,0,0,0,0,0,0,0,0,0,0,0,0,0,0,0,0,0,0,0,0,0,0,{"$f":"CN$204*CN35","v":0},0,0,0,0,0,0,0,0,0,0,0,0,0,0,0,0,0]
[null,null,null,null,null,null,null,null,null,null,null,null,null,null,null,null,null,null,null,null,null,null,null,null,null,null,null,null,null,null,null,null,null,null,null,null,null,null,null,null,null,null,null,null,null,null,null,null,null,null,null,null,null,null,null,null,null,"VME(a46/c40)","",{"$f":"BH$204*BH41","v":0},0,0,0,0,0,0,0,0,0,0,0,0,0,0,0,0,0,0,0,0,0,0,0,0,0,0,0,0,0,0,0,{"$f":"CN$204*CN41","v":0},0,0,0,0,0,0,0,0,0,0,0,0,0,0,0,0,0]
[null,null,null,null,null,null,null,null,null,null,null,null,null,null,null,null,null,null,null,null,null,null,null,null,null,null,null,null,null,null,null,null,null,null,null,null,null,null,null,null,null,null,null,null,null,null,null,null,null,null,null,null,null,null,null,null,null,"VME(a46/c45)","",{"$f":"BH$204*BH46","v":0},0,0,0,0,0,0,0,0,0,0,0,0,0,0,0,0,0,0,0,0,0,0,0,0,0,0,0,0,0,0,0,{"$f":"CN$204*CN46","v":0},0,0,0,0,0,0,0,0,0,0,0,0,0,0,0,0,0]
[null,null,null,null,null,null,null,null,null,null,null,null,null,null,null,null,null,null,null,null,null,null,null,null,null,null,null,null,null,null,null,null,null,null,null,null,null,null,null,null,null,null,null,null,null,null,null,null,null,null,null,null,null,null,null,null,null,"VME(a47/c5)","",{"$f":"BH$205*BH6","v":0},0,0,0,0,0,0,0,0,0,0,0,0,0,0,0,0,0,0,0,0,0,0,0,0,0,0,0,0,0,0,0,{"$f":"CN$205*CN6","v":0},0,0,0,0,0,0,0,0,0,0,0,0,0,0,0,0,0]
[null,null,null,null,null,null,null,null,null,null,null,null,null,null,null,null,null,null,null,null,null,null,null,null,null,null,null,null,null,null,null,null,null,null,null,null,null,null,null,null,null,null,null,null,null,null,null,null,null,null,null,null,null,null,null,null,null,"VME(a47/c15)","",{"$f":"BH$205*BH16","v":0},0,0,0,0,0,0,0,0,0,0,0,0,0,0,0,0,0,0,0,0,0,0,0,0,0,0,0,0,0,0,0,{"$f":"CN$205*CN16","v":0},0,0,0,0,0,0,0,0,0,0,0,0,0,0,0,0,0]
[null,null,null,null,null,null,null,null,null,null,null,null,null,null,null,null,null,null,null,null,null,null,null,null,null,null,null,null,null,null,null,null,null,null,null,null,null,null,null,null,null,null,null,null,null,null,null,null,null,null,null,null,null,null,null,null,null,"VME(a47/c24)","",{"$f":"BH$205*BH25","v":0},0,0,0,0,0,0,0,0,0,0,0,0,0,0,0,0,0,0,0,0,0,0,0,0,0,0,0,0,0,0,0,{"$f":"CN$205*CN25","v":0},0,0,0,0,0,0,0,0,0,0,0,0,0,0,0,0,0]
[null,null,null,null,null,null,null,null,null,null,null,null,null,null,null,null,null,null,null,null,null,null,null,null,null,null,null,null,null,null,null,null,null,null,null,null,null,null,null,null,null,null,null,null,null,null,null,null,null,null,null,null,null,null,null,null,null,"VME(a47/c35)","",{"$f":"BH$205*BH36","v":0},0,0,0,0,0,0,0,0,0,0,0,0,0,0,0,0,0,0,0,0,0,0,0,0,0,0,0,0,0,0,0,{"$f":"CN$205*CN36","v":0},0,0,0,0,0,0,0,0,0,0,0,0,0,0,0,0,0]
[null,null,null,null,null,null,null,null,null,null,null,null,null,null,null,null,null,null,null,null,null,null,null,null,null,null,null,null,null,null,null,null,null,null,null,null,null,null,null,null,null,null,null,null,null,null,null,null,null,null,null,null,null,null,null,null,null,"VME(a47/c48)","",{"$f":"BH$205*BH49","v":0},0,0,0,0,0,0,0,0,0,0,0,0,0,0,0,0,0,0,0,0,0,0,0,0,0,0,0,0,0,0,0,{"$f":"CN$205*CN49","v":0},0,0,0,0,0,0,0,0,0,0,0,0,0,0,0,0,0]
[null,null,null,null,null,null,null,null,null,null,null,null,null,null,null,null,null,null,null,null,null,null,null,null,null,null,null,null,null,null,null,null,null,null,null,null,null,null,null,null,null,null,null,null,null,null,null,null,null,null,null,null,null,null,null,null,null,"VME(a48/c10)","",{"$f":"BH$206*BH11","v":0},0,0,0,0,0,0,0,0,0,0,0,0,0,0,0,0,0,0,0,0,0,0,0,0,0,0,0,0,0,0,0,{"$f":"CN$206*CN11","v":0},0,0,0,0,0,0,0,0,0,0,0,0,0,0,0,0,0]
[null,null,null,null,null,null,null,null,null,null,null,null,null,null,null,null,null,null,null,null,null,null,null,null,null,null,null,null,null,null,null,null,null,null,null,null,null,null,null,null,null,null,null,null,null,null,null,null,null,null,null,null,null,null,null,null,null,"VME(a48/c18)","",{"$f":"BH$206*BH19","v":0},0,0,0,0,0,0,0,0,0,0,0,0,0,0,0,0,0,0,0,0,0,0,0,0,0,0,0,0,0,0,0,{"$f":"CN$206*CN19","v":0},0,0,0,0,0,0,0,0,0,0,0,0,0,0,0,0,0]
[null,null,null,null,null,null,null,null,null,null,null,null,null,null,null,null,null,null,null,null,null,null,null,null,null,null,null,null,null,null,null,null,null,null,null,null,null,null,null,null,null,null,null,null,null,null,null,null,null,null,null,null,null,null,null,null,null,"VME(a48/c29)","",{"$f":"BH$206*BH30","v":0},0,0,0,0,0,0,0,0,0,0,0,0,0,0,0,0,0,0,0,0,0,0,0,0,0,0,0,0,0,0,0,{"$f":"CN$206*CN30","v":0},0,0,0,0,0,0,0,0,0,0,0,0,0,0,0,0,0]
[null,null,null,null,null,null,null,null,null,null,null,null,null,null,null,null,null,null,null,null,null,null,null,null,null,null,null,null,null,null,null,null,null,null,null,null,null,null,null,null,null,null,null,null,null,null,null,null,null,null,null,null,null,null,null,null,null,"VME(a48/c40)","",{"$f":"BH$206*BH41","v":0},0,0,0,0,0,0,0,0,0,0,0,0,0,0,0,0,0,0,0,0,0,0,0,0,0,0,0,0,0,0,0,{"$f":"CN$206*CN41","v":0},0,0,0,0,0,0,0,0,0,0,0,0,0,0,0,0,0]
[null,null,null,null,null,null,null,null,null,null,null,null,null,null,null,null,null,null,null,null,null,null,null,null,null,null,null,null,null,null,null,null,null,null,null,null,null,null,null,null,null,null,null,null,null,null,null,null,null,null,null,null,null,null,null,null,null,"VME(a48/c42)","",{"$f":"BH$206*BH43","v":0},0,0,0,0,0,0,0,0,0,0,0,0,0,0,0,0,0,0,0,0,0,0,0,0,0,0,0,0,0,0,0,{"$f":"CN$206*CN43","v":0},0,0,0,0,0,0,0,0,0,0,0,0,0,0,0,0,0]
[null,null,null,null,null,null,null,null,null,null,null,null,null,null,null,null,null,null,null,null,null,null,null,null,null,null,null,null,null,null,null,null,null,null,null,null,null,null,null,null,null,null,null,null,null,null,null,null,null,null,null,null,null,null,null,null,null,"VME(a49/c9)","",{"$f":"BH$207*BH10","v":0},0,0,0,0,0,0,0,0,0,0,0,0,0,0,0,0,0,0,0,0,0,0,0,0,0,0,0,0,0,0,0,{"$f":"CN$207*CN10","v":0},0,0,0,0,0,0,0,0,0,0,0,0,0,0,0,0,0]
[null,null,null,null,null,null,null,null,null,null,null,null,null,null,null,null,null,null,null,null,null,null,null,null,null,null,null,null,null,null,null,null,null,null,null,null,null,null,null,null,null,null,null,null,null,null,null,null,null,null,null,null,null,null,null,null,null,"VME(a49/c12)","",{"$f":"BH$207*BH13","v":0},0,0,0,0,0,0,0,0,0,0,0,0,0,0,0,0,0,0,0,0,0,0,0,0,0,0,0,0,0,0,0,{"$f":"CN$207*CN13","v":0},0,0,0,0,0,0,0,0,0,0,0,0,0,0,0,0,0]
[null,null,null,null,null,null,null,null,null,null,null,null,null,null,null,null,null,null,null,null,null,null,null,null,null,null,null,null,null,null,null,null,null,null,null,null,null,null,null,null,null,null,null,null,null,null,null,null,null,null,null,null,null,null,null,null,null,"VME(a49/c24)","",{"$f":"BH$207*BH25","v":0},0,0,0,0,0,0,0,0,0,0,0,0,0,0,0,0,0,0,0,0,0,0,0,0,0,0,0,0,0,0,0,{"$f":"CN$207*CN25","v":0},0,0,0,0,0,0,0,0,0,0,0,0,0,0,0,0,0]
[null,null,null,null,null,null,null,null,null,null,null,null,null,null,null,null,null,null,null,null,null,null,null,null,null,null,null,null,null,null,null,null,null,null,null,null,null,null,null,null,null,null,null,null,null,null,null,null,null,null,null,null,null,null,null,null,null,"VME(a49/c35)","",{"$f":"BH$207*BH36","v":0},0,0,0,0,0,0,0,0,0,0,0,0,0,0,0,0,0,0,0,0,0,0,0,0,0,0,0,0,0,0,0,{"$f":"CN$207*CN36","v":0},0,0,0,0,0,0,0,0,0,0,0,0,0,0,0,0,0]
[null,null,null,null,null,null,null,null,null,null,null,null,null,null,null,null,null,null,null,null,null,null,null,null,null,null,null,null,null,null,null,null,null,null,null,null,null,null,null,null,null,null,null,null,null,null,null,null,null,null,null,null,null,null,null,null,null,"VME(a49/c39)","",{"$f":"BH$207*BH40","v":0},0,0,0,0,0,0,0,0,0,0,0,0,0,0,0,0,0,0,0,0,0,0,0,0,0,0,0,0,0,0,0,{"$f":"CN$207*CN40","v":0},0,0,0,0,0,0,0,0,0,0,0,0,0,0,0,0,0]
[null,null,null,null,null,null,null,null,null,null,null,null,null,null,null,null,null,null,null,null,null,null,null,null,null,null,null,null,null,null,null,null,null,null,null,null,null,null,null,null,null,null,null,null,null,null,null,null,null,null,null,null,null,null,null,null,null,"VME(a49/c40)","",{"$f":"BH$207*BH41","v":0},0,0,0,0,0,0,0,0,0,0,0,0,0,0,0,0,0,0,0,0,0,0,0,0,0,0,0,0,0,0,0,{"$f":"CN$207*CN41","v":0},0,0,0,0,0,0,0,0,0,0,0,0,0,0,0,0,0]
[null,null,null,null,null,null,null,null,null,null,null,null,null,null,null,null,null,null,null,null,null,null,null,null,null,null,null,null,null,null,null,null,null,null,null,null,null,null,null,null,null,null,null,null,null,null,null,null,null,null,null,null,null,null,null,null,null,"VME(a49/c41)","",{"$f":"BH$207*BH42","v":0},0,0,0,0,0,0,0,0,0,0,0,0,0,0,0,0,0,0,0,0,0,0,0,0,0,0,0,0,0,0,0,{"$f":"CN$207*CN42","v":0},0,0,0,0,0,0,0,0,0,0,0,0,0,0,0,0,0]
[null,null,null,null,null,null,null,null,null,null,null,null,null,null,null,null,null,null,null,null,null,null,null,null,null,null,null,null,null,null,null,null,null,null,null,null,null,null,null,null,null,null,null,null,null,null,null,null,null,null,null,null,null,null,null,null,null,"VME(a49/c42)","",{"$f":"BH$207*BH43","v":0},0,0,0,0,0,0,0,0,0,0,0,0,0,0,0,0,0,0,0,0,0,0,0,0,0,0,0,0,0,0,0,{"$f":"CN$207*CN43","v":0},0,0,0,0,0,0,0,0,0,0,0,0,0,0,0,0,0]
[null,null,null,null,null,null,null,null,null,null,null,null,null,null,null,null,null,null,null,null,null,null,null,null,null,null,null,null,null,null,null,null,null,null,null,null,null,null,null,null,null,null,null,null,null,null,null,null,null,null,null,null,null,null,null,null,null,"VME(a49/c43)","",{"$f":"BH$207*BH44","v":0},0,0,0,0,0,0,0,0,0,0,0,0,0,0,0,0,0,0,0,0,0,0,0,0,0,0,0,0,0,0,0,{"$f":"CN$207*CN44","v":0},0,0,0,0,0,0,0,0,0,0,0,0,0,0,0,0,0]
[null,null,null,null,null,null,null,null,null,null,null,null,null,null,null,null,null,null,null,null,null,null,null,null,null,null,null,null,null,null,null,null,null,null,null,null,null,null,null,null,null,null,null,null,null,null,null,null,null,null,null,null,null,null,null,null,null,"VME(a49/c44)","",{"$f":"BH$207*BH45","v":0},0,0,0,0,0,0,0,0,0,0,0,0,0,0,0,0,0,0,0,0,0,0,0,0,0,0,0,0,0,0,0,{"$f":"CN$207*CN45","v":0},0,0,0,0,0,0,0,0,0,0,0,0,0,0,0,0,0]
[null,null,null,null,null,null,null,null,null,null,null,null,null,null,null,null,null,null,null,null,null,null,null,null,null,null,null,null,null,null,null,null,null,null,null,null,null,null,null,null,null,null,null,null,null,null,null,null,null,null,null,null,null,null,null,null,null,"VME(a49/c45)","",{"$f":"BH$207*BH46","v":0},0,0,0,0,0,0,0,0,0,0,0,0,0,0,0,0,0,0,0,0,0,0,0,0,0,0,0,0,0,0,0,{"$f":"CN$207*CN46","v":0},0,0,0,0,0,0,0,0,0,0,0,0,0,0,0,0,0]
[null,null,null,null,null,null,null,null,null,null,null,null,null,null,null,null,null,null,null,null,null,null,null,null,null,null,null,null,null,null,null,null,null,null,null,null,null,null,null,null,null,null,null,null,null,null,null,null,null,null,null,null,null,null,null,null,null,"VME(a49/c46)","",{"$f":"BH$207*BH47","v":0},0,0,0,0,0,0,0,0,0,0,0,0,0,0,0,0,0,0,0,0,0,0,0,0,0,0,0,0,0,0,0,{"$f":"CN$207*CN47","v":0},0,0,0,0,0,0,0,0,0,0,0,0,0,0,0,0,0]
[null,null,null,null,null,null,null,null,null,null,null,null,null,null,null,null,null,null,null,null,null,null,null,null,null,null,null,null,null,null,null,null,null,null,null,null,null,null,null,null,null,null,null,null,null,null,null,null,null,null,null,null,null,null,null,null,null,"VME(a49/c47)","",{"$f":"BH$207*BH48","v":0},0,0,0,0,0,0,0,0,0,0,0,0,0,0,0,0,0,0,0,0,0,0,0,0,0,0,0,0,0,0,0,{"$f":"CN$207*CN48","v":0},0,0,0,0,0,0,0,0,0,0,0,0,0,0,0,0,0]
[null,null,null,null,null,null,null,null,null,null,null,null,null,null,null,null,null,null,null,null,null,null,null,null,null,null,null,null,null,null,null,null,null,null,null,null,null,null,null,null,null,null,null,null,null,null,null,null,null,null,null,null,null,null,null,null,null,"VME(a49/c48)","",{"$f":"BH$207*BH49","v":0},0,0,0,0,0,0,0,0,0,0,0,0,0,0,0,0,0,0,0,0,0,0,0,0,0,0,0,0,0,0,0,{"$f":"CN$207*CN49","v":0},0,0,0,0,0,0,0,0,0,0,0,0,0,0,0,0,0]
[null,null,null,null,null,null,null,null,null,null,null,null,null,null,null,null,null,null,null,null,null,null,null,null,null,null,null,null,null,null,null,null,null,null,null,null,null,null,null,null,null,null,null,null,null,null,null,null,null,null,null,null,null,null,null,null,null,"VME(a49/c49)","",{"$f":"BH$207*BH50","v":0},0,0,0,0,0,0,0,0,0,0,0,0,0,0,0,0,0,0,0,0,0,0,0,0,0,0,0,0,0,0,0,{"$f":"CN$207*CN50","v":0},0,0,0,0,0,0,0,0,0,0,0,0,0,0,0,0,0]
[null,null,null,null,null,null,null,null,null,null,null,null,null,null,null,null,null,null,null,null,null,null,null,null,null,null,null,null,null,null,null,null,null,null,null,null,null,null,null,null,null,null,null,null,null,null,null,null,null,null,null,null,null,null,null,null,null,"VME(a49/c50)","",{"$f":"BH$207*BH51","v":0},0,0,0,0,0,0,0,0,0,0,0,0,0,0,0,0,0,0,0,0,0,0,0,0,0,0,0,0,0,0,0,{"$f":"CN$207*CN51","v":0},0,0,0,0,0,0,0,0,0,0,0,0,0,0,0,0,0]
[null,null,null,null,null,null,null,null,null,null,null,null,null,null,null,null,null,null,null,null,null,null,null,null,null,null,null,null,null,null,null,null,null,null,null,null,null,null,null,null,null,null,null,null,null,null,null,null,null,null,null,null,null,null,null,null,null,"VME(a50/c1)",{"$f":"IF(BH$208=\"\",\"\",SUM(BH2660:DE2660))","v":""},{"$f":"BH$208*BH2","v":0},0,0,0,0,0,0,0,0,0,0,0,0,0,0,0,0,0,0,0,0,0,0,0,0,0,0,0,0,0,0,0,{"$f":"CN$208*CN2","v":0},0,0,0,0,0,0,0,0,0,0,0,0,0,0,0,0,0]
[null,null,null,null,null,null,null,null,null,null,null,null,null,null,null,null,null,null,null,null,null,null,null,null,null,null,null,null,null,null,null,null,null,null,null,null,null,null,null,null,null,null,null,null,null,null,null,null,null,null,null,null,null,null,null,null,null,"VME(a50/c2)",{"$f":"IF(BH$208=\"\",\"\",SUM(BH2661:DE2661))","v":""},{"$f":"BH$208*BH3","v":0},0,0,0,0,0,0,0,0,0,0,0,0,0,0,0,0,0,0,0,0,0,0,0,0,0,0,0,0,0,0,0,{"$f":"CN$208*CN3","v":0},0,0,0,0,0,0,0,0,0,0,0,0,0,0,0,0,0]
[null,null,null,null,null,null,null,null,null,null,null,null,null,null,null,null,null,null,null,null,null,null,null,null,null,null,null,null,null,null,null,null,null,null,null,null,null,null,null,null,null,null,null,null,null,null,null,null,null,null,null,null,null,null,null,null,null,"VME(a50/c3)","",{"$f":"BH$208*BH4","v":0},0,0,0,0,0,0,0,0,0,0,0,0,0,0,0,0,0,0,0,0,0,0,0,0,0,0,0,0,0,0,0,{"$f":"CN$208*CN4","v":0},0,0,0,0,0,0,0,0,0,0,0,0,0,0,0,0,0]
[null,null,null,null,null,null,null,null,null,null,null,null,null,null,null,null,null,null,null,null,null,null,null,null,null,null,null,null,null,null,null,null,null,null,null,null,null,null,null,null,null,null,null,null,null,null,null,null,null,null,null,null,null,null,null,null,null,"VME(a50/c4)","",{"$f":"BH$208*BH5","v":0},0,0,0,0,0,0,0,0,0,0,0,0,0,0,0,0,0,0,0,0,0,0,0,0,0,0,0,0,0,0,0,{"$f":"CN$208*CN5","v":0},0,0,0,0,0,0,0,0,0,0,0,0,0,0,0,0,0]
[null,null,null,null,null,null,null,null,null,null,null,null,null,null,null,null,null,null,null,null,null,null,null,null,null,null,null,null,null,null,null,null,null,null,null,null,null,null,null,null,null,null,null,null,null,null,null,null,null,null,null,null,null,null,null,null,null,"VME(a50/c5)","",{"$f":"BH$208*BH6","v":0},0,0,0,0,0,0,0,0,0,0,0,0,0,0,0,0,0,0,0,0,0,0,0,0,0,0,0,0,0,0,0,{"$f":"CN$208*CN6","v":0},0,0,0,0,0,0,0,0,0,0,0,0,0,0,0,0,0]
[null,null,null,null,null,null,null,null,null,null,null,null,null,null,null,null,null,null,null,null,null,null,null,null,null,null,null,null,null,null,null,null,null,null,null,null,null,null,null,null,null,null,null,null,null,null,null,null,null,null,null,null,null,null,null,null,null,"VME(a50/c6)","",{"$f":"BH$208*BH7","v":0},0,0,0,0,0,0,0,0,0,0,0,0,0,0,0,0,0,0,0,0,0,0,0,0,0,0,0,0,0,0,0,{"$f":"CN$208*CN7","v":0},0,0,0,0,0,0,0,0,0,0,0,0,0,0,0,0,0]
[null,null,null,null,null,null,null,null,null,null,null,null,null,null,null,null,null,null,null,null,null,null,null,null,null,null,null,null,null,null,null,null,null,null,null,null,null,null,null,null,null,null,null,null,null,null,null,null,null,null,null,null,null,null,null,null,null,"VME(a50/c7)","",{"$f":"BH$208*BH8","v":0},0,0,0,0,0,0,0,0,0,0,0,0,0,0,0,0,0,0,0,0,0,0,0,0,0,0,0,0,0,0,0,{"$f":"CN$208*CN8","v":0},0,0,0,0,0,0,0,0,0,0,0,0,0,0,0,0,0]
[null,null,null,null,null,null,null,null,null,null,null,null,null,null,null,null,null,null,null,null,null,null,null,null,null,null,null,null,null,null,null,null,null,null,null,null,null,null,null,null,null,null,null,null,null,null,null,null,null,null,null,null,null,null,null,null,null,"VME(a50/c8)","",{"$f":"BH$208*BH9","v":0},0,0,0,0,0,0,0,0,0,0,0,0,0,0,0,0,0,0,0,0,0,0,0,0,0,0,0,0,0,0,0,{"$f":"CN$208*CN9","v":0},0,0,0,0,0,0,0,0,0,0,0,0,0,0,0,0,0]
[null,null,null,null,null,null,null,null,null,null,null,null,null,null,null,null,null,null,null,null,null,null,null,null,null,null,null,null,null,null,null,null,null,null,null,null,null,null,null,null,null,null,null,null,null,null,null,null,null,null,null,null,null,null,null,null,null,"VME(a50/c9)","",{"$f":"BH$208*BH10","v":0},0,0,0,0,0,0,0,0,0,0,0,0,0,0,0,0,0,0,0,0,0,0,0,0,0,0,0,0,0,0,0,{"$f":"CN$208*CN10","v":0},0,0,0,0,0,0,0,0,0,0,0,0,0,0,0,0,0]
[null,null,null,null,null,null,null,null,null,null,null,null,null,null,null,null,null,null,null,null,null,null,null,null,null,null,null,null,null,null,null,null,null,null,null,null,null,null,null,null,null,null,null,null,null,null,null,null,null,null,null,null,null,null,null,null,null,"VME(a50/c10)","",{"$f":"BH$208*BH11","v":0},0,0,0,0,0,0,0,0,0,0,0,0,0,0,0,0,0,0,0,0,0,0,0,0,0,0,0,0,0,0,0,{"$f":"CN$208*CN11","v":0},0,0,0,0,0,0,0,0,0,0,0,0,0,0,0,0,0]
[null,null,null,null,null,null,null,null,null,null,null,null,null,null,null,null,null,null,null,null,null,null,null,null,null,null,null,null,null,null,null,null,null,null,null,null,null,null,null,null,null,null,null,null,null,null,null,null,null,null,null,null,null,null,null,null,null,"VME(a50/c11)","",{"$f":"BH$208*BH12","v":0},0,0,0,0,0,0,0,0,0,0,0,0,0,0,0,0,0,0,0,0,0,0,0,0,0,0,0,0,0,0,0,{"$f":"CN$208*CN12","v":0},0,0,0,0,0,0,0,0,0,0,0,0,0,0,0,0,0]
[null,null,null,null,null,null,null,null,null,null,null,null,null,null,null,null,null,null,null,null,null,null,null,null,null,null,null,null,null,null,null,null,null,null,null,null,null,null,null,null,null,null,null,null,null,null,null,null,null,null,null,null,null,null,null,null,null,"VME(a50/c12)","",{"$f":"BH$208*BH13","v":0},0,0,0,0,0,0,0,0,0,0,0,0,0,0,0,0,0,0,0,0,0,0,0,0,0,0,0,0,0,0,0,{"$f":"CN$208*CN13","v":0},0,0,0,0,0,0,0,0,0,0,0,0,0,0,0,0,0]
[null,null,null,null,null,null,null,null,null,null,null,null,null,null,null,null,null,null,null,null,null,null,null,null,null,null,null,null,null,null,null,null,null,null,null,null,null,null,null,null,null,null,null,null,null,null,null,null,null,null,null,null,null,null,null,null,null,"VME(a50/c13)","",{"$f":"BH$208*BH14","v":0},0,0,0,0,0,0,0,0,0,0,0,0,0,0,0,0,0,0,0,0,0,0,0,0,0,0,0,0,0,0,0,{"$f":"CN$208*CN14","v":0},0,0,0,0,0,0,0,0,0,0,0,0,0,0,0,0,0]
[null,null,null,null,null,null,null,null,null,null,null,null,null,null,null,null,null,null,null,null,null,null,null,null,null,null,null,null,null,null,null,null,null,null,null,null,null,null,null,null,null,null,null,null,null,null,null,null,null,null,null,null,null,null,null,null,null,"VME(a50/c14)","",{"$f":"BH$208*BH15","v":0},0,0,0,0,0,0,0,0,0,0,0,0,0,0,0,0,0,0,0,0,0,0,0,0,0,0,0,0,0,0,0,{"$f":"CN$208*CN15","v":0},0,0,0,0,0,0,0,0,0,0,0,0,0,0,0,0,0]
[null,null,null,null,null,null,null,null,null,null,null,null,null,null,null,null,null,null,null,null,null,null,null,null,null,null,null,null,null,null,null,null,null,null,null,null,null,null,null,null,null,null,null,null,null,null,null,null,null,null,null,null,null,null,null,null,null,"VME(a50/c15)","",{"$f":"BH$208*BH16","v":0},0,0,0,0,0,0,0,0,0,0,0,0,0,0,0,0,0,0,0,0,0,0,0,0,0,0,0,0,0,0,0,{"$f":"CN$208*CN16","v":0},0,0,0,0,0,0,0,0,0,0,0,0,0,0,0,0,0]
[null,null,null,null,null,null,null,null,null,null,null,null,null,null,null,null,null,null,null,null,null,null,null,null,null,null,null,null,null,null,null,null,null,null,null,null,null,null,null,null,null,null,null,null,null,null,null,null,null,null,null,null,null,null,null,null,null,"VME(a50/c16)","",{"$f":"BH$208*BH17","v":0},0,0,0,0,0,0,0,0,0,0,0,0,0,0,0,0,0,0,0,0,0,0,0,0,0,0,0,0,0,0,0,{"$f":"CN$208*CN17","v":0},0,0,0,0,0,0,0,0,0,0,0,0,0,0,0,0,0]
[null,null,null,null,null,null,null,null,null,null,null,null,null,null,null,null,null,null,null,null,null,null,null,null,null,null,null,null,null,null,null,null,null,null,null,null,null,null,null,null,null,null,null,null,null,null,null,null,null,null,null,null,null,null,null,null,null,"VME(a50/c17)","",{"$f":"BH$208*BH18","v":0},0,0,0,0,0,0,0,0,0,0,0,0,0,0,0,0,0,0,0,0,0,0,0,0,0,0,0,0,0,0,0,{"$f":"CN$208*CN18","v":0},0,0,0,0,0,0,0,0,0,0,0,0,0,0,0,0,0]
[null,null,null,null,null,null,null,null,null,null,null,null,null,null,null,null,null,null,null,null,null,null,null,null,null,null,null,null,null,null,null,null,null,null,null,null,null,null,null,null,null,null,null,null,null,null,null,null,null,null,null,null,null,null,null,null,null,"VME(a50/c18)","",{"$f":"BH$208*BH19","v":0},0,0,0,0,0,0,0,0,0,0,0,0,0,0,0,0,0,0,0,0,0,0,0,0,0,0,0,0,0,0,0,{"$f":"CN$208*CN19","v":0},0,0,0,0,0,0,0,0,0,0,0,0,0,0,0,0,0]
[null,null,null,null,null,null,null,null,null,null,null,null,null,null,null,null,null,null,null,null,null,null,null,null,null,null,null,null,null,null,null,null,null,null,null,null,null,null,null,null,null,null,null,null,null,null,null,null,null,null,null,null,null,null,null,null,null,"VME(a50/c19)","",{"$f":"BH$208*BH20","v":0},0,0,0,0,0,0,0,0,0,0,0,0,0,0,0,0,0,0,0,0,0,0,0,0,0,0,0,0,0,0,0,{"$f":"CN$208*CN20","v":0},0,0,0,0,0,0,0,0,0,0,0,0,0,0,0,0,0]
[null,null,null,null,null,null,null,null,null,null,null,null,null,null,null,null,null,null,null,null,null,null,null,null,null,null,null,null,null,null,null,null,null,null,null,null,null,null,null,null,null,null,null,null,null,null,null,null,null,null,null,null,null,null,null,null,null,"VME(a50/c20)","",{"$f":"BH$208*BH21","v":0},0,0,0,0,0,0,0,0,0,0,0,0,0,0,0,0,0,0,0,0,0,0,0,0,0,0,0,0,0,0,0,{"$f":"CN$208*CN21","v":0},0,0,0,0,0,0,0,0,0,0,0,0,0,0,0,0,0]
[null,null,null,null,null,null,null,null,null,null,null,null,null,null,null,null,null,null,null,null,null,null,null,null,null,null,null,null,null,null,null,null,null,null,null,null,null,null,null,null,null,null,null,null,null,null,null,null,null,null,null,null,null,null,null,null,null,"VME(a50/c21)","",{"$f":"BH$208*BH22","v":0},0,0,0,0,0,0,0,0,0,0,0,0,0,0,0,0,0,0,0,0,0,0,0,0,0,0,0,0,0,0,0,{"$f":"CN$208*CN22","v":0},0,0,0,0,0,0,0,0,0,0,0,0,0,0,0,0,0]
[null,null,null,null,null,null,null,null,null,null,null,null,null,null,null,null,null,null,null,null,null,null,null,null,null,null,null,null,null,null,null,null,null,null,null,null,null,null,null,null,null,null,null,null,null,null,null,null,null,null,null,null,null,null,null,null,null,"VME(a50/c22)","",{"$f":"BH$208*BH23","v":0},0,0,0,0,0,0,0,0,0,0,0,0,0,0,0,0,0,0,0,0,0,0,0,0,0,0,0,0,0,0,0,{"$f":"CN$208*CN23","v":0},0,0,0,0,0,0,0,0,0,0,0,0,0,0,0,0,0]
[null,null,null,null,null,null,null,null,null,null,null,null,null,null,null,null,null,null,null,null,null,null,null,null,null,null,null,null,null,null,null,null,null,null,null,null,null,null,null,null,null,null,null,null,null,null,null,null,null,null,null,null,null,null,null,null,null,"VME(a50/c23)","",{"$f":"BH$208*BH24","v":0},0,0,0,0,0,0,0,0,0,0,0,0,0,0,0,0,0,0,0,0,0,0,0,0,0,0,0,0,0,0,0,{"$f":"CN$208*CN24","v":0},0,0,0,0,0,0,0,0,0,0,0,0,0,0,0,0,0]
[null,null,null,null,null,null,null,null,null,null,null,null,null,null,null,null,null,null,null,null,null,null,null,null,null,null,null,null,null,null,null,null,null,null,null,null,null,null,null,null,null,null,null,null,null,null,null,null,null,null,null,null,null,null,null,null,null,"VME(a50/c24)","",{"$f":"BH$208*BH25","v":0},0,0,0,0,0,0,0,0,0,0,0,0,0,0,0,0,0,0,0,0,0,0,0,0,0,0,0,0,0,0,0,{"$f":"CN$208*CN25","v":0},0,0,0,0,0,0,0,0,0,0,0,0,0,0,0,0,0]
[null,null,null,null,null,null,null,null,null,null,null,null,null,null,null,null,null,null,null,null,null,null,null,null,null,null,null,null,null,null,null,null,null,null,null,null,null,null,null,null,null,null,null,null,null,null,null,null,null,null,null,null,null,null,null,null,null,"VME(a50/c25)","",{"$f":"BH$208*BH26","v":0},0,0,0,0,0,0,0,0,0,0,0,0,0,0,0,0,0,0,0,0,0,0,0,0,0,0,0,0,0,0,0,{"$f":"CN$208*CN26","v":0},0,0,0,0,0,0,0,0,0,0,0,0,0,0,0,0,0]
[null,null,null,null,null,null,null,null,null,null,null,null,null,null,null,null,null,null,null,null,null,null,null,null,null,null,null,null,null,null,null,null,null,null,null,null,null,null,null,null,null,null,null,null,null,null,null,null,null,null,null,null,null,null,null,null,null,"VME(a50/c26)","",{"$f":"BH$208*BH27","v":0},0,0,0,0,0,0,0,0,0,0,0,0,0,0,0,0,0,0,0,0,0,0,0,0,0,0,0,0,0,0,0,{"$f":"CN$208*CN27","v":0},0,0,0,0,0,0,0,0,0,0,0,0,0,0,0,0,0]
[null,null,null,null,null,null,null,null,null,null,null,null,null,null,null,null,null,null,null,null,null,null,null,null,null,null,null,null,null,null,null,null,null,null,null,null,null,null,null,null,null,null,null,null,null,null,null,null,null,null,null,null,null,null,null,null,null,"VME(a50/c27)","",{"$f":"BH$208*BH28","v":0},0,0,0,0,0,0,0,0,0,0,0,0,0,0,0,0,0,0,0,0,0,0,0,0,0,0,0,0,0,0,0,{"$f":"CN$208*CN28","v":0},0,0,0,0,0,0,0,0,0,0,0,0,0,0,0,0,0]
[null,null,null,null,null,null,null,null,null,null,null,null,null,null,null,null,null,null,null,null,null,null,null,null,null,null,null,null,null,null,null,null,null,null,null,null,null,null,null,null,null,null,null,null,null,null,null,null,null,null,null,null,null,null,null,null,null,"VME(a50/c28)","",{"$f":"BH$208*BH29","v":0},0,0,0,0,0,0,0,0,0,0,0,0,0,0,0,0,0,0,0,0,0,0,0,0,0,0,0,0,0,0,0,{"$f":"CN$208*CN29","v":0},0,0,0,0,0,0,0,0,0,0,0,0,0,0,0,0,0]
[null,null,null,null,null,null,null,null,null,null,null,null,null,null,null,null,null,null,null,null,null,null,null,null,null,null,null,null,null,null,null,null,null,null,null,null,null,null,null,null,null,null,null,null,null,null,null,null,null,null,null,null,null,null,null,null,null,"VME(a50/c29)","",{"$f":"BH$208*BH30","v":0},0,0,0,0,0,0,0,0,0,0,0,0,0,0,0,0,0,0,0,0,0,0,0,0,0,0,0,0,0,0,0,{"$f":"CN$208*CN30","v":0},0,0,0,0,0,0,0,0,0,0,0,0,0,0,0,0,0]
[null,null,null,null,null,null,null,null,null,null,null,null,null,null,null,null,null,null,null,null,null,null,null,null,null,null,null,null,null,null,null,null,null,null,null,null,null,null,null,null,null,null,null,null,null,null,null,null,null,null,null,null,null,null,null,null,null,"VME(a50/c30)","",{"$f":"BH$208*BH31","v":0},0,0,0,0,0,0,0,0,0,0,0,0,0,0,0,0,0,0,0,0,0,0,0,0,0,0,0,0,0,0,0,{"$f":"CN$208*CN31","v":0},0,0,0,0,0,0,0,0,0,0,0,0,0,0,0,0,0]
[null,null,null,null,null,null,null,null,null,null,null,null,null,null,null,null,null,null,null,null,null,null,null,null,null,null,null,null,null,null,null,null,null,null,null,null,null,null,null,null,null,null,null,null,null,null,null,null,null,null,null,null,null,null,null,null,null,"VME(a50/c31)","",{"$f":"BH$208*BH32","v":0},0,0,0,0,0,0,0,0,0,0,0,0,0,0,0,0,0,0,0,0,0,0,0,0,0,0,0,0,0,0,0,{"$f":"CN$208*CN32","v":0},0,0,0,0,0,0,0,0,0,0,0,0,0,0,0,0,0]
[null,null,null,null,null,null,null,null,null,null,null,null,null,null,null,null,null,null,null,null,null,null,null,null,null,null,null,null,null,null,null,null,null,null,null,null,null,null,null,null,null,null,null,null,null,null,null,null,null,null,null,null,null,null,null,null,null,"VME(a50/c32)","",{"$f":"BH$208*BH33","v":0},0,0,0,0,0,0,0,0,0,0,0,0,0,0,0,0,0,0,0,0,0,0,0,0,0,0,0,0,0,0,0,{"$f":"CN$208*CN33","v":0},0,0,0,0,0,0,0,0,0,0,0,0,0,0,0,0,0]
[null,null,null,null,null,null,null,null,null,null,null,null,null,null,null,null,null,null,null,null,null,null,null,null,null,null,null,null,null,null,null,null,null,null,null,null,null,null,null,null,null,null,null,null,null,null,null,null,null,null,null,null,null,null,null,null,null,"VME(a50/c33)","",{"$f":"BH$208*BH34","v":0},0,0,0,0,0,0,0,0,0,0,0,0,0,0,0,0,0,0,0,0,0,0,0,0,0,0,0,0,0,0,0,{"$f":"CN$208*CN34","v":0},0,0,0,0,0,0,0,0,0,0,0,0,0,0,0,0,0]
[null,null,null,null,null,null,null,null,null,null,null,null,null,null,null,null,null,null,null,null,null,null,null,null,null,null,null,null,null,null,null,null,null,null,null,null,null,null,null,null,null,null,null,null,null,null,null,null,null,null,null,null,null,null,null,null,null,"VME(a50/c34)","",{"$f":"BH$208*BH35","v":0},0,0,0,0,0,0,0,0,0,0,0,0,0,0,0,0,0,0,0,0,0,0,0,0,0,0,0,0,0,0,0,{"$f":"CN$208*CN35","v":0},0,0,0,0,0,0,0,0,0,0,0,0,0,0,0,0,0]
[null,null,null,null,null,null,null,null,null,null,null,null,null,null,null,null,null,null,null,null,null,null,null,null,null,null,null,null,null,null,null,null,null,null,null,null,null,null,null,null,null,null,null,null,null,null,null,null,null,null,null,null,null,null,null,null,null,"VME(a50/c35)","",{"$f":"BH$208*BH36","v":0},0,0,0,0,0,0,0,0,0,0,0,0,0,0,0,0,0,0,0,0,0,0,0,0,0,0,0,0,0,0,0,{"$f":"CN$208*CN36","v":0},0,0,0,0,0,0,0,0,0,0,0,0,0,0,0,0,0]
[null,null,null,null,null,null,null,null,null,null,null,null,null,null,null,null,null,null,null,null,null,null,null,null,null,null,null,null,null,null,null,null,null,null,null,null,null,null,null,null,null,null,null,null,null,null,null,null,null,null,null,null,null,null,null,null,null,"VME(a50/c36)","",{"$f":"BH$208*BH37","v":0},0,0,0,0,0,0,0,0,0,0,0,0,0,0,0,0,0,0,0,0,0,0,0,0,0,0,0,0,0,0,0,{"$f":"CN$208*CN37","v":0},0,0,0,0,0,0,0,0,0,0,0,0,0,0,0,0,0]
[null,null,null,null,null,null,null,null,null,null,null,null,null,null,null,null,null,null,null,null,null,null,null,null,null,null,null,null,null,null,null,null,null,null,null,null,null,null,null,null,null,null,null,null,null,null,null,null,null,null,null,null,null,null,null,null,null,"VME(a50/c37)","",{"$f":"BH$208*BH38","v":0},0,0,0,0,0,0,0,0,0,0,0,0,0,0,0,0,0,0,0,0,0,0,0,0,0,0,0,0,0,0,0,{"$f":"CN$208*CN38","v":0},0,0,0,0,0,0,0,0,0,0,0,0,0,0,0,0,0]
[null,null,null,null,null,null,null,null,null,null,null,null,null,null,null,null,null,null,null,null,null,null,null,null,null,null,null,null,null,null,null,null,null,null,null,null,null,null,null,null,null,null,null,null,null,null,null,null,null,null,null,null,null,null,null,null,null,"VME(a50/c38)","",{"$f":"BH$208*BH39","v":0},0,0,0,0,0,0,0,0,0,0,0,0,0,0,0,0,0,0,0,0,0,0,0,0,0,0,0,0,0,0,0,{"$f":"CN$208*CN39","v":0},0,0,0,0,0,0,0,0,0,0,0,0,0,0,0,0,0]
[null,null,null,null,null,null,null,null,null,null,null,null,null,null,null,null,null,null,null,null,null,null,null,null,null,null,null,null,null,null,null,null,null,null,null,null,null,null,null,null,null,null,null,null,null,null,null,null,null,null,null,null,null,null,null,null,null,"VME(a50/c39)","",{"$f":"BH$208*BH40","v":0},0,0,0,0,0,0,0,0,0,0,0,0,0,0,0,0,0,0,0,0,0,0,0,0,0,0,0,0,0,0,0,{"$f":"CN$208*CN40","v":0},0,0,0,0,0,0,0,0,0,0,0,0,0,0,0,0,0]
[null,null,null,null,null,null,null,null,null,null,null,null,null,null,null,null,null,null,null,null,null,null,null,null,null,null,null,null,null,null,null,null,null,null,null,null,null,null,null,null,null,null,null,null,null,null,null,null,null,null,null,null,null,null,null,null,null,"VME(a50/c40)","",{"$f":"BH$208*BH41","v":0},0,0,0,0,0,0,0,0,0,0,0,0,0,0,0,0,0,0,0,0,0,0,0,0,0,0,0,0,0,0,0,{"$f":"CN$208*CN41","v":0},0,0,0,0,0,0,0,0,0,0,0,0,0,0,0,0,0]
[null,null,null,null,null,null,null,null,null,null,null,null,null,null,null,null,null,null,null,null,null,null,null,null,null,null,null,null,null,null,null,null,null,null,null,null,null,null,null,null,null,null,null,null,null,null,null,null,null,null,null,null,null,null,null,null,null,"VME(a50/c41)","",{"$f":"BH$208*BH42","v":0},0,0,0,0,0,0,0,0,0,0,0,0,0,0,0,0,0,0,0,0,0,0,0,0,0,0,0,0,0,0,0,{"$f":"CN$208*CN42","v":0},0,0,0,0,0,0,0,0,0,0,0,0,0,0,0,0,0]
[null,null,null,null,null,null,null,null,null,null,null,null,null,null,null,null,null,null,null,null,null,null,null,null,null,null,null,null,null,null,null,null,null,null,null,null,null,null,null,null,null,null,null,null,null,null,null,null,null,null,null,null,null,null,null,null,null,"VME(a50/c42)","",{"$f":"BH$208*BH43","v":0},0,0,0,0,0,0,0,0,0,0,0,0,0,0,0,0,0,0,0,0,0,0,0,0,0,0,0,0,0,0,0,{"$f":"CN$208*CN43","v":0},0,0,0,0,0,0,0,0,0,0,0,0,0,0,0,0,0]
[null,null,null,null,null,null,null,null,null,null,null,null,null,null,null,null,null,null,null,null,null,null,null,null,null,null,null,null,null,null,null,null,null,null,null,null,null,null,null,null,null,null,null,null,null,null,null,null,null,null,null,null,null,null,null,null,null,"VME(a50/c43)","",{"$f":"BH$208*BH44","v":0},0,0,0,0,0,0,0,0,0,0,0,0,0,0,0,0,0,0,0,0,0,0,0,0,0,0,0,0,0,0,0,{"$f":"CN$208*CN44","v":0},0,0,0,0,0,0,0,0,0,0,0,0,0,0,0,0,0]
[null,null,null,null,null,null,null,null,null,null,null,null,null,null,null,null,null,null,null,null,null,null,null,null,null,null,null,null,null,null,null,null,null,null,null,null,null,null,null,null,null,null,null,null,null,null,null,null,null,null,null,null,null,null,null,null,null,"VME(a50/c44)","",{"$f":"BH$208*BH45","v":0},0,0,0,0,0,0,0,0,0,0,0,0,0,0,0,0,0,0,0,0,0,0,0,0,0,0,0,0,0,0,0,{"$f":"CN$208*CN45","v":0},0,0,0,0,0,0,0,0,0,0,0,0,0,0,0,0,0]
[null,null,null,null,null,null,null,null,null,null,null,null,null,null,null,null,null,null,null,null,null,null,null,null,null,null,null,null,null,null,null,null,null,null,null,null,null,null,null,null,null,null,null,null,null,null,null,null,null,null,null,null,null,null,null,null,null,"VME(a50/c45)","",{"$f":"BH$208*BH46","v":0},0,0,0,0,0,0,0,0,0,0,0,0,0,0,0,0,0,0,0,0,0,0,0,0,0,0,0,0,0,0,0,{"$f":"CN$208*CN46","v":0},0,0,0,0,0,0,0,0,0,0,0,0,0,0,0,0,0]
[null,null,null,null,null,null,null,null,null,null,null,null,null,null,null,null,null,null,null,null,null,null,null,null,null,null,null,null,null,null,null,null,null,null,null,null,null,null,null,null,null,null,null,null,null,null,null,null,null,null,null,null,null,null,null,null,null,"VME(a50/c46)","",{"$f":"BH$208*BH47","v":0},0,0,0,0,0,0,0,0,0,0,0,0,0,0,0,0,0,0,0,0,0,0,0,0,0,0,0,0,0,0,0,{"$f":"CN$208*CN47","v":0},0,0,0,0,0,0,0,0,0,0,0,0,0,0,0,0,0]
[null,null,null,null,null,null,null,null,null,null,null,null,null,null,null,null,null,null,null,null,null,null,null,null,null,null,null,null,null,null,null,null,null,null,null,null,null,null,null,null,null,null,null,null,null,null,null,null,null,null,null,null,null,null,null,null,null,"VME(a50/c47)","",{"$f":"BH$208*BH48","v":0},0,0,0,0,0,0,0,0,0,0,0,0,0,0,0,0,0,0,0,0,0,0,0,0,0,0,0,0,0,0,0,{"$f":"CN$208*CN48","v":0},0,0,0,0,0,0,0,0,0,0,0,0,0,0,0,0,0]
[null,null,null,null,null,null,null,null,null,null,null,null,null,null,null,null,null,null,null,null,null,null,null,null,null,null,null,null,null,null,null,null,null,null,null,null,null,null,null,null,null,null,null,null,null,null,null,null,null,null,null,null,null,null,null,null,null,"VME(a50/c48)","",{"$f":"BH$208*BH49","v":0},0,0,0,0,0,0,0,0,0,0,0,0,0,0,0,0,0,0,0,0,0,0,0,0,0,0,0,0,0,0,0,{"$f":"CN$208*CN49","v":0},0,0,0,0,0,0,0,0,0,0,0,0,0,0,0,0,0]
[null,null,null,null,null,null,null,null,null,null,null,null,null,null,null,null,null,null,null,null,null,null,null,null,null,null,null,null,null,null,null,null,null,null,null,null,null,null,null,null,null,null,null,null,null,null,null,null,null,null,null,null,null,null,null,null,null,"VME(a50/c49)","",{"$f":"BH$208*BH50","v":0},0,0,0,0,0,0,0,0,0,0,0,0,0,0,0,0,0,0,0,0,0,0,0,0,0,0,0,0,0,0,0,{"$f":"CN$208*CN50","v":0},0,0,0,0,0,0,0,0,0,0,0,0,0,0,0,0,0]
[null,null,null,null,null,null,null,null,null,null,null,null,null,null,null,null,null,null,null,null,null,null,null,null,null,null,null,null,null,null,null,null,null,null,null,null,null,null,null,null,null,null,null,null,null,null,null,null,null,null,null,null,null,null,null,null,null,"VME(a50/c50)","",{"$f":"BH$208*BH51","v":0},0,0,0,0,0,0,0,0,0,0,0,0,0,0,0,0,0,0,0,0,0,0,0,0,0,0,0,0,0,0,0,{"$f":"CN$208*CN51","v":0},0,0,0,0,0,0,0,0,0,0,0,0,0,0,0,0,0]

{"sheet":"MATRIZ-PÉRDIDA OPORTUNIDAD","index":3,"n_rows":52,"n_cols":54,"rows_kept":52,"cut":false,"hidden":false,"merged":[]}
["Pérdida de Oportunidad",{"$f":"IF('TABLA DE DECISION'!BG157=\"\",\"\",'TABLA DE DECISION'!BG157)","v":"etiquetas de los  ej:   →"},{"$f":"IF('TABLA DE DECISION'!BH157=\"\",\"\",'TABLA DE DECISION'!BH157)","v":""},{"$f":"IF('TABLA DE DECISION'!BI157=\"\",\"\",'TABLA DE DECISION'!BI157)","v":""},{"$f":"IF('TABLA DE DECISION'!BJ157=\"\",\"\",'TABLA DE DECISION'!BJ157)","v":""},{"$f":"IF('TABLA DE DECISION'!BK157=\"\",\"\",'TABLA DE DECISION'!BK157)","v":""},{"$f":"IF('TABLA DE DECISION'!BL157=\"\",\"\",'TABLA DE DECISION'!BL157)","v":""},{"$f":"IF('TABLA DE DECISION'!BM157=\"\",\"\",'TABLA DE DECISION'!BM157)","v":""},{"$f":"IF('TABLA DE DECISION'!BN157=\"\",\"\",'TABLA DE DECISION'!BN157)","v":""},{"$f":"IF('TABLA DE DECISION'!BO157=\"\",\"\",'TABLA DE DECISION'!BO157)","v":""},{"$f":"IF('TABLA DE DECISION'!BP157=\"\",\"\",'TABLA DE DECISION'!BP157)","v":""},{"$f":"IF('TABLA DE DECISION'!BQ157=\"\",\"\",'TABLA DE DECISION'!BQ157)","v":""},{"$f":"IF('TABLA DE DECISION'!BR157=\"\",\"\",'TABLA DE DECISION'!BR157)","v":""},{"$f":"IF('TABLA DE DECISION'!BS157=\"\",\"\",'TABLA DE DECISION'!BS157)","v":""},{"$f":"IF('TABLA DE DECISION'!BT157=\"\",\"\",'TABLA DE DECISION'!BT157)","v":""},{"$f":"IF('TABLA DE DECISION'!BU157=\"\",\"\",'TABLA DE DECISION'!BU157)","v":""},{"$f":"IF('TABLA DE DECISION'!BV157=\"\",\"\",'TABLA DE DECISION'!BV157)","v":""},{"$f":"IF('TABLA DE DECISION'!BW157=\"\",\"\",'TABLA DE DECISION'!BW157)","v":""},{"$f":"IF('TABLA DE DECISION'!BX157=\"\",\"\",'TABLA DE DECISION'!BX157)","v":""},{"$f":"IF('TABLA DE DECISION'!BY157=\"\",\"\",'TABLA DE DECISION'!BY157)","v":""},{"$f":"IF('TABLA DE DECISION'!BZ157=\"\",\"\",'TABLA DE DECISION'!BZ157)","v":""},{"$f":"IF('TABLA DE DECISION'!CA157=\"\",\"\",'TABLA DE DECISION'!CA157)","v":""},{"$f":"IF('TABLA DE DECISION'!CB157=\"\",\"\",'TABLA DE DECISION'!CB157)","v":""},{"$f":"IF('TABLA DE DECISION'!CC157=\"\",\"\",'TABLA DE DECISION'!CC157)","v":""},{"$f":"IF('TABLA DE DECISION'!CD157=\"\",\"\",'TABLA DE DECISION'!CD157)","v":""},{"$f":"IF('TABLA DE DECISION'!CE157=\"\",\"\",'TABLA DE DECISION'!CE157)","v":""},{"$f":"IF('TABLA DE DECISION'!CF157=\"\",\"\",'TABLA DE DECISION'!CF157)","v":""},{"$f":"IF('TABLA DE DECISION'!CG157=\"\",\"\",'TABLA DE DECISION'!CG157)","v":""},{"$f":"IF('TABLA DE DECISION'!CH157=\"\",\"\",'TABLA DE DECISION'!CH157)","v":""},{"$f":"IF('TABLA DE DECISION'!CI157=\"\",\"\",'TABLA DE DECISION'!CI157)","v":""},{"$f":"IF('TABLA DE DECISION'!CJ157=\"\",\"\",'TABLA DE DECISION'!CJ157)","v":""},{"$f":"IF('TABLA DE DECISION'!CK157=\"\",\"\",'TABLA DE DECISION'!CK157)","v":""},{"$f":"IF('TABLA DE DECISION'!CL157=\"\",\"\",'TABLA DE DECISION'!CL157)","v":""},{"$f":"IF('TABLA DE DECISION'!CM157=\"\",\"\",'TABLA DE DECISION'!CM157)","v":""},{"$f":"IF('TABLA DE DECISION'!CN157=\"\",\"\",'TABLA DE DECISION'!CN157)","v":""},{"$f":"IF('TABLA DE DECISION'!CO157=\"\",\"\",'TABLA DE DECISION'!CO157)","v":""},{"$f":"IF('TABLA DE DECISION'!CP157=\"\",\"\",'TABLA DE DECISION'!CP157)","v":""},{"$f":"IF('TABLA DE DECISION'!CQ157=\"\",\"\",'TABLA DE DECISION'!CQ157)","v":""},{"$f":"IF('TABLA DE DECISION'!CR157=\"\",\"\",'TABLA DE DECISION'!CR157)","v":""},{"$f":"IF('TABLA DE DECISION'!CS157=\"\",\"\",'TABLA DE DECISION'!CS157)","v":""},{"$f":"IF('TABLA DE DECISION'!CT157=\"\",\"\",'TABLA DE DECISION'!CT157)","v":""},{"$f":"IF('TABLA DE DECISION'!CU157=\"\",\"\",'TABLA DE DECISION'!CU157)","v":""},{"$f":"IF('TABLA DE DECISION'!CV157=\"\",\"\",'TABLA DE DECISION'!CV157)","v":""},{"$f":"IF('TABLA DE DECISION'!CW157=\"\",\"\",'TABLA DE DECISION'!CW157)","v":""},{"$f":"IF('TABLA DE DECISION'!CX157=\"\",\"\",'TABLA DE DECISION'!CX157)","v":""},{"$f":"IF('TABLA DE DECISION'!CY157=\"\",\"\",'TABLA DE DECISION'!CY157)","v":""},{"$f":"IF('TABLA DE DECISION'!CZ157=\"\",\"\",'TABLA DE DECISION'!CZ157)","v":""},{"$f":"IF('TABLA DE DECISION'!DA157=\"\",\"\",'TABLA DE DECISION'!DA157)","v":""},{"$f":"IF('TABLA DE DECISION'!DB157=\"\",\"\",'TABLA DE DECISION'!DB157)","v":""},{"$f":"IF('TABLA DE DECISION'!DC157=\"\",\"\",'TABLA DE DECISION'!DC157)","v":""},{"$f":"IF('TABLA DE DECISION'!DD157=\"\",\"\",'TABLA DE DECISION'!DD157)","v":""},{"$f":"IF('TABLA DE DECISION'!DE157=\"\",\"\",'TABLA DE DECISION'!DE157)","v":""}]
[{"$f":"IF('TABLA DE DECISION'!BF158=\"\",\"\",'TABLA DE DECISION'!BF158)","v":"etiquetas de las  ai:   ↓"},"Pij    ↘",{"$f":"IF('TABLA DE DECISION'!BH158=\"\",\"\",'TABLA DE DECISION'!BH158)","v":"e1"},{"$f":"IF('TABLA DE DECISION'!BI158=\"\",\"\",'TABLA DE DECISION'!BI158)","v":"e2"},{"$f":"IF('TABLA DE DECISION'!BJ158=\"\",\"\",'TABLA DE DECISION'!BJ158)","v":"e3"},{"$f":"IF('TABLA DE DECISION'!BK158=\"\",\"\",'TABLA DE DECISION'!BK158)","v":"e4"},{"$f":"IF('TABLA DE DECISION'!BL158=\"\",\"\",'TABLA DE DECISION'!BL158)","v":"e5"},{"$f":"IF('TABLA DE DECISION'!BM158=\"\",\"\",'TABLA DE DECISION'!BM158)","v":"e6"},{"$f":"IF('TABLA DE DECISION'!BN158=\"\",\"\",'TABLA DE DECISION'!BN158)","v":"e7"},{"$f":"IF('TABLA DE DECISION'!BO158=\"\",\"\",'TABLA DE DECISION'!BO158)","v":"e8"},{"$f":"IF('TABLA DE DECISION'!BP158=\"\",\"\",'TABLA DE DECISION'!BP158)","v":"e9"},{"$f":"IF('TABLA DE DECISION'!BQ158=\"\",\"\",'TABLA DE DECISION'!BQ158)","v":"e10"},{"$f":"IF('TABLA DE DECISION'!BR158=\"\",\"\",'TABLA DE DECISION'!BR158)","v":"e11"},{"$f":"IF('TABLA DE DECISION'!BS158=\"\",\"\",'TABLA DE DECISION'!BS158)","v":"e12"},{"$f":"IF('TABLA DE DECISION'!BT158=\"\",\"\",'TABLA DE DECISION'!BT158)","v":"e13"},{"$f":"IF('TABLA DE DECISION'!BU158=\"\",\"\",'TABLA DE DECISION'!BU158)","v":"e14"},{"$f":"IF('TABLA DE DECISION'!BV158=\"\",\"\",'TABLA DE DECISION'!BV158)","v":"e15"},{"$f":"IF('TABLA DE DECISION'!BW158=\"\",\"\",'TABLA DE DECISION'!BW158)","v":"e16"},{"$f":"IF('TABLA DE DECISION'!BX158=\"\",\"\",'TABLA DE DECISION'!BX158)","v":"e17"},{"$f":"IF('TABLA DE DECISION'!BY158=\"\",\"\",'TABLA DE DECISION'!BY158)","v":"e18"},{"$f":"IF('TABLA DE DECISION'!BZ158=\"\",\"\",'TABLA DE DECISION'!BZ158)","v":"e19"},{"$f":"IF('TABLA DE DECISION'!CA158=\"\",\"\",'TABLA DE DECISION'!CA158)","v":"e20"},{"$f":"IF('TABLA DE DECISION'!CB158=\"\",\"\",'TABLA DE DECISION'!CB158)","v":"e21"},{"$f":"IF('TABLA DE DECISION'!CC158=\"\",\"\",'TABLA DE DECISION'!CC158)","v":"e22"},{"$f":"IF('TABLA DE DECISION'!CD158=\"\",\"\",'TABLA DE DECISION'!CD158)","v":"e23"},{"$f":"IF('TABLA DE DECISION'!CE158=\"\",\"\",'TABLA DE DECISION'!CE158)","v":"e24"},{"$f":"IF('TABLA DE DECISION'!CF158=\"\",\"\",'TABLA DE DECISION'!CF158)","v":"e25"},{"$f":"IF('TABLA DE DECISION'!CG158=\"\",\"\",'TABLA DE DECISION'!CG158)","v":"e26"},{"$f":"IF('TABLA DE DECISION'!CH158=\"\",\"\",'TABLA DE DECISION'!CH158)","v":"e27"},{"$f":"IF('TABLA DE DECISION'!CI158=\"\",\"\",'TABLA DE DECISION'!CI158)","v":"e28"},{"$f":"IF('TABLA DE DECISION'!CJ158=\"\",\"\",'TABLA DE DECISION'!CJ158)","v":"e29"},{"$f":"IF('TABLA DE DECISION'!CK158=\"\",\"\",'TABLA DE DECISION'!CK158)","v":"e30"},{"$f":"IF('TABLA DE DECISION'!CL158=\"\",\"\",'TABLA DE DECISION'!CL158)","v":"e31"},{"$f":"IF('TABLA DE DECISION'!CM158=\"\",\"\",'TABLA DE DECISION'!CM158)","v":"e32"},{"$f":"IF('TABLA DE DECISION'!CN158=\"\",\"\",'TABLA DE DECISION'!CN158)","v":"e33"},{"$f":"IF('TABLA DE DECISION'!CO158=\"\",\"\",'TABLA DE DECISION'!CO158)","v":"e34"},{"$f":"IF('TABLA DE DECISION'!CP158=\"\",\"\",'TABLA DE DECISION'!CP158)","v":"e35"},{"$f":"IF('TABLA DE DECISION'!CQ158=\"\",\"\",'TABLA DE DECISION'!CQ158)","v":"e36"},{"$f":"IF('TABLA DE DECISION'!CR158=\"\",\"\",'TABLA DE DECISION'!CR158)","v":"e37"},{"$f":"IF('TABLA DE DECISION'!CS158=\"\",\"\",'TABLA DE DECISION'!CS158)","v":"e38"},{"$f":"IF('TABLA DE DECISION'!CT158=\"\",\"\",'TABLA DE DECISION'!CT158)","v":"e39"},{"$f":"IF('TABLA DE DECISION'!CU158=\"\",\"\",'TABLA DE DECISION'!CU158)","v":"e40"},{"$f":"IF('TABLA DE DECISION'!CV158=\"\",\"\",'TABLA DE DECISION'!CV158)","v":"e41"},{"$f":"IF('TABLA DE DECISION'!CW158=\"\",\"\",'TABLA DE DECISION'!CW158)","v":"e42"},{"$f":"IF('TABLA DE DECISION'!CX158=\"\",\"\",'TABLA DE DECISION'!CX158)","v":"e43"},{"$f":"IF('TABLA DE DECISION'!CY158=\"\",\"\",'TABLA DE DECISION'!CY158)","v":"e44"},{"$f":"IF('TABLA DE DECISION'!CZ158=\"\",\"\",'TABLA DE DECISION'!CZ158)","v":"e45"},{"$f":"IF('TABLA DE DECISION'!DA158=\"\",\"\",'TABLA DE DECISION'!DA158)","v":"e46"},{"$f":"IF('TABLA DE DECISION'!DB158=\"\",\"\",'TABLA DE DECISION'!DB158)","v":"e47"},{"$f":"IF('TABLA DE DECISION'!DC158=\"\",\"\",'TABLA DE DECISION'!DC158)","v":"e48"},{"$f":"IF('TABLA DE DECISION'!DD158=\"\",\"\",'TABLA DE DECISION'!DD158)","v":"e49"},{"$f":"IF('TABLA DE DECISION'!DE158=\"\",\"\",'TABLA DE DECISION'!DE158)","v":"e50"},null,{"$f":"MIN(BB3:BB52)","v":1750}]
[{"$f":"IF('TABLA DE DECISION'!BF159=\"\",\"\",'TABLA DE DECISION'!BF159)","v":""},{"$f":"IF('TABLA DE DECISION'!BG159=\"\",\"\",'TABLA DE DECISION'!BG159)","v":"a1"},{"$f":"IF('TABLA DE DECISION'!BH159=\"\",\"\",IF('TABLA DE DECISION'!$A$156=1,MAX('TABLA DE DECISION'!BH$159:BH$208)-'TABLA DE DECISION'!BH159,'TABLA DE DECISION'!BH159-MIN('TABLA DE DECISION'!BH$159:BH$208)))","v":0},{"$f":"IF('TABLA DE DECISION'!BI159=\"\",\"\",IF('TABLA DE DECISION'!$A$156=1,MAX('TABLA DE DECISION'!BI$159:BI$208)-'TABLA DE DECISION'!BI159,'TABLA DE DECISION'!BI159-MIN('TABLA DE DECISION'!BI$159:BI$208)))","v":2500},{"$f":"IF('TABLA DE DECISION'!BJ159=\"\",\"\",IF('TABLA DE DECISION'!$A$156=1,MAX('TABLA DE DECISION'!BJ$159:BJ$208)-'TABLA DE DECISION'!BJ159,'TABLA DE DECISION'!BJ159-MIN('TABLA DE DECISION'!BJ$159:BJ$208)))","v":5000},{"$f":"IF('TABLA DE DECISION'!BK159=\"\",\"\",IF('TABLA DE DECISION'!$A$156=1,MAX('TABLA DE DECISION'!BK$159:BK$208)-'TABLA DE DECISION'!BK159,'TABLA DE DECISION'!BK159-MIN('TABLA DE DECISION'!BK$159:BK$208)))","v":""},{"$f":"IF('TABLA DE DECISION'!BL159=\"\",\"\",IF('TABLA DE DECISION'!$A$156=1,MAX('TABLA DE DECISION'!BL$159:BL$208)-'TABLA DE DECISION'!BL159,'TABLA DE DECISION'!BL159-MIN('TABLA DE DECISION'!BL$159:BL$208)))","v":""},{"$f":"IF('TABLA DE DECISION'!BM159=\"\",\"\",IF('TABLA DE DECISION'!$A$156=1,MAX('TABLA DE DECISION'!BM$159:BM$208)-'TABLA DE DECISION'!BM159,'TABLA DE DECISION'!BM159-MIN('TABLA DE DECISION'!BM$159:BM$208)))","v":""},{"$f":"IF('TABLA DE DECISION'!BN159=\"\",\"\",IF('TABLA DE DECISION'!$A$156=1,MAX('TABLA DE DECISION'!BN$159:BN$208)-'TABLA DE DECISION'!BN159,'TABLA DE DECISION'!BN159-MIN('TABLA DE DECISION'!BN$159:BN$208)))","v":""},{"$f":"IF('TABLA DE DECISION'!BO159=\"\",\"\",IF('TABLA DE DECISION'!$A$156=1,MAX('TABLA DE DECISION'!BO$159:BO$208)-'TABLA DE DECISION'!BO159,'TABLA DE DECISION'!BO159-MIN('TABLA DE DECISION'!BO$159:BO$208)))","v":""},{"$f":"IF('TABLA DE DECISION'!BP159=\"\",\"\",IF('TABLA DE DECISION'!$A$156=1,MAX('TABLA DE DECISION'!BP$159:BP$208)-'TABLA DE DECISION'!BP159,'TABLA DE DECISION'!BP159-MIN('TABLA DE DECISION'!BP$159:BP$208)))","v":""},{"$f":"IF('TABLA DE DECISION'!BQ159=\"\",\"\",IF('TABLA DE DECISION'!$A$156=1,MAX('TABLA DE DECISION'!BQ$159:BQ$208)-'TABLA DE DECISION'!BQ159,'TABLA DE DECISION'!BQ159-MIN('TABLA DE DECISION'!BQ$159:BQ$208)))","v":""},{"$f":"IF('TABLA DE DECISION'!BR159=\"\",\"\",IF('TABLA DE DECISION'!$A$156=1,MAX('TABLA DE DECISION'!BR$159:BR$208)-'TABLA DE DECISION'!BR159,'TABLA DE DECISION'!BR159-MIN('TABLA DE DECISION'!BR$159:BR$208)))","v":""},{"$f":"IF('TABLA DE DECISION'!BS159=\"\",\"\",IF('TABLA DE DECISION'!$A$156=1,MAX('TABLA DE DECISION'!BS$159:BS$208)-'TABLA DE DECISION'!BS159,'TABLA DE DECISION'!BS159-MIN('TABLA DE DECISION'!BS$159:BS$208)))","v":""},{"$f":"IF('TABLA DE DECISION'!BT159=\"\",\"\",IF('TABLA DE DECISION'!$A$156=1,MAX('TABLA DE DECISION'!BT$159:BT$208)-'TABLA DE DECISION'!BT159,'TABLA DE DECISION'!BT159-MIN('TABLA DE DECISION'!BT$159:BT$208)))","v":""},{"$f":"IF('TABLA DE DECISION'!BU159=\"\",\"\",IF('TABLA DE DECISION'!$A$156=1,MAX('TABLA DE DECISION'!BU$159:BU$208)-'TABLA DE DECISION'!BU159,'TABLA DE DECISION'!BU159-MIN('TABLA DE DECISION'!BU$159:BU$208)))","v":""},{"$f":"IF('TABLA DE DECISION'!BV159=\"\",\"\",IF('TABLA DE DECISION'!$A$156=1,MAX('TABLA DE DECISION'!BV$159:BV$208)-'TABLA DE DECISION'!BV159,'TABLA DE DECISION'!BV159-MIN('TABLA DE DECISION'!BV$159:BV$208)))","v":""},{"$f":"IF('TABLA DE DECISION'!BW159=\"\",\"\",IF('TABLA DE DECISION'!$A$156=1,MAX('TABLA DE DECISION'!BW$159:BW$208)-'TABLA DE DECISION'!BW159,'TABLA DE DECISION'!BW159-MIN('TABLA DE DECISION'!BW$159:BW$208)))","v":""},{"$f":"IF('TABLA DE DECISION'!BX159=\"\",\"\",IF('TABLA DE DECISION'!$A$156=1,MAX('TABLA DE DECISION'!BX$159:BX$208)-'TABLA DE DECISION'!BX159,'TABLA DE DECISION'!BX159-MIN('TABLA DE DECISION'!BX$159:BX$208)))","v":""},{"$f":"IF('TABLA DE DECISION'!BY159=\"\",\"\",IF('TABLA DE DECISION'!$A$156=1,MAX('TABLA DE DECISION'!BY$159:BY$208)-'TABLA DE DECISION'!BY159,'TABLA DE DECISION'!BY159-MIN('TABLA DE DECISION'!BY$159:BY$208)))","v":""},{"$f":"IF('TABLA DE DECISION'!BZ159=\"\",\"\",IF('TABLA DE DECISION'!$A$156=1,MAX('TABLA DE DECISION'!BZ$159:BZ$208)-'TABLA DE DECISION'!BZ159,'TABLA DE DECISION'!BZ159-MIN('TABLA DE DECISION'!BZ$159:BZ$208)))","v":""},{"$f":"IF('TABLA DE DECISION'!CA159=\"\",\"\",IF('TABLA DE DECISION'!$A$156=1,MAX('TABLA DE DECISION'!CA$159:CA$208)-'TABLA DE DECISION'!CA159,'TABLA DE DECISION'!CA159-MIN('TABLA DE DECISION'!CA$159:CA$208)))","v":""},{"$f":"IF('TABLA DE DECISION'!CB159=\"\",\"\",IF('TABLA DE DECISION'!$A$156=1,MAX('TABLA DE DECISION'!CB$159:CB$208)-'TABLA DE DECISION'!CB159,'TABLA DE DECISION'!CB159-MIN('TABLA DE DECISION'!CB$159:CB$208)))","v":""},{"$f":"IF('TABLA DE DECISION'!CC159=\"\",\"\",IF('TABLA DE DECISION'!$A$156=1,MAX('TABLA DE DECISION'!CC$159:CC$208)-'TABLA DE DECISION'!CC159,'TABLA DE DECISION'!CC159-MIN('TABLA DE DECISION'!CC$159:CC$208)))","v":""},{"$f":"IF('TABLA DE DECISION'!CD159=\"\",\"\",IF('TABLA DE DECISION'!$A$156=1,MAX('TABLA DE DECISION'!CD$159:CD$208)-'TABLA DE DECISION'!CD159,'TABLA DE DECISION'!CD159-MIN('TABLA DE DECISION'!CD$159:CD$208)))","v":""},{"$f":"IF('TABLA DE DECISION'!CE159=\"\",\"\",IF('TABLA DE DECISION'!$A$156=1,MAX('TABLA DE DECISION'!CE$159:CE$208)-'TABLA DE DECISION'!CE159,'TABLA DE DECISION'!CE159-MIN('TABLA DE DECISION'!CE$159:CE$208)))","v":""},{"$f":"IF('TABLA DE DECISION'!CF159=\"\",\"\",IF('TABLA DE DECISION'!$A$156=1,MAX('TABLA DE DECISION'!CF$159:CF$208)-'TABLA DE DECISION'!CF159,'TABLA DE DECISION'!CF159-MIN('TABLA DE DECISION'!CF$159:CF$208)))","v":""},{"$f":"IF('TABLA DE DECISION'!CG159=\"\",\"\",IF('TABLA DE DECISION'!$A$156=1,MAX('TABLA DE DECISION'!CG$159:CG$208)-'TABLA DE DECISION'!CG159,'TABLA DE DECISION'!CG159-MIN('TABLA DE DECISION'!CG$159:CG$208)))","v":""},{"$f":"IF('TABLA DE DECISION'!CH159=\"\",\"\",IF('TABLA DE DECISION'!$A$156=1,MAX('TABLA DE DECISION'!CH$159:CH$208)-'TABLA DE DECISION'!CH159,'TABLA DE DECISION'!CH159-MIN('TABLA DE DECISION'!CH$159:CH$208)))","v":""},{"$f":"IF('TABLA DE DECISION'!CI159=\"\",\"\",IF('TABLA DE DECISION'!$A$156=1,MAX('TABLA DE DECISION'!CI$159:CI$208)-'TABLA DE DECISION'!CI159,'TABLA DE DECISION'!CI159-MIN('TABLA DE DECISION'!CI$159:CI$208)))","v":""},{"$f":"IF('TABLA DE DECISION'!CJ159=\"\",\"\",IF('TABLA DE DECISION'!$A$156=1,MAX('TABLA DE DECISION'!CJ$159:CJ$208)-'TABLA DE DECISION'!CJ159,'TABLA DE DECISION'!CJ159-MIN('TABLA DE DECISION'!CJ$159:CJ$208)))","v":""},{"$f":"IF('TABLA DE DECISION'!CK159=\"\",\"\",IF('TABLA DE DECISION'!$A$156=1,MAX('TABLA DE DECISION'!CK$159:CK$208)-'TABLA DE DECISION'!CK159,'TABLA DE DECISION'!CK159-MIN('TABLA DE DECISION'!CK$159:CK$208)))","v":""},{"$f":"IF('TABLA DE DECISION'!CL159=\"\",\"\",IF('TABLA DE DECISION'!$A$156=1,MAX('TABLA DE DECISION'!CL$159:CL$208)-'TABLA DE DECISION'!CL159,'TABLA DE DECISION'!CL159-MIN('TABLA DE DECISION'!CL$159:CL$208)))","v":""},{"$f":"IF('TABLA DE DECISION'!CM159=\"\",\"\",IF('TABLA DE DECISION'!$A$156=1,MAX('TABLA DE DECISION'!CM$159:CM$208)-'TABLA DE DECISION'!CM159,'TABLA DE DECISION'!CM159-MIN('TABLA DE DECISION'!CM$159:CM$208)))","v":""},{"$f":"IF('TABLA DE DECISION'!CN159=\"\",\"\",IF('TABLA DE DECISION'!$A$156=1,MAX('TABLA DE DECISION'!CN$159:CN$208)-'TABLA DE DECISION'!CN159,'TABLA DE DECISION'!CN159-MIN('TABLA DE DECISION'!CN$159:CN$208)))","v":""},{"$f":"IF('TABLA DE DECISION'!CO159=\"\",\"\",IF('TABLA DE DECISION'!$A$156=1,MAX('TABLA DE DECISION'!CO$159:CO$208)-'TABLA DE DECISION'!CO159,'TABLA DE DECISION'!CO159-MIN('TABLA DE DECISION'!CO$159:CO$208)))","v":""},{"$f":"IF('TABLA DE DECISION'!CP159=\"\",\"\",IF('TABLA DE DECISION'!$A$156=1,MAX('TABLA DE DECISION'!CP$159:CP$208)-'TABLA DE DECISION'!CP159,'TABLA DE DECISION'!CP159-MIN('TABLA DE DECISION'!CP$159:CP$208)))","v":""},{"$f":"IF('TABLA DE DECISION'!CQ159=\"\",\"\",IF('TABLA DE DECISION'!$A$156=1,MAX('TABLA DE DECISION'!CQ$159:CQ$208)-'TABLA DE DECISION'!CQ159,'TABLA DE DECISION'!CQ159-MIN('TABLA DE DECISION'!CQ$159:CQ$208)))","v":""},{"$f":"IF('TABLA DE DECISION'!CR159=\"\",\"\",IF('TABLA DE DECISION'!$A$156=1,MAX('TABLA DE DECISION'!CR$159:CR$208)-'TABLA DE DECISION'!CR159,'TABLA DE DECISION'!CR159-MIN('TABLA DE DECISION'!CR$159:CR$208)))","v":""},{"$f":"IF('TABLA DE DECISION'!CS159=\"\",\"\",IF('TABLA DE DECISION'!$A$156=1,MAX('TABLA DE DECISION'!CS$159:CS$208)-'TABLA DE DECISION'!CS159,'TABLA DE DECISION'!CS159-MIN('TABLA DE DECISION'!CS$159:CS$208)))","v":""},{"$f":"IF('TABLA DE DECISION'!CT159=\"\",\"\",IF('TABLA DE DECISION'!$A$156=1,MAX('TABLA DE DECISION'!CT$159:CT$208)-'TABLA DE DECISION'!CT159,'TABLA DE DECISION'!CT159-MIN('TABLA DE DECISION'!CT$159:CT$208)))","v":""},{"$f":"IF('TABLA DE DECISION'!CU159=\"\",\"\",IF('TABLA DE DECISION'!$A$156=1,MAX('TABLA DE DECISION'!CU$159:CU$208)-'TABLA DE DECISION'!CU159,'TABLA DE DECISION'!CU159-MIN('TABLA DE DECISION'!CU$159:CU$208)))","v":""},{"$f":"IF('TABLA DE DECISION'!CV159=\"\",\"\",IF('TABLA DE DECISION'!$A$156=1,MAX('TABLA DE DECISION'!CV$159:CV$208)-'TABLA DE DECISION'!CV159,'TABLA DE DECISION'!CV159-MIN('TABLA DE DECISION'!CV$159:CV$208)))","v":""},{"$f":"IF('TABLA DE DECISION'!CW159=\"\",\"\",IF('TABLA DE DECISION'!$A$156=1,MAX('TABLA DE DECISION'!CW$159:CW$208)-'TABLA DE DECISION'!CW159,'TABLA DE DECISION'!CW159-MIN('TABLA DE DECISION'!CW$159:CW$208)))","v":""},{"$f":"IF('TABLA DE DECISION'!CX159=\"\",\"\",IF('TABLA DE DECISION'!$A$156=1,MAX('TABLA DE DECISION'!CX$159:CX$208)-'TABLA DE DECISION'!CX159,'TABLA DE DECISION'!CX159-MIN('TABLA DE DECISION'!CX$159:CX$208)))","v":""},{"$f":"IF('TABLA DE DECISION'!CY159=\"\",\"\",IF('TABLA DE DECISION'!$A$156=1,MAX('TABLA DE DECISION'!CY$159:CY$208)-'TABLA DE DECISION'!CY159,'TABLA DE DECISION'!CY159-MIN('TABLA DE DECISION'!CY$159:CY$208)))","v":""},{"$f":"IF('TABLA DE DECISION'!CZ159=\"\",\"\",IF('TABLA DE DECISION'!$A$156=1,MAX('TABLA DE DECISION'!CZ$159:CZ$208)-'TABLA DE DECISION'!CZ159,'TABLA DE DECISION'!CZ159-MIN('TABLA DE DECISION'!CZ$159:CZ$208)))","v":""},{"$f":"IF('TABLA DE DECISION'!DA159=\"\",\"\",IF('TABLA DE DECISION'!$A$156=1,MAX('TABLA DE DECISION'!DA$159:DA$208)-'TABLA DE DECISION'!DA159,'TABLA DE DECISION'!DA159-MIN('TABLA DE DECISION'!DA$159:DA$208)))","v":""},{"$f":"IF('TABLA DE DECISION'!DB159=\"\",\"\",IF('TABLA DE DECISION'!$A$156=1,MAX('TABLA DE DECISION'!DB$159:DB$208)-'TABLA DE DECISION'!DB159,'TABLA DE DECISION'!DB159-MIN('TABLA DE DECISION'!DB$159:DB$208)))","v":""},{"$f":"IF('TABLA DE DECISION'!DC159=\"\",\"\",IF('TABLA DE DECISION'!$A$156=1,MAX('TABLA DE DECISION'!DC$159:DC$208)-'TABLA DE DECISION'!DC159,'TABLA DE DECISION'!DC159-MIN('TABLA DE DECISION'!DC$159:DC$208)))","v":""},{"$f":"IF('TABLA DE DECISION'!DD159=\"\",\"\",IF('TABLA DE DECISION'!$A$156=1,MAX('TABLA DE DECISION'!DD$159:DD$208)-'TABLA DE DECISION'!DD159,'TABLA DE DECISION'!DD159-MIN('TABLA DE DECISION'!DD$159:DD$208)))","v":""},{"$f":"IF('TABLA DE DECISION'!DE159=\"\",\"\",IF('TABLA DE DECISION'!$A$156=1,MAX('TABLA DE DECISION'!DE$159:DE$208)-'TABLA DE DECISION'!DE159,'TABLA DE DECISION'!DE159-MIN('TABLA DE DECISION'!DE$159:DE$208)))","v":""},null,{"$f":"IF(C3=\"\",\"\",SUMPRODUCT(C3:AZ3,'TABLA DE DECISION'!BH$156:DE$156))","v":1750}]
[{"$f":"IF('TABLA DE DECISION'!BF160=\"\",\"\",'TABLA DE DECISION'!BF160)","v":""},{"$f":"IF('TABLA DE DECISION'!BG160=\"\",\"\",'TABLA DE DECISION'!BG160)","v":"a2"},{"$f":"IF('TABLA DE DECISION'!BH160=\"\",\"\",IF('TABLA DE DECISION'!$A$156=1,MAX('TABLA DE DECISION'!BH$159:BH$208)-'TABLA DE DECISION'!BH160,'TABLA DE DECISION'!BH160-MIN('TABLA DE DECISION'!BH$159:BH$208)))","v":2500},{"$f":"IF('TABLA DE DECISION'!BI160=\"\",\"\",IF('TABLA DE DECISION'!$A$156=1,MAX('TABLA DE DECISION'!BI$159:BI$208)-'TABLA DE DECISION'!BI160,'TABLA DE DECISION'!BI160-MIN('TABLA DE DECISION'!BI$159:BI$208)))","v":0},{"$f":"IF('TABLA DE DECISION'!BJ160=\"\",\"\",IF('TABLA DE DECISION'!$A$156=1,MAX('TABLA DE DECISION'!BJ$159:BJ$208)-'TABLA DE DECISION'!BJ160,'TABLA DE DECISION'!BJ160-MIN('TABLA DE DECISION'!BJ$159:BJ$208)))","v":2500},{"$f":"IF('TABLA DE DECISION'!BK160=\"\",\"\",IF('TABLA DE DECISION'!$A$156=1,MAX('TABLA DE DECISION'!BK$159:BK$208)-'TABLA DE DECISION'!BK160,'TABLA DE DECISION'!BK160-MIN('TABLA DE DECISION'!BK$159:BK$208)))","v":""},{"$f":"IF('TABLA DE DECISION'!BL160=\"\",\"\",IF('TABLA DE DECISION'!$A$156=1,MAX('TABLA DE DECISION'!BL$159:BL$208)-'TABLA DE DECISION'!BL160,'TABLA DE DECISION'!BL160-MIN('TABLA DE DECISION'!BL$159:BL$208)))","v":""},{"$f":"IF('TABLA DE DECISION'!BM160=\"\",\"\",IF('TABLA DE DECISION'!$A$156=1,MAX('TABLA DE DECISION'!BM$159:BM$208)-'TABLA DE DECISION'!BM160,'TABLA DE DECISION'!BM160-MIN('TABLA DE DECISION'!BM$159:BM$208)))","v":""},{"$f":"IF('TABLA DE DECISION'!BN160=\"\",\"\",IF('TABLA DE DECISION'!$A$156=1,MAX('TABLA DE DECISION'!BN$159:BN$208)-'TABLA DE DECISION'!BN160,'TABLA DE DECISION'!BN160-MIN('TABLA DE DECISION'!BN$159:BN$208)))","v":""},{"$f":"IF('TABLA DE DECISION'!BO160=\"\",\"\",IF('TABLA DE DECISION'!$A$156=1,MAX('TABLA DE DECISION'!BO$159:BO$208)-'TABLA DE DECISION'!BO160,'TABLA DE DECISION'!BO160-MIN('TABLA DE DECISION'!BO$159:BO$208)))","v":""},{"$f":"IF('TABLA DE DECISION'!BP160=\"\",\"\",IF('TABLA DE DECISION'!$A$156=1,MAX('TABLA DE DECISION'!BP$159:BP$208)-'TABLA DE DECISION'!BP160,'TABLA DE DECISION'!BP160-MIN('TABLA DE DECISION'!BP$159:BP$208)))","v":""},{"$f":"IF('TABLA DE DECISION'!BQ160=\"\",\"\",IF('TABLA DE DECISION'!$A$156=1,MAX('TABLA DE DECISION'!BQ$159:BQ$208)-'TABLA DE DECISION'!BQ160,'TABLA DE DECISION'!BQ160-MIN('TABLA DE DECISION'!BQ$159:BQ$208)))","v":""},{"$f":"IF('TABLA DE DECISION'!BR160=\"\",\"\",IF('TABLA DE DECISION'!$A$156=1,MAX('TABLA DE DECISION'!BR$159:BR$208)-'TABLA DE DECISION'!BR160,'TABLA DE DECISION'!BR160-MIN('TABLA DE DECISION'!BR$159:BR$208)))","v":""},{"$f":"IF('TABLA DE DECISION'!BS160=\"\",\"\",IF('TABLA DE DECISION'!$A$156=1,MAX('TABLA DE DECISION'!BS$159:BS$208)-'TABLA DE DECISION'!BS160,'TABLA DE DECISION'!BS160-MIN('TABLA DE DECISION'!BS$159:BS$208)))","v":""},{"$f":"IF('TABLA DE DECISION'!BT160=\"\",\"\",IF('TABLA DE DECISION'!$A$156=1,MAX('TABLA DE DECISION'!BT$159:BT$208)-'TABLA DE DECISION'!BT160,'TABLA DE DECISION'!BT160-MIN('TABLA DE DECISION'!BT$159:BT$208)))","v":""},{"$f":"IF('TABLA DE DECISION'!BU160=\"\",\"\",IF('TABLA DE DECISION'!$A$156=1,MAX('TABLA DE DECISION'!BU$159:BU$208)-'TABLA DE DECISION'!BU160,'TABLA DE DECISION'!BU160-MIN('TABLA DE DECISION'!BU$159:BU$208)))","v":""},{"$f":"IF('TABLA DE DECISION'!BV160=\"\",\"\",IF('TABLA DE DECISION'!$A$156=1,MAX('TABLA DE DECISION'!BV$159:BV$208)-'TABLA DE DECISION'!BV160,'TABLA DE DECISION'!BV160-MIN('TABLA DE DECISION'!BV$159:BV$208)))","v":""},{"$f":"IF('TABLA DE DECISION'!BW160=\"\",\"\",IF('TABLA DE DECISION'!$A$156=1,MAX('TABLA DE DECISION'!BW$159:BW$208)-'TABLA DE DECISION'!BW160,'TABLA DE DECISION'!BW160-MIN('TABLA DE DECISION'!BW$159:BW$208)))","v":""},{"$f":"IF('TABLA DE DECISION'!BX160=\"\",\"\",IF('TABLA DE DECISION'!$A$156=1,MAX('TABLA DE DECISION'!BX$159:BX$208)-'TABLA DE DECISION'!BX160,'TABLA DE DECISION'!BX160-MIN('TABLA DE DECISION'!BX$159:BX$208)))","v":""},{"$f":"IF('TABLA DE DECISION'!BY160=\"\",\"\",IF('TABLA DE DECISION'!$A$156=1,MAX('TABLA DE DECISION'!BY$159:BY$208)-'TABLA DE DECISION'!BY160,'TABLA DE DECISION'!BY160-MIN('TABLA DE DECISION'!BY$159:BY$208)))","v":""},{"$f":"IF('TABLA DE DECISION'!BZ160=\"\",\"\",IF('TABLA DE DECISION'!$A$156=1,MAX('TABLA DE DECISION'!BZ$159:BZ$208)-'TABLA DE DECISION'!BZ160,'TABLA DE DECISION'!BZ160-MIN('TABLA DE DECISION'!BZ$159:BZ$208)))","v":""},{"$f":"IF('TABLA DE DECISION'!CA160=\"\",\"\",IF('TABLA DE DECISION'!$A$156=1,MAX('TABLA DE DECISION'!CA$159:CA$208)-'TABLA DE DECISION'!CA160,'TABLA DE DECISION'!CA160-MIN('TABLA DE DECISION'!CA$159:CA$208)))","v":""},{"$f":"IF('TABLA DE DECISION'!CB160=\"\",\"\",IF('TABLA DE DECISION'!$A$156=1,MAX('TABLA DE DECISION'!CB$159:CB$208)-'TABLA DE DECISION'!CB160,'TABLA DE DECISION'!CB160-MIN('TABLA DE DECISION'!CB$159:CB$208)))","v":""},{"$f":"IF('TABLA DE DECISION'!CC160=\"\",\"\",IF('TABLA DE DECISION'!$A$156=1,MAX('TABLA DE DECISION'!CC$159:CC$208)-'TABLA DE DECISION'!CC160,'TABLA DE DECISION'!CC160-MIN('TABLA DE DECISION'!CC$159:CC$208)))","v":""},{"$f":"IF('TABLA DE DECISION'!CD160=\"\",\"\",IF('TABLA DE DECISION'!$A$156=1,MAX('TABLA DE DECISION'!CD$159:CD$208)-'TABLA DE DECISION'!CD160,'TABLA DE DECISION'!CD160-MIN('TABLA DE DECISION'!CD$159:CD$208)))","v":""},{"$f":"IF('TABLA DE DECISION'!CE160=\"\",\"\",IF('TABLA DE DECISION'!$A$156=1,MAX('TABLA DE DECISION'!CE$159:CE$208)-'TABLA DE DECISION'!CE160,'TABLA DE DECISION'!CE160-MIN('TABLA DE DECISION'!CE$159:CE$208)))","v":""},{"$f":"IF('TABLA DE DECISION'!CF160=\"\",\"\",IF('TABLA DE DECISION'!$A$156=1,MAX('TABLA DE DECISION'!CF$159:CF$208)-'TABLA DE DECISION'!CF160,'TABLA DE DECISION'!CF160-MIN('TABLA DE DECISION'!CF$159:CF$208)))","v":""},{"$f":"IF('TABLA DE DECISION'!CG160=\"\",\"\",IF('TABLA DE DECISION'!$A$156=1,MAX('TABLA DE DECISION'!CG$159:CG$208)-'TABLA DE DECISION'!CG160,'TABLA DE DECISION'!CG160-MIN('TABLA DE DECISION'!CG$159:CG$208)))","v":""},{"$f":"IF('TABLA DE DECISION'!CH160=\"\",\"\",IF('TABLA DE DECISION'!$A$156=1,MAX('TABLA DE DECISION'!CH$159:CH$208)-'TABLA DE DECISION'!CH160,'TABLA DE DECISION'!CH160-MIN('TABLA DE DECISION'!CH$159:CH$208)))","v":""},{"$f":"IF('TABLA DE DECISION'!CI160=\"\",\"\",IF('TABLA DE DECISION'!$A$156=1,MAX('TABLA DE DECISION'!CI$159:CI$208)-'TABLA DE DECISION'!CI160,'TABLA DE DECISION'!CI160-MIN('TABLA DE DECISION'!CI$159:CI$208)))","v":""},{"$f":"IF('TABLA DE DECISION'!CJ160=\"\",\"\",IF('TABLA DE DECISION'!$A$156=1,MAX('TABLA DE DECISION'!CJ$159:CJ$208)-'TABLA DE DECISION'!CJ160,'TABLA DE DECISION'!CJ160-MIN('TABLA DE DECISION'!CJ$159:CJ$208)))","v":""},{"$f":"IF('TABLA DE DECISION'!CK160=\"\",\"\",IF('TABLA DE DECISION'!$A$156=1,MAX('TABLA DE DECISION'!CK$159:CK$208)-'TABLA DE DECISION'!CK160,'TABLA DE DECISION'!CK160-MIN('TABLA DE DECISION'!CK$159:CK$208)))","v":""},{"$f":"IF('TABLA DE DECISION'!CL160=\"\",\"\",IF('TABLA DE DECISION'!$A$156=1,MAX('TABLA DE DECISION'!CL$159:CL$208)-'TABLA DE DECISION'!CL160,'TABLA DE DECISION'!CL160-MIN('TABLA DE DECISION'!CL$159:CL$208)))","v":""},{"$f":"IF('TABLA DE DECISION'!CM160=\"\",\"\",IF('TABLA DE DECISION'!$A$156=1,MAX('TABLA DE DECISION'!CM$159:CM$208)-'TABLA DE DECISION'!CM160,'TABLA DE DECISION'!CM160-MIN('TABLA DE DECISION'!CM$159:CM$208)))","v":""},{"$f":"IF('TABLA DE DECISION'!CN160=\"\",\"\",IF('TABLA DE DECISION'!$A$156=1,MAX('TABLA DE DECISION'!CN$159:CN$208)-'TABLA DE DECISION'!CN160,'TABLA DE DECISION'!CN160-MIN('TABLA DE DECISION'!CN$159:CN$208)))","v":""},{"$f":"IF('TABLA DE DECISION'!CO160=\"\",\"\",IF('TABLA DE DECISION'!$A$156=1,MAX('TABLA DE DECISION'!CO$159:CO$208)-'TABLA DE DECISION'!CO160,'TABLA DE DECISION'!CO160-MIN('TABLA DE DECISION'!CO$159:CO$208)))","v":""},{"$f":"IF('TABLA DE DECISION'!CP160=\"\",\"\",IF('TABLA DE DECISION'!$A$156=1,MAX('TABLA DE DECISION'!CP$159:CP$208)-'TABLA DE DECISION'!CP160,'TABLA DE DECISION'!CP160-MIN('TABLA DE DECISION'!CP$159:CP$208)))","v":""},{"$f":"IF('TABLA DE DECISION'!CQ160=\"\",\"\",IF('TABLA DE DECISION'!$A$156=1,MAX('TABLA DE DECISION'!CQ$159:CQ$208)-'TABLA DE DECISION'!CQ160,'TABLA DE DECISION'!CQ160-MIN('TABLA DE DECISION'!CQ$159:CQ$208)))","v":""},{"$f":"IF('TABLA DE DECISION'!CR160=\"\",\"\",IF('TABLA DE DECISION'!$A$156=1,MAX('TABLA DE DECISION'!CR$159:CR$208)-'TABLA DE DECISION'!CR160,'TABLA DE DECISION'!CR160-MIN('TABLA DE DECISION'!CR$159:CR$208)))","v":""},{"$f":"IF('TABLA DE DECISION'!CS160=\"\",\"\",IF('TABLA DE DECISION'!$A$156=1,MAX('TABLA DE DECISION'!CS$159:CS$208)-'TABLA DE DECISION'!CS160,'TABLA DE DECISION'!CS160-MIN('TABLA DE DECISION'!CS$159:CS$208)))","v":""},{"$f":"IF('TABLA DE DECISION'!CT160=\"\",\"\",IF('TABLA DE DECISION'!$A$156=1,MAX('TABLA DE DECISION'!CT$159:CT$208)-'TABLA DE DECISION'!CT160,'TABLA DE DECISION'!CT160-MIN('TABLA DE DECISION'!CT$159:CT$208)))","v":""},{"$f":"IF('TABLA DE DECISION'!CU160=\"\",\"\",IF('TABLA DE DECISION'!$A$156=1,MAX('TABLA DE DECISION'!CU$159:CU$208)-'TABLA DE DECISION'!CU160,'TABLA DE DECISION'!CU160-MIN('TABLA DE DECISION'!CU$159:CU$208)))","v":""},{"$f":"IF('TABLA DE DECISION'!CV160=\"\",\"\",IF('TABLA DE DECISION'!$A$156=1,MAX('TABLA DE DECISION'!CV$159:CV$208)-'TABLA DE DECISION'!CV160,'TABLA DE DECISION'!CV160-MIN('TABLA DE DECISION'!CV$159:CV$208)))","v":""},{"$f":"IF('TABLA DE DECISION'!CW160=\"\",\"\",IF('TABLA DE DECISION'!$A$156=1,MAX('TABLA DE DECISION'!CW$159:CW$208)-'TABLA DE DECISION'!CW160,'TABLA DE DECISION'!CW160-MIN('TABLA DE DECISION'!CW$159:CW$208)))","v":""},{"$f":"IF('TABLA DE DECISION'!CX160=\"\",\"\",IF('TABLA DE DECISION'!$A$156=1,MAX('TABLA DE DECISION'!CX$159:CX$208)-'TABLA DE DECISION'!CX160,'TABLA DE DECISION'!CX160-MIN('TABLA DE DECISION'!CX$159:CX$208)))","v":""},{"$f":"IF('TABLA DE DECISION'!CY160=\"\",\"\",IF('TABLA DE DECISION'!$A$156=1,MAX('TABLA DE DECISION'!CY$159:CY$208)-'TABLA DE DECISION'!CY160,'TABLA DE DECISION'!CY160-MIN('TABLA DE DECISION'!CY$159:CY$208)))","v":""},{"$f":"IF('TABLA DE DECISION'!CZ160=\"\",\"\",IF('TABLA DE DECISION'!$A$156=1,MAX('TABLA DE DECISION'!CZ$159:CZ$208)-'TABLA DE DECISION'!CZ160,'TABLA DE DECISION'!CZ160-MIN('TABLA DE DECISION'!CZ$159:CZ$208)))","v":""},{"$f":"IF('TABLA DE DECISION'!DA160=\"\",\"\",IF('TABLA DE DECISION'!$A$156=1,MAX('TABLA DE DECISION'!DA$159:DA$208)-'TABLA DE DECISION'!DA160,'TABLA DE DECISION'!DA160-MIN('TABLA DE DECISION'!DA$159:DA$208)))","v":""},{"$f":"IF('TABLA DE DECISION'!DB160=\"\",\"\",IF('TABLA DE DECISION'!$A$156=1,MAX('TABLA DE DECISION'!DB$159:DB$208)-'TABLA DE DECISION'!DB160,'TABLA DE DECISION'!DB160-MIN('TABLA DE DECISION'!DB$159:DB$208)))","v":""},{"$f":"IF('TABLA DE DECISION'!DC160=\"\",\"\",IF('TABLA DE DECISION'!$A$156=1,MAX('TABLA DE DECISION'!DC$159:DC$208)-'TABLA DE DECISION'!DC160,'TABLA DE DECISION'!DC160-MIN('TABLA DE DECISION'!DC$159:DC$208)))","v":""},{"$f":"IF('TABLA DE DECISION'!DD160=\"\",\"\",IF('TABLA DE DECISION'!$A$156=1,MAX('TABLA DE DECISION'!DD$159:DD$208)-'TABLA DE DECISION'!DD160,'TABLA DE DECISION'!DD160-MIN('TABLA DE DECISION'!DD$159:DD$208)))","v":""},{"$f":"IF('TABLA DE DECISION'!DE160=\"\",\"\",IF('TABLA DE DECISION'!$A$156=1,MAX('TABLA DE DECISION'!DE$159:DE$208)-'TABLA DE DECISION'!DE160,'TABLA DE DECISION'!DE160-MIN('TABLA DE DECISION'!DE$159:DE$208)))","v":""},null,{"$f":"IF(C4=\"\",\"\",SUMPRODUCT(C4:AZ4,'TABLA DE DECISION'!BH$156:DE$156))","v":1750}]
[{"$f":"IF('TABLA DE DECISION'!BF161=\"\",\"\",'TABLA DE DECISION'!BF161)","v":""},{"$f":"IF('TABLA DE DECISION'!BG161=\"\",\"\",'TABLA DE DECISION'!BG161)","v":"a3"},{"$f":"IF('TABLA DE DECISION'!BH161=\"\",\"\",IF('TABLA DE DECISION'!$A$156=1,MAX('TABLA DE DECISION'!BH$159:BH$208)-'TABLA DE DECISION'!BH161,'TABLA DE DECISION'!BH161-MIN('TABLA DE DECISION'!BH$159:BH$208)))","v":5000},{"$f":"IF('TABLA DE DECISION'!BI161=\"\",\"\",IF('TABLA DE DECISION'!$A$156=1,MAX('TABLA DE DECISION'!BI$159:BI$208)-'TABLA DE DECISION'!BI161,'TABLA DE DECISION'!BI161-MIN('TABLA DE DECISION'!BI$159:BI$208)))","v":2500},{"$f":"IF('TABLA DE DECISION'!BJ161=\"\",\"\",IF('TABLA DE DECISION'!$A$156=1,MAX('TABLA DE DECISION'!BJ$159:BJ$208)-'TABLA DE DECISION'!BJ161,'TABLA DE DECISION'!BJ161-MIN('TABLA DE DECISION'!BJ$159:BJ$208)))","v":0},{"$f":"IF('TABLA DE DECISION'!BK161=\"\",\"\",IF('TABLA DE DECISION'!$A$156=1,MAX('TABLA DE DECISION'!BK$159:BK$208)-'TABLA DE DECISION'!BK161,'TABLA DE DECISION'!BK161-MIN('TABLA DE DECISION'!BK$159:BK$208)))","v":""},{"$f":"IF('TABLA DE DECISION'!BL161=\"\",\"\",IF('TABLA DE DECISION'!$A$156=1,MAX('TABLA DE DECISION'!BL$159:BL$208)-'TABLA DE DECISION'!BL161,'TABLA DE DECISION'!BL161-MIN('TABLA DE DECISION'!BL$159:BL$208)))","v":""},{"$f":"IF('TABLA DE DECISION'!BM161=\"\",\"\",IF('TABLA DE DECISION'!$A$156=1,MAX('TABLA DE DECISION'!BM$159:BM$208)-'TABLA DE DECISION'!BM161,'TABLA DE DECISION'!BM161-MIN('TABLA DE DECISION'!BM$159:BM$208)))","v":""},{"$f":"IF('TABLA DE DECISION'!BN161=\"\",\"\",IF('TABLA DE DECISION'!$A$156=1,MAX('TABLA DE DECISION'!BN$159:BN$208)-'TABLA DE DECISION'!BN161,'TABLA DE DECISION'!BN161-MIN('TABLA DE DECISION'!BN$159:BN$208)))","v":""},{"$f":"IF('TABLA DE DECISION'!BO161=\"\",\"\",IF('TABLA DE DECISION'!$A$156=1,MAX('TABLA DE DECISION'!BO$159:BO$208)-'TABLA DE DECISION'!BO161,'TABLA DE DECISION'!BO161-MIN('TABLA DE DECISION'!BO$159:BO$208)))","v":""},{"$f":"IF('TABLA DE DECISION'!BP161=\"\",\"\",IF('TABLA DE DECISION'!$A$156=1,MAX('TABLA DE DECISION'!BP$159:BP$208)-'TABLA DE DECISION'!BP161,'TABLA DE DECISION'!BP161-MIN('TABLA DE DECISION'!BP$159:BP$208)))","v":""},{"$f":"IF('TABLA DE DECISION'!BQ161=\"\",\"\",IF('TABLA DE DECISION'!$A$156=1,MAX('TABLA DE DECISION'!BQ$159:BQ$208)-'TABLA DE DECISION'!BQ161,'TABLA DE DECISION'!BQ161-MIN('TABLA DE DECISION'!BQ$159:BQ$208)))","v":""},{"$f":"IF('TABLA DE DECISION'!BR161=\"\",\"\",IF('TABLA DE DECISION'!$A$156=1,MAX('TABLA DE DECISION'!BR$159:BR$208)-'TABLA DE DECISION'!BR161,'TABLA DE DECISION'!BR161-MIN('TABLA DE DECISION'!BR$159:BR$208)))","v":""},{"$f":"IF('TABLA DE DECISION'!BS161=\"\",\"\",IF('TABLA DE DECISION'!$A$156=1,MAX('TABLA DE DECISION'!BS$159:BS$208)-'TABLA DE DECISION'!BS161,'TABLA DE DECISION'!BS161-MIN('TABLA DE DECISION'!BS$159:BS$208)))","v":""},{"$f":"IF('TABLA DE DECISION'!BT161=\"\",\"\",IF('TABLA DE DECISION'!$A$156=1,MAX('TABLA DE DECISION'!BT$159:BT$208)-'TABLA DE DECISION'!BT161,'TABLA DE DECISION'!BT161-MIN('TABLA DE DECISION'!BT$159:BT$208)))","v":""},{"$f":"IF('TABLA DE DECISION'!BU161=\"\",\"\",IF('TABLA DE DECISION'!$A$156=1,MAX('TABLA DE DECISION'!BU$159:BU$208)-'TABLA DE DECISION'!BU161,'TABLA DE DECISION'!BU161-MIN('TABLA DE DECISION'!BU$159:BU$208)))","v":""},{"$f":"IF('TABLA DE DECISION'!BV161=\"\",\"\",IF('TABLA DE DECISION'!$A$156=1,MAX('TABLA DE DECISION'!BV$159:BV$208)-'TABLA DE DECISION'!BV161,'TABLA DE DECISION'!BV161-MIN('TABLA DE DECISION'!BV$159:BV$208)))","v":""},{"$f":"IF('TABLA DE DECISION'!BW161=\"\",\"\",IF('TABLA DE DECISION'!$A$156=1,MAX('TABLA DE DECISION'!BW$159:BW$208)-'TABLA DE DECISION'!BW161,'TABLA DE DECISION'!BW161-MIN('TABLA DE DECISION'!BW$159:BW$208)))","v":""},{"$f":"IF('TABLA DE DECISION'!BX161=\"\",\"\",IF('TABLA DE DECISION'!$A$156=1,MAX('TABLA DE DECISION'!BX$159:BX$208)-'TABLA DE DECISION'!BX161,'TABLA DE DECISION'!BX161-MIN('TABLA DE DECISION'!BX$159:BX$208)))","v":""},{"$f":"IF('TABLA DE DECISION'!BY161=\"\",\"\",IF('TABLA DE DECISION'!$A$156=1,MAX('TABLA DE DECISION'!BY$159:BY$208)-'TABLA DE DECISION'!BY161,'TABLA DE DECISION'!BY161-MIN('TABLA DE DECISION'!BY$159:BY$208)))","v":""},{"$f":"IF('TABLA DE DECISION'!BZ161=\"\",\"\",IF('TABLA DE DECISION'!$A$156=1,MAX('TABLA DE DECISION'!BZ$159:BZ$208)-'TABLA DE DECISION'!BZ161,'TABLA DE DECISION'!BZ161-MIN('TABLA DE DECISION'!BZ$159:BZ$208)))","v":""},{"$f":"IF('TABLA DE DECISION'!CA161=\"\",\"\",IF('TABLA DE DECISION'!$A$156=1,MAX('TABLA DE DECISION'!CA$159:CA$208)-'TABLA DE DECISION'!CA161,'TABLA DE DECISION'!CA161-MIN('TABLA DE DECISION'!CA$159:CA$208)))","v":""},{"$f":"IF('TABLA DE DECISION'!CB161=\"\",\"\",IF('TABLA DE DECISION'!$A$156=1,MAX('TABLA DE DECISION'!CB$159:CB$208)-'TABLA DE DECISION'!CB161,'TABLA DE DECISION'!CB161-MIN('TABLA DE DECISION'!CB$159:CB$208)))","v":""},{"$f":"IF('TABLA DE DECISION'!CC161=\"\",\"\",IF('TABLA DE DECISION'!$A$156=1,MAX('TABLA DE DECISION'!CC$159:CC$208)-'TABLA DE DECISION'!CC161,'TABLA DE DECISION'!CC161-MIN('TABLA DE DECISION'!CC$159:CC$208)))","v":""},{"$f":"IF('TABLA DE DECISION'!CD161=\"\",\"\",IF('TABLA DE DECISION'!$A$156=1,MAX('TABLA DE DECISION'!CD$159:CD$208)-'TABLA DE DECISION'!CD161,'TABLA DE DECISION'!CD161-MIN('TABLA DE DECISION'!CD$159:CD$208)))","v":""},{"$f":"IF('TABLA DE DECISION'!CE161=\"\",\"\",IF('TABLA DE DECISION'!$A$156=1,MAX('TABLA DE DECISION'!CE$159:CE$208)-'TABLA DE DECISION'!CE161,'TABLA DE DECISION'!CE161-MIN('TABLA DE DECISION'!CE$159:CE$208)))","v":""},{"$f":"IF('TABLA DE DECISION'!CF161=\"\",\"\",IF('TABLA DE DECISION'!$A$156=1,MAX('TABLA DE DECISION'!CF$159:CF$208)-'TABLA DE DECISION'!CF161,'TABLA DE DECISION'!CF161-MIN('TABLA DE DECISION'!CF$159:CF$208)))","v":""},{"$f":"IF('TABLA DE DECISION'!CG161=\"\",\"\",IF('TABLA DE DECISION'!$A$156=1,MAX('TABLA DE DECISION'!CG$159:CG$208)-'TABLA DE DECISION'!CG161,'TABLA DE DECISION'!CG161-MIN('TABLA DE DECISION'!CG$159:CG$208)))","v":""},{"$f":"IF('TABLA DE DECISION'!CH161=\"\",\"\",IF('TABLA DE DECISION'!$A$156=1,MAX('TABLA DE DECISION'!CH$159:CH$208)-'TABLA DE DECISION'!CH161,'TABLA DE DECISION'!CH161-MIN('TABLA DE DECISION'!CH$159:CH$208)))","v":""},{"$f":"IF('TABLA DE DECISION'!CI161=\"\",\"\",IF('TABLA DE DECISION'!$A$156=1,MAX('TABLA DE DECISION'!CI$159:CI$208)-'TABLA DE DECISION'!CI161,'TABLA DE DECISION'!CI161-MIN('TABLA DE DECISION'!CI$159:CI$208)))","v":""},{"$f":"IF('TABLA DE DECISION'!CJ161=\"\",\"\",IF('TABLA DE DECISION'!$A$156=1,MAX('TABLA DE DECISION'!CJ$159:CJ$208)-'TABLA DE DECISION'!CJ161,'TABLA DE DECISION'!CJ161-MIN('TABLA DE DECISION'!CJ$159:CJ$208)))","v":""},{"$f":"IF('TABLA DE DECISION'!CK161=\"\",\"\",IF('TABLA DE DECISION'!$A$156=1,MAX('TABLA DE DECISION'!CK$159:CK$208)-'TABLA DE DECISION'!CK161,'TABLA DE DECISION'!CK161-MIN('TABLA DE DECISION'!CK$159:CK$208)))","v":""},{"$f":"IF('TABLA DE DECISION'!CL161=\"\",\"\",IF('TABLA DE DECISION'!$A$156=1,MAX('TABLA DE DECISION'!CL$159:CL$208)-'TABLA DE DECISION'!CL161,'TABLA DE DECISION'!CL161-MIN('TABLA DE DECISION'!CL$159:CL$208)))","v":""},{"$f":"IF('TABLA DE DECISION'!CM161=\"\",\"\",IF('TABLA DE DECISION'!$A$156=1,MAX('TABLA DE DECISION'!CM$159:CM$208)-'TABLA DE DECISION'!CM161,'TABLA DE DECISION'!CM161-MIN('TABLA DE DECISION'!CM$159:CM$208)))","v":""},{"$f":"IF('TABLA DE DECISION'!CN161=\"\",\"\",IF('TABLA DE DECISION'!$A$156=1,MAX('TABLA DE DECISION'!CN$159:CN$208)-'TABLA DE DECISION'!CN161,'TABLA DE DECISION'!CN161-MIN('TABLA DE DECISION'!CN$159:CN$208)))","v":""},{"$f":"IF('TABLA DE DECISION'!CO161=\"\",\"\",IF('TABLA DE DECISION'!$A$156=1,MAX('TABLA DE DECISION'!CO$159:CO$208)-'TABLA DE DECISION'!CO161,'TABLA DE DECISION'!CO161-MIN('TABLA DE DECISION'!CO$159:CO$208)))","v":""},{"$f":"IF('TABLA DE DECISION'!CP161=\"\",\"\",IF('TABLA DE DECISION'!$A$156=1,MAX('TABLA DE DECISION'!CP$159:CP$208)-'TABLA DE DECISION'!CP161,'TABLA DE DECISION'!CP161-MIN('TABLA DE DECISION'!CP$159:CP$208)))","v":""},{"$f":"IF('TABLA DE DECISION'!CQ161=\"\",\"\",IF('TABLA DE DECISION'!$A$156=1,MAX('TABLA DE DECISION'!CQ$159:CQ$208)-'TABLA DE DECISION'!CQ161,'TABLA DE DECISION'!CQ161-MIN('TABLA DE DECISION'!CQ$159:CQ$208)))","v":""},{"$f":"IF('TABLA DE DECISION'!CR161=\"\",\"\",IF('TABLA DE DECISION'!$A$156=1,MAX('TABLA DE DECISION'!CR$159:CR$208)-'TABLA DE DECISION'!CR161,'TABLA DE DECISION'!CR161-MIN('TABLA DE DECISION'!CR$159:CR$208)))","v":""},{"$f":"IF('TABLA DE DECISION'!CS161=\"\",\"\",IF('TABLA DE DECISION'!$A$156=1,MAX('TABLA DE DECISION'!CS$159:CS$208)-'TABLA DE DECISION'!CS161,'TABLA DE DECISION'!CS161-MIN('TABLA DE DECISION'!CS$159:CS$208)))","v":""},{"$f":"IF('TABLA DE DECISION'!CT161=\"\",\"\",IF('TABLA DE DECISION'!$A$156=1,MAX('TABLA DE DECISION'!CT$159:CT$208)-'TABLA DE DECISION'!CT161,'TABLA DE DECISION'!CT161-MIN('TABLA DE DECISION'!CT$159:CT$208)))","v":""},{"$f":"IF('TABLA DE DECISION'!CU161=\"\",\"\",IF('TABLA DE DECISION'!$A$156=1,MAX('TABLA DE DECISION'!CU$159:CU$208)-'TABLA DE DECISION'!CU161,'TABLA DE DECISION'!CU161-MIN('TABLA DE DECISION'!CU$159:CU$208)))","v":""},{"$f":"IF('TABLA DE DECISION'!CV161=\"\",\"\",IF('TABLA DE DECISION'!$A$156=1,MAX('TABLA DE DECISION'!CV$159:CV$208)-'TABLA DE DECISION'!CV161,'TABLA DE DECISION'!CV161-MIN('TABLA DE DECISION'!CV$159:CV$208)))","v":""},{"$f":"IF('TABLA DE DECISION'!CW161=\"\",\"\",IF('TABLA DE DECISION'!$A$156=1,MAX('TABLA DE DECISION'!CW$159:CW$208)-'TABLA DE DECISION'!CW161,'TABLA DE DECISION'!CW161-MIN('TABLA DE DECISION'!CW$159:CW$208)))","v":""},{"$f":"IF('TABLA DE DECISION'!CX161=\"\",\"\",IF('TABLA DE DECISION'!$A$156=1,MAX('TABLA DE DECISION'!CX$159:CX$208)-'TABLA DE DECISION'!CX161,'TABLA DE DECISION'!CX161-MIN('TABLA DE DECISION'!CX$159:CX$208)))","v":""},{"$f":"IF('TABLA DE DECISION'!CY161=\"\",\"\",IF('TABLA DE DECISION'!$A$156=1,MAX('TABLA DE DECISION'!CY$159:CY$208)-'TABLA DE DECISION'!CY161,'TABLA DE DECISION'!CY161-MIN('TABLA DE DECISION'!CY$159:CY$208)))","v":""},{"$f":"IF('TABLA DE DECISION'!CZ161=\"\",\"\",IF('TABLA DE DECISION'!$A$156=1,MAX('TABLA DE DECISION'!CZ$159:CZ$208)-'TABLA DE DECISION'!CZ161,'TABLA DE DECISION'!CZ161-MIN('TABLA DE DECISION'!CZ$159:CZ$208)))","v":""},{"$f":"IF('TABLA DE DECISION'!DA161=\"\",\"\",IF('TABLA DE DECISION'!$A$156=1,MAX('TABLA DE DECISION'!DA$159:DA$208)-'TABLA DE DECISION'!DA161,'TABLA DE DECISION'!DA161-MIN('TABLA DE DECISION'!DA$159:DA$208)))","v":""},{"$f":"IF('TABLA DE DECISION'!DB161=\"\",\"\",IF('TABLA DE DECISION'!$A$156=1,MAX('TABLA DE DECISION'!DB$159:DB$208)-'TABLA DE DECISION'!DB161,'TABLA DE DECISION'!DB161-MIN('TABLA DE DECISION'!DB$159:DB$208)))","v":""},{"$f":"IF('TABLA DE DECISION'!DC161=\"\",\"\",IF('TABLA DE DECISION'!$A$156=1,MAX('TABLA DE DECISION'!DC$159:DC$208)-'TABLA DE DECISION'!DC161,'TABLA DE DECISION'!DC161-MIN('TABLA DE DECISION'!DC$159:DC$208)))","v":""},{"$f":"IF('TABLA DE DECISION'!DD161=\"\",\"\",IF('TABLA DE DECISION'!$A$156=1,MAX('TABLA DE DECISION'!DD$159:DD$208)-'TABLA DE DECISION'!DD161,'TABLA DE DECISION'!DD161-MIN('TABLA DE DECISION'!DD$159:DD$208)))","v":""},{"$f":"IF('TABLA DE DECISION'!DE161=\"\",\"\",IF('TABLA DE DECISION'!$A$156=1,MAX('TABLA DE DECISION'!DE$159:DE$208)-'TABLA DE DECISION'!DE161,'TABLA DE DECISION'!DE161-MIN('TABLA DE DECISION'!DE$159:DE$208)))","v":""},null,{"$f":"IF(C5=\"\",\"\",SUMPRODUCT(C5:AZ5,'TABLA DE DECISION'!BH$156:DE$156))","v":3250}]
[{"$f":"IF('TABLA DE DECISION'!BF162=\"\",\"\",'TABLA DE DECISION'!BF162)","v":""},{"$f":"IF('TABLA DE DECISION'!BG162=\"\",\"\",'TABLA DE DECISION'!BG162)","v":"a4"},{"$f":"IF('TABLA DE DECISION'!BH162=\"\",\"\",IF('TABLA DE DECISION'!$A$156=1,MAX('TABLA DE DECISION'!BH$159:BH$208)-'TABLA DE DECISION'!BH162,'TABLA DE DECISION'!BH162-MIN('TABLA DE DECISION'!BH$159:BH$208)))","v":""},{"$f":"IF('TABLA DE DECISION'!BI162=\"\",\"\",IF('TABLA DE DECISION'!$A$156=1,MAX('TABLA DE DECISION'!BI$159:BI$208)-'TABLA DE DECISION'!BI162,'TABLA DE DECISION'!BI162-MIN('TABLA DE DECISION'!BI$159:BI$208)))","v":""},{"$f":"IF('TABLA DE DECISION'!BJ162=\"\",\"\",IF('TABLA DE DECISION'!$A$156=1,MAX('TABLA DE DECISION'!BJ$159:BJ$208)-'TABLA DE DECISION'!BJ162,'TABLA DE DECISION'!BJ162-MIN('TABLA DE DECISION'!BJ$159:BJ$208)))","v":""},{"$f":"IF('TABLA DE DECISION'!BK162=\"\",\"\",IF('TABLA DE DECISION'!$A$156=1,MAX('TABLA DE DECISION'!BK$159:BK$208)-'TABLA DE DECISION'!BK162,'TABLA DE DECISION'!BK162-MIN('TABLA DE DECISION'!BK$159:BK$208)))","v":""},{"$f":"IF('TABLA DE DECISION'!BL162=\"\",\"\",IF('TABLA DE DECISION'!$A$156=1,MAX('TABLA DE DECISION'!BL$159:BL$208)-'TABLA DE DECISION'!BL162,'TABLA DE DECISION'!BL162-MIN('TABLA DE DECISION'!BL$159:BL$208)))","v":""},{"$f":"IF('TABLA DE DECISION'!BM162=\"\",\"\",IF('TABLA DE DECISION'!$A$156=1,MAX('TABLA DE DECISION'!BM$159:BM$208)-'TABLA DE DECISION'!BM162,'TABLA DE DECISION'!BM162-MIN('TABLA DE DECISION'!BM$159:BM$208)))","v":""},{"$f":"IF('TABLA DE DECISION'!BN162=\"\",\"\",IF('TABLA DE DECISION'!$A$156=1,MAX('TABLA DE DECISION'!BN$159:BN$208)-'TABLA DE DECISION'!BN162,'TABLA DE DECISION'!BN162-MIN('TABLA DE DECISION'!BN$159:BN$208)))","v":""},{"$f":"IF('TABLA DE DECISION'!BO162=\"\",\"\",IF('TABLA DE DECISION'!$A$156=1,MAX('TABLA DE DECISION'!BO$159:BO$208)-'TABLA DE DECISION'!BO162,'TABLA DE DECISION'!BO162-MIN('TABLA DE DECISION'!BO$159:BO$208)))","v":""},{"$f":"IF('TABLA DE DECISION'!BP162=\"\",\"\",IF('TABLA DE DECISION'!$A$156=1,MAX('TABLA DE DECISION'!BP$159:BP$208)-'TABLA DE DECISION'!BP162,'TABLA DE DECISION'!BP162-MIN('TABLA DE DECISION'!BP$159:BP$208)))","v":""},{"$f":"IF('TABLA DE DECISION'!BQ162=\"\",\"\",IF('TABLA DE DECISION'!$A$156=1,MAX('TABLA DE DECISION'!BQ$159:BQ$208)-'TABLA DE DECISION'!BQ162,'TABLA DE DECISION'!BQ162-MIN('TABLA DE DECISION'!BQ$159:BQ$208)))","v":""},{"$f":"IF('TABLA DE DECISION'!BR162=\"\",\"\",IF('TABLA DE DECISION'!$A$156=1,MAX('TABLA DE DECISION'!BR$159:BR$208)-'TABLA DE DECISION'!BR162,'TABLA DE DECISION'!BR162-MIN('TABLA DE DECISION'!BR$159:BR$208)))","v":""},{"$f":"IF('TABLA DE DECISION'!BS162=\"\",\"\",IF('TABLA DE DECISION'!$A$156=1,MAX('TABLA DE DECISION'!BS$159:BS$208)-'TABLA DE DECISION'!BS162,'TABLA DE DECISION'!BS162-MIN('TABLA DE DECISION'!BS$159:BS$208)))","v":""},{"$f":"IF('TABLA DE DECISION'!BT162=\"\",\"\",IF('TABLA DE DECISION'!$A$156=1,MAX('TABLA DE DECISION'!BT$159:BT$208)-'TABLA DE DECISION'!BT162,'TABLA DE DECISION'!BT162-MIN('TABLA DE DECISION'!BT$159:BT$208)))","v":""},{"$f":"IF('TABLA DE DECISION'!BU162=\"\",\"\",IF('TABLA DE DECISION'!$A$156=1,MAX('TABLA DE DECISION'!BU$159:BU$208)-'TABLA DE DECISION'!BU162,'TABLA DE DECISION'!BU162-MIN('TABLA DE DECISION'!BU$159:BU$208)))","v":""},{"$f":"IF('TABLA DE DECISION'!BV162=\"\",\"\",IF('TABLA DE DECISION'!$A$156=1,MAX('TABLA DE DECISION'!BV$159:BV$208)-'TABLA DE DECISION'!BV162,'TABLA DE DECISION'!BV162-MIN('TABLA DE DECISION'!BV$159:BV$208)))","v":""},{"$f":"IF('TABLA DE DECISION'!BW162=\"\",\"\",IF('TABLA DE DECISION'!$A$156=1,MAX('TABLA DE DECISION'!BW$159:BW$208)-'TABLA DE DECISION'!BW162,'TABLA DE DECISION'!BW162-MIN('TABLA DE DECISION'!BW$159:BW$208)))","v":""},{"$f":"IF('TABLA DE DECISION'!BX162=\"\",\"\",IF('TABLA DE DECISION'!$A$156=1,MAX('TABLA DE DECISION'!BX$159:BX$208)-'TABLA DE DECISION'!BX162,'TABLA DE DECISION'!BX162-MIN('TABLA DE DECISION'!BX$159:BX$208)))","v":""},{"$f":"IF('TABLA DE DECISION'!BY162=\"\",\"\",IF('TABLA DE DECISION'!$A$156=1,MAX('TABLA DE DECISION'!BY$159:BY$208)-'TABLA DE DECISION'!BY162,'TABLA DE DECISION'!BY162-MIN('TABLA DE DECISION'!BY$159:BY$208)))","v":""},{"$f":"IF('TABLA DE DECISION'!BZ162=\"\",\"\",IF('TABLA DE DECISION'!$A$156=1,MAX('TABLA DE DECISION'!BZ$159:BZ$208)-'TABLA DE DECISION'!BZ162,'TABLA DE DECISION'!BZ162-MIN('TABLA DE DECISION'!BZ$159:BZ$208)))","v":""},{"$f":"IF('TABLA DE DECISION'!CA162=\"\",\"\",IF('TABLA DE DECISION'!$A$156=1,MAX('TABLA DE DECISION'!CA$159:CA$208)-'TABLA DE DECISION'!CA162,'TABLA DE DECISION'!CA162-MIN('TABLA DE DECISION'!CA$159:CA$208)))","v":""},{"$f":"IF('TABLA DE DECISION'!CB162=\"\",\"\",IF('TABLA DE DECISION'!$A$156=1,MAX('TABLA DE DECISION'!CB$159:CB$208)-'TABLA DE DECISION'!CB162,'TABLA DE DECISION'!CB162-MIN('TABLA DE DECISION'!CB$159:CB$208)))","v":""},{"$f":"IF('TABLA DE DECISION'!CC162=\"\",\"\",IF('TABLA DE DECISION'!$A$156=1,MAX('TABLA DE DECISION'!CC$159:CC$208)-'TABLA DE DECISION'!CC162,'TABLA DE DECISION'!CC162-MIN('TABLA DE DECISION'!CC$159:CC$208)))","v":""},{"$f":"IF('TABLA DE DECISION'!CD162=\"\",\"\",IF('TABLA DE DECISION'!$A$156=1,MAX('TABLA DE DECISION'!CD$159:CD$208)-'TABLA DE DECISION'!CD162,'TABLA DE DECISION'!CD162-MIN('TABLA DE DECISION'!CD$159:CD$208)))","v":""},{"$f":"IF('TABLA DE DECISION'!CE162=\"\",\"\",IF('TABLA DE DECISION'!$A$156=1,MAX('TABLA DE DECISION'!CE$159:CE$208)-'TABLA DE DECISION'!CE162,'TABLA DE DECISION'!CE162-MIN('TABLA DE DECISION'!CE$159:CE$208)))","v":""},{"$f":"IF('TABLA DE DECISION'!CF162=\"\",\"\",IF('TABLA DE DECISION'!$A$156=1,MAX('TABLA DE DECISION'!CF$159:CF$208)-'TABLA DE DECISION'!CF162,'TABLA DE DECISION'!CF162-MIN('TABLA DE DECISION'!CF$159:CF$208)))","v":""},{"$f":"IF('TABLA DE DECISION'!CG162=\"\",\"\",IF('TABLA DE DECISION'!$A$156=1,MAX('TABLA DE DECISION'!CG$159:CG$208)-'TABLA DE DECISION'!CG162,'TABLA DE DECISION'!CG162-MIN('TABLA DE DECISION'!CG$159:CG$208)))","v":""},{"$f":"IF('TABLA DE DECISION'!CH162=\"\",\"\",IF('TABLA DE DECISION'!$A$156=1,MAX('TABLA DE DECISION'!CH$159:CH$208)-'TABLA DE DECISION'!CH162,'TABLA DE DECISION'!CH162-MIN('TABLA DE DECISION'!CH$159:CH$208)))","v":""},{"$f":"IF('TABLA DE DECISION'!CI162=\"\",\"\",IF('TABLA DE DECISION'!$A$156=1,MAX('TABLA DE DECISION'!CI$159:CI$208)-'TABLA DE DECISION'!CI162,'TABLA DE DECISION'!CI162-MIN('TABLA DE DECISION'!CI$159:CI$208)))","v":""},{"$f":"IF('TABLA DE DECISION'!CJ162=\"\",\"\",IF('TABLA DE DECISION'!$A$156=1,MAX('TABLA DE DECISION'!CJ$159:CJ$208)-'TABLA DE DECISION'!CJ162,'TABLA DE DECISION'!CJ162-MIN('TABLA DE DECISION'!CJ$159:CJ$208)))","v":""},{"$f":"IF('TABLA DE DECISION'!CK162=\"\",\"\",IF('TABLA DE DECISION'!$A$156=1,MAX('TABLA DE DECISION'!CK$159:CK$208)-'TABLA DE DECISION'!CK162,'TABLA DE DECISION'!CK162-MIN('TABLA DE DECISION'!CK$159:CK$208)))","v":""},{"$f":"IF('TABLA DE DECISION'!CL162=\"\",\"\",IF('TABLA DE DECISION'!$A$156=1,MAX('TABLA DE DECISION'!CL$159:CL$208)-'TABLA DE DECISION'!CL162,'TABLA DE DECISION'!CL162-MIN('TABLA DE DECISION'!CL$159:CL$208)))","v":""},{"$f":"IF('TABLA DE DECISION'!CM162=\"\",\"\",IF('TABLA DE DECISION'!$A$156=1,MAX('TABLA DE DECISION'!CM$159:CM$208)-'TABLA DE DECISION'!CM162,'TABLA DE DECISION'!CM162-MIN('TABLA DE DECISION'!CM$159:CM$208)))","v":""},{"$f":"IF('TABLA DE DECISION'!CN162=\"\",\"\",IF('TABLA DE DECISION'!$A$156=1,MAX('TABLA DE DECISION'!CN$159:CN$208)-'TABLA DE DECISION'!CN162,'TABLA DE DECISION'!CN162-MIN('TABLA DE DECISION'!CN$159:CN$208)))","v":""},{"$f":"IF('TABLA DE DECISION'!CO162=\"\",\"\",IF('TABLA DE DECISION'!$A$156=1,MAX('TABLA DE DECISION'!CO$159:CO$208)-'TABLA DE DECISION'!CO162,'TABLA DE DECISION'!CO162-MIN('TABLA DE DECISION'!CO$159:CO$208)))","v":""},{"$f":"IF('TABLA DE DECISION'!CP162=\"\",\"\",IF('TABLA DE DECISION'!$A$156=1,MAX('TABLA DE DECISION'!CP$159:CP$208)-'TABLA DE DECISION'!CP162,'TABLA DE DECISION'!CP162-MIN('TABLA DE DECISION'!CP$159:CP$208)))","v":""},{"$f":"IF('TABLA DE DECISION'!CQ162=\"\",\"\",IF('TABLA DE DECISION'!$A$156=1,MAX('TABLA DE DECISION'!CQ$159:CQ$208)-'TABLA DE DECISION'!CQ162,'TABLA DE DECISION'!CQ162-MIN('TABLA DE DECISION'!CQ$159:CQ$208)))","v":""},{"$f":"IF('TABLA DE DECISION'!CR162=\"\",\"\",IF('TABLA DE DECISION'!$A$156=1,MAX('TABLA DE DECISION'!CR$159:CR$208)-'TABLA DE DECISION'!CR162,'TABLA DE DECISION'!CR162-MIN('TABLA DE DECISION'!CR$159:CR$208)))","v":""},{"$f":"IF('TABLA DE DECISION'!CS162=\"\",\"\",IF('TABLA DE DECISION'!$A$156=1,MAX('TABLA DE DECISION'!CS$159:CS$208)-'TABLA DE DECISION'!CS162,'TABLA DE DECISION'!CS162-MIN('TABLA DE DECISION'!CS$159:CS$208)))","v":""},{"$f":"IF('TABLA DE DECISION'!CT162=\"\",\"\",IF('TABLA DE DECISION'!$A$156=1,MAX('TABLA DE DECISION'!CT$159:CT$208)-'TABLA DE DECISION'!CT162,'TABLA DE DECISION'!CT162-MIN('TABLA DE DECISION'!CT$159:CT$208)))","v":""},{"$f":"IF('TABLA DE DECISION'!CU162=\"\",\"\",IF('TABLA DE DECISION'!$A$156=1,MAX('TABLA DE DECISION'!CU$159:CU$208)-'TABLA DE DECISION'!CU162,'TABLA DE DECISION'!CU162-MIN('TABLA DE DECISION'!CU$159:CU$208)))","v":""},{"$f":"IF('TABLA DE DECISION'!CV162=\"\",\"\",IF('TABLA DE DECISION'!$A$156=1,MAX('TABLA DE DECISION'!CV$159:CV$208)-'TABLA DE DECISION'!CV162,'TABLA DE DECISION'!CV162-MIN('TABLA DE DECISION'!CV$159:CV$208)))","v":""},{"$f":"IF('TABLA DE DECISION'!CW162=\"\",\"\",IF('TABLA DE DECISION'!$A$156=1,MAX('TABLA DE DECISION'!CW$159:CW$208)-'TABLA DE DECISION'!CW162,'TABLA DE DECISION'!CW162-MIN('TABLA DE DECISION'!CW$159:CW$208)))","v":""},{"$f":"IF('TABLA DE DECISION'!CX162=\"\",\"\",IF('TABLA DE DECISION'!$A$156=1,MAX('TABLA DE DECISION'!CX$159:CX$208)-'TABLA DE DECISION'!CX162,'TABLA DE DECISION'!CX162-MIN('TABLA DE DECISION'!CX$159:CX$208)))","v":""},{"$f":"IF('TABLA DE DECISION'!CY162=\"\",\"\",IF('TABLA DE DECISION'!$A$156=1,MAX('TABLA DE DECISION'!CY$159:CY$208)-'TABLA DE DECISION'!CY162,'TABLA DE DECISION'!CY162-MIN('TABLA DE DECISION'!CY$159:CY$208)))","v":""},{"$f":"IF('TABLA DE DECISION'!CZ162=\"\",\"\",IF('TABLA DE DECISION'!$A$156=1,MAX('TABLA DE DECISION'!CZ$159:CZ$208)-'TABLA DE DECISION'!CZ162,'TABLA DE DECISION'!CZ162-MIN('TABLA DE DECISION'!CZ$159:CZ$208)))","v":""},{"$f":"IF('TABLA DE DECISION'!DA162=\"\",\"\",IF('TABLA DE DECISION'!$A$156=1,MAX('TABLA DE DECISION'!DA$159:DA$208)-'TABLA DE DECISION'!DA162,'TABLA DE DECISION'!DA162-MIN('TABLA DE DECISION'!DA$159:DA$208)))","v":""},{"$f":"IF('TABLA DE DECISION'!DB162=\"\",\"\",IF('TABLA DE DECISION'!$A$156=1,MAX('TABLA DE DECISION'!DB$159:DB$208)-'TABLA DE DECISION'!DB162,'TABLA DE DECISION'!DB162-MIN('TABLA DE DECISION'!DB$159:DB$208)))","v":""},{"$f":"IF('TABLA DE DECISION'!DC162=\"\",\"\",IF('TABLA DE DECISION'!$A$156=1,MAX('TABLA DE DECISION'!DC$159:DC$208)-'TABLA DE DECISION'!DC162,'TABLA DE DECISION'!DC162-MIN('TABLA DE DECISION'!DC$159:DC$208)))","v":""},{"$f":"IF('TABLA DE DECISION'!DD162=\"\",\"\",IF('TABLA DE DECISION'!$A$156=1,MAX('TABLA DE DECISION'!DD$159:DD$208)-'TABLA DE DECISION'!DD162,'TABLA DE DECISION'!DD162-MIN('TABLA DE DECISION'!DD$159:DD$208)))","v":""},{"$f":"IF('TABLA DE DECISION'!DE162=\"\",\"\",IF('TABLA DE DECISION'!$A$156=1,MAX('TABLA DE DECISION'!DE$159:DE$208)-'TABLA DE DECISION'!DE162,'TABLA DE DECISION'!DE162-MIN('TABLA DE DECISION'!DE$159:DE$208)))","v":""},null,{"$f":"IF(C6=\"\",\"\",SUMPRODUCT(C6:AZ6,'TABLA DE DECISION'!BH$156:DE$156))","v":""}]
[{"$f":"IF('TABLA DE DECISION'!BF163=\"\",\"\",'TABLA DE DECISION'!BF163)","v":""},{"$f":"IF('TABLA DE DECISION'!BG163=\"\",\"\",'TABLA DE DECISION'!BG163)","v":"a5"},{"$f":"IF('TABLA DE DECISION'!BH163=\"\",\"\",IF('TABLA DE DECISION'!$A$156=1,MAX('TABLA DE DECISION'!BH$159:BH$208)-'TABLA DE DECISION'!BH163,'TABLA DE DECISION'!BH163-MIN('TABLA DE DECISION'!BH$159:BH$208)))","v":""},{"$f":"IF('TABLA DE DECISION'!BI163=\"\",\"\",IF('TABLA DE DECISION'!$A$156=1,MAX('TABLA DE DECISION'!BI$159:BI$208)-'TABLA DE DECISION'!BI163,'TABLA DE DECISION'!BI163-MIN('TABLA DE DECISION'!BI$159:BI$208)))","v":""},{"$f":"IF('TABLA DE DECISION'!BJ163=\"\",\"\",IF('TABLA DE DECISION'!$A$156=1,MAX('TABLA DE DECISION'!BJ$159:BJ$208)-'TABLA DE DECISION'!BJ163,'TABLA DE DECISION'!BJ163-MIN('TABLA DE DECISION'!BJ$159:BJ$208)))","v":""},{"$f":"IF('TABLA DE DECISION'!BK163=\"\",\"\",IF('TABLA DE DECISION'!$A$156=1,MAX('TABLA DE DECISION'!BK$159:BK$208)-'TABLA DE DECISION'!BK163,'TABLA DE DECISION'!BK163-MIN('TABLA DE DECISION'!BK$159:BK$208)))","v":""},{"$f":"IF('TABLA DE DECISION'!BL163=\"\",\"\",IF('TABLA DE DECISION'!$A$156=1,MAX('TABLA DE DECISION'!BL$159:BL$208)-'TABLA DE DECISION'!BL163,'TABLA DE DECISION'!BL163-MIN('TABLA DE DECISION'!BL$159:BL$208)))","v":""},{"$f":"IF('TABLA DE DECISION'!BM163=\"\",\"\",IF('TABLA DE DECISION'!$A$156=1,MAX('TABLA DE DECISION'!BM$159:BM$208)-'TABLA DE DECISION'!BM163,'TABLA DE DECISION'!BM163-MIN('TABLA DE DECISION'!BM$159:BM$208)))","v":""},{"$f":"IF('TABLA DE DECISION'!BN163=\"\",\"\",IF('TABLA DE DECISION'!$A$156=1,MAX('TABLA DE DECISION'!BN$159:BN$208)-'TABLA DE DECISION'!BN163,'TABLA DE DECISION'!BN163-MIN('TABLA DE DECISION'!BN$159:BN$208)))","v":""},{"$f":"IF('TABLA DE DECISION'!BO163=\"\",\"\",IF('TABLA DE DECISION'!$A$156=1,MAX('TABLA DE DECISION'!BO$159:BO$208)-'TABLA DE DECISION'!BO163,'TABLA DE DECISION'!BO163-MIN('TABLA DE DECISION'!BO$159:BO$208)))","v":""},{"$f":"IF('TABLA DE DECISION'!BP163=\"\",\"\",IF('TABLA DE DECISION'!$A$156=1,MAX('TABLA DE DECISION'!BP$159:BP$208)-'TABLA DE DECISION'!BP163,'TABLA DE DECISION'!BP163-MIN('TABLA DE DECISION'!BP$159:BP$208)))","v":""},{"$f":"IF('TABLA DE DECISION'!BQ163=\"\",\"\",IF('TABLA DE DECISION'!$A$156=1,MAX('TABLA DE DECISION'!BQ$159:BQ$208)-'TABLA DE DECISION'!BQ163,'TABLA DE DECISION'!BQ163-MIN('TABLA DE DECISION'!BQ$159:BQ$208)))","v":""},{"$f":"IF('TABLA DE DECISION'!BR163=\"\",\"\",IF('TABLA DE DECISION'!$A$156=1,MAX('TABLA DE DECISION'!BR$159:BR$208)-'TABLA DE DECISION'!BR163,'TABLA DE DECISION'!BR163-MIN('TABLA DE DECISION'!BR$159:BR$208)))","v":""},{"$f":"IF('TABLA DE DECISION'!BS163=\"\",\"\",IF('TABLA DE DECISION'!$A$156=1,MAX('TABLA DE DECISION'!BS$159:BS$208)-'TABLA DE DECISION'!BS163,'TABLA DE DECISION'!BS163-MIN('TABLA DE DECISION'!BS$159:BS$208)))","v":""},{"$f":"IF('TABLA DE DECISION'!BT163=\"\",\"\",IF('TABLA DE DECISION'!$A$156=1,MAX('TABLA DE DECISION'!BT$159:BT$208)-'TABLA DE DECISION'!BT163,'TABLA DE DECISION'!BT163-MIN('TABLA DE DECISION'!BT$159:BT$208)))","v":""},{"$f":"IF('TABLA DE DECISION'!BU163=\"\",\"\",IF('TABLA DE DECISION'!$A$156=1,MAX('TABLA DE DECISION'!BU$159:BU$208)-'TABLA DE DECISION'!BU163,'TABLA DE DECISION'!BU163-MIN('TABLA DE DECISION'!BU$159:BU$208)))","v":""},{"$f":"IF('TABLA DE DECISION'!BV163=\"\",\"\",IF('TABLA DE DECISION'!$A$156=1,MAX('TABLA DE DECISION'!BV$159:BV$208)-'TABLA DE DECISION'!BV163,'TABLA DE DECISION'!BV163-MIN('TABLA DE DECISION'!BV$159:BV$208)))","v":""},{"$f":"IF('TABLA DE DECISION'!BW163=\"\",\"\",IF('TABLA DE DECISION'!$A$156=1,MAX('TABLA DE DECISION'!BW$159:BW$208)-'TABLA DE DECISION'!BW163,'TABLA DE DECISION'!BW163-MIN('TABLA DE DECISION'!BW$159:BW$208)))","v":""},{"$f":"IF('TABLA DE DECISION'!BX163=\"\",\"\",IF('TABLA DE DECISION'!$A$156=1,MAX('TABLA DE DECISION'!BX$159:BX$208)-'TABLA DE DECISION'!BX163,'TABLA DE DECISION'!BX163-MIN('TABLA DE DECISION'!BX$159:BX$208)))","v":""},{"$f":"IF('TABLA DE DECISION'!BY163=\"\",\"\",IF('TABLA DE DECISION'!$A$156=1,MAX('TABLA DE DECISION'!BY$159:BY$208)-'TABLA DE DECISION'!BY163,'TABLA DE DECISION'!BY163-MIN('TABLA DE DECISION'!BY$159:BY$208)))","v":""},{"$f":"IF('TABLA DE DECISION'!BZ163=\"\",\"\",IF('TABLA DE DECISION'!$A$156=1,MAX('TABLA DE DECISION'!BZ$159:BZ$208)-'TABLA DE DECISION'!BZ163,'TABLA DE DECISION'!BZ163-MIN('TABLA DE DECISION'!BZ$159:BZ$208)))","v":""},{"$f":"IF('TABLA DE DECISION'!CA163=\"\",\"\",IF('TABLA DE DECISION'!$A$156=1,MAX('TABLA DE DECISION'!CA$159:CA$208)-'TABLA DE DECISION'!CA163,'TABLA DE DECISION'!CA163-MIN('TABLA DE DECISION'!CA$159:CA$208)))","v":""},{"$f":"IF('TABLA DE DECISION'!CB163=\"\",\"\",IF('TABLA DE DECISION'!$A$156=1,MAX('TABLA DE DECISION'!CB$159:CB$208)-'TABLA DE DECISION'!CB163,'TABLA DE DECISION'!CB163-MIN('TABLA DE DECISION'!CB$159:CB$208)))","v":""},{"$f":"IF('TABLA DE DECISION'!CC163=\"\",\"\",IF('TABLA DE DECISION'!$A$156=1,MAX('TABLA DE DECISION'!CC$159:CC$208)-'TABLA DE DECISION'!CC163,'TABLA DE DECISION'!CC163-MIN('TABLA DE DECISION'!CC$159:CC$208)))","v":""},{"$f":"IF('TABLA DE DECISION'!CD163=\"\",\"\",IF('TABLA DE DECISION'!$A$156=1,MAX('TABLA DE DECISION'!CD$159:CD$208)-'TABLA DE DECISION'!CD163,'TABLA DE DECISION'!CD163-MIN('TABLA DE DECISION'!CD$159:CD$208)))","v":""},{"$f":"IF('TABLA DE DECISION'!CE163=\"\",\"\",IF('TABLA DE DECISION'!$A$156=1,MAX('TABLA DE DECISION'!CE$159:CE$208)-'TABLA DE DECISION'!CE163,'TABLA DE DECISION'!CE163-MIN('TABLA DE DECISION'!CE$159:CE$208)))","v":""},{"$f":"IF('TABLA DE DECISION'!CF163=\"\",\"\",IF('TABLA DE DECISION'!$A$156=1,MAX('TABLA DE DECISION'!CF$159:CF$208)-'TABLA DE DECISION'!CF163,'TABLA DE DECISION'!CF163-MIN('TABLA DE DECISION'!CF$159:CF$208)))","v":""},{"$f":"IF('TABLA DE DECISION'!CG163=\"\",\"\",IF('TABLA DE DECISION'!$A$156=1,MAX('TABLA DE DECISION'!CG$159:CG$208)-'TABLA DE DECISION'!CG163,'TABLA DE DECISION'!CG163-MIN('TABLA DE DECISION'!CG$159:CG$208)))","v":""},{"$f":"IF('TABLA DE DECISION'!CH163=\"\",\"\",IF('TABLA DE DECISION'!$A$156=1,MAX('TABLA DE DECISION'!CH$159:CH$208)-'TABLA DE DECISION'!CH163,'TABLA DE DECISION'!CH163-MIN('TABLA DE DECISION'!CH$159:CH$208)))","v":""},{"$f":"IF('TABLA DE DECISION'!CI163=\"\",\"\",IF('TABLA DE DECISION'!$A$156=1,MAX('TABLA DE DECISION'!CI$159:CI$208)-'TABLA DE DECISION'!CI163,'TABLA DE DECISION'!CI163-MIN('TABLA DE DECISION'!CI$159:CI$208)))","v":""},{"$f":"IF('TABLA DE DECISION'!CJ163=\"\",\"\",IF('TABLA DE DECISION'!$A$156=1,MAX('TABLA DE DECISION'!CJ$159:CJ$208)-'TABLA DE DECISION'!CJ163,'TABLA DE DECISION'!CJ163-MIN('TABLA DE DECISION'!CJ$159:CJ$208)))","v":""},{"$f":"IF('TABLA DE DECISION'!CK163=\"\",\"\",IF('TABLA DE DECISION'!$A$156=1,MAX('TABLA DE DECISION'!CK$159:CK$208)-'TABLA DE DECISION'!CK163,'TABLA DE DECISION'!CK163-MIN('TABLA DE DECISION'!CK$159:CK$208)))","v":""},{"$f":"IF('TABLA DE DECISION'!CL163=\"\",\"\",IF('TABLA DE DECISION'!$A$156=1,MAX('TABLA DE DECISION'!CL$159:CL$208)-'TABLA DE DECISION'!CL163,'TABLA DE DECISION'!CL163-MIN('TABLA DE DECISION'!CL$159:CL$208)))","v":""},{"$f":"IF('TABLA DE DECISION'!CM163=\"\",\"\",IF('TABLA DE DECISION'!$A$156=1,MAX('TABLA DE DECISION'!CM$159:CM$208)-'TABLA DE DECISION'!CM163,'TABLA DE DECISION'!CM163-MIN('TABLA DE DECISION'!CM$159:CM$208)))","v":""},{"$f":"IF('TABLA DE DECISION'!CN163=\"\",\"\",IF('TABLA DE DECISION'!$A$156=1,MAX('TABLA DE DECISION'!CN$159:CN$208)-'TABLA DE DECISION'!CN163,'TABLA DE DECISION'!CN163-MIN('TABLA DE DECISION'!CN$159:CN$208)))","v":""},{"$f":"IF('TABLA DE DECISION'!CO163=\"\",\"\",IF('TABLA DE DECISION'!$A$156=1,MAX('TABLA DE DECISION'!CO$159:CO$208)-'TABLA DE DECISION'!CO163,'TABLA DE DECISION'!CO163-MIN('TABLA DE DECISION'!CO$159:CO$208)))","v":""},{"$f":"IF('TABLA DE DECISION'!CP163=\"\",\"\",IF('TABLA DE DECISION'!$A$156=1,MAX('TABLA DE DECISION'!CP$159:CP$208)-'TABLA DE DECISION'!CP163,'TABLA DE DECISION'!CP163-MIN('TABLA DE DECISION'!CP$159:CP$208)))","v":""},{"$f":"IF('TABLA DE DECISION'!CQ163=\"\",\"\",IF('TABLA DE DECISION'!$A$156=1,MAX('TABLA DE DECISION'!CQ$159:CQ$208)-'TABLA DE DECISION'!CQ163,'TABLA DE DECISION'!CQ163-MIN('TABLA DE DECISION'!CQ$159:CQ$208)))","v":""},{"$f":"IF('TABLA DE DECISION'!CR163=\"\",\"\",IF('TABLA DE DECISION'!$A$156=1,MAX('TABLA DE DECISION'!CR$159:CR$208)-'TABLA DE DECISION'!CR163,'TABLA DE DECISION'!CR163-MIN('TABLA DE DECISION'!CR$159:CR$208)))","v":""},{"$f":"IF('TABLA DE DECISION'!CS163=\"\",\"\",IF('TABLA DE DECISION'!$A$156=1,MAX('TABLA DE DECISION'!CS$159:CS$208)-'TABLA DE DECISION'!CS163,'TABLA DE DECISION'!CS163-MIN('TABLA DE DECISION'!CS$159:CS$208)))","v":""},{"$f":"IF('TABLA DE DECISION'!CT163=\"\",\"\",IF('TABLA DE DECISION'!$A$156=1,MAX('TABLA DE DECISION'!CT$159:CT$208)-'TABLA DE DECISION'!CT163,'TABLA DE DECISION'!CT163-MIN('TABLA DE DECISION'!CT$159:CT$208)))","v":""},{"$f":"IF('TABLA DE DECISION'!CU163=\"\",\"\",IF('TABLA DE DECISION'!$A$156=1,MAX('TABLA DE DECISION'!CU$159:CU$208)-'TABLA DE DECISION'!CU163,'TABLA DE DECISION'!CU163-MIN('TABLA DE DECISION'!CU$159:CU$208)))","v":""},{"$f":"IF('TABLA DE DECISION'!CV163=\"\",\"\",IF('TABLA DE DECISION'!$A$156=1,MAX('TABLA DE DECISION'!CV$159:CV$208)-'TABLA DE DECISION'!CV163,'TABLA DE DECISION'!CV163-MIN('TABLA DE DECISION'!CV$159:CV$208)))","v":""},{"$f":"IF('TABLA DE DECISION'!CW163=\"\",\"\",IF('TABLA DE DECISION'!$A$156=1,MAX('TABLA DE DECISION'!CW$159:CW$208)-'TABLA DE DECISION'!CW163,'TABLA DE DECISION'!CW163-MIN('TABLA DE DECISION'!CW$159:CW$208)))","v":""},{"$f":"IF('TABLA DE DECISION'!CX163=\"\",\"\",IF('TABLA DE DECISION'!$A$156=1,MAX('TABLA DE DECISION'!CX$159:CX$208)-'TABLA DE DECISION'!CX163,'TABLA DE DECISION'!CX163-MIN('TABLA DE DECISION'!CX$159:CX$208)))","v":""},{"$f":"IF('TABLA DE DECISION'!CY163=\"\",\"\",IF('TABLA DE DECISION'!$A$156=1,MAX('TABLA DE DECISION'!CY$159:CY$208)-'TABLA DE DECISION'!CY163,'TABLA DE DECISION'!CY163-MIN('TABLA DE DECISION'!CY$159:CY$208)))","v":""},{"$f":"IF('TABLA DE DECISION'!CZ163=\"\",\"\",IF('TABLA DE DECISION'!$A$156=1,MAX('TABLA DE DECISION'!CZ$159:CZ$208)-'TABLA DE DECISION'!CZ163,'TABLA DE DECISION'!CZ163-MIN('TABLA DE DECISION'!CZ$159:CZ$208)))","v":""},{"$f":"IF('TABLA DE DECISION'!DA163=\"\",\"\",IF('TABLA DE DECISION'!$A$156=1,MAX('TABLA DE DECISION'!DA$159:DA$208)-'TABLA DE DECISION'!DA163,'TABLA DE DECISION'!DA163-MIN('TABLA DE DECISION'!DA$159:DA$208)))","v":""},{"$f":"IF('TABLA DE DECISION'!DB163=\"\",\"\",IF('TABLA DE DECISION'!$A$156=1,MAX('TABLA DE DECISION'!DB$159:DB$208)-'TABLA DE DECISION'!DB163,'TABLA DE DECISION'!DB163-MIN('TABLA DE DECISION'!DB$159:DB$208)))","v":""},{"$f":"IF('TABLA DE DECISION'!DC163=\"\",\"\",IF('TABLA DE DECISION'!$A$156=1,MAX('TABLA DE DECISION'!DC$159:DC$208)-'TABLA DE DECISION'!DC163,'TABLA DE DECISION'!DC163-MIN('TABLA DE DECISION'!DC$159:DC$208)))","v":""},{"$f":"IF('TABLA DE DECISION'!DD163=\"\",\"\",IF('TABLA DE DECISION'!$A$156=1,MAX('TABLA DE DECISION'!DD$159:DD$208)-'TABLA DE DECISION'!DD163,'TABLA DE DECISION'!DD163-MIN('TABLA DE DECISION'!DD$159:DD$208)))","v":""},{"$f":"IF('TABLA DE DECISION'!DE163=\"\",\"\",IF('TABLA DE DECISION'!$A$156=1,MAX('TABLA DE DECISION'!DE$159:DE$208)-'TABLA DE DECISION'!DE163,'TABLA DE DECISION'!DE163-MIN('TABLA DE DECISION'!DE$159:DE$208)))","v":""},null,{"$f":"IF(C7=\"\",\"\",SUMPRODUCT(C7:AZ7,'TABLA DE DECISION'!BH$156:DE$156))","v":""}]
[{"$f":"IF('TABLA DE DECISION'!BF164=\"\",\"\",'TABLA DE DECISION'!BF164)","v":""},{"$f":"IF('TABLA DE DECISION'!BG164=\"\",\"\",'TABLA DE DECISION'!BG164)","v":"a6"},{"$f":"IF('TABLA DE DECISION'!BH164=\"\",\"\",IF('TABLA DE DECISION'!$A$156=1,MAX('TABLA DE DECISION'!BH$159:BH$208)-'TABLA DE DECISION'!BH164,'TABLA DE DECISION'!BH164-MIN('TABLA DE DECISION'!BH$159:BH$208)))","v":""},{"$f":"IF('TABLA DE DECISION'!BI164=\"\",\"\",IF('TABLA DE DECISION'!$A$156=1,MAX('TABLA DE DECISION'!BI$159:BI$208)-'TABLA DE DECISION'!BI164,'TABLA DE DECISION'!BI164-MIN('TABLA DE DECISION'!BI$159:BI$208)))","v":""},{"$f":"IF('TABLA DE DECISION'!BJ164=\"\",\"\",IF('TABLA DE DECISION'!$A$156=1,MAX('TABLA DE DECISION'!BJ$159:BJ$208)-'TABLA DE DECISION'!BJ164,'TABLA DE DECISION'!BJ164-MIN('TABLA DE DECISION'!BJ$159:BJ$208)))","v":""},{"$f":"IF('TABLA DE DECISION'!BK164=\"\",\"\",IF('TABLA DE DECISION'!$A$156=1,MAX('TABLA DE DECISION'!BK$159:BK$208)-'TABLA DE DECISION'!BK164,'TABLA DE DECISION'!BK164-MIN('TABLA DE DECISION'!BK$159:BK$208)))","v":""},{"$f":"IF('TABLA DE DECISION'!BL164=\"\",\"\",IF('TABLA DE DECISION'!$A$156=1,MAX('TABLA DE DECISION'!BL$159:BL$208)-'TABLA DE DECISION'!BL164,'TABLA DE DECISION'!BL164-MIN('TABLA DE DECISION'!BL$159:BL$208)))","v":""},{"$f":"IF('TABLA DE DECISION'!BM164=\"\",\"\",IF('TABLA DE DECISION'!$A$156=1,MAX('TABLA DE DECISION'!BM$159:BM$208)-'TABLA DE DECISION'!BM164,'TABLA DE DECISION'!BM164-MIN('TABLA DE DECISION'!BM$159:BM$208)))","v":""},{"$f":"IF('TABLA DE DECISION'!BN164=\"\",\"\",IF('TABLA DE DECISION'!$A$156=1,MAX('TABLA DE DECISION'!BN$159:BN$208)-'TABLA DE DECISION'!BN164,'TABLA DE DECISION'!BN164-MIN('TABLA DE DECISION'!BN$159:BN$208)))","v":""},{"$f":"IF('TABLA DE DECISION'!BO164=\"\",\"\",IF('TABLA DE DECISION'!$A$156=1,MAX('TABLA DE DECISION'!BO$159:BO$208)-'TABLA DE DECISION'!BO164,'TABLA DE DECISION'!BO164-MIN('TABLA DE DECISION'!BO$159:BO$208)))","v":""},{"$f":"IF('TABLA DE DECISION'!BP164=\"\",\"\",IF('TABLA DE DECISION'!$A$156=1,MAX('TABLA DE DECISION'!BP$159:BP$208)-'TABLA DE DECISION'!BP164,'TABLA DE DECISION'!BP164-MIN('TABLA DE DECISION'!BP$159:BP$208)))","v":""},{"$f":"IF('TABLA DE DECISION'!BQ164=\"\",\"\",IF('TABLA DE DECISION'!$A$156=1,MAX('TABLA DE DECISION'!BQ$159:BQ$208)-'TABLA DE DECISION'!BQ164,'TABLA DE DECISION'!BQ164-MIN('TABLA DE DECISION'!BQ$159:BQ$208)))","v":""},{"$f":"IF('TABLA DE DECISION'!BR164=\"\",\"\",IF('TABLA DE DECISION'!$A$156=1,MAX('TABLA DE DECISION'!BR$159:BR$208)-'TABLA DE DECISION'!BR164,'TABLA DE DECISION'!BR164-MIN('TABLA DE DECISION'!BR$159:BR$208)))","v":""},{"$f":"IF('TABLA DE DECISION'!BS164=\"\",\"\",IF('TABLA DE DECISION'!$A$156=1,MAX('TABLA DE DECISION'!BS$159:BS$208)-'TABLA DE DECISION'!BS164,'TABLA DE DECISION'!BS164-MIN('TABLA DE DECISION'!BS$159:BS$208)))","v":""},{"$f":"IF('TABLA DE DECISION'!BT164=\"\",\"\",IF('TABLA DE DECISION'!$A$156=1,MAX('TABLA DE DECISION'!BT$159:BT$208)-'TABLA DE DECISION'!BT164,'TABLA DE DECISION'!BT164-MIN('TABLA DE DECISION'!BT$159:BT$208)))","v":""},{"$f":"IF('TABLA DE DECISION'!BU164=\"\",\"\",IF('TABLA DE DECISION'!$A$156=1,MAX('TABLA DE DECISION'!BU$159:BU$208)-'TABLA DE DECISION'!BU164,'TABLA DE DECISION'!BU164-MIN('TABLA DE DECISION'!BU$159:BU$208)))","v":""},{"$f":"IF('TABLA DE DECISION'!BV164=\"\",\"\",IF('TABLA DE DECISION'!$A$156=1,MAX('TABLA DE DECISION'!BV$159:BV$208)-'TABLA DE DECISION'!BV164,'TABLA DE DECISION'!BV164-MIN('TABLA DE DECISION'!BV$159:BV$208)))","v":""},{"$f":"IF('TABLA DE DECISION'!BW164=\"\",\"\",IF('TABLA DE DECISION'!$A$156=1,MAX('TABLA DE DECISION'!BW$159:BW$208)-'TABLA DE DECISION'!BW164,'TABLA DE DECISION'!BW164-MIN('TABLA DE DECISION'!BW$159:BW$208)))","v":""},{"$f":"IF('TABLA DE DECISION'!BX164=\"\",\"\",IF('TABLA DE DECISION'!$A$156=1,MAX('TABLA DE DECISION'!BX$159:BX$208)-'TABLA DE DECISION'!BX164,'TABLA DE DECISION'!BX164-MIN('TABLA DE DECISION'!BX$159:BX$208)))","v":""},{"$f":"IF('TABLA DE DECISION'!BY164=\"\",\"\",IF('TABLA DE DECISION'!$A$156=1,MAX('TABLA DE DECISION'!BY$159:BY$208)-'TABLA DE DECISION'!BY164,'TABLA DE DECISION'!BY164-MIN('TABLA DE DECISION'!BY$159:BY$208)))","v":""},{"$f":"IF('TABLA DE DECISION'!BZ164=\"\",\"\",IF('TABLA DE DECISION'!$A$156=1,MAX('TABLA DE DECISION'!BZ$159:BZ$208)-'TABLA DE DECISION'!BZ164,'TABLA DE DECISION'!BZ164-MIN('TABLA DE DECISION'!BZ$159:BZ$208)))","v":""},{"$f":"IF('TABLA DE DECISION'!CA164=\"\",\"\",IF('TABLA DE DECISION'!$A$156=1,MAX('TABLA DE DECISION'!CA$159:CA$208)-'TABLA DE DECISION'!CA164,'TABLA DE DECISION'!CA164-MIN('TABLA DE DECISION'!CA$159:CA$208)))","v":""},{"$f":"IF('TABLA DE DECISION'!CB164=\"\",\"\",IF('TABLA DE DECISION'!$A$156=1,MAX('TABLA DE DECISION'!CB$159:CB$208)-'TABLA DE DECISION'!CB164,'TABLA DE DECISION'!CB164-MIN('TABLA DE DECISION'!CB$159:CB$208)))","v":""},{"$f":"IF('TABLA DE DECISION'!CC164=\"\",\"\",IF('TABLA DE DECISION'!$A$156=1,MAX('TABLA DE DECISION'!CC$159:CC$208)-'TABLA DE DECISION'!CC164,'TABLA DE DECISION'!CC164-MIN('TABLA DE DECISION'!CC$159:CC$208)))","v":""},{"$f":"IF('TABLA DE DECISION'!CD164=\"\",\"\",IF('TABLA DE DECISION'!$A$156=1,MAX('TABLA DE DECISION'!CD$159:CD$208)-'TABLA DE DECISION'!CD164,'TABLA DE DECISION'!CD164-MIN('TABLA DE DECISION'!CD$159:CD$208)))","v":""},{"$f":"IF('TABLA DE DECISION'!CE164=\"\",\"\",IF('TABLA DE DECISION'!$A$156=1,MAX('TABLA DE DECISION'!CE$159:CE$208)-'TABLA DE DECISION'!CE164,'TABLA DE DECISION'!CE164-MIN('TABLA DE DECISION'!CE$159:CE$208)))","v":""},{"$f":"IF('TABLA DE DECISION'!CF164=\"\",\"\",IF('TABLA DE DECISION'!$A$156=1,MAX('TABLA DE DECISION'!CF$159:CF$208)-'TABLA DE DECISION'!CF164,'TABLA DE DECISION'!CF164-MIN('TABLA DE DECISION'!CF$159:CF$208)))","v":""},{"$f":"IF('TABLA DE DECISION'!CG164=\"\",\"\",IF('TABLA DE DECISION'!$A$156=1,MAX('TABLA DE DECISION'!CG$159:CG$208)-'TABLA DE DECISION'!CG164,'TABLA DE DECISION'!CG164-MIN('TABLA DE DECISION'!CG$159:CG$208)))","v":""},{"$f":"IF('TABLA DE DECISION'!CH164=\"\",\"\",IF('TABLA DE DECISION'!$A$156=1,MAX('TABLA DE DECISION'!CH$159:CH$208)-'TABLA DE DECISION'!CH164,'TABLA DE DECISION'!CH164-MIN('TABLA DE DECISION'!CH$159:CH$208)))","v":""},{"$f":"IF('TABLA DE DECISION'!CI164=\"\",\"\",IF('TABLA DE DECISION'!$A$156=1,MAX('TABLA DE DECISION'!CI$159:CI$208)-'TABLA DE DECISION'!CI164,'TABLA DE DECISION'!CI164-MIN('TABLA DE DECISION'!CI$159:CI$208)))","v":""},{"$f":"IF('TABLA DE DECISION'!CJ164=\"\",\"\",IF('TABLA DE DECISION'!$A$156=1,MAX('TABLA DE DECISION'!CJ$159:CJ$208)-'TABLA DE DECISION'!CJ164,'TABLA DE DECISION'!CJ164-MIN('TABLA DE DECISION'!CJ$159:CJ$208)))","v":""},{"$f":"IF('TABLA DE DECISION'!CK164=\"\",\"\",IF('TABLA DE DECISION'!$A$156=1,MAX('TABLA DE DECISION'!CK$159:CK$208)-'TABLA DE DECISION'!CK164,'TABLA DE DECISION'!CK164-MIN('TABLA DE DECISION'!CK$159:CK$208)))","v":""},{"$f":"IF('TABLA DE DECISION'!CL164=\"\",\"\",IF('TABLA DE DECISION'!$A$156=1,MAX('TABLA DE DECISION'!CL$159:CL$208)-'TABLA DE DECISION'!CL164,'TABLA DE DECISION'!CL164-MIN('TABLA DE DECISION'!CL$159:CL$208)))","v":""},{"$f":"IF('TABLA DE DECISION'!CM164=\"\",\"\",IF('TABLA DE DECISION'!$A$156=1,MAX('TABLA DE DECISION'!CM$159:CM$208)-'TABLA DE DECISION'!CM164,'TABLA DE DECISION'!CM164-MIN('TABLA DE DECISION'!CM$159:CM$208)))","v":""},{"$f":"IF('TABLA DE DECISION'!CN164=\"\",\"\",IF('TABLA DE DECISION'!$A$156=1,MAX('TABLA DE DECISION'!CN$159:CN$208)-'TABLA DE DECISION'!CN164,'TABLA DE DECISION'!CN164-MIN('TABLA DE DECISION'!CN$159:CN$208)))","v":""},{"$f":"IF('TABLA DE DECISION'!CO164=\"\",\"\",IF('TABLA DE DECISION'!$A$156=1,MAX('TABLA DE DECISION'!CO$159:CO$208)-'TABLA DE DECISION'!CO164,'TABLA DE DECISION'!CO164-MIN('TABLA DE DECISION'!CO$159:CO$208)))","v":""},{"$f":"IF('TABLA DE DECISION'!CP164=\"\",\"\",IF('TABLA DE DECISION'!$A$156=1,MAX('TABLA DE DECISION'!CP$159:CP$208)-'TABLA DE DECISION'!CP164,'TABLA DE DECISION'!CP164-MIN('TABLA DE DECISION'!CP$159:CP$208)))","v":""},{"$f":"IF('TABLA DE DECISION'!CQ164=\"\",\"\",IF('TABLA DE DECISION'!$A$156=1,MAX('TABLA DE DECISION'!CQ$159:CQ$208)-'TABLA DE DECISION'!CQ164,'TABLA DE DECISION'!CQ164-MIN('TABLA DE DECISION'!CQ$159:CQ$208)))","v":""},{"$f":"IF('TABLA DE DECISION'!CR164=\"\",\"\",IF('TABLA DE DECISION'!$A$156=1,MAX('TABLA DE DECISION'!CR$159:CR$208)-'TABLA DE DECISION'!CR164,'TABLA DE DECISION'!CR164-MIN('TABLA DE DECISION'!CR$159:CR$208)))","v":""},{"$f":"IF('TABLA DE DECISION'!CS164=\"\",\"\",IF('TABLA DE DECISION'!$A$156=1,MAX('TABLA DE DECISION'!CS$159:CS$208)-'TABLA DE DECISION'!CS164,'TABLA DE DECISION'!CS164-MIN('TABLA DE DECISION'!CS$159:CS$208)))","v":""},{"$f":"IF('TABLA DE DECISION'!CT164=\"\",\"\",IF('TABLA DE DECISION'!$A$156=1,MAX('TABLA DE DECISION'!CT$159:CT$208)-'TABLA DE DECISION'!CT164,'TABLA DE DECISION'!CT164-MIN('TABLA DE DECISION'!CT$159:CT$208)))","v":""},{"$f":"IF('TABLA DE DECISION'!CU164=\"\",\"\",IF('TABLA DE DECISION'!$A$156=1,MAX('TABLA DE DECISION'!CU$159:CU$208)-'TABLA DE DECISION'!CU164,'TABLA DE DECISION'!CU164-MIN('TABLA DE DECISION'!CU$159:CU$208)))","v":""},{"$f":"IF('TABLA DE DECISION'!CV164=\"\",\"\",IF('TABLA DE DECISION'!$A$156=1,MAX('TABLA DE DECISION'!CV$159:CV$208)-'TABLA DE DECISION'!CV164,'TABLA DE DECISION'!CV164-MIN('TABLA DE DECISION'!CV$159:CV$208)))","v":""},{"$f":"IF('TABLA DE DECISION'!CW164=\"\",\"\",IF('TABLA DE DECISION'!$A$156=1,MAX('TABLA DE DECISION'!CW$159:CW$208)-'TABLA DE DECISION'!CW164,'TABLA DE DECISION'!CW164-MIN('TABLA DE DECISION'!CW$159:CW$208)))","v":""},{"$f":"IF('TABLA DE DECISION'!CX164=\"\",\"\",IF('TABLA DE DECISION'!$A$156=1,MAX('TABLA DE DECISION'!CX$159:CX$208)-'TABLA DE DECISION'!CX164,'TABLA DE DECISION'!CX164-MIN('TABLA DE DECISION'!CX$159:CX$208)))","v":""},{"$f":"IF('TABLA DE DECISION'!CY164=\"\",\"\",IF('TABLA DE DECISION'!$A$156=1,MAX('TABLA DE DECISION'!CY$159:CY$208)-'TABLA DE DECISION'!CY164,'TABLA DE DECISION'!CY164-MIN('TABLA DE DECISION'!CY$159:CY$208)))","v":""},{"$f":"IF('TABLA DE DECISION'!CZ164=\"\",\"\",IF('TABLA DE DECISION'!$A$156=1,MAX('TABLA DE DECISION'!CZ$159:CZ$208)-'TABLA DE DECISION'!CZ164,'TABLA DE DECISION'!CZ164-MIN('TABLA DE DECISION'!CZ$159:CZ$208)))","v":""},{"$f":"IF('TABLA DE DECISION'!DA164=\"\",\"\",IF('TABLA DE DECISION'!$A$156=1,MAX('TABLA DE DECISION'!DA$159:DA$208)-'TABLA DE DECISION'!DA164,'TABLA DE DECISION'!DA164-MIN('TABLA DE DECISION'!DA$159:DA$208)))","v":""},{"$f":"IF('TABLA DE DECISION'!DB164=\"\",\"\",IF('TABLA DE DECISION'!$A$156=1,MAX('TABLA DE DECISION'!DB$159:DB$208)-'TABLA DE DECISION'!DB164,'TABLA DE DECISION'!DB164-MIN('TABLA DE DECISION'!DB$159:DB$208)))","v":""},{"$f":"IF('TABLA DE DECISION'!DC164=\"\",\"\",IF('TABLA DE DECISION'!$A$156=1,MAX('TABLA DE DECISION'!DC$159:DC$208)-'TABLA DE DECISION'!DC164,'TABLA DE DECISION'!DC164-MIN('TABLA DE DECISION'!DC$159:DC$208)))","v":""},{"$f":"IF('TABLA DE DECISION'!DD164=\"\",\"\",IF('TABLA DE DECISION'!$A$156=1,MAX('TABLA DE DECISION'!DD$159:DD$208)-'TABLA DE DECISION'!DD164,'TABLA DE DECISION'!DD164-MIN('TABLA DE DECISION'!DD$159:DD$208)))","v":""},{"$f":"IF('TABLA DE DECISION'!DE164=\"\",\"\",IF('TABLA DE DECISION'!$A$156=1,MAX('TABLA DE DECISION'!DE$159:DE$208)-'TABLA DE DECISION'!DE164,'TABLA DE DECISION'!DE164-MIN('TABLA DE DECISION'!DE$159:DE$208)))","v":""},null,{"$f":"IF(C8=\"\",\"\",SUMPRODUCT(C8:AZ8,'TABLA DE DECISION'!BH$156:DE$156))","v":""}]
[{"$f":"IF('TABLA DE DECISION'!BF165=\"\",\"\",'TABLA DE DECISION'!BF165)","v":""},{"$f":"IF('TABLA DE DECISION'!BG165=\"\",\"\",'TABLA DE DECISION'!BG165)","v":"a7"},{"$f":"IF('TABLA DE DECISION'!BH165=\"\",\"\",IF('TABLA DE DECISION'!$A$156=1,MAX('TABLA DE DECISION'!BH$159:BH$208)-'TABLA DE DECISION'!BH165,'TABLA DE DECISION'!BH165-MIN('TABLA DE DECISION'!BH$159:BH$208)))","v":""},{"$f":"IF('TABLA DE DECISION'!BI165=\"\",\"\",IF('TABLA DE DECISION'!$A$156=1,MAX('TABLA DE DECISION'!BI$159:BI$208)-'TABLA DE DECISION'!BI165,'TABLA DE DECISION'!BI165-MIN('TABLA DE DECISION'!BI$159:BI$208)))","v":""},{"$f":"IF('TABLA DE DECISION'!BJ165=\"\",\"\",IF('TABLA DE DECISION'!$A$156=1,MAX('TABLA DE DECISION'!BJ$159:BJ$208)-'TABLA DE DECISION'!BJ165,'TABLA DE DECISION'!BJ165-MIN('TABLA DE DECISION'!BJ$159:BJ$208)))","v":""},{"$f":"IF('TABLA DE DECISION'!BK165=\"\",\"\",IF('TABLA DE DECISION'!$A$156=1,MAX('TABLA DE DECISION'!BK$159:BK$208)-'TABLA DE DECISION'!BK165,'TABLA DE DECISION'!BK165-MIN('TABLA DE DECISION'!BK$159:BK$208)))","v":""},{"$f":"IF('TABLA DE DECISION'!BL165=\"\",\"\",IF('TABLA DE DECISION'!$A$156=1,MAX('TABLA DE DECISION'!BL$159:BL$208)-'TABLA DE DECISION'!BL165,'TABLA DE DECISION'!BL165-MIN('TABLA DE DECISION'!BL$159:BL$208)))","v":""},{"$f":"IF('TABLA DE DECISION'!BM165=\"\",\"\",IF('TABLA DE DECISION'!$A$156=1,MAX('TABLA DE DECISION'!BM$159:BM$208)-'TABLA DE DECISION'!BM165,'TABLA DE DECISION'!BM165-MIN('TABLA DE DECISION'!BM$159:BM$208)))","v":""},{"$f":"IF('TABLA DE DECISION'!BN165=\"\",\"\",IF('TABLA DE DECISION'!$A$156=1,MAX('TABLA DE DECISION'!BN$159:BN$208)-'TABLA DE DECISION'!BN165,'TABLA DE DECISION'!BN165-MIN('TABLA DE DECISION'!BN$159:BN$208)))","v":""},{"$f":"IF('TABLA DE DECISION'!BO165=\"\",\"\",IF('TABLA DE DECISION'!$A$156=1,MAX('TABLA DE DECISION'!BO$159:BO$208)-'TABLA DE DECISION'!BO165,'TABLA DE DECISION'!BO165-MIN('TABLA DE DECISION'!BO$159:BO$208)))","v":""},{"$f":"IF('TABLA DE DECISION'!BP165=\"\",\"\",IF('TABLA DE DECISION'!$A$156=1,MAX('TABLA DE DECISION'!BP$159:BP$208)-'TABLA DE DECISION'!BP165,'TABLA DE DECISION'!BP165-MIN('TABLA DE DECISION'!BP$159:BP$208)))","v":""},{"$f":"IF('TABLA DE DECISION'!BQ165=\"\",\"\",IF('TABLA DE DECISION'!$A$156=1,MAX('TABLA DE DECISION'!BQ$159:BQ$208)-'TABLA DE DECISION'!BQ165,'TABLA DE DECISION'!BQ165-MIN('TABLA DE DECISION'!BQ$159:BQ$208)))","v":""},{"$f":"IF('TABLA DE DECISION'!BR165=\"\",\"\",IF('TABLA DE DECISION'!$A$156=1,MAX('TABLA DE DECISION'!BR$159:BR$208)-'TABLA DE DECISION'!BR165,'TABLA DE DECISION'!BR165-MIN('TABLA DE DECISION'!BR$159:BR$208)))","v":""},{"$f":"IF('TABLA DE DECISION'!BS165=\"\",\"\",IF('TABLA DE DECISION'!$A$156=1,MAX('TABLA DE DECISION'!BS$159:BS$208)-'TABLA DE DECISION'!BS165,'TABLA DE DECISION'!BS165-MIN('TABLA DE DECISION'!BS$159:BS$208)))","v":""},{"$f":"IF('TABLA DE DECISION'!BT165=\"\",\"\",IF('TABLA DE DECISION'!$A$156=1,MAX('TABLA DE DECISION'!BT$159:BT$208)-'TABLA DE DECISION'!BT165,'TABLA DE DECISION'!BT165-MIN('TABLA DE DECISION'!BT$159:BT$208)))","v":""},{"$f":"IF('TABLA DE DECISION'!BU165=\"\",\"\",IF('TABLA DE DECISION'!$A$156=1,MAX('TABLA DE DECISION'!BU$159:BU$208)-'TABLA DE DECISION'!BU165,'TABLA DE DECISION'!BU165-MIN('TABLA DE DECISION'!BU$159:BU$208)))","v":""},{"$f":"IF('TABLA DE DECISION'!BV165=\"\",\"\",IF('TABLA DE DECISION'!$A$156=1,MAX('TABLA DE DECISION'!BV$159:BV$208)-'TABLA DE DECISION'!BV165,'TABLA DE DECISION'!BV165-MIN('TABLA DE DECISION'!BV$159:BV$208)))","v":""},{"$f":"IF('TABLA DE DECISION'!BW165=\"\",\"\",IF('TABLA DE DECISION'!$A$156=1,MAX('TABLA DE DECISION'!BW$159:BW$208)-'TABLA DE DECISION'!BW165,'TABLA DE DECISION'!BW165-MIN('TABLA DE DECISION'!BW$159:BW$208)))","v":""},{"$f":"IF('TABLA DE DECISION'!BX165=\"\",\"\",IF('TABLA DE DECISION'!$A$156=1,MAX('TABLA DE DECISION'!BX$159:BX$208)-'TABLA DE DECISION'!BX165,'TABLA DE DECISION'!BX165-MIN('TABLA DE DECISION'!BX$159:BX$208)))","v":""},{"$f":"IF('TABLA DE DECISION'!BY165=\"\",\"\",IF('TABLA DE DECISION'!$A$156=1,MAX('TABLA DE DECISION'!BY$159:BY$208)-'TABLA DE DECISION'!BY165,'TABLA DE DECISION'!BY165-MIN('TABLA DE DECISION'!BY$159:BY$208)))","v":""},{"$f":"IF('TABLA DE DECISION'!BZ165=\"\",\"\",IF('TABLA DE DECISION'!$A$156=1,MAX('TABLA DE DECISION'!BZ$159:BZ$208)-'TABLA DE DECISION'!BZ165,'TABLA DE DECISION'!BZ165-MIN('TABLA DE DECISION'!BZ$159:BZ$208)))","v":""},{"$f":"IF('TABLA DE DECISION'!CA165=\"\",\"\",IF('TABLA DE DECISION'!$A$156=1,MAX('TABLA DE DECISION'!CA$159:CA$208)-'TABLA DE DECISION'!CA165,'TABLA DE DECISION'!CA165-MIN('TABLA DE DECISION'!CA$159:CA$208)))","v":""},{"$f":"IF('TABLA DE DECISION'!CB165=\"\",\"\",IF('TABLA DE DECISION'!$A$156=1,MAX('TABLA DE DECISION'!CB$159:CB$208)-'TABLA DE DECISION'!CB165,'TABLA DE DECISION'!CB165-MIN('TABLA DE DECISION'!CB$159:CB$208)))","v":""},{"$f":"IF('TABLA DE DECISION'!CC165=\"\",\"\",IF('TABLA DE DECISION'!$A$156=1,MAX('TABLA DE DECISION'!CC$159:CC$208)-'TABLA DE DECISION'!CC165,'TABLA DE DECISION'!CC165-MIN('TABLA DE DECISION'!CC$159:CC$208)))","v":""},{"$f":"IF('TABLA DE DECISION'!CD165=\"\",\"\",IF('TABLA DE DECISION'!$A$156=1,MAX('TABLA DE DECISION'!CD$159:CD$208)-'TABLA DE DECISION'!CD165,'TABLA DE DECISION'!CD165-MIN('TABLA DE DECISION'!CD$159:CD$208)))","v":""},{"$f":"IF('TABLA DE DECISION'!CE165=\"\",\"\",IF('TABLA DE DECISION'!$A$156=1,MAX('TABLA DE DECISION'!CE$159:CE$208)-'TABLA DE DECISION'!CE165,'TABLA DE DECISION'!CE165-MIN('TABLA DE DECISION'!CE$159:CE$208)))","v":""},{"$f":"IF('TABLA DE DECISION'!CF165=\"\",\"\",IF('TABLA DE DECISION'!$A$156=1,MAX('TABLA DE DECISION'!CF$159:CF$208)-'TABLA DE DECISION'!CF165,'TABLA DE DECISION'!CF165-MIN('TABLA DE DECISION'!CF$159:CF$208)))","v":""},{"$f":"IF('TABLA DE DECISION'!CG165=\"\",\"\",IF('TABLA DE DECISION'!$A$156=1,MAX('TABLA DE DECISION'!CG$159:CG$208)-'TABLA DE DECISION'!CG165,'TABLA DE DECISION'!CG165-MIN('TABLA DE DECISION'!CG$159:CG$208)))","v":""},{"$f":"IF('TABLA DE DECISION'!CH165=\"\",\"\",IF('TABLA DE DECISION'!$A$156=1,MAX('TABLA DE DECISION'!CH$159:CH$208)-'TABLA DE DECISION'!CH165,'TABLA DE DECISION'!CH165-MIN('TABLA DE DECISION'!CH$159:CH$208)))","v":""},{"$f":"IF('TABLA DE DECISION'!CI165=\"\",\"\",IF('TABLA DE DECISION'!$A$156=1,MAX('TABLA DE DECISION'!CI$159:CI$208)-'TABLA DE DECISION'!CI165,'TABLA DE DECISION'!CI165-MIN('TABLA DE DECISION'!CI$159:CI$208)))","v":""},{"$f":"IF('TABLA DE DECISION'!CJ165=\"\",\"\",IF('TABLA DE DECISION'!$A$156=1,MAX('TABLA DE DECISION'!CJ$159:CJ$208)-'TABLA DE DECISION'!CJ165,'TABLA DE DECISION'!CJ165-MIN('TABLA DE DECISION'!CJ$159:CJ$208)))","v":""},{"$f":"IF('TABLA DE DECISION'!CK165=\"\",\"\",IF('TABLA DE DECISION'!$A$156=1,MAX('TABLA DE DECISION'!CK$159:CK$208)-'TABLA DE DECISION'!CK165,'TABLA DE DECISION'!CK165-MIN('TABLA DE DECISION'!CK$159:CK$208)))","v":""},{"$f":"IF('TABLA DE DECISION'!CL165=\"\",\"\",IF('TABLA DE DECISION'!$A$156=1,MAX('TABLA DE DECISION'!CL$159:CL$208)-'TABLA DE DECISION'!CL165,'TABLA DE DECISION'!CL165-MIN('TABLA DE DECISION'!CL$159:CL$208)))","v":""},{"$f":"IF('TABLA DE DECISION'!CM165=\"\",\"\",IF('TABLA DE DECISION'!$A$156=1,MAX('TABLA DE DECISION'!CM$159:CM$208)-'TABLA DE DECISION'!CM165,'TABLA DE DECISION'!CM165-MIN('TABLA DE DECISION'!CM$159:CM$208)))","v":""},{"$f":"IF('TABLA DE DECISION'!CN165=\"\",\"\",IF('TABLA DE DECISION'!$A$156=1,MAX('TABLA DE DECISION'!CN$159:CN$208)-'TABLA DE DECISION'!CN165,'TABLA DE DECISION'!CN165-MIN('TABLA DE DECISION'!CN$159:CN$208)))","v":""},{"$f":"IF('TABLA DE DECISION'!CO165=\"\",\"\",IF('TABLA DE DECISION'!$A$156=1,MAX('TABLA DE DECISION'!CO$159:CO$208)-'TABLA DE DECISION'!CO165,'TABLA DE DECISION'!CO165-MIN('TABLA DE DECISION'!CO$159:CO$208)))","v":""},{"$f":"IF('TABLA DE DECISION'!CP165=\"\",\"\",IF('TABLA DE DECISION'!$A$156=1,MAX('TABLA DE DECISION'!CP$159:CP$208)-'TABLA DE DECISION'!CP165,'TABLA DE DECISION'!CP165-MIN('TABLA DE DECISION'!CP$159:CP$208)))","v":""},{"$f":"IF('TABLA DE DECISION'!CQ165=\"\",\"\",IF('TABLA DE DECISION'!$A$156=1,MAX('TABLA DE DECISION'!CQ$159:CQ$208)-'TABLA DE DECISION'!CQ165,'TABLA DE DECISION'!CQ165-MIN('TABLA DE DECISION'!CQ$159:CQ$208)))","v":""},{"$f":"IF('TABLA DE DECISION'!CR165=\"\",\"\",IF('TABLA DE DECISION'!$A$156=1,MAX('TABLA DE DECISION'!CR$159:CR$208)-'TABLA DE DECISION'!CR165,'TABLA DE DECISION'!CR165-MIN('TABLA DE DECISION'!CR$159:CR$208)))","v":""},{"$f":"IF('TABLA DE DECISION'!CS165=\"\",\"\",IF('TABLA DE DECISION'!$A$156=1,MAX('TABLA DE DECISION'!CS$159:CS$208)-'TABLA DE DECISION'!CS165,'TABLA DE DECISION'!CS165-MIN('TABLA DE DECISION'!CS$159:CS$208)))","v":""},{"$f":"IF('TABLA DE DECISION'!CT165=\"\",\"\",IF('TABLA DE DECISION'!$A$156=1,MAX('TABLA DE DECISION'!CT$159:CT$208)-'TABLA DE DECISION'!CT165,'TABLA DE DECISION'!CT165-MIN('TABLA DE DECISION'!CT$159:CT$208)))","v":""},{"$f":"IF('TABLA DE DECISION'!CU165=\"\",\"\",IF('TABLA DE DECISION'!$A$156=1,MAX('TABLA DE DECISION'!CU$159:CU$208)-'TABLA DE DECISION'!CU165,'TABLA DE DECISION'!CU165-MIN('TABLA DE DECISION'!CU$159:CU$208)))","v":""},{"$f":"IF('TABLA DE DECISION'!CV165=\"\",\"\",IF('TABLA DE DECISION'!$A$156=1,MAX('TABLA DE DECISION'!CV$159:CV$208)-'TABLA DE DECISION'!CV165,'TABLA DE DECISION'!CV165-MIN('TABLA DE DECISION'!CV$159:CV$208)))","v":""},{"$f":"IF('TABLA DE DECISION'!CW165=\"\",\"\",IF('TABLA DE DECISION'!$A$156=1,MAX('TABLA DE DECISION'!CW$159:CW$208)-'TABLA DE DECISION'!CW165,'TABLA DE DECISION'!CW165-MIN('TABLA DE DECISION'!CW$159:CW$208)))","v":""},{"$f":"IF('TABLA DE DECISION'!CX165=\"\",\"\",IF('TABLA DE DECISION'!$A$156=1,MAX('TABLA DE DECISION'!CX$159:CX$208)-'TABLA DE DECISION'!CX165,'TABLA DE DECISION'!CX165-MIN('TABLA DE DECISION'!CX$159:CX$208)))","v":""},{"$f":"IF('TABLA DE DECISION'!CY165=\"\",\"\",IF('TABLA DE DECISION'!$A$156=1,MAX('TABLA DE DECISION'!CY$159:CY$208)-'TABLA DE DECISION'!CY165,'TABLA DE DECISION'!CY165-MIN('TABLA DE DECISION'!CY$159:CY$208)))","v":""},{"$f":"IF('TABLA DE DECISION'!CZ165=\"\",\"\",IF('TABLA DE DECISION'!$A$156=1,MAX('TABLA DE DECISION'!CZ$159:CZ$208)-'TABLA DE DECISION'!CZ165,'TABLA DE DECISION'!CZ165-MIN('TABLA DE DECISION'!CZ$159:CZ$208)))","v":""},{"$f":"IF('TABLA DE DECISION'!DA165=\"\",\"\",IF('TABLA DE DECISION'!$A$156=1,MAX('TABLA DE DECISION'!DA$159:DA$208)-'TABLA DE DECISION'!DA165,'TABLA DE DECISION'!DA165-MIN('TABLA DE DECISION'!DA$159:DA$208)))","v":""},{"$f":"IF('TABLA DE DECISION'!DB165=\"\",\"\",IF('TABLA DE DECISION'!$A$156=1,MAX('TABLA DE DECISION'!DB$159:DB$208)-'TABLA DE DECISION'!DB165,'TABLA DE DECISION'!DB165-MIN('TABLA DE DECISION'!DB$159:DB$208)))","v":""},{"$f":"IF('TABLA DE DECISION'!DC165=\"\",\"\",IF('TABLA DE DECISION'!$A$156=1,MAX('TABLA DE DECISION'!DC$159:DC$208)-'TABLA DE DECISION'!DC165,'TABLA DE DECISION'!DC165-MIN('TABLA DE DECISION'!DC$159:DC$208)))","v":""},{"$f":"IF('TABLA DE DECISION'!DD165=\"\",\"\",IF('TABLA DE DECISION'!$A$156=1,MAX('TABLA DE DECISION'!DD$159:DD$208)-'TABLA DE DECISION'!DD165,'TABLA DE DECISION'!DD165-MIN('TABLA DE DECISION'!DD$159:DD$208)))","v":""},{"$f":"IF('TABLA DE DECISION'!DE165=\"\",\"\",IF('TABLA DE DECISION'!$A$156=1,MAX('TABLA DE DECISION'!DE$159:DE$208)-'TABLA DE DECISION'!DE165,'TABLA DE DECISION'!DE165-MIN('TABLA DE DECISION'!DE$159:DE$208)))","v":""},null,{"$f":"IF(C9=\"\",\"\",SUMPRODUCT(C9:AZ9,'TABLA DE DECISION'!BH$156:DE$156))","v":""}]
[{"$f":"IF('TABLA DE DECISION'!BF166=\"\",\"\",'TABLA DE DECISION'!BF166)","v":""},{"$f":"IF('TABLA DE DECISION'!BG166=\"\",\"\",'TABLA DE DECISION'!BG166)","v":"a8"},{"$f":"IF('TABLA DE DECISION'!BH166=\"\",\"\",IF('TABLA DE DECISION'!$A$156=1,MAX('TABLA DE DECISION'!BH$159:BH$208)-'TABLA DE DECISION'!BH166,'TABLA DE DECISION'!BH166-MIN('TABLA DE DECISION'!BH$159:BH$208)))","v":""},{"$f":"IF('TABLA DE DECISION'!BI166=\"\",\"\",IF('TABLA DE DECISION'!$A$156=1,MAX('TABLA DE DECISION'!BI$159:BI$208)-'TABLA DE DECISION'!BI166,'TABLA DE DECISION'!BI166-MIN('TABLA DE DECISION'!BI$159:BI$208)))","v":""},{"$f":"IF('TABLA DE DECISION'!BJ166=\"\",\"\",IF('TABLA DE DECISION'!$A$156=1,MAX('TABLA DE DECISION'!BJ$159:BJ$208)-'TABLA DE DECISION'!BJ166,'TABLA DE DECISION'!BJ166-MIN('TABLA DE DECISION'!BJ$159:BJ$208)))","v":""},{"$f":"IF('TABLA DE DECISION'!BK166=\"\",\"\",IF('TABLA DE DECISION'!$A$156=1,MAX('TABLA DE DECISION'!BK$159:BK$208)-'TABLA DE DECISION'!BK166,'TABLA DE DECISION'!BK166-MIN('TABLA DE DECISION'!BK$159:BK$208)))","v":""},{"$f":"IF('TABLA DE DECISION'!BL166=\"\",\"\",IF('TABLA DE DECISION'!$A$156=1,MAX('TABLA DE DECISION'!BL$159:BL$208)-'TABLA DE DECISION'!BL166,'TABLA DE DECISION'!BL166-MIN('TABLA DE DECISION'!BL$159:BL$208)))","v":""},{"$f":"IF('TABLA DE DECISION'!BM166=\"\",\"\",IF('TABLA DE DECISION'!$A$156=1,MAX('TABLA DE DECISION'!BM$159:BM$208)-'TABLA DE DECISION'!BM166,'TABLA DE DECISION'!BM166-MIN('TABLA DE DECISION'!BM$159:BM$208)))","v":""},{"$f":"IF('TABLA DE DECISION'!BN166=\"\",\"\",IF('TABLA DE DECISION'!$A$156=1,MAX('TABLA DE DECISION'!BN$159:BN$208)-'TABLA DE DECISION'!BN166,'TABLA DE DECISION'!BN166-MIN('TABLA DE DECISION'!BN$159:BN$208)))","v":""},{"$f":"IF('TABLA DE DECISION'!BO166=\"\",\"\",IF('TABLA DE DECISION'!$A$156=1,MAX('TABLA DE DECISION'!BO$159:BO$208)-'TABLA DE DECISION'!BO166,'TABLA DE DECISION'!BO166-MIN('TABLA DE DECISION'!BO$159:BO$208)))","v":""},{"$f":"IF('TABLA DE DECISION'!BP166=\"\",\"\",IF('TABLA DE DECISION'!$A$156=1,MAX('TABLA DE DECISION'!BP$159:BP$208)-'TABLA DE DECISION'!BP166,'TABLA DE DECISION'!BP166-MIN('TABLA DE DECISION'!BP$159:BP$208)))","v":""},{"$f":"IF('TABLA DE DECISION'!BQ166=\"\",\"\",IF('TABLA DE DECISION'!$A$156=1,MAX('TABLA DE DECISION'!BQ$159:BQ$208)-'TABLA DE DECISION'!BQ166,'TABLA DE DECISION'!BQ166-MIN('TABLA DE DECISION'!BQ$159:BQ$208)))","v":""},{"$f":"IF('TABLA DE DECISION'!BR166=\"\",\"\",IF('TABLA DE DECISION'!$A$156=1,MAX('TABLA DE DECISION'!BR$159:BR$208)-'TABLA DE DECISION'!BR166,'TABLA DE DECISION'!BR166-MIN('TABLA DE DECISION'!BR$159:BR$208)))","v":""},{"$f":"IF('TABLA DE DECISION'!BS166=\"\",\"\",IF('TABLA DE DECISION'!$A$156=1,MAX('TABLA DE DECISION'!BS$159:BS$208)-'TABLA DE DECISION'!BS166,'TABLA DE DECISION'!BS166-MIN('TABLA DE DECISION'!BS$159:BS$208)))","v":""},{"$f":"IF('TABLA DE DECISION'!BT166=\"\",\"\",IF('TABLA DE DECISION'!$A$156=1,MAX('TABLA DE DECISION'!BT$159:BT$208)-'TABLA DE DECISION'!BT166,'TABLA DE DECISION'!BT166-MIN('TABLA DE DECISION'!BT$159:BT$208)))","v":""},{"$f":"IF('TABLA DE DECISION'!BU166=\"\",\"\",IF('TABLA DE DECISION'!$A$156=1,MAX('TABLA DE DECISION'!BU$159:BU$208)-'TABLA DE DECISION'!BU166,'TABLA DE DECISION'!BU166-MIN('TABLA DE DECISION'!BU$159:BU$208)))","v":""},{"$f":"IF('TABLA DE DECISION'!BV166=\"\",\"\",IF('TABLA DE DECISION'!$A$156=1,MAX('TABLA DE DECISION'!BV$159:BV$208)-'TABLA DE DECISION'!BV166,'TABLA DE DECISION'!BV166-MIN('TABLA DE DECISION'!BV$159:BV$208)))","v":""},{"$f":"IF('TABLA DE DECISION'!BW166=\"\",\"\",IF('TABLA DE DECISION'!$A$156=1,MAX('TABLA DE DECISION'!BW$159:BW$208)-'TABLA DE DECISION'!BW166,'TABLA DE DECISION'!BW166-MIN('TABLA DE DECISION'!BW$159:BW$208)))","v":""},{"$f":"IF('TABLA DE DECISION'!BX166=\"\",\"\",IF('TABLA DE DECISION'!$A$156=1,MAX('TABLA DE DECISION'!BX$159:BX$208)-'TABLA DE DECISION'!BX166,'TABLA DE DECISION'!BX166-MIN('TABLA DE DECISION'!BX$159:BX$208)))","v":""},{"$f":"IF('TABLA DE DECISION'!BY166=\"\",\"\",IF('TABLA DE DECISION'!$A$156=1,MAX('TABLA DE DECISION'!BY$159:BY$208)-'TABLA DE DECISION'!BY166,'TABLA DE DECISION'!BY166-MIN('TABLA DE DECISION'!BY$159:BY$208)))","v":""},{"$f":"IF('TABLA DE DECISION'!BZ166=\"\",\"\",IF('TABLA DE DECISION'!$A$156=1,MAX('TABLA DE DECISION'!BZ$159:BZ$208)-'TABLA DE DECISION'!BZ166,'TABLA DE DECISION'!BZ166-MIN('TABLA DE DECISION'!BZ$159:BZ$208)))","v":""},{"$f":"IF('TABLA DE DECISION'!CA166=\"\",\"\",IF('TABLA DE DECISION'!$A$156=1,MAX('TABLA DE DECISION'!CA$159:CA$208)-'TABLA DE DECISION'!CA166,'TABLA DE DECISION'!CA166-MIN('TABLA DE DECISION'!CA$159:CA$208)))","v":""},{"$f":"IF('TABLA DE DECISION'!CB166=\"\",\"\",IF('TABLA DE DECISION'!$A$156=1,MAX('TABLA DE DECISION'!CB$159:CB$208)-'TABLA DE DECISION'!CB166,'TABLA DE DECISION'!CB166-MIN('TABLA DE DECISION'!CB$159:CB$208)))","v":""},{"$f":"IF('TABLA DE DECISION'!CC166=\"\",\"\",IF('TABLA DE DECISION'!$A$156=1,MAX('TABLA DE DECISION'!CC$159:CC$208)-'TABLA DE DECISION'!CC166,'TABLA DE DECISION'!CC166-MIN('TABLA DE DECISION'!CC$159:CC$208)))","v":""},{"$f":"IF('TABLA DE DECISION'!CD166=\"\",\"\",IF('TABLA DE DECISION'!$A$156=1,MAX('TABLA DE DECISION'!CD$159:CD$208)-'TABLA DE DECISION'!CD166,'TABLA DE DECISION'!CD166-MIN('TABLA DE DECISION'!CD$159:CD$208)))","v":""},{"$f":"IF('TABLA DE DECISION'!CE166=\"\",\"\",IF('TABLA DE DECISION'!$A$156=1,MAX('TABLA DE DECISION'!CE$159:CE$208)-'TABLA DE DECISION'!CE166,'TABLA DE DECISION'!CE166-MIN('TABLA DE DECISION'!CE$159:CE$208)))","v":""},{"$f":"IF('TABLA DE DECISION'!CF166=\"\",\"\",IF('TABLA DE DECISION'!$A$156=1,MAX('TABLA DE DECISION'!CF$159:CF$208)-'TABLA DE DECISION'!CF166,'TABLA DE DECISION'!CF166-MIN('TABLA DE DECISION'!CF$159:CF$208)))","v":""},{"$f":"IF('TABLA DE DECISION'!CG166=\"\",\"\",IF('TABLA DE DECISION'!$A$156=1,MAX('TABLA DE DECISION'!CG$159:CG$208)-'TABLA DE DECISION'!CG166,'TABLA DE DECISION'!CG166-MIN('TABLA DE DECISION'!CG$159:CG$208)))","v":""},{"$f":"IF('TABLA DE DECISION'!CH166=\"\",\"\",IF('TABLA DE DECISION'!$A$156=1,MAX('TABLA DE DECISION'!CH$159:CH$208)-'TABLA DE DECISION'!CH166,'TABLA DE DECISION'!CH166-MIN('TABLA DE DECISION'!CH$159:CH$208)))","v":""},{"$f":"IF('TABLA DE DECISION'!CI166=\"\",\"\",IF('TABLA DE DECISION'!$A$156=1,MAX('TABLA DE DECISION'!CI$159:CI$208)-'TABLA DE DECISION'!CI166,'TABLA DE DECISION'!CI166-MIN('TABLA DE DECISION'!CI$159:CI$208)))","v":""},{"$f":"IF('TABLA DE DECISION'!CJ166=\"\",\"\",IF('TABLA DE DECISION'!$A$156=1,MAX('TABLA DE DECISION'!CJ$159:CJ$208)-'TABLA DE DECISION'!CJ166,'TABLA DE DECISION'!CJ166-MIN('TABLA DE DECISION'!CJ$159:CJ$208)))","v":""},{"$f":"IF('TABLA DE DECISION'!CK166=\"\",\"\",IF('TABLA DE DECISION'!$A$156=1,MAX('TABLA DE DECISION'!CK$159:CK$208)-'TABLA DE DECISION'!CK166,'TABLA DE DECISION'!CK166-MIN('TABLA DE DECISION'!CK$159:CK$208)))","v":""},{"$f":"IF('TABLA DE DECISION'!CL166=\"\",\"\",IF('TABLA DE DECISION'!$A$156=1,MAX('TABLA DE DECISION'!CL$159:CL$208)-'TABLA DE DECISION'!CL166,'TABLA DE DECISION'!CL166-MIN('TABLA DE DECISION'!CL$159:CL$208)))","v":""},{"$f":"IF('TABLA DE DECISION'!CM166=\"\",\"\",IF('TABLA DE DECISION'!$A$156=1,MAX('TABLA DE DECISION'!CM$159:CM$208)-'TABLA DE DECISION'!CM166,'TABLA DE DECISION'!CM166-MIN('TABLA DE DECISION'!CM$159:CM$208)))","v":""},{"$f":"IF('TABLA DE DECISION'!CN166=\"\",\"\",IF('TABLA DE DECISION'!$A$156=1,MAX('TABLA DE DECISION'!CN$159:CN$208)-'TABLA DE DECISION'!CN166,'TABLA DE DECISION'!CN166-MIN('TABLA DE DECISION'!CN$159:CN$208)))","v":""},{"$f":"IF('TABLA DE DECISION'!CO166=\"\",\"\",IF('TABLA DE DECISION'!$A$156=1,MAX('TABLA DE DECISION'!CO$159:CO$208)-'TABLA DE DECISION'!CO166,'TABLA DE DECISION'!CO166-MIN('TABLA DE DECISION'!CO$159:CO$208)))","v":""},{"$f":"IF('TABLA DE DECISION'!CP166=\"\",\"\",IF('TABLA DE DECISION'!$A$156=1,MAX('TABLA DE DECISION'!CP$159:CP$208)-'TABLA DE DECISION'!CP166,'TABLA DE DECISION'!CP166-MIN('TABLA DE DECISION'!CP$159:CP$208)))","v":""},{"$f":"IF('TABLA DE DECISION'!CQ166=\"\",\"\",IF('TABLA DE DECISION'!$A$156=1,MAX('TABLA DE DECISION'!CQ$159:CQ$208)-'TABLA DE DECISION'!CQ166,'TABLA DE DECISION'!CQ166-MIN('TABLA DE DECISION'!CQ$159:CQ$208)))","v":""},{"$f":"IF('TABLA DE DECISION'!CR166=\"\",\"\",IF('TABLA DE DECISION'!$A$156=1,MAX('TABLA DE DECISION'!CR$159:CR$208)-'TABLA DE DECISION'!CR166,'TABLA DE DECISION'!CR166-MIN('TABLA DE DECISION'!CR$159:CR$208)))","v":""},{"$f":"IF('TABLA DE DECISION'!CS166=\"\",\"\",IF('TABLA DE DECISION'!$A$156=1,MAX('TABLA DE DECISION'!CS$159:CS$208)-'TABLA DE DECISION'!CS166,'TABLA DE DECISION'!CS166-MIN('TABLA DE DECISION'!CS$159:CS$208)))","v":""},{"$f":"IF('TABLA DE DECISION'!CT166=\"\",\"\",IF('TABLA DE DECISION'!$A$156=1,MAX('TABLA DE DECISION'!CT$159:CT$208)-'TABLA DE DECISION'!CT166,'TABLA DE DECISION'!CT166-MIN('TABLA DE DECISION'!CT$159:CT$208)))","v":""},{"$f":"IF('TABLA DE DECISION'!CU166=\"\",\"\",IF('TABLA DE DECISION'!$A$156=1,MAX('TABLA DE DECISION'!CU$159:CU$208)-'TABLA DE DECISION'!CU166,'TABLA DE DECISION'!CU166-MIN('TABLA DE DECISION'!CU$159:CU$208)))","v":""},{"$f":"IF('TABLA DE DECISION'!CV166=\"\",\"\",IF('TABLA DE DECISION'!$A$156=1,MAX('TABLA DE DECISION'!CV$159:CV$208)-'TABLA DE DECISION'!CV166,'TABLA DE DECISION'!CV166-MIN('TABLA DE DECISION'!CV$159:CV$208)))","v":""},{"$f":"IF('TABLA DE DECISION'!CW166=\"\",\"\",IF('TABLA DE DECISION'!$A$156=1,MAX('TABLA DE DECISION'!CW$159:CW$208)-'TABLA DE DECISION'!CW166,'TABLA DE DECISION'!CW166-MIN('TABLA DE DECISION'!CW$159:CW$208)))","v":""},{"$f":"IF('TABLA DE DECISION'!CX166=\"\",\"\",IF('TABLA DE DECISION'!$A$156=1,MAX('TABLA DE DECISION'!CX$159:CX$208)-'TABLA DE DECISION'!CX166,'TABLA DE DECISION'!CX166-MIN('TABLA DE DECISION'!CX$159:CX$208)))","v":""},{"$f":"IF('TABLA DE DECISION'!CY166=\"\",\"\",IF('TABLA DE DECISION'!$A$156=1,MAX('TABLA DE DECISION'!CY$159:CY$208)-'TABLA DE DECISION'!CY166,'TABLA DE DECISION'!CY166-MIN('TABLA DE DECISION'!CY$159:CY$208)))","v":""},{"$f":"IF('TABLA DE DECISION'!CZ166=\"\",\"\",IF('TABLA DE DECISION'!$A$156=1,MAX('TABLA DE DECISION'!CZ$159:CZ$208)-'TABLA DE DECISION'!CZ166,'TABLA DE DECISION'!CZ166-MIN('TABLA DE DECISION'!CZ$159:CZ$208)))","v":""},{"$f":"IF('TABLA DE DECISION'!DA166=\"\",\"\",IF('TABLA DE DECISION'!$A$156=1,MAX('TABLA DE DECISION'!DA$159:DA$208)-'TABLA DE DECISION'!DA166,'TABLA DE DECISION'!DA166-MIN('TABLA DE DECISION'!DA$159:DA$208)))","v":""},{"$f":"IF('TABLA DE DECISION'!DB166=\"\",\"\",IF('TABLA DE DECISION'!$A$156=1,MAX('TABLA DE DECISION'!DB$159:DB$208)-'TABLA DE DECISION'!DB166,'TABLA DE DECISION'!DB166-MIN('TABLA DE DECISION'!DB$159:DB$208)))","v":""},{"$f":"IF('TABLA DE DECISION'!DC166=\"\",\"\",IF('TABLA DE DECISION'!$A$156=1,MAX('TABLA DE DECISION'!DC$159:DC$208)-'TABLA DE DECISION'!DC166,'TABLA DE DECISION'!DC166-MIN('TABLA DE DECISION'!DC$159:DC$208)))","v":""},{"$f":"IF('TABLA DE DECISION'!DD166=\"\",\"\",IF('TABLA DE DECISION'!$A$156=1,MAX('TABLA DE DECISION'!DD$159:DD$208)-'TABLA DE DECISION'!DD166,'TABLA DE DECISION'!DD166-MIN('TABLA DE DECISION'!DD$159:DD$208)))","v":""},{"$f":"IF('TABLA DE DECISION'!DE166=\"\",\"\",IF('TABLA DE DECISION'!$A$156=1,MAX('TABLA DE DECISION'!DE$159:DE$208)-'TABLA DE DECISION'!DE166,'TABLA DE DECISION'!DE166-MIN('TABLA DE DECISION'!DE$159:DE$208)))","v":""},null,{"$f":"IF(C10=\"\",\"\",SUMPRODUCT(C10:AZ10,'TABLA DE DECISION'!BH$156:DE$156))","v":""}]
[{"$f":"IF('TABLA DE DECISION'!BF167=\"\",\"\",'TABLA DE DECISION'!BF167)","v":""},{"$f":"IF('TABLA DE DECISION'!BG167=\"\",\"\",'TABLA DE DECISION'!BG167)","v":"a9"},{"$f":"IF('TABLA DE DECISION'!BH167=\"\",\"\",IF('TABLA DE DECISION'!$A$156=1,MAX('TABLA DE DECISION'!BH$159:BH$208)-'TABLA DE DECISION'!BH167,'TABLA DE DECISION'!BH167-MIN('TABLA DE DECISION'!BH$159:BH$208)))","v":""},{"$f":"IF('TABLA DE DECISION'!BI167=\"\",\"\",IF('TABLA DE DECISION'!$A$156=1,MAX('TABLA DE DECISION'!BI$159:BI$208)-'TABLA DE DECISION'!BI167,'TABLA DE DECISION'!BI167-MIN('TABLA DE DECISION'!BI$159:BI$208)))","v":""},{"$f":"IF('TABLA DE DECISION'!BJ167=\"\",\"\",IF('TABLA DE DECISION'!$A$156=1,MAX('TABLA DE DECISION'!BJ$159:BJ$208)-'TABLA DE DECISION'!BJ167,'TABLA DE DECISION'!BJ167-MIN('TABLA DE DECISION'!BJ$159:BJ$208)))","v":""},{"$f":"IF('TABLA DE DECISION'!BK167=\"\",\"\",IF('TABLA DE DECISION'!$A$156=1,MAX('TABLA DE DECISION'!BK$159:BK$208)-'TABLA DE DECISION'!BK167,'TABLA DE DECISION'!BK167-MIN('TABLA DE DECISION'!BK$159:BK$208)))","v":""},{"$f":"IF('TABLA DE DECISION'!BL167=\"\",\"\",IF('TABLA DE DECISION'!$A$156=1,MAX('TABLA DE DECISION'!BL$159:BL$208)-'TABLA DE DECISION'!BL167,'TABLA DE DECISION'!BL167-MIN('TABLA DE DECISION'!BL$159:BL$208)))","v":""},{"$f":"IF('TABLA DE DECISION'!BM167=\"\",\"\",IF('TABLA DE DECISION'!$A$156=1,MAX('TABLA DE DECISION'!BM$159:BM$208)-'TABLA DE DECISION'!BM167,'TABLA DE DECISION'!BM167-MIN('TABLA DE DECISION'!BM$159:BM$208)))","v":""},{"$f":"IF('TABLA DE DECISION'!BN167=\"\",\"\",IF('TABLA DE DECISION'!$A$156=1,MAX('TABLA DE DECISION'!BN$159:BN$208)-'TABLA DE DECISION'!BN167,'TABLA DE DECISION'!BN167-MIN('TABLA DE DECISION'!BN$159:BN$208)))","v":""},{"$f":"IF('TABLA DE DECISION'!BO167=\"\",\"\",IF('TABLA DE DECISION'!$A$156=1,MAX('TABLA DE DECISION'!BO$159:BO$208)-'TABLA DE DECISION'!BO167,'TABLA DE DECISION'!BO167-MIN('TABLA DE DECISION'!BO$159:BO$208)))","v":""},{"$f":"IF('TABLA DE DECISION'!BP167=\"\",\"\",IF('TABLA DE DECISION'!$A$156=1,MAX('TABLA DE DECISION'!BP$159:BP$208)-'TABLA DE DECISION'!BP167,'TABLA DE DECISION'!BP167-MIN('TABLA DE DECISION'!BP$159:BP$208)))","v":""},{"$f":"IF('TABLA DE DECISION'!BQ167=\"\",\"\",IF('TABLA DE DECISION'!$A$156=1,MAX('TABLA DE DECISION'!BQ$159:BQ$208)-'TABLA DE DECISION'!BQ167,'TABLA DE DECISION'!BQ167-MIN('TABLA DE DECISION'!BQ$159:BQ$208)))","v":""},{"$f":"IF('TABLA DE DECISION'!BR167=\"\",\"\",IF('TABLA DE DECISION'!$A$156=1,MAX('TABLA DE DECISION'!BR$159:BR$208)-'TABLA DE DECISION'!BR167,'TABLA DE DECISION'!BR167-MIN('TABLA DE DECISION'!BR$159:BR$208)))","v":""},{"$f":"IF('TABLA DE DECISION'!BS167=\"\",\"\",IF('TABLA DE DECISION'!$A$156=1,MAX('TABLA DE DECISION'!BS$159:BS$208)-'TABLA DE DECISION'!BS167,'TABLA DE DECISION'!BS167-MIN('TABLA DE DECISION'!BS$159:BS$208)))","v":""},{"$f":"IF('TABLA DE DECISION'!BT167=\"\",\"\",IF('TABLA DE DECISION'!$A$156=1,MAX('TABLA DE DECISION'!BT$159:BT$208)-'TABLA DE DECISION'!BT167,'TABLA DE DECISION'!BT167-MIN('TABLA DE DECISION'!BT$159:BT$208)))","v":""},{"$f":"IF('TABLA DE DECISION'!BU167=\"\",\"\",IF('TABLA DE DECISION'!$A$156=1,MAX('TABLA DE DECISION'!BU$159:BU$208)-'TABLA DE DECISION'!BU167,'TABLA DE DECISION'!BU167-MIN('TABLA DE DECISION'!BU$159:BU$208)))","v":""},{"$f":"IF('TABLA DE DECISION'!BV167=\"\",\"\",IF('TABLA DE DECISION'!$A$156=1,MAX('TABLA DE DECISION'!BV$159:BV$208)-'TABLA DE DECISION'!BV167,'TABLA DE DECISION'!BV167-MIN('TABLA DE DECISION'!BV$159:BV$208)))","v":""},{"$f":"IF('TABLA DE DECISION'!BW167=\"\",\"\",IF('TABLA DE DECISION'!$A$156=1,MAX('TABLA DE DECISION'!BW$159:BW$208)-'TABLA DE DECISION'!BW167,'TABLA DE DECISION'!BW167-MIN('TABLA DE DECISION'!BW$159:BW$208)))","v":""},{"$f":"IF('TABLA DE DECISION'!BX167=\"\",\"\",IF('TABLA DE DECISION'!$A$156=1,MAX('TABLA DE DECISION'!BX$159:BX$208)-'TABLA DE DECISION'!BX167,'TABLA DE DECISION'!BX167-MIN('TABLA DE DECISION'!BX$159:BX$208)))","v":""},{"$f":"IF('TABLA DE DECISION'!BY167=\"\",\"\",IF('TABLA DE DECISION'!$A$156=1,MAX('TABLA DE DECISION'!BY$159:BY$208)-'TABLA DE DECISION'!BY167,'TABLA DE DECISION'!BY167-MIN('TABLA DE DECISION'!BY$159:BY$208)))","v":""},{"$f":"IF('TABLA DE DECISION'!BZ167=\"\",\"\",IF('TABLA DE DECISION'!$A$156=1,MAX('TABLA DE DECISION'!BZ$159:BZ$208)-'TABLA DE DECISION'!BZ167,'TABLA DE DECISION'!BZ167-MIN('TABLA DE DECISION'!BZ$159:BZ$208)))","v":""},{"$f":"IF('TABLA DE DECISION'!CA167=\"\",\"\",IF('TABLA DE DECISION'!$A$156=1,MAX('TABLA DE DECISION'!CA$159:CA$208)-'TABLA DE DECISION'!CA167,'TABLA DE DECISION'!CA167-MIN('TABLA DE DECISION'!CA$159:CA$208)))","v":""},{"$f":"IF('TABLA DE DECISION'!CB167=\"\",\"\",IF('TABLA DE DECISION'!$A$156=1,MAX('TABLA DE DECISION'!CB$159:CB$208)-'TABLA DE DECISION'!CB167,'TABLA DE DECISION'!CB167-MIN('TABLA DE DECISION'!CB$159:CB$208)))","v":""},{"$f":"IF('TABLA DE DECISION'!CC167=\"\",\"\",IF('TABLA DE DECISION'!$A$156=1,MAX('TABLA DE DECISION'!CC$159:CC$208)-'TABLA DE DECISION'!CC167,'TABLA DE DECISION'!CC167-MIN('TABLA DE DECISION'!CC$159:CC$208)))","v":""},{"$f":"IF('TABLA DE DECISION'!CD167=\"\",\"\",IF('TABLA DE DECISION'!$A$156=1,MAX('TABLA DE DECISION'!CD$159:CD$208)-'TABLA DE DECISION'!CD167,'TABLA DE DECISION'!CD167-MIN('TABLA DE DECISION'!CD$159:CD$208)))","v":""},{"$f":"IF('TABLA DE DECISION'!CE167=\"\",\"\",IF('TABLA DE DECISION'!$A$156=1,MAX('TABLA DE DECISION'!CE$159:CE$208)-'TABLA DE DECISION'!CE167,'TABLA DE DECISION'!CE167-MIN('TABLA DE DECISION'!CE$159:CE$208)))","v":""},{"$f":"IF('TABLA DE DECISION'!CF167=\"\",\"\",IF('TABLA DE DECISION'!$A$156=1,MAX('TABLA DE DECISION'!CF$159:CF$208)-'TABLA DE DECISION'!CF167,'TABLA DE DECISION'!CF167-MIN('TABLA DE DECISION'!CF$159:CF$208)))","v":""},{"$f":"IF('TABLA DE DECISION'!CG167=\"\",\"\",IF('TABLA DE DECISION'!$A$156=1,MAX('TABLA DE DECISION'!CG$159:CG$208)-'TABLA DE DECISION'!CG167,'TABLA DE DECISION'!CG167-MIN('TABLA DE DECISION'!CG$159:CG$208)))","v":""},{"$f":"IF('TABLA DE DECISION'!CH167=\"\",\"\",IF('TABLA DE DECISION'!$A$156=1,MAX('TABLA DE DECISION'!CH$159:CH$208)-'TABLA DE DECISION'!CH167,'TABLA DE DECISION'!CH167-MIN('TABLA DE DECISION'!CH$159:CH$208)))","v":""},{"$f":"IF('TABLA DE DECISION'!CI167=\"\",\"\",IF('TABLA DE DECISION'!$A$156=1,MAX('TABLA DE DECISION'!CI$159:CI$208)-'TABLA DE DECISION'!CI167,'TABLA DE DECISION'!CI167-MIN('TABLA DE DECISION'!CI$159:CI$208)))","v":""},{"$f":"IF('TABLA DE DECISION'!CJ167=\"\",\"\",IF('TABLA DE DECISION'!$A$156=1,MAX('TABLA DE DECISION'!CJ$159:CJ$208)-'TABLA DE DECISION'!CJ167,'TABLA DE DECISION'!CJ167-MIN('TABLA DE DECISION'!CJ$159:CJ$208)))","v":""},{"$f":"IF('TABLA DE DECISION'!CK167=\"\",\"\",IF('TABLA DE DECISION'!$A$156=1,MAX('TABLA DE DECISION'!CK$159:CK$208)-'TABLA DE DECISION'!CK167,'TABLA DE DECISION'!CK167-MIN('TABLA DE DECISION'!CK$159:CK$208)))","v":""},{"$f":"IF('TABLA DE DECISION'!CL167=\"\",\"\",IF('TABLA DE DECISION'!$A$156=1,MAX('TABLA DE DECISION'!CL$159:CL$208)-'TABLA DE DECISION'!CL167,'TABLA DE DECISION'!CL167-MIN('TABLA DE DECISION'!CL$159:CL$208)))","v":""},{"$f":"IF('TABLA DE DECISION'!CM167=\"\",\"\",IF('TABLA DE DECISION'!$A$156=1,MAX('TABLA DE DECISION'!CM$159:CM$208)-'TABLA DE DECISION'!CM167,'TABLA DE DECISION'!CM167-MIN('TABLA DE DECISION'!CM$159:CM$208)))","v":""},{"$f":"IF('TABLA DE DECISION'!CN167=\"\",\"\",IF('TABLA DE DECISION'!$A$156=1,MAX('TABLA DE DECISION'!CN$159:CN$208)-'TABLA DE DECISION'!CN167,'TABLA DE DECISION'!CN167-MIN('TABLA DE DECISION'!CN$159:CN$208)))","v":""},{"$f":"IF('TABLA DE DECISION'!CO167=\"\",\"\",IF('TABLA DE DECISION'!$A$156=1,MAX('TABLA DE DECISION'!CO$159:CO$208)-'TABLA DE DECISION'!CO167,'TABLA DE DECISION'!CO167-MIN('TABLA DE DECISION'!CO$159:CO$208)))","v":""},{"$f":"IF('TABLA DE DECISION'!CP167=\"\",\"\",IF('TABLA DE DECISION'!$A$156=1,MAX('TABLA DE DECISION'!CP$159:CP$208)-'TABLA DE DECISION'!CP167,'TABLA DE DECISION'!CP167-MIN('TABLA DE DECISION'!CP$159:CP$208)))","v":""},{"$f":"IF('TABLA DE DECISION'!CQ167=\"\",\"\",IF('TABLA DE DECISION'!$A$156=1,MAX('TABLA DE DECISION'!CQ$159:CQ$208)-'TABLA DE DECISION'!CQ167,'TABLA DE DECISION'!CQ167-MIN('TABLA DE DECISION'!CQ$159:CQ$208)))","v":""},{"$f":"IF('TABLA DE DECISION'!CR167=\"\",\"\",IF('TABLA DE DECISION'!$A$156=1,MAX('TABLA DE DECISION'!CR$159:CR$208)-'TABLA DE DECISION'!CR167,'TABLA DE DECISION'!CR167-MIN('TABLA DE DECISION'!CR$159:CR$208)))","v":""},{"$f":"IF('TABLA DE DECISION'!CS167=\"\",\"\",IF('TABLA DE DECISION'!$A$156=1,MAX('TABLA DE DECISION'!CS$159:CS$208)-'TABLA DE DECISION'!CS167,'TABLA DE DECISION'!CS167-MIN('TABLA DE DECISION'!CS$159:CS$208)))","v":""},{"$f":"IF('TABLA DE DECISION'!CT167=\"\",\"\",IF('TABLA DE DECISION'!$A$156=1,MAX('TABLA DE DECISION'!CT$159:CT$208)-'TABLA DE DECISION'!CT167,'TABLA DE DECISION'!CT167-MIN('TABLA DE DECISION'!CT$159:CT$208)))","v":""},{"$f":"IF('TABLA DE DECISION'!CU167=\"\",\"\",IF('TABLA DE DECISION'!$A$156=1,MAX('TABLA DE DECISION'!CU$159:CU$208)-'TABLA DE DECISION'!CU167,'TABLA DE DECISION'!CU167-MIN('TABLA DE DECISION'!CU$159:CU$208)))","v":""},{"$f":"IF('TABLA DE DECISION'!CV167=\"\",\"\",IF('TABLA DE DECISION'!$A$156=1,MAX('TABLA DE DECISION'!CV$159:CV$208)-'TABLA DE DECISION'!CV167,'TABLA DE DECISION'!CV167-MIN('TABLA DE DECISION'!CV$159:CV$208)))","v":""},{"$f":"IF('TABLA DE DECISION'!CW167=\"\",\"\",IF('TABLA DE DECISION'!$A$156=1,MAX('TABLA DE DECISION'!CW$159:CW$208)-'TABLA DE DECISION'!CW167,'TABLA DE DECISION'!CW167-MIN('TABLA DE DECISION'!CW$159:CW$208)))","v":""},{"$f":"IF('TABLA DE DECISION'!CX167=\"\",\"\",IF('TABLA DE DECISION'!$A$156=1,MAX('TABLA DE DECISION'!CX$159:CX$208)-'TABLA DE DECISION'!CX167,'TABLA DE DECISION'!CX167-MIN('TABLA DE DECISION'!CX$159:CX$208)))","v":""},{"$f":"IF('TABLA DE DECISION'!CY167=\"\",\"\",IF('TABLA DE DECISION'!$A$156=1,MAX('TABLA DE DECISION'!CY$159:CY$208)-'TABLA DE DECISION'!CY167,'TABLA DE DECISION'!CY167-MIN('TABLA DE DECISION'!CY$159:CY$208)))","v":""},{"$f":"IF('TABLA DE DECISION'!CZ167=\"\",\"\",IF('TABLA DE DECISION'!$A$156=1,MAX('TABLA DE DECISION'!CZ$159:CZ$208)-'TABLA DE DECISION'!CZ167,'TABLA DE DECISION'!CZ167-MIN('TABLA DE DECISION'!CZ$159:CZ$208)))","v":""},{"$f":"IF('TABLA DE DECISION'!DA167=\"\",\"\",IF('TABLA DE DECISION'!$A$156=1,MAX('TABLA DE DECISION'!DA$159:DA$208)-'TABLA DE DECISION'!DA167,'TABLA DE DECISION'!DA167-MIN('TABLA DE DECISION'!DA$159:DA$208)))","v":""},{"$f":"IF('TABLA DE DECISION'!DB167=\"\",\"\",IF('TABLA DE DECISION'!$A$156=1,MAX('TABLA DE DECISION'!DB$159:DB$208)-'TABLA DE DECISION'!DB167,'TABLA DE DECISION'!DB167-MIN('TABLA DE DECISION'!DB$159:DB$208)))","v":""},{"$f":"IF('TABLA DE DECISION'!DC167=\"\",\"\",IF('TABLA DE DECISION'!$A$156=1,MAX('TABLA DE DECISION'!DC$159:DC$208)-'TABLA DE DECISION'!DC167,'TABLA DE DECISION'!DC167-MIN('TABLA DE DECISION'!DC$159:DC$208)))","v":""},{"$f":"IF('TABLA DE DECISION'!DD167=\"\",\"\",IF('TABLA DE DECISION'!$A$156=1,MAX('TABLA DE DECISION'!DD$159:DD$208)-'TABLA DE DECISION'!DD167,'TABLA DE DECISION'!DD167-MIN('TABLA DE DECISION'!DD$159:DD$208)))","v":""},{"$f":"IF('TABLA DE DECISION'!DE167=\"\",\"\",IF('TABLA DE DECISION'!$A$156=1,MAX('TABLA DE DECISION'!DE$159:DE$208)-'TABLA DE DECISION'!DE167,'TABLA DE DECISION'!DE167-MIN('TABLA DE DECISION'!DE$159:DE$208)))","v":""},null,{"$f":"IF(C11=\"\",\"\",SUMPRODUCT(C11:AZ11,'TABLA DE DECISION'!BH$156:DE$156))","v":""}]
[{"$f":"IF('TABLA DE DECISION'!BF168=\"\",\"\",'TABLA DE DECISION'!BF168)","v":""},{"$f":"IF('TABLA DE DECISION'!BG168=\"\",\"\",'TABLA DE DECISION'!BG168)","v":"a10"},{"$f":"IF('TABLA DE DECISION'!BH168=\"\",\"\",IF('TABLA DE DECISION'!$A$156=1,MAX('TABLA DE DECISION'!BH$159:BH$208)-'TABLA DE DECISION'!BH168,'TABLA DE DECISION'!BH168-MIN('TABLA DE DECISION'!BH$159:BH$208)))","v":""},{"$f":"IF('TABLA DE DECISION'!BI168=\"\",\"\",IF('TABLA DE DECISION'!$A$156=1,MAX('TABLA DE DECISION'!BI$159:BI$208)-'TABLA DE DECISION'!BI168,'TABLA DE DECISION'!BI168-MIN('TABLA DE DECISION'!BI$159:BI$208)))","v":""},{"$f":"IF('TABLA DE DECISION'!BJ168=\"\",\"\",IF('TABLA DE DECISION'!$A$156=1,MAX('TABLA DE DECISION'!BJ$159:BJ$208)-'TABLA DE DECISION'!BJ168,'TABLA DE DECISION'!BJ168-MIN('TABLA DE DECISION'!BJ$159:BJ$208)))","v":""},{"$f":"IF('TABLA DE DECISION'!BK168=\"\",\"\",IF('TABLA DE DECISION'!$A$156=1,MAX('TABLA DE DECISION'!BK$159:BK$208)-'TABLA DE DECISION'!BK168,'TABLA DE DECISION'!BK168-MIN('TABLA DE DECISION'!BK$159:BK$208)))","v":""},{"$f":"IF('TABLA DE DECISION'!BL168=\"\",\"\",IF('TABLA DE DECISION'!$A$156=1,MAX('TABLA DE DECISION'!BL$159:BL$208)-'TABLA DE DECISION'!BL168,'TABLA DE DECISION'!BL168-MIN('TABLA DE DECISION'!BL$159:BL$208)))","v":""},{"$f":"IF('TABLA DE DECISION'!BM168=\"\",\"\",IF('TABLA DE DECISION'!$A$156=1,MAX('TABLA DE DECISION'!BM$159:BM$208)-'TABLA DE DECISION'!BM168,'TABLA DE DECISION'!BM168-MIN('TABLA DE DECISION'!BM$159:BM$208)))","v":""},{"$f":"IF('TABLA DE DECISION'!BN168=\"\",\"\",IF('TABLA DE DECISION'!$A$156=1,MAX('TABLA DE DECISION'!BN$159:BN$208)-'TABLA DE DECISION'!BN168,'TABLA DE DECISION'!BN168-MIN('TABLA DE DECISION'!BN$159:BN$208)))","v":""},{"$f":"IF('TABLA DE DECISION'!BO168=\"\",\"\",IF('TABLA DE DECISION'!$A$156=1,MAX('TABLA DE DECISION'!BO$159:BO$208)-'TABLA DE DECISION'!BO168,'TABLA DE DECISION'!BO168-MIN('TABLA DE DECISION'!BO$159:BO$208)))","v":""},{"$f":"IF('TABLA DE DECISION'!BP168=\"\",\"\",IF('TABLA DE DECISION'!$A$156=1,MAX('TABLA DE DECISION'!BP$159:BP$208)-'TABLA DE DECISION'!BP168,'TABLA DE DECISION'!BP168-MIN('TABLA DE DECISION'!BP$159:BP$208)))","v":""},{"$f":"IF('TABLA DE DECISION'!BQ168=\"\",\"\",IF('TABLA DE DECISION'!$A$156=1,MAX('TABLA DE DECISION'!BQ$159:BQ$208)-'TABLA DE DECISION'!BQ168,'TABLA DE DECISION'!BQ168-MIN('TABLA DE DECISION'!BQ$159:BQ$208)))","v":""},{"$f":"IF('TABLA DE DECISION'!BR168=\"\",\"\",IF('TABLA DE DECISION'!$A$156=1,MAX('TABLA DE DECISION'!BR$159:BR$208)-'TABLA DE DECISION'!BR168,'TABLA DE DECISION'!BR168-MIN('TABLA DE DECISION'!BR$159:BR$208)))","v":""},{"$f":"IF('TABLA DE DECISION'!BS168=\"\",\"\",IF('TABLA DE DECISION'!$A$156=1,MAX('TABLA DE DECISION'!BS$159:BS$208)-'TABLA DE DECISION'!BS168,'TABLA DE DECISION'!BS168-MIN('TABLA DE DECISION'!BS$159:BS$208)))","v":""},{"$f":"IF('TABLA DE DECISION'!BT168=\"\",\"\",IF('TABLA DE DECISION'!$A$156=1,MAX('TABLA DE DECISION'!BT$159:BT$208)-'TABLA DE DECISION'!BT168,'TABLA DE DECISION'!BT168-MIN('TABLA DE DECISION'!BT$159:BT$208)))","v":""},{"$f":"IF('TABLA DE DECISION'!BU168=\"\",\"\",IF('TABLA DE DECISION'!$A$156=1,MAX('TABLA DE DECISION'!BU$159:BU$208)-'TABLA DE DECISION'!BU168,'TABLA DE DECISION'!BU168-MIN('TABLA DE DECISION'!BU$159:BU$208)))","v":""},{"$f":"IF('TABLA DE DECISION'!BV168=\"\",\"\",IF('TABLA DE DECISION'!$A$156=1,MAX('TABLA DE DECISION'!BV$159:BV$208)-'TABLA DE DECISION'!BV168,'TABLA DE DECISION'!BV168-MIN('TABLA DE DECISION'!BV$159:BV$208)))","v":""},{"$f":"IF('TABLA DE DECISION'!BW168=\"\",\"\",IF('TABLA DE DECISION'!$A$156=1,MAX('TABLA DE DECISION'!BW$159:BW$208)-'TABLA DE DECISION'!BW168,'TABLA DE DECISION'!BW168-MIN('TABLA DE DECISION'!BW$159:BW$208)))","v":""},{"$f":"IF('TABLA DE DECISION'!BX168=\"\",\"\",IF('TABLA DE DECISION'!$A$156=1,MAX('TABLA DE DECISION'!BX$159:BX$208)-'TABLA DE DECISION'!BX168,'TABLA DE DECISION'!BX168-MIN('TABLA DE DECISION'!BX$159:BX$208)))","v":""},{"$f":"IF('TABLA DE DECISION'!BY168=\"\",\"\",IF('TABLA DE DECISION'!$A$156=1,MAX('TABLA DE DECISION'!BY$159:BY$208)-'TABLA DE DECISION'!BY168,'TABLA DE DECISION'!BY168-MIN('TABLA DE DECISION'!BY$159:BY$208)))","v":""},{"$f":"IF('TABLA DE DECISION'!BZ168=\"\",\"\",IF('TABLA DE DECISION'!$A$156=1,MAX('TABLA DE DECISION'!BZ$159:BZ$208)-'TABLA DE DECISION'!BZ168,'TABLA DE DECISION'!BZ168-MIN('TABLA DE DECISION'!BZ$159:BZ$208)))","v":""},{"$f":"IF('TABLA DE DECISION'!CA168=\"\",\"\",IF('TABLA DE DECISION'!$A$156=1,MAX('TABLA DE DECISION'!CA$159:CA$208)-'TABLA DE DECISION'!CA168,'TABLA DE DECISION'!CA168-MIN('TABLA DE DECISION'!CA$159:CA$208)))","v":""},{"$f":"IF('TABLA DE DECISION'!CB168=\"\",\"\",IF('TABLA DE DECISION'!$A$156=1,MAX('TABLA DE DECISION'!CB$159:CB$208)-'TABLA DE DECISION'!CB168,'TABLA DE DECISION'!CB168-MIN('TABLA DE DECISION'!CB$159:CB$208)))","v":""},{"$f":"IF('TABLA DE DECISION'!CC168=\"\",\"\",IF('TABLA DE DECISION'!$A$156=1,MAX('TABLA DE DECISION'!CC$159:CC$208)-'TABLA DE DECISION'!CC168,'TABLA DE DECISION'!CC168-MIN('TABLA DE DECISION'!CC$159:CC$208)))","v":""},{"$f":"IF('TABLA DE DECISION'!CD168=\"\",\"\",IF('TABLA DE DECISION'!$A$156=1,MAX('TABLA DE DECISION'!CD$159:CD$208)-'TABLA DE DECISION'!CD168,'TABLA DE DECISION'!CD168-MIN('TABLA DE DECISION'!CD$159:CD$208)))","v":""},{"$f":"IF('TABLA DE DECISION'!CE168=\"\",\"\",IF('TABLA DE DECISION'!$A$156=1,MAX('TABLA DE DECISION'!CE$159:CE$208)-'TABLA DE DECISION'!CE168,'TABLA DE DECISION'!CE168-MIN('TABLA DE DECISION'!CE$159:CE$208)))","v":""},{"$f":"IF('TABLA DE DECISION'!CF168=\"\",\"\",IF('TABLA DE DECISION'!$A$156=1,MAX('TABLA DE DECISION'!CF$159:CF$208)-'TABLA DE DECISION'!CF168,'TABLA DE DECISION'!CF168-MIN('TABLA DE DECISION'!CF$159:CF$208)))","v":""},{"$f":"IF('TABLA DE DECISION'!CG168=\"\",\"\",IF('TABLA DE DECISION'!$A$156=1,MAX('TABLA DE DECISION'!CG$159:CG$208)-'TABLA DE DECISION'!CG168,'TABLA DE DECISION'!CG168-MIN('TABLA DE DECISION'!CG$159:CG$208)))","v":""},{"$f":"IF('TABLA DE DECISION'!CH168=\"\",\"\",IF('TABLA DE DECISION'!$A$156=1,MAX('TABLA DE DECISION'!CH$159:CH$208)-'TABLA DE DECISION'!CH168,'TABLA DE DECISION'!CH168-MIN('TABLA DE DECISION'!CH$159:CH$208)))","v":""},{"$f":"IF('TABLA DE DECISION'!CI168=\"\",\"\",IF('TABLA DE DECISION'!$A$156=1,MAX('TABLA DE DECISION'!CI$159:CI$208)-'TABLA DE DECISION'!CI168,'TABLA DE DECISION'!CI168-MIN('TABLA DE DECISION'!CI$159:CI$208)))","v":""},{"$f":"IF('TABLA DE DECISION'!CJ168=\"\",\"\",IF('TABLA DE DECISION'!$A$156=1,MAX('TABLA DE DECISION'!CJ$159:CJ$208)-'TABLA DE DECISION'!CJ168,'TABLA DE DECISION'!CJ168-MIN('TABLA DE DECISION'!CJ$159:CJ$208)))","v":""},{"$f":"IF('TABLA DE DECISION'!CK168=\"\",\"\",IF('TABLA DE DECISION'!$A$156=1,MAX('TABLA DE DECISION'!CK$159:CK$208)-'TABLA DE DECISION'!CK168,'TABLA DE DECISION'!CK168-MIN('TABLA DE DECISION'!CK$159:CK$208)))","v":""},{"$f":"IF('TABLA DE DECISION'!CL168=\"\",\"\",IF('TABLA DE DECISION'!$A$156=1,MAX('TABLA DE DECISION'!CL$159:CL$208)-'TABLA DE DECISION'!CL168,'TABLA DE DECISION'!CL168-MIN('TABLA DE DECISION'!CL$159:CL$208)))","v":""},{"$f":"IF('TABLA DE DECISION'!CM168=\"\",\"\",IF('TABLA DE DECISION'!$A$156=1,MAX('TABLA DE DECISION'!CM$159:CM$208)-'TABLA DE DECISION'!CM168,'TABLA DE DECISION'!CM168-MIN('TABLA DE DECISION'!CM$159:CM$208)))","v":""},{"$f":"IF('TABLA DE DECISION'!CN168=\"\",\"\",IF('TABLA DE DECISION'!$A$156=1,MAX('TABLA DE DECISION'!CN$159:CN$208)-'TABLA DE DECISION'!CN168,'TABLA DE DECISION'!CN168-MIN('TABLA DE DECISION'!CN$159:CN$208)))","v":""},{"$f":"IF('TABLA DE DECISION'!CO168=\"\",\"\",IF('TABLA DE DECISION'!$A$156=1,MAX('TABLA DE DECISION'!CO$159:CO$208)-'TABLA DE DECISION'!CO168,'TABLA DE DECISION'!CO168-MIN('TABLA DE DECISION'!CO$159:CO$208)))","v":""},{"$f":"IF('TABLA DE DECISION'!CP168=\"\",\"\",IF('TABLA DE DECISION'!$A$156=1,MAX('TABLA DE DECISION'!CP$159:CP$208)-'TABLA DE DECISION'!CP168,'TABLA DE DECISION'!CP168-MIN('TABLA DE DECISION'!CP$159:CP$208)))","v":""},{"$f":"IF('TABLA DE DECISION'!CQ168=\"\",\"\",IF('TABLA DE DECISION'!$A$156=1,MAX('TABLA DE DECISION'!CQ$159:CQ$208)-'TABLA DE DECISION'!CQ168,'TABLA DE DECISION'!CQ168-MIN('TABLA DE DECISION'!CQ$159:CQ$208)))","v":""},{"$f":"IF('TABLA DE DECISION'!CR168=\"\",\"\",IF('TABLA DE DECISION'!$A$156=1,MAX('TABLA DE DECISION'!CR$159:CR$208)-'TABLA DE DECISION'!CR168,'TABLA DE DECISION'!CR168-MIN('TABLA DE DECISION'!CR$159:CR$208)))","v":""},{"$f":"IF('TABLA DE DECISION'!CS168=\"\",\"\",IF('TABLA DE DECISION'!$A$156=1,MAX('TABLA DE DECISION'!CS$159:CS$208)-'TABLA DE DECISION'!CS168,'TABLA DE DECISION'!CS168-MIN('TABLA DE DECISION'!CS$159:CS$208)))","v":""},{"$f":"IF('TABLA DE DECISION'!CT168=\"\",\"\",IF('TABLA DE DECISION'!$A$156=1,MAX('TABLA DE DECISION'!CT$159:CT$208)-'TABLA DE DECISION'!CT168,'TABLA DE DECISION'!CT168-MIN('TABLA DE DECISION'!CT$159:CT$208)))","v":""},{"$f":"IF('TABLA DE DECISION'!CU168=\"\",\"\",IF('TABLA DE DECISION'!$A$156=1,MAX('TABLA DE DECISION'!CU$159:CU$208)-'TABLA DE DECISION'!CU168,'TABLA DE DECISION'!CU168-MIN('TABLA DE DECISION'!CU$159:CU$208)))","v":""},{"$f":"IF('TABLA DE DECISION'!CV168=\"\",\"\",IF('TABLA DE DECISION'!$A$156=1,MAX('TABLA DE DECISION'!CV$159:CV$208)-'TABLA DE DECISION'!CV168,'TABLA DE DECISION'!CV168-MIN('TABLA DE DECISION'!CV$159:CV$208)))","v":""},{"$f":"IF('TABLA DE DECISION'!CW168=\"\",\"\",IF('TABLA DE DECISION'!$A$156=1,MAX('TABLA DE DECISION'!CW$159:CW$208)-'TABLA DE DECISION'!CW168,'TABLA DE DECISION'!CW168-MIN('TABLA DE DECISION'!CW$159:CW$208)))","v":""},{"$f":"IF('TABLA DE DECISION'!CX168=\"\",\"\",IF('TABLA DE DECISION'!$A$156=1,MAX('TABLA DE DECISION'!CX$159:CX$208)-'TABLA DE DECISION'!CX168,'TABLA DE DECISION'!CX168-MIN('TABLA DE DECISION'!CX$159:CX$208)))","v":""},{"$f":"IF('TABLA DE DECISION'!CY168=\"\",\"\",IF('TABLA DE DECISION'!$A$156=1,MAX('TABLA DE DECISION'!CY$159:CY$208)-'TABLA DE DECISION'!CY168,'TABLA DE DECISION'!CY168-MIN('TABLA DE DECISION'!CY$159:CY$208)))","v":""},{"$f":"IF('TABLA DE DECISION'!CZ168=\"\",\"\",IF('TABLA DE DECISION'!$A$156=1,MAX('TABLA DE DECISION'!CZ$159:CZ$208)-'TABLA DE DECISION'!CZ168,'TABLA DE DECISION'!CZ168-MIN('TABLA DE DECISION'!CZ$159:CZ$208)))","v":""},{"$f":"IF('TABLA DE DECISION'!DA168=\"\",\"\",IF('TABLA DE DECISION'!$A$156=1,MAX('TABLA DE DECISION'!DA$159:DA$208)-'TABLA DE DECISION'!DA168,'TABLA DE DECISION'!DA168-MIN('TABLA DE DECISION'!DA$159:DA$208)))","v":""},{"$f":"IF('TABLA DE DECISION'!DB168=\"\",\"\",IF('TABLA DE DECISION'!$A$156=1,MAX('TABLA DE DECISION'!DB$159:DB$208)-'TABLA DE DECISION'!DB168,'TABLA DE DECISION'!DB168-MIN('TABLA DE DECISION'!DB$159:DB$208)))","v":""},{"$f":"IF('TABLA DE DECISION'!DC168=\"\",\"\",IF('TABLA DE DECISION'!$A$156=1,MAX('TABLA DE DECISION'!DC$159:DC$208)-'TABLA DE DECISION'!DC168,'TABLA DE DECISION'!DC168-MIN('TABLA DE DECISION'!DC$159:DC$208)))","v":""},{"$f":"IF('TABLA DE DECISION'!DD168=\"\",\"\",IF('TABLA DE DECISION'!$A$156=1,MAX('TABLA DE DECISION'!DD$159:DD$208)-'TABLA DE DECISION'!DD168,'TABLA DE DECISION'!DD168-MIN('TABLA DE DECISION'!DD$159:DD$208)))","v":""},{"$f":"IF('TABLA DE DECISION'!DE168=\"\",\"\",IF('TABLA DE DECISION'!$A$156=1,MAX('TABLA DE DECISION'!DE$159:DE$208)-'TABLA DE DECISION'!DE168,'TABLA DE DECISION'!DE168-MIN('TABLA DE DECISION'!DE$159:DE$208)))","v":""},null,{"$f":"IF(C12=\"\",\"\",SUMPRODUCT(C12:AZ12,'TABLA DE DECISION'!BH$156:DE$156))","v":""}]
[{"$f":"IF('TABLA DE DECISION'!BF169=\"\",\"\",'TABLA DE DECISION'!BF169)","v":""},{"$f":"IF('TABLA DE DECISION'!BG169=\"\",\"\",'TABLA DE DECISION'!BG169)","v":"a11"},{"$f":"IF('TABLA DE DECISION'!BH169=\"\",\"\",IF('TABLA DE DECISION'!$A$156=1,MAX('TABLA DE DECISION'!BH$159:BH$208)-'TABLA DE DECISION'!BH169,'TABLA DE DECISION'!BH169-MIN('TABLA DE DECISION'!BH$159:BH$208)))","v":""},{"$f":"IF('TABLA DE DECISION'!BI169=\"\",\"\",IF('TABLA DE DECISION'!$A$156=1,MAX('TABLA DE DECISION'!BI$159:BI$208)-'TABLA DE DECISION'!BI169,'TABLA DE DECISION'!BI169-MIN('TABLA DE DECISION'!BI$159:BI$208)))","v":""},{"$f":"IF('TABLA DE DECISION'!BJ169=\"\",\"\",IF('TABLA DE DECISION'!$A$156=1,MAX('TABLA DE DECISION'!BJ$159:BJ$208)-'TABLA DE DECISION'!BJ169,'TABLA DE DECISION'!BJ169-MIN('TABLA DE DECISION'!BJ$159:BJ$208)))","v":""},{"$f":"IF('TABLA DE DECISION'!BK169=\"\",\"\",IF('TABLA DE DECISION'!$A$156=1,MAX('TABLA DE DECISION'!BK$159:BK$208)-'TABLA DE DECISION'!BK169,'TABLA DE DECISION'!BK169-MIN('TABLA DE DECISION'!BK$159:BK$208)))","v":""},{"$f":"IF('TABLA DE DECISION'!BL169=\"\",\"\",IF('TABLA DE DECISION'!$A$156=1,MAX('TABLA DE DECISION'!BL$159:BL$208)-'TABLA DE DECISION'!BL169,'TABLA DE DECISION'!BL169-MIN('TABLA DE DECISION'!BL$159:BL$208)))","v":""},{"$f":"IF('TABLA DE DECISION'!BM169=\"\",\"\",IF('TABLA DE DECISION'!$A$156=1,MAX('TABLA DE DECISION'!BM$159:BM$208)-'TABLA DE DECISION'!BM169,'TABLA DE DECISION'!BM169-MIN('TABLA DE DECISION'!BM$159:BM$208)))","v":""},{"$f":"IF('TABLA DE DECISION'!BN169=\"\",\"\",IF('TABLA DE DECISION'!$A$156=1,MAX('TABLA DE DECISION'!BN$159:BN$208)-'TABLA DE DECISION'!BN169,'TABLA DE DECISION'!BN169-MIN('TABLA DE DECISION'!BN$159:BN$208)))","v":""},{"$f":"IF('TABLA DE DECISION'!BO169=\"\",\"\",IF('TABLA DE DECISION'!$A$156=1,MAX('TABLA DE DECISION'!BO$159:BO$208)-'TABLA DE DECISION'!BO169,'TABLA DE DECISION'!BO169-MIN('TABLA DE DECISION'!BO$159:BO$208)))","v":""},{"$f":"IF('TABLA DE DECISION'!BP169=\"\",\"\",IF('TABLA DE DECISION'!$A$156=1,MAX('TABLA DE DECISION'!BP$159:BP$208)-'TABLA DE DECISION'!BP169,'TABLA DE DECISION'!BP169-MIN('TABLA DE DECISION'!BP$159:BP$208)))","v":""},{"$f":"IF('TABLA DE DECISION'!BQ169=\"\",\"\",IF('TABLA DE DECISION'!$A$156=1,MAX('TABLA DE DECISION'!BQ$159:BQ$208)-'TABLA DE DECISION'!BQ169,'TABLA DE DECISION'!BQ169-MIN('TABLA DE DECISION'!BQ$159:BQ$208)))","v":""},{"$f":"IF('TABLA DE DECISION'!BR169=\"\",\"\",IF('TABLA DE DECISION'!$A$156=1,MAX('TABLA DE DECISION'!BR$159:BR$208)-'TABLA DE DECISION'!BR169,'TABLA DE DECISION'!BR169-MIN('TABLA DE DECISION'!BR$159:BR$208)))","v":""},{"$f":"IF('TABLA DE DECISION'!BS169=\"\",\"\",IF('TABLA DE DECISION'!$A$156=1,MAX('TABLA DE DECISION'!BS$159:BS$208)-'TABLA DE DECISION'!BS169,'TABLA DE DECISION'!BS169-MIN('TABLA DE DECISION'!BS$159:BS$208)))","v":""},{"$f":"IF('TABLA DE DECISION'!BT169=\"\",\"\",IF('TABLA DE DECISION'!$A$156=1,MAX('TABLA DE DECISION'!BT$159:BT$208)-'TABLA DE DECISION'!BT169,'TABLA DE DECISION'!BT169-MIN('TABLA DE DECISION'!BT$159:BT$208)))","v":""},{"$f":"IF('TABLA DE DECISION'!BU169=\"\",\"\",IF('TABLA DE DECISION'!$A$156=1,MAX('TABLA DE DECISION'!BU$159:BU$208)-'TABLA DE DECISION'!BU169,'TABLA DE DECISION'!BU169-MIN('TABLA DE DECISION'!BU$159:BU$208)))","v":""},{"$f":"IF('TABLA DE DECISION'!BV169=\"\",\"\",IF('TABLA DE DECISION'!$A$156=1,MAX('TABLA DE DECISION'!BV$159:BV$208)-'TABLA DE DECISION'!BV169,'TABLA DE DECISION'!BV169-MIN('TABLA DE DECISION'!BV$159:BV$208)))","v":""},{"$f":"IF('TABLA DE DECISION'!BW169=\"\",\"\",IF('TABLA DE DECISION'!$A$156=1,MAX('TABLA DE DECISION'!BW$159:BW$208)-'TABLA DE DECISION'!BW169,'TABLA DE DECISION'!BW169-MIN('TABLA DE DECISION'!BW$159:BW$208)))","v":""},{"$f":"IF('TABLA DE DECISION'!BX169=\"\",\"\",IF('TABLA DE DECISION'!$A$156=1,MAX('TABLA DE DECISION'!BX$159:BX$208)-'TABLA DE DECISION'!BX169,'TABLA DE DECISION'!BX169-MIN('TABLA DE DECISION'!BX$159:BX$208)))","v":""},{"$f":"IF('TABLA DE DECISION'!BY169=\"\",\"\",IF('TABLA DE DECISION'!$A$156=1,MAX('TABLA DE DECISION'!BY$159:BY$208)-'TABLA DE DECISION'!BY169,'TABLA DE DECISION'!BY169-MIN('TABLA DE DECISION'!BY$159:BY$208)))","v":""},{"$f":"IF('TABLA DE DECISION'!BZ169=\"\",\"\",IF('TABLA DE DECISION'!$A$156=1,MAX('TABLA DE DECISION'!BZ$159:BZ$208)-'TABLA DE DECISION'!BZ169,'TABLA DE DECISION'!BZ169-MIN('TABLA DE DECISION'!BZ$159:BZ$208)))","v":""},{"$f":"IF('TABLA DE DECISION'!CA169=\"\",\"\",IF('TABLA DE DECISION'!$A$156=1,MAX('TABLA DE DECISION'!CA$159:CA$208)-'TABLA DE DECISION'!CA169,'TABLA DE DECISION'!CA169-MIN('TABLA DE DECISION'!CA$159:CA$208)))","v":""},{"$f":"IF('TABLA DE DECISION'!CB169=\"\",\"\",IF('TABLA DE DECISION'!$A$156=1,MAX('TABLA DE DECISION'!CB$159:CB$208)-'TABLA DE DECISION'!CB169,'TABLA DE DECISION'!CB169-MIN('TABLA DE DECISION'!CB$159:CB$208)))","v":""},{"$f":"IF('TABLA DE DECISION'!CC169=\"\",\"\",IF('TABLA DE DECISION'!$A$156=1,MAX('TABLA DE DECISION'!CC$159:CC$208)-'TABLA DE DECISION'!CC169,'TABLA DE DECISION'!CC169-MIN('TABLA DE DECISION'!CC$159:CC$208)))","v":""},{"$f":"IF('TABLA DE DECISION'!CD169=\"\",\"\",IF('TABLA DE DECISION'!$A$156=1,MAX('TABLA DE DECISION'!CD$159:CD$208)-'TABLA DE DECISION'!CD169,'TABLA DE DECISION'!CD169-MIN('TABLA DE DECISION'!CD$159:CD$208)))","v":""},{"$f":"IF('TABLA DE DECISION'!CE169=\"\",\"\",IF('TABLA DE DECISION'!$A$156=1,MAX('TABLA DE DECISION'!CE$159:CE$208)-'TABLA DE DECISION'!CE169,'TABLA DE DECISION'!CE169-MIN('TABLA DE DECISION'!CE$159:CE$208)))","v":""},{"$f":"IF('TABLA DE DECISION'!CF169=\"\",\"\",IF('TABLA DE DECISION'!$A$156=1,MAX('TABLA DE DECISION'!CF$159:CF$208)-'TABLA DE DECISION'!CF169,'TABLA DE DECISION'!CF169-MIN('TABLA DE DECISION'!CF$159:CF$208)))","v":""},{"$f":"IF('TABLA DE DECISION'!CG169=\"\",\"\",IF('TABLA DE DECISION'!$A$156=1,MAX('TABLA DE DECISION'!CG$159:CG$208)-'TABLA DE DECISION'!CG169,'TABLA DE DECISION'!CG169-MIN('TABLA DE DECISION'!CG$159:CG$208)))","v":""},{"$f":"IF('TABLA DE DECISION'!CH169=\"\",\"\",IF('TABLA DE DECISION'!$A$156=1,MAX('TABLA DE DECISION'!CH$159:CH$208)-'TABLA DE DECISION'!CH169,'TABLA DE DECISION'!CH169-MIN('TABLA DE DECISION'!CH$159:CH$208)))","v":""},{"$f":"IF('TABLA DE DECISION'!CI169=\"\",\"\",IF('TABLA DE DECISION'!$A$156=1,MAX('TABLA DE DECISION'!CI$159:CI$208)-'TABLA DE DECISION'!CI169,'TABLA DE DECISION'!CI169-MIN('TABLA DE DECISION'!CI$159:CI$208)))","v":""},{"$f":"IF('TABLA DE DECISION'!CJ169=\"\",\"\",IF('TABLA DE DECISION'!$A$156=1,MAX('TABLA DE DECISION'!CJ$159:CJ$208)-'TABLA DE DECISION'!CJ169,'TABLA DE DECISION'!CJ169-MIN('TABLA DE DECISION'!CJ$159:CJ$208)))","v":""},{"$f":"IF('TABLA DE DECISION'!CK169=\"\",\"\",IF('TABLA DE DECISION'!$A$156=1,MAX('TABLA DE DECISION'!CK$159:CK$208)-'TABLA DE DECISION'!CK169,'TABLA DE DECISION'!CK169-MIN('TABLA DE DECISION'!CK$159:CK$208)))","v":""},{"$f":"IF('TABLA DE DECISION'!CL169=\"\",\"\",IF('TABLA DE DECISION'!$A$156=1,MAX('TABLA DE DECISION'!CL$159:CL$208)-'TABLA DE DECISION'!CL169,'TABLA DE DECISION'!CL169-MIN('TABLA DE DECISION'!CL$159:CL$208)))","v":""},{"$f":"IF('TABLA DE DECISION'!CM169=\"\",\"\",IF('TABLA DE DECISION'!$A$156=1,MAX('TABLA DE DECISION'!CM$159:CM$208)-'TABLA DE DECISION'!CM169,'TABLA DE DECISION'!CM169-MIN('TABLA DE DECISION'!CM$159:CM$208)))","v":""},{"$f":"IF('TABLA DE DECISION'!CN169=\"\",\"\",IF('TABLA DE DECISION'!$A$156=1,MAX('TABLA DE DECISION'!CN$159:CN$208)-'TABLA DE DECISION'!CN169,'TABLA DE DECISION'!CN169-MIN('TABLA DE DECISION'!CN$159:CN$208)))","v":""},{"$f":"IF('TABLA DE DECISION'!CO169=\"\",\"\",IF('TABLA DE DECISION'!$A$156=1,MAX('TABLA DE DECISION'!CO$159:CO$208)-'TABLA DE DECISION'!CO169,'TABLA DE DECISION'!CO169-MIN('TABLA DE DECISION'!CO$159:CO$208)))","v":""},{"$f":"IF('TABLA DE DECISION'!CP169=\"\",\"\",IF('TABLA DE DECISION'!$A$156=1,MAX('TABLA DE DECISION'!CP$159:CP$208)-'TABLA DE DECISION'!CP169,'TABLA DE DECISION'!CP169-MIN('TABLA DE DECISION'!CP$159:CP$208)))","v":""},{"$f":"IF('TABLA DE DECISION'!CQ169=\"\",\"\",IF('TABLA DE DECISION'!$A$156=1,MAX('TABLA DE DECISION'!CQ$159:CQ$208)-'TABLA DE DECISION'!CQ169,'TABLA DE DECISION'!CQ169-MIN('TABLA DE DECISION'!CQ$159:CQ$208)))","v":""},{"$f":"IF('TABLA DE DECISION'!CR169=\"\",\"\",IF('TABLA DE DECISION'!$A$156=1,MAX('TABLA DE DECISION'!CR$159:CR$208)-'TABLA DE DECISION'!CR169,'TABLA DE DECISION'!CR169-MIN('TABLA DE DECISION'!CR$159:CR$208)))","v":""},{"$f":"IF('TABLA DE DECISION'!CS169=\"\",\"\",IF('TABLA DE DECISION'!$A$156=1,MAX('TABLA DE DECISION'!CS$159:CS$208)-'TABLA DE DECISION'!CS169,'TABLA DE DECISION'!CS169-MIN('TABLA DE DECISION'!CS$159:CS$208)))","v":""},{"$f":"IF('TABLA DE DECISION'!CT169=\"\",\"\",IF('TABLA DE DECISION'!$A$156=1,MAX('TABLA DE DECISION'!CT$159:CT$208)-'TABLA DE DECISION'!CT169,'TABLA DE DECISION'!CT169-MIN('TABLA DE DECISION'!CT$159:CT$208)))","v":""},{"$f":"IF('TABLA DE DECISION'!CU169=\"\",\"\",IF('TABLA DE DECISION'!$A$156=1,MAX('TABLA DE DECISION'!CU$159:CU$208)-'TABLA DE DECISION'!CU169,'TABLA DE DECISION'!CU169-MIN('TABLA DE DECISION'!CU$159:CU$208)))","v":""},{"$f":"IF('TABLA DE DECISION'!CV169=\"\",\"\",IF('TABLA DE DECISION'!$A$156=1,MAX('TABLA DE DECISION'!CV$159:CV$208)-'TABLA DE DECISION'!CV169,'TABLA DE DECISION'!CV169-MIN('TABLA DE DECISION'!CV$159:CV$208)))","v":""},{"$f":"IF('TABLA DE DECISION'!CW169=\"\",\"\",IF('TABLA DE DECISION'!$A$156=1,MAX('TABLA DE DECISION'!CW$159:CW$208)-'TABLA DE DECISION'!CW169,'TABLA DE DECISION'!CW169-MIN('TABLA DE DECISION'!CW$159:CW$208)))","v":""},{"$f":"IF('TABLA DE DECISION'!CX169=\"\",\"\",IF('TABLA DE DECISION'!$A$156=1,MAX('TABLA DE DECISION'!CX$159:CX$208)-'TABLA DE DECISION'!CX169,'TABLA DE DECISION'!CX169-MIN('TABLA DE DECISION'!CX$159:CX$208)))","v":""},{"$f":"IF('TABLA DE DECISION'!CY169=\"\",\"\",IF('TABLA DE DECISION'!$A$156=1,MAX('TABLA DE DECISION'!CY$159:CY$208)-'TABLA DE DECISION'!CY169,'TABLA DE DECISION'!CY169-MIN('TABLA DE DECISION'!CY$159:CY$208)))","v":""},{"$f":"IF('TABLA DE DECISION'!CZ169=\"\",\"\",IF('TABLA DE DECISION'!$A$156=1,MAX('TABLA DE DECISION'!CZ$159:CZ$208)-'TABLA DE DECISION'!CZ169,'TABLA DE DECISION'!CZ169-MIN('TABLA DE DECISION'!CZ$159:CZ$208)))","v":""},{"$f":"IF('TABLA DE DECISION'!DA169=\"\",\"\",IF('TABLA DE DECISION'!$A$156=1,MAX('TABLA DE DECISION'!DA$159:DA$208)-'TABLA DE DECISION'!DA169,'TABLA DE DECISION'!DA169-MIN('TABLA DE DECISION'!DA$159:DA$208)))","v":""},{"$f":"IF('TABLA DE DECISION'!DB169=\"\",\"\",IF('TABLA DE DECISION'!$A$156=1,MAX('TABLA DE DECISION'!DB$159:DB$208)-'TABLA DE DECISION'!DB169,'TABLA DE DECISION'!DB169-MIN('TABLA DE DECISION'!DB$159:DB$208)))","v":""},{"$f":"IF('TABLA DE DECISION'!DC169=\"\",\"\",IF('TABLA DE DECISION'!$A$156=1,MAX('TABLA DE DECISION'!DC$159:DC$208)-'TABLA DE DECISION'!DC169,'TABLA DE DECISION'!DC169-MIN('TABLA DE DECISION'!DC$159:DC$208)))","v":""},{"$f":"IF('TABLA DE DECISION'!DD169=\"\",\"\",IF('TABLA DE DECISION'!$A$156=1,MAX('TABLA DE DECISION'!DD$159:DD$208)-'TABLA DE DECISION'!DD169,'TABLA DE DECISION'!DD169-MIN('TABLA DE DECISION'!DD$159:DD$208)))","v":""},{"$f":"IF('TABLA DE DECISION'!DE169=\"\",\"\",IF('TABLA DE DECISION'!$A$156=1,MAX('TABLA DE DECISION'!DE$159:DE$208)-'TABLA DE DECISION'!DE169,'TABLA DE DECISION'!DE169-MIN('TABLA DE DECISION'!DE$159:DE$208)))","v":""},null,{"$f":"IF(C13=\"\",\"\",SUMPRODUCT(C13:AZ13,'TABLA DE DECISION'!BH$156:DE$156))","v":""}]
[{"$f":"IF('TABLA DE DECISION'!BF170=\"\",\"\",'TABLA DE DECISION'!BF170)","v":""},{"$f":"IF('TABLA DE DECISION'!BG170=\"\",\"\",'TABLA DE DECISION'!BG170)","v":"a12"},{"$f":"IF('TABLA DE DECISION'!BH170=\"\",\"\",IF('TABLA DE DECISION'!$A$156=1,MAX('TABLA DE DECISION'!BH$159:BH$208)-'TABLA DE DECISION'!BH170,'TABLA DE DECISION'!BH170-MIN('TABLA DE DECISION'!BH$159:BH$208)))","v":""},{"$f":"IF('TABLA DE DECISION'!BI170=\"\",\"\",IF('TABLA DE DECISION'!$A$156=1,MAX('TABLA DE DECISION'!BI$159:BI$208)-'TABLA DE DECISION'!BI170,'TABLA DE DECISION'!BI170-MIN('TABLA DE DECISION'!BI$159:BI$208)))","v":""},{"$f":"IF('TABLA DE DECISION'!BJ170=\"\",\"\",IF('TABLA DE DECISION'!$A$156=1,MAX('TABLA DE DECISION'!BJ$159:BJ$208)-'TABLA DE DECISION'!BJ170,'TABLA DE DECISION'!BJ170-MIN('TABLA DE DECISION'!BJ$159:BJ$208)))","v":""},{"$f":"IF('TABLA DE DECISION'!BK170=\"\",\"\",IF('TABLA DE DECISION'!$A$156=1,MAX('TABLA DE DECISION'!BK$159:BK$208)-'TABLA DE DECISION'!BK170,'TABLA DE DECISION'!BK170-MIN('TABLA DE DECISION'!BK$159:BK$208)))","v":""},{"$f":"IF('TABLA DE DECISION'!BL170=\"\",\"\",IF('TABLA DE DECISION'!$A$156=1,MAX('TABLA DE DECISION'!BL$159:BL$208)-'TABLA DE DECISION'!BL170,'TABLA DE DECISION'!BL170-MIN('TABLA DE DECISION'!BL$159:BL$208)))","v":""},{"$f":"IF('TABLA DE DECISION'!BM170=\"\",\"\",IF('TABLA DE DECISION'!$A$156=1,MAX('TABLA DE DECISION'!BM$159:BM$208)-'TABLA DE DECISION'!BM170,'TABLA DE DECISION'!BM170-MIN('TABLA DE DECISION'!BM$159:BM$208)))","v":""},{"$f":"IF('TABLA DE DECISION'!BN170=\"\",\"\",IF('TABLA DE DECISION'!$A$156=1,MAX('TABLA DE DECISION'!BN$159:BN$208)-'TABLA DE DECISION'!BN170,'TABLA DE DECISION'!BN170-MIN('TABLA DE DECISION'!BN$159:BN$208)))","v":""},{"$f":"IF('TABLA DE DECISION'!BO170=\"\",\"\",IF('TABLA DE DECISION'!$A$156=1,MAX('TABLA DE DECISION'!BO$159:BO$208)-'TABLA DE DECISION'!BO170,'TABLA DE DECISION'!BO170-MIN('TABLA DE DECISION'!BO$159:BO$208)))","v":""},{"$f":"IF('TABLA DE DECISION'!BP170=\"\",\"\",IF('TABLA DE DECISION'!$A$156=1,MAX('TABLA DE DECISION'!BP$159:BP$208)-'TABLA DE DECISION'!BP170,'TABLA DE DECISION'!BP170-MIN('TABLA DE DECISION'!BP$159:BP$208)))","v":""},{"$f":"IF('TABLA DE DECISION'!BQ170=\"\",\"\",IF('TABLA DE DECISION'!$A$156=1,MAX('TABLA DE DECISION'!BQ$159:BQ$208)-'TABLA DE DECISION'!BQ170,'TABLA DE DECISION'!BQ170-MIN('TABLA DE DECISION'!BQ$159:BQ$208)))","v":""},{"$f":"IF('TABLA DE DECISION'!BR170=\"\",\"\",IF('TABLA DE DECISION'!$A$156=1,MAX('TABLA DE DECISION'!BR$159:BR$208)-'TABLA DE DECISION'!BR170,'TABLA DE DECISION'!BR170-MIN('TABLA DE DECISION'!BR$159:BR$208)))","v":""},{"$f":"IF('TABLA DE DECISION'!BS170=\"\",\"\",IF('TABLA DE DECISION'!$A$156=1,MAX('TABLA DE DECISION'!BS$159:BS$208)-'TABLA DE DECISION'!BS170,'TABLA DE DECISION'!BS170-MIN('TABLA DE DECISION'!BS$159:BS$208)))","v":""},{"$f":"IF('TABLA DE DECISION'!BT170=\"\",\"\",IF('TABLA DE DECISION'!$A$156=1,MAX('TABLA DE DECISION'!BT$159:BT$208)-'TABLA DE DECISION'!BT170,'TABLA DE DECISION'!BT170-MIN('TABLA DE DECISION'!BT$159:BT$208)))","v":""},{"$f":"IF('TABLA DE DECISION'!BU170=\"\",\"\",IF('TABLA DE DECISION'!$A$156=1,MAX('TABLA DE DECISION'!BU$159:BU$208)-'TABLA DE DECISION'!BU170,'TABLA DE DECISION'!BU170-MIN('TABLA DE DECISION'!BU$159:BU$208)))","v":""},{"$f":"IF('TABLA DE DECISION'!BV170=\"\",\"\",IF('TABLA DE DECISION'!$A$156=1,MAX('TABLA DE DECISION'!BV$159:BV$208)-'TABLA DE DECISION'!BV170,'TABLA DE DECISION'!BV170-MIN('TABLA DE DECISION'!BV$159:BV$208)))","v":""},{"$f":"IF('TABLA DE DECISION'!BW170=\"\",\"\",IF('TABLA DE DECISION'!$A$156=1,MAX('TABLA DE DECISION'!BW$159:BW$208)-'TABLA DE DECISION'!BW170,'TABLA DE DECISION'!BW170-MIN('TABLA DE DECISION'!BW$159:BW$208)))","v":""},{"$f":"IF('TABLA DE DECISION'!BX170=\"\",\"\",IF('TABLA DE DECISION'!$A$156=1,MAX('TABLA DE DECISION'!BX$159:BX$208)-'TABLA DE DECISION'!BX170,'TABLA DE DECISION'!BX170-MIN('TABLA DE DECISION'!BX$159:BX$208)))","v":""},{"$f":"IF('TABLA DE DECISION'!BY170=\"\",\"\",IF('TABLA DE DECISION'!$A$156=1,MAX('TABLA DE DECISION'!BY$159:BY$208)-'TABLA DE DECISION'!BY170,'TABLA DE DECISION'!BY170-MIN('TABLA DE DECISION'!BY$159:BY$208)))","v":""},{"$f":"IF('TABLA DE DECISION'!BZ170=\"\",\"\",IF('TABLA DE DECISION'!$A$156=1,MAX('TABLA DE DECISION'!BZ$159:BZ$208)-'TABLA DE DECISION'!BZ170,'TABLA DE DECISION'!BZ170-MIN('TABLA DE DECISION'!BZ$159:BZ$208)))","v":""},{"$f":"IF('TABLA DE DECISION'!CA170=\"\",\"\",IF('TABLA DE DECISION'!$A$156=1,MAX('TABLA DE DECISION'!CA$159:CA$208)-'TABLA DE DECISION'!CA170,'TABLA DE DECISION'!CA170-MIN('TABLA DE DECISION'!CA$159:CA$208)))","v":""},{"$f":"IF('TABLA DE DECISION'!CB170=\"\",\"\",IF('TABLA DE DECISION'!$A$156=1,MAX('TABLA DE DECISION'!CB$159:CB$208)-'TABLA DE DECISION'!CB170,'TABLA DE DECISION'!CB170-MIN('TABLA DE DECISION'!CB$159:CB$208)))","v":""},{"$f":"IF('TABLA DE DECISION'!CC170=\"\",\"\",IF('TABLA DE DECISION'!$A$156=1,MAX('TABLA DE DECISION'!CC$159:CC$208)-'TABLA DE DECISION'!CC170,'TABLA DE DECISION'!CC170-MIN('TABLA DE DECISION'!CC$159:CC$208)))","v":""},{"$f":"IF('TABLA DE DECISION'!CD170=\"\",\"\",IF('TABLA DE DECISION'!$A$156=1,MAX('TABLA DE DECISION'!CD$159:CD$208)-'TABLA DE DECISION'!CD170,'TABLA DE DECISION'!CD170-MIN('TABLA DE DECISION'!CD$159:CD$208)))","v":""},{"$f":"IF('TABLA DE DECISION'!CE170=\"\",\"\",IF('TABLA DE DECISION'!$A$156=1,MAX('TABLA DE DECISION'!CE$159:CE$208)-'TABLA DE DECISION'!CE170,'TABLA DE DECISION'!CE170-MIN('TABLA DE DECISION'!CE$159:CE$208)))","v":""},{"$f":"IF('TABLA DE DECISION'!CF170=\"\",\"\",IF('TABLA DE DECISION'!$A$156=1,MAX('TABLA DE DECISION'!CF$159:CF$208)-'TABLA DE DECISION'!CF170,'TABLA DE DECISION'!CF170-MIN('TABLA DE DECISION'!CF$159:CF$208)))","v":""},{"$f":"IF('TABLA DE DECISION'!CG170=\"\",\"\",IF('TABLA DE DECISION'!$A$156=1,MAX('TABLA DE DECISION'!CG$159:CG$208)-'TABLA DE DECISION'!CG170,'TABLA DE DECISION'!CG170-MIN('TABLA DE DECISION'!CG$159:CG$208)))","v":""},{"$f":"IF('TABLA DE DECISION'!CH170=\"\",\"\",IF('TABLA DE DECISION'!$A$156=1,MAX('TABLA DE DECISION'!CH$159:CH$208)-'TABLA DE DECISION'!CH170,'TABLA DE DECISION'!CH170-MIN('TABLA DE DECISION'!CH$159:CH$208)))","v":""},{"$f":"IF('TABLA DE DECISION'!CI170=\"\",\"\",IF('TABLA DE DECISION'!$A$156=1,MAX('TABLA DE DECISION'!CI$159:CI$208)-'TABLA DE DECISION'!CI170,'TABLA DE DECISION'!CI170-MIN('TABLA DE DECISION'!CI$159:CI$208)))","v":""},{"$f":"IF('TABLA DE DECISION'!CJ170=\"\",\"\",IF('TABLA DE DECISION'!$A$156=1,MAX('TABLA DE DECISION'!CJ$159:CJ$208)-'TABLA DE DECISION'!CJ170,'TABLA DE DECISION'!CJ170-MIN('TABLA DE DECISION'!CJ$159:CJ$208)))","v":""},{"$f":"IF('TABLA DE DECISION'!CK170=\"\",\"\",IF('TABLA DE DECISION'!$A$156=1,MAX('TABLA DE DECISION'!CK$159:CK$208)-'TABLA DE DECISION'!CK170,'TABLA DE DECISION'!CK170-MIN('TABLA DE DECISION'!CK$159:CK$208)))","v":""},{"$f":"IF('TABLA DE DECISION'!CL170=\"\",\"\",IF('TABLA DE DECISION'!$A$156=1,MAX('TABLA DE DECISION'!CL$159:CL$208)-'TABLA DE DECISION'!CL170,'TABLA DE DECISION'!CL170-MIN('TABLA DE DECISION'!CL$159:CL$208)))","v":""},{"$f":"IF('TABLA DE DECISION'!CM170=\"\",\"\",IF('TABLA DE DECISION'!$A$156=1,MAX('TABLA DE DECISION'!CM$159:CM$208)-'TABLA DE DECISION'!CM170,'TABLA DE DECISION'!CM170-MIN('TABLA DE DECISION'!CM$159:CM$208)))","v":""},{"$f":"IF('TABLA DE DECISION'!CN170=\"\",\"\",IF('TABLA DE DECISION'!$A$156=1,MAX('TABLA DE DECISION'!CN$159:CN$208)-'TABLA DE DECISION'!CN170,'TABLA DE DECISION'!CN170-MIN('TABLA DE DECISION'!CN$159:CN$208)))","v":""},{"$f":"IF('TABLA DE DECISION'!CO170=\"\",\"\",IF('TABLA DE DECISION'!$A$156=1,MAX('TABLA DE DECISION'!CO$159:CO$208)-'TABLA DE DECISION'!CO170,'TABLA DE DECISION'!CO170-MIN('TABLA DE DECISION'!CO$159:CO$208)))","v":""},{"$f":"IF('TABLA DE DECISION'!CP170=\"\",\"\",IF('TABLA DE DECISION'!$A$156=1,MAX('TABLA DE DECISION'!CP$159:CP$208)-'TABLA DE DECISION'!CP170,'TABLA DE DECISION'!CP170-MIN('TABLA DE DECISION'!CP$159:CP$208)))","v":""},{"$f":"IF('TABLA DE DECISION'!CQ170=\"\",\"\",IF('TABLA DE DECISION'!$A$156=1,MAX('TABLA DE DECISION'!CQ$159:CQ$208)-'TABLA DE DECISION'!CQ170,'TABLA DE DECISION'!CQ170-MIN('TABLA DE DECISION'!CQ$159:CQ$208)))","v":""},{"$f":"IF('TABLA DE DECISION'!CR170=\"\",\"\",IF('TABLA DE DECISION'!$A$156=1,MAX('TABLA DE DECISION'!CR$159:CR$208)-'TABLA DE DECISION'!CR170,'TABLA DE DECISION'!CR170-MIN('TABLA DE DECISION'!CR$159:CR$208)))","v":""},{"$f":"IF('TABLA DE DECISION'!CS170=\"\",\"\",IF('TABLA DE DECISION'!$A$156=1,MAX('TABLA DE DECISION'!CS$159:CS$208)-'TABLA DE DECISION'!CS170,'TABLA DE DECISION'!CS170-MIN('TABLA DE DECISION'!CS$159:CS$208)))","v":""},{"$f":"IF('TABLA DE DECISION'!CT170=\"\",\"\",IF('TABLA DE DECISION'!$A$156=1,MAX('TABLA DE DECISION'!CT$159:CT$208)-'TABLA DE DECISION'!CT170,'TABLA DE DECISION'!CT170-MIN('TABLA DE DECISION'!CT$159:CT$208)))","v":""},{"$f":"IF('TABLA DE DECISION'!CU170=\"\",\"\",IF('TABLA DE DECISION'!$A$156=1,MAX('TABLA DE DECISION'!CU$159:CU$208)-'TABLA DE DECISION'!CU170,'TABLA DE DECISION'!CU170-MIN('TABLA DE DECISION'!CU$159:CU$208)))","v":""},{"$f":"IF('TABLA DE DECISION'!CV170=\"\",\"\",IF('TABLA DE DECISION'!$A$156=1,MAX('TABLA DE DECISION'!CV$159:CV$208)-'TABLA DE DECISION'!CV170,'TABLA DE DECISION'!CV170-MIN('TABLA DE DECISION'!CV$159:CV$208)))","v":""},{"$f":"IF('TABLA DE DECISION'!CW170=\"\",\"\",IF('TABLA DE DECISION'!$A$156=1,MAX('TABLA DE DECISION'!CW$159:CW$208)-'TABLA DE DECISION'!CW170,'TABLA DE DECISION'!CW170-MIN('TABLA DE DECISION'!CW$159:CW$208)))","v":""},{"$f":"IF('TABLA DE DECISION'!CX170=\"\",\"\",IF('TABLA DE DECISION'!$A$156=1,MAX('TABLA DE DECISION'!CX$159:CX$208)-'TABLA DE DECISION'!CX170,'TABLA DE DECISION'!CX170-MIN('TABLA DE DECISION'!CX$159:CX$208)))","v":""},{"$f":"IF('TABLA DE DECISION'!CY170=\"\",\"\",IF('TABLA DE DECISION'!$A$156=1,MAX('TABLA DE DECISION'!CY$159:CY$208)-'TABLA DE DECISION'!CY170,'TABLA DE DECISION'!CY170-MIN('TABLA DE DECISION'!CY$159:CY$208)))","v":""},{"$f":"IF('TABLA DE DECISION'!CZ170=\"\",\"\",IF('TABLA DE DECISION'!$A$156=1,MAX('TABLA DE DECISION'!CZ$159:CZ$208)-'TABLA DE DECISION'!CZ170,'TABLA DE DECISION'!CZ170-MIN('TABLA DE DECISION'!CZ$159:CZ$208)))","v":""},{"$f":"IF('TABLA DE DECISION'!DA170=\"\",\"\",IF('TABLA DE DECISION'!$A$156=1,MAX('TABLA DE DECISION'!DA$159:DA$208)-'TABLA DE DECISION'!DA170,'TABLA DE DECISION'!DA170-MIN('TABLA DE DECISION'!DA$159:DA$208)))","v":""},{"$f":"IF('TABLA DE DECISION'!DB170=\"\",\"\",IF('TABLA DE DECISION'!$A$156=1,MAX('TABLA DE DECISION'!DB$159:DB$208)-'TABLA DE DECISION'!DB170,'TABLA DE DECISION'!DB170-MIN('TABLA DE DECISION'!DB$159:DB$208)))","v":""},{"$f":"IF('TABLA DE DECISION'!DC170=\"\",\"\",IF('TABLA DE DECISION'!$A$156=1,MAX('TABLA DE DECISION'!DC$159:DC$208)-'TABLA DE DECISION'!DC170,'TABLA DE DECISION'!DC170-MIN('TABLA DE DECISION'!DC$159:DC$208)))","v":""},{"$f":"IF('TABLA DE DECISION'!DD170=\"\",\"\",IF('TABLA DE DECISION'!$A$156=1,MAX('TABLA DE DECISION'!DD$159:DD$208)-'TABLA DE DECISION'!DD170,'TABLA DE DECISION'!DD170-MIN('TABLA DE DECISION'!DD$159:DD$208)))","v":""},{"$f":"IF('TABLA DE DECISION'!DE170=\"\",\"\",IF('TABLA DE DECISION'!$A$156=1,MAX('TABLA DE DECISION'!DE$159:DE$208)-'TABLA DE DECISION'!DE170,'TABLA DE DECISION'!DE170-MIN('TABLA DE DECISION'!DE$159:DE$208)))","v":""},null,{"$f":"IF(C14=\"\",\"\",SUMPRODUCT(C14:AZ14,'TABLA DE DECISION'!BH$156:DE$156))","v":""}]
[{"$f":"IF('TABLA DE DECISION'!BF171=\"\",\"\",'TABLA DE DECISION'!BF171)","v":""},{"$f":"IF('TABLA DE DECISION'!BG171=\"\",\"\",'TABLA DE DECISION'!BG171)","v":"a13"},{"$f":"IF('TABLA DE DECISION'!BH171=\"\",\"\",IF('TABLA DE DECISION'!$A$156=1,MAX('TABLA DE DECISION'!BH$159:BH$208)-'TABLA DE DECISION'!BH171,'TABLA DE DECISION'!BH171-MIN('TABLA DE DECISION'!BH$159:BH$208)))","v":""},{"$f":"IF('TABLA DE DECISION'!BI171=\"\",\"\",IF('TABLA DE DECISION'!$A$156=1,MAX('TABLA DE DECISION'!BI$159:BI$208)-'TABLA DE DECISION'!BI171,'TABLA DE DECISION'!BI171-MIN('TABLA DE DECISION'!BI$159:BI$208)))","v":""},{"$f":"IF('TABLA DE DECISION'!BJ171=\"\",\"\",IF('TABLA DE DECISION'!$A$156=1,MAX('TABLA DE DECISION'!BJ$159:BJ$208)-'TABLA DE DECISION'!BJ171,'TABLA DE DECISION'!BJ171-MIN('TABLA DE DECISION'!BJ$159:BJ$208)))","v":""},{"$f":"IF('TABLA DE DECISION'!BK171=\"\",\"\",IF('TABLA DE DECISION'!$A$156=1,MAX('TABLA DE DECISION'!BK$159:BK$208)-'TABLA DE DECISION'!BK171,'TABLA DE DECISION'!BK171-MIN('TABLA DE DECISION'!BK$159:BK$208)))","v":""},{"$f":"IF('TABLA DE DECISION'!BL171=\"\",\"\",IF('TABLA DE DECISION'!$A$156=1,MAX('TABLA DE DECISION'!BL$159:BL$208)-'TABLA DE DECISION'!BL171,'TABLA DE DECISION'!BL171-MIN('TABLA DE DECISION'!BL$159:BL$208)))","v":""},{"$f":"IF('TABLA DE DECISION'!BM171=\"\",\"\",IF('TABLA DE DECISION'!$A$156=1,MAX('TABLA DE DECISION'!BM$159:BM$208)-'TABLA DE DECISION'!BM171,'TABLA DE DECISION'!BM171-MIN('TABLA DE DECISION'!BM$159:BM$208)))","v":""},{"$f":"IF('TABLA DE DECISION'!BN171=\"\",\"\",IF('TABLA DE DECISION'!$A$156=1,MAX('TABLA DE DECISION'!BN$159:BN$208)-'TABLA DE DECISION'!BN171,'TABLA DE DECISION'!BN171-MIN('TABLA DE DECISION'!BN$159:BN$208)))","v":""},{"$f":"IF('TABLA DE DECISION'!BO171=\"\",\"\",IF('TABLA DE DECISION'!$A$156=1,MAX('TABLA DE DECISION'!BO$159:BO$208)-'TABLA DE DECISION'!BO171,'TABLA DE DECISION'!BO171-MIN('TABLA DE DECISION'!BO$159:BO$208)))","v":""},{"$f":"IF('TABLA DE DECISION'!BP171=\"\",\"\",IF('TABLA DE DECISION'!$A$156=1,MAX('TABLA DE DECISION'!BP$159:BP$208)-'TABLA DE DECISION'!BP171,'TABLA DE DECISION'!BP171-MIN('TABLA DE DECISION'!BP$159:BP$208)))","v":""},{"$f":"IF('TABLA DE DECISION'!BQ171=\"\",\"\",IF('TABLA DE DECISION'!$A$156=1,MAX('TABLA DE DECISION'!BQ$159:BQ$208)-'TABLA DE DECISION'!BQ171,'TABLA DE DECISION'!BQ171-MIN('TABLA DE DECISION'!BQ$159:BQ$208)))","v":""},{"$f":"IF('TABLA DE DECISION'!BR171=\"\",\"\",IF('TABLA DE DECISION'!$A$156=1,MAX('TABLA DE DECISION'!BR$159:BR$208)-'TABLA DE DECISION'!BR171,'TABLA DE DECISION'!BR171-MIN('TABLA DE DECISION'!BR$159:BR$208)))","v":""},{"$f":"IF('TABLA DE DECISION'!BS171=\"\",\"\",IF('TABLA DE DECISION'!$A$156=1,MAX('TABLA DE DECISION'!BS$159:BS$208)-'TABLA DE DECISION'!BS171,'TABLA DE DECISION'!BS171-MIN('TABLA DE DECISION'!BS$159:BS$208)))","v":""},{"$f":"IF('TABLA DE DECISION'!BT171=\"\",\"\",IF('TABLA DE DECISION'!$A$156=1,MAX('TABLA DE DECISION'!BT$159:BT$208)-'TABLA DE DECISION'!BT171,'TABLA DE DECISION'!BT171-MIN('TABLA DE DECISION'!BT$159:BT$208)))","v":""},{"$f":"IF('TABLA DE DECISION'!BU171=\"\",\"\",IF('TABLA DE DECISION'!$A$156=1,MAX('TABLA DE DECISION'!BU$159:BU$208)-'TABLA DE DECISION'!BU171,'TABLA DE DECISION'!BU171-MIN('TABLA DE DECISION'!BU$159:BU$208)))","v":""},{"$f":"IF('TABLA DE DECISION'!BV171=\"\",\"\",IF('TABLA DE DECISION'!$A$156=1,MAX('TABLA DE DECISION'!BV$159:BV$208)-'TABLA DE DECISION'!BV171,'TABLA DE DECISION'!BV171-MIN('TABLA DE DECISION'!BV$159:BV$208)))","v":""},{"$f":"IF('TABLA DE DECISION'!BW171=\"\",\"\",IF('TABLA DE DECISION'!$A$156=1,MAX('TABLA DE DECISION'!BW$159:BW$208)-'TABLA DE DECISION'!BW171,'TABLA DE DECISION'!BW171-MIN('TABLA DE DECISION'!BW$159:BW$208)))","v":""},{"$f":"IF('TABLA DE DECISION'!BX171=\"\",\"\",IF('TABLA DE DECISION'!$A$156=1,MAX('TABLA DE DECISION'!BX$159:BX$208)-'TABLA DE DECISION'!BX171,'TABLA DE DECISION'!BX171-MIN('TABLA DE DECISION'!BX$159:BX$208)))","v":""},{"$f":"IF('TABLA DE DECISION'!BY171=\"\",\"\",IF('TABLA DE DECISION'!$A$156=1,MAX('TABLA DE DECISION'!BY$159:BY$208)-'TABLA DE DECISION'!BY171,'TABLA DE DECISION'!BY171-MIN('TABLA DE DECISION'!BY$159:BY$208)))","v":""},{"$f":"IF('TABLA DE DECISION'!BZ171=\"\",\"\",IF('TABLA DE DECISION'!$A$156=1,MAX('TABLA DE DECISION'!BZ$159:BZ$208)-'TABLA DE DECISION'!BZ171,'TABLA DE DECISION'!BZ171-MIN('TABLA DE DECISION'!BZ$159:BZ$208)))","v":""},{"$f":"IF('TABLA DE DECISION'!CA171=\"\",\"\",IF('TABLA DE DECISION'!$A$156=1,MAX('TABLA DE DECISION'!CA$159:CA$208)-'TABLA DE DECISION'!CA171,'TABLA DE DECISION'!CA171-MIN('TABLA DE DECISION'!CA$159:CA$208)))","v":""},{"$f":"IF('TABLA DE DECISION'!CB171=\"\",\"\",IF('TABLA DE DECISION'!$A$156=1,MAX('TABLA DE DECISION'!CB$159:CB$208)-'TABLA DE DECISION'!CB171,'TABLA DE DECISION'!CB171-MIN('TABLA DE DECISION'!CB$159:CB$208)))","v":""},{"$f":"IF('TABLA DE DECISION'!CC171=\"\",\"\",IF('TABLA DE DECISION'!$A$156=1,MAX('TABLA DE DECISION'!CC$159:CC$208)-'TABLA DE DECISION'!CC171,'TABLA DE DECISION'!CC171-MIN('TABLA DE DECISION'!CC$159:CC$208)))","v":""},{"$f":"IF('TABLA DE DECISION'!CD171=\"\",\"\",IF('TABLA DE DECISION'!$A$156=1,MAX('TABLA DE DECISION'!CD$159:CD$208)-'TABLA DE DECISION'!CD171,'TABLA DE DECISION'!CD171-MIN('TABLA DE DECISION'!CD$159:CD$208)))","v":""},{"$f":"IF('TABLA DE DECISION'!CE171=\"\",\"\",IF('TABLA DE DECISION'!$A$156=1,MAX('TABLA DE DECISION'!CE$159:CE$208)-'TABLA DE DECISION'!CE171,'TABLA DE DECISION'!CE171-MIN('TABLA DE DECISION'!CE$159:CE$208)))","v":""},{"$f":"IF('TABLA DE DECISION'!CF171=\"\",\"\",IF('TABLA DE DECISION'!$A$156=1,MAX('TABLA DE DECISION'!CF$159:CF$208)-'TABLA DE DECISION'!CF171,'TABLA DE DECISION'!CF171-MIN('TABLA DE DECISION'!CF$159:CF$208)))","v":""},{"$f":"IF('TABLA DE DECISION'!CG171=\"\",\"\",IF('TABLA DE DECISION'!$A$156=1,MAX('TABLA DE DECISION'!CG$159:CG$208)-'TABLA DE DECISION'!CG171,'TABLA DE DECISION'!CG171-MIN('TABLA DE DECISION'!CG$159:CG$208)))","v":""},{"$f":"IF('TABLA DE DECISION'!CH171=\"\",\"\",IF('TABLA DE DECISION'!$A$156=1,MAX('TABLA DE DECISION'!CH$159:CH$208)-'TABLA DE DECISION'!CH171,'TABLA DE DECISION'!CH171-MIN('TABLA DE DECISION'!CH$159:CH$208)))","v":""},{"$f":"IF('TABLA DE DECISION'!CI171=\"\",\"\",IF('TABLA DE DECISION'!$A$156=1,MAX('TABLA DE DECISION'!CI$159:CI$208)-'TABLA DE DECISION'!CI171,'TABLA DE DECISION'!CI171-MIN('TABLA DE DECISION'!CI$159:CI$208)))","v":""},{"$f":"IF('TABLA DE DECISION'!CJ171=\"\",\"\",IF('TABLA DE DECISION'!$A$156=1,MAX('TABLA DE DECISION'!CJ$159:CJ$208)-'TABLA DE DECISION'!CJ171,'TABLA DE DECISION'!CJ171-MIN('TABLA DE DECISION'!CJ$159:CJ$208)))","v":""},{"$f":"IF('TABLA DE DECISION'!CK171=\"\",\"\",IF('TABLA DE DECISION'!$A$156=1,MAX('TABLA DE DECISION'!CK$159:CK$208)-'TABLA DE DECISION'!CK171,'TABLA DE DECISION'!CK171-MIN('TABLA DE DECISION'!CK$159:CK$208)))","v":""},{"$f":"IF('TABLA DE DECISION'!CL171=\"\",\"\",IF('TABLA DE DECISION'!$A$156=1,MAX('TABLA DE DECISION'!CL$159:CL$208)-'TABLA DE DECISION'!CL171,'TABLA DE DECISION'!CL171-MIN('TABLA DE DECISION'!CL$159:CL$208)))","v":""},{"$f":"IF('TABLA DE DECISION'!CM171=\"\",\"\",IF('TABLA DE DECISION'!$A$156=1,MAX('TABLA DE DECISION'!CM$159:CM$208)-'TABLA DE DECISION'!CM171,'TABLA DE DECISION'!CM171-MIN('TABLA DE DECISION'!CM$159:CM$208)))","v":""},{"$f":"IF('TABLA DE DECISION'!CN171=\"\",\"\",IF('TABLA DE DECISION'!$A$156=1,MAX('TABLA DE DECISION'!CN$159:CN$208)-'TABLA DE DECISION'!CN171,'TABLA DE DECISION'!CN171-MIN('TABLA DE DECISION'!CN$159:CN$208)))","v":""},{"$f":"IF('TABLA DE DECISION'!CO171=\"\",\"\",IF('TABLA DE DECISION'!$A$156=1,MAX('TABLA DE DECISION'!CO$159:CO$208)-'TABLA DE DECISION'!CO171,'TABLA DE DECISION'!CO171-MIN('TABLA DE DECISION'!CO$159:CO$208)))","v":""},{"$f":"IF('TABLA DE DECISION'!CP171=\"\",\"\",IF('TABLA DE DECISION'!$A$156=1,MAX('TABLA DE DECISION'!CP$159:CP$208)-'TABLA DE DECISION'!CP171,'TABLA DE DECISION'!CP171-MIN('TABLA DE DECISION'!CP$159:CP$208)))","v":""},{"$f":"IF('TABLA DE DECISION'!CQ171=\"\",\"\",IF('TABLA DE DECISION'!$A$156=1,MAX('TABLA DE DECISION'!CQ$159:CQ$208)-'TABLA DE DECISION'!CQ171,'TABLA DE DECISION'!CQ171-MIN('TABLA DE DECISION'!CQ$159:CQ$208)))","v":""},{"$f":"IF('TABLA DE DECISION'!CR171=\"\",\"\",IF('TABLA DE DECISION'!$A$156=1,MAX('TABLA DE DECISION'!CR$159:CR$208)-'TABLA DE DECISION'!CR171,'TABLA DE DECISION'!CR171-MIN('TABLA DE DECISION'!CR$159:CR$208)))","v":""},{"$f":"IF('TABLA DE DECISION'!CS171=\"\",\"\",IF('TABLA DE DECISION'!$A$156=1,MAX('TABLA DE DECISION'!CS$159:CS$208)-'TABLA DE DECISION'!CS171,'TABLA DE DECISION'!CS171-MIN('TABLA DE DECISION'!CS$159:CS$208)))","v":""},{"$f":"IF('TABLA DE DECISION'!CT171=\"\",\"\",IF('TABLA DE DECISION'!$A$156=1,MAX('TABLA DE DECISION'!CT$159:CT$208)-'TABLA DE DECISION'!CT171,'TABLA DE DECISION'!CT171-MIN('TABLA DE DECISION'!CT$159:CT$208)))","v":""},{"$f":"IF('TABLA DE DECISION'!CU171=\"\",\"\",IF('TABLA DE DECISION'!$A$156=1,MAX('TABLA DE DECISION'!CU$159:CU$208)-'TABLA DE DECISION'!CU171,'TABLA DE DECISION'!CU171-MIN('TABLA DE DECISION'!CU$159:CU$208)))","v":""},{"$f":"IF('TABLA DE DECISION'!CV171=\"\",\"\",IF('TABLA DE DECISION'!$A$156=1,MAX('TABLA DE DECISION'!CV$159:CV$208)-'TABLA DE DECISION'!CV171,'TABLA DE DECISION'!CV171-MIN('TABLA DE DECISION'!CV$159:CV$208)))","v":""},{"$f":"IF('TABLA DE DECISION'!CW171=\"\",\"\",IF('TABLA DE DECISION'!$A$156=1,MAX('TABLA DE DECISION'!CW$159:CW$208)-'TABLA DE DECISION'!CW171,'TABLA DE DECISION'!CW171-MIN('TABLA DE DECISION'!CW$159:CW$208)))","v":""},{"$f":"IF('TABLA DE DECISION'!CX171=\"\",\"\",IF('TABLA DE DECISION'!$A$156=1,MAX('TABLA DE DECISION'!CX$159:CX$208)-'TABLA DE DECISION'!CX171,'TABLA DE DECISION'!CX171-MIN('TABLA DE DECISION'!CX$159:CX$208)))","v":""},{"$f":"IF('TABLA DE DECISION'!CY171=\"\",\"\",IF('TABLA DE DECISION'!$A$156=1,MAX('TABLA DE DECISION'!CY$159:CY$208)-'TABLA DE DECISION'!CY171,'TABLA DE DECISION'!CY171-MIN('TABLA DE DECISION'!CY$159:CY$208)))","v":""},{"$f":"IF('TABLA DE DECISION'!CZ171=\"\",\"\",IF('TABLA DE DECISION'!$A$156=1,MAX('TABLA DE DECISION'!CZ$159:CZ$208)-'TABLA DE DECISION'!CZ171,'TABLA DE DECISION'!CZ171-MIN('TABLA DE DECISION'!CZ$159:CZ$208)))","v":""},{"$f":"IF('TABLA DE DECISION'!DA171=\"\",\"\",IF('TABLA DE DECISION'!$A$156=1,MAX('TABLA DE DECISION'!DA$159:DA$208)-'TABLA DE DECISION'!DA171,'TABLA DE DECISION'!DA171-MIN('TABLA DE DECISION'!DA$159:DA$208)))","v":""},{"$f":"IF('TABLA DE DECISION'!DB171=\"\",\"\",IF('TABLA DE DECISION'!$A$156=1,MAX('TABLA DE DECISION'!DB$159:DB$208)-'TABLA DE DECISION'!DB171,'TABLA DE DECISION'!DB171-MIN('TABLA DE DECISION'!DB$159:DB$208)))","v":""},{"$f":"IF('TABLA DE DECISION'!DC171=\"\",\"\",IF('TABLA DE DECISION'!$A$156=1,MAX('TABLA DE DECISION'!DC$159:DC$208)-'TABLA DE DECISION'!DC171,'TABLA DE DECISION'!DC171-MIN('TABLA DE DECISION'!DC$159:DC$208)))","v":""},{"$f":"IF('TABLA DE DECISION'!DD171=\"\",\"\",IF('TABLA DE DECISION'!$A$156=1,MAX('TABLA DE DECISION'!DD$159:DD$208)-'TABLA DE DECISION'!DD171,'TABLA DE DECISION'!DD171-MIN('TABLA DE DECISION'!DD$159:DD$208)))","v":""},{"$f":"IF('TABLA DE DECISION'!DE171=\"\",\"\",IF('TABLA DE DECISION'!$A$156=1,MAX('TABLA DE DECISION'!DE$159:DE$208)-'TABLA DE DECISION'!DE171,'TABLA DE DECISION'!DE171-MIN('TABLA DE DECISION'!DE$159:DE$208)))","v":""},null,{"$f":"IF(C15=\"\",\"\",SUMPRODUCT(C15:AZ15,'TABLA DE DECISION'!BH$156:DE$156))","v":""}]
[{"$f":"IF('TABLA DE DECISION'!BF172=\"\",\"\",'TABLA DE DECISION'!BF172)","v":""},{"$f":"IF('TABLA DE DECISION'!BG172=\"\",\"\",'TABLA DE DECISION'!BG172)","v":"a14"},{"$f":"IF('TABLA DE DECISION'!BH172=\"\",\"\",IF('TABLA DE DECISION'!$A$156=1,MAX('TABLA DE DECISION'!BH$159:BH$208)-'TABLA DE DECISION'!BH172,'TABLA DE DECISION'!BH172-MIN('TABLA DE DECISION'!BH$159:BH$208)))","v":""},{"$f":"IF('TABLA DE DECISION'!BI172=\"\",\"\",IF('TABLA DE DECISION'!$A$156=1,MAX('TABLA DE DECISION'!BI$159:BI$208)-'TABLA DE DECISION'!BI172,'TABLA DE DECISION'!BI172-MIN('TABLA DE DECISION'!BI$159:BI$208)))","v":""},{"$f":"IF('TABLA DE DECISION'!BJ172=\"\",\"\",IF('TABLA DE DECISION'!$A$156=1,MAX('TABLA DE DECISION'!BJ$159:BJ$208)-'TABLA DE DECISION'!BJ172,'TABLA DE DECISION'!BJ172-MIN('TABLA DE DECISION'!BJ$159:BJ$208)))","v":""},{"$f":"IF('TABLA DE DECISION'!BK172=\"\",\"\",IF('TABLA DE DECISION'!$A$156=1,MAX('TABLA DE DECISION'!BK$159:BK$208)-'TABLA DE DECISION'!BK172,'TABLA DE DECISION'!BK172-MIN('TABLA DE DECISION'!BK$159:BK$208)))","v":""},{"$f":"IF('TABLA DE DECISION'!BL172=\"\",\"\",IF('TABLA DE DECISION'!$A$156=1,MAX('TABLA DE DECISION'!BL$159:BL$208)-'TABLA DE DECISION'!BL172,'TABLA DE DECISION'!BL172-MIN('TABLA DE DECISION'!BL$159:BL$208)))","v":""},{"$f":"IF('TABLA DE DECISION'!BM172=\"\",\"\",IF('TABLA DE DECISION'!$A$156=1,MAX('TABLA DE DECISION'!BM$159:BM$208)-'TABLA DE DECISION'!BM172,'TABLA DE DECISION'!BM172-MIN('TABLA DE DECISION'!BM$159:BM$208)))","v":""},{"$f":"IF('TABLA DE DECISION'!BN172=\"\",\"\",IF('TABLA DE DECISION'!$A$156=1,MAX('TABLA DE DECISION'!BN$159:BN$208)-'TABLA DE DECISION'!BN172,'TABLA DE DECISION'!BN172-MIN('TABLA DE DECISION'!BN$159:BN$208)))","v":""},{"$f":"IF('TABLA DE DECISION'!BO172=\"\",\"\",IF('TABLA DE DECISION'!$A$156=1,MAX('TABLA DE DECISION'!BO$159:BO$208)-'TABLA DE DECISION'!BO172,'TABLA DE DECISION'!BO172-MIN('TABLA DE DECISION'!BO$159:BO$208)))","v":""},{"$f":"IF('TABLA DE DECISION'!BP172=\"\",\"\",IF('TABLA DE DECISION'!$A$156=1,MAX('TABLA DE DECISION'!BP$159:BP$208)-'TABLA DE DECISION'!BP172,'TABLA DE DECISION'!BP172-MIN('TABLA DE DECISION'!BP$159:BP$208)))","v":""},{"$f":"IF('TABLA DE DECISION'!BQ172=\"\",\"\",IF('TABLA DE DECISION'!$A$156=1,MAX('TABLA DE DECISION'!BQ$159:BQ$208)-'TABLA DE DECISION'!BQ172,'TABLA DE DECISION'!BQ172-MIN('TABLA DE DECISION'!BQ$159:BQ$208)))","v":""},{"$f":"IF('TABLA DE DECISION'!BR172=\"\",\"\",IF('TABLA DE DECISION'!$A$156=1,MAX('TABLA DE DECISION'!BR$159:BR$208)-'TABLA DE DECISION'!BR172,'TABLA DE DECISION'!BR172-MIN('TABLA DE DECISION'!BR$159:BR$208)))","v":""},{"$f":"IF('TABLA DE DECISION'!BS172=\"\",\"\",IF('TABLA DE DECISION'!$A$156=1,MAX('TABLA DE DECISION'!BS$159:BS$208)-'TABLA DE DECISION'!BS172,'TABLA DE DECISION'!BS172-MIN('TABLA DE DECISION'!BS$159:BS$208)))","v":""},{"$f":"IF('TABLA DE DECISION'!BT172=\"\",\"\",IF('TABLA DE DECISION'!$A$156=1,MAX('TABLA DE DECISION'!BT$159:BT$208)-'TABLA DE DECISION'!BT172,'TABLA DE DECISION'!BT172-MIN('TABLA DE DECISION'!BT$159:BT$208)))","v":""},{"$f":"IF('TABLA DE DECISION'!BU172=\"\",\"\",IF('TABLA DE DECISION'!$A$156=1,MAX('TABLA DE DECISION'!BU$159:BU$208)-'TABLA DE DECISION'!BU172,'TABLA DE DECISION'!BU172-MIN('TABLA DE DECISION'!BU$159:BU$208)))","v":""},{"$f":"IF('TABLA DE DECISION'!BV172=\"\",\"\",IF('TABLA DE DECISION'!$A$156=1,MAX('TABLA DE DECISION'!BV$159:BV$208)-'TABLA DE DECISION'!BV172,'TABLA DE DECISION'!BV172-MIN('TABLA DE DECISION'!BV$159:BV$208)))","v":""},{"$f":"IF('TABLA DE DECISION'!BW172=\"\",\"\",IF('TABLA DE DECISION'!$A$156=1,MAX('TABLA DE DECISION'!BW$159:BW$208)-'TABLA DE DECISION'!BW172,'TABLA DE DECISION'!BW172-MIN('TABLA DE DECISION'!BW$159:BW$208)))","v":""},{"$f":"IF('TABLA DE DECISION'!BX172=\"\",\"\",IF('TABLA DE DECISION'!$A$156=1,MAX('TABLA DE DECISION'!BX$159:BX$208)-'TABLA DE DECISION'!BX172,'TABLA DE DECISION'!BX172-MIN('TABLA DE DECISION'!BX$159:BX$208)))","v":""},{"$f":"IF('TABLA DE DECISION'!BY172=\"\",\"\",IF('TABLA DE DECISION'!$A$156=1,MAX('TABLA DE DECISION'!BY$159:BY$208)-'TABLA DE DECISION'!BY172,'TABLA DE DECISION'!BY172-MIN('TABLA DE DECISION'!BY$159:BY$208)))","v":""},{"$f":"IF('TABLA DE DECISION'!BZ172=\"\",\"\",IF('TABLA DE DECISION'!$A$156=1,MAX('TABLA DE DECISION'!BZ$159:BZ$208)-'TABLA DE DECISION'!BZ172,'TABLA DE DECISION'!BZ172-MIN('TABLA DE DECISION'!BZ$159:BZ$208)))","v":""},{"$f":"IF('TABLA DE DECISION'!CA172=\"\",\"\",IF('TABLA DE DECISION'!$A$156=1,MAX('TABLA DE DECISION'!CA$159:CA$208)-'TABLA DE DECISION'!CA172,'TABLA DE DECISION'!CA172-MIN('TABLA DE DECISION'!CA$159:CA$208)))","v":""},{"$f":"IF('TABLA DE DECISION'!CB172=\"\",\"\",IF('TABLA DE DECISION'!$A$156=1,MAX('TABLA DE DECISION'!CB$159:CB$208)-'TABLA DE DECISION'!CB172,'TABLA DE DECISION'!CB172-MIN('TABLA DE DECISION'!CB$159:CB$208)))","v":""},{"$f":"IF('TABLA DE DECISION'!CC172=\"\",\"\",IF('TABLA DE DECISION'!$A$156=1,MAX('TABLA DE DECISION'!CC$159:CC$208)-'TABLA DE DECISION'!CC172,'TABLA DE DECISION'!CC172-MIN('TABLA DE DECISION'!CC$159:CC$208)))","v":""},{"$f":"IF('TABLA DE DECISION'!CD172=\"\",\"\",IF('TABLA DE DECISION'!$A$156=1,MAX('TABLA DE DECISION'!CD$159:CD$208)-'TABLA DE DECISION'!CD172,'TABLA DE DECISION'!CD172-MIN('TABLA DE DECISION'!CD$159:CD$208)))","v":""},{"$f":"IF('TABLA DE DECISION'!CE172=\"\",\"\",IF('TABLA DE DECISION'!$A$156=1,MAX('TABLA DE DECISION'!CE$159:CE$208)-'TABLA DE DECISION'!CE172,'TABLA DE DECISION'!CE172-MIN('TABLA DE DECISION'!CE$159:CE$208)))","v":""},{"$f":"IF('TABLA DE DECISION'!CF172=\"\",\"\",IF('TABLA DE DECISION'!$A$156=1,MAX('TABLA DE DECISION'!CF$159:CF$208)-'TABLA DE DECISION'!CF172,'TABLA DE DECISION'!CF172-MIN('TABLA DE DECISION'!CF$159:CF$208)))","v":""},{"$f":"IF('TABLA DE DECISION'!CG172=\"\",\"\",IF('TABLA DE DECISION'!$A$156=1,MAX('TABLA DE DECISION'!CG$159:CG$208)-'TABLA DE DECISION'!CG172,'TABLA DE DECISION'!CG172-MIN('TABLA DE DECISION'!CG$159:CG$208)))","v":""},{"$f":"IF('TABLA DE DECISION'!CH172=\"\",\"\",IF('TABLA DE DECISION'!$A$156=1,MAX('TABLA DE DECISION'!CH$159:CH$208)-'TABLA DE DECISION'!CH172,'TABLA DE DECISION'!CH172-MIN('TABLA DE DECISION'!CH$159:CH$208)))","v":""},{"$f":"IF('TABLA DE DECISION'!CI172=\"\",\"\",IF('TABLA DE DECISION'!$A$156=1,MAX('TABLA DE DECISION'!CI$159:CI$208)-'TABLA DE DECISION'!CI172,'TABLA DE DECISION'!CI172-MIN('TABLA DE DECISION'!CI$159:CI$208)))","v":""},{"$f":"IF('TABLA DE DECISION'!CJ172=\"\",\"\",IF('TABLA DE DECISION'!$A$156=1,MAX('TABLA DE DECISION'!CJ$159:CJ$208)-'TABLA DE DECISION'!CJ172,'TABLA DE DECISION'!CJ172-MIN('TABLA DE DECISION'!CJ$159:CJ$208)))","v":""},{"$f":"IF('TABLA DE DECISION'!CK172=\"\",\"\",IF('TABLA DE DECISION'!$A$156=1,MAX('TABLA DE DECISION'!CK$159:CK$208)-'TABLA DE DECISION'!CK172,'TABLA DE DECISION'!CK172-MIN('TABLA DE DECISION'!CK$159:CK$208)))","v":""},{"$f":"IF('TABLA DE DECISION'!CL172=\"\",\"\",IF('TABLA DE DECISION'!$A$156=1,MAX('TABLA DE DECISION'!CL$159:CL$208)-'TABLA DE DECISION'!CL172,'TABLA DE DECISION'!CL172-MIN('TABLA DE DECISION'!CL$159:CL$208)))","v":""},{"$f":"IF('TABLA DE DECISION'!CM172=\"\",\"\",IF('TABLA DE DECISION'!$A$156=1,MAX('TABLA DE DECISION'!CM$159:CM$208)-'TABLA DE DECISION'!CM172,'TABLA DE DECISION'!CM172-MIN('TABLA DE DECISION'!CM$159:CM$208)))","v":""},{"$f":"IF('TABLA DE DECISION'!CN172=\"\",\"\",IF('TABLA DE DECISION'!$A$156=1,MAX('TABLA DE DECISION'!CN$159:CN$208)-'TABLA DE DECISION'!CN172,'TABLA DE DECISION'!CN172-MIN('TABLA DE DECISION'!CN$159:CN$208)))","v":""},{"$f":"IF('TABLA DE DECISION'!CO172=\"\",\"\",IF('TABLA DE DECISION'!$A$156=1,MAX('TABLA DE DECISION'!CO$159:CO$208)-'TABLA DE DECISION'!CO172,'TABLA DE DECISION'!CO172-MIN('TABLA DE DECISION'!CO$159:CO$208)))","v":""},{"$f":"IF('TABLA DE DECISION'!CP172=\"\",\"\",IF('TABLA DE DECISION'!$A$156=1,MAX('TABLA DE DECISION'!CP$159:CP$208)-'TABLA DE DECISION'!CP172,'TABLA DE DECISION'!CP172-MIN('TABLA DE DECISION'!CP$159:CP$208)))","v":""},{"$f":"IF('TABLA DE DECISION'!CQ172=\"\",\"\",IF('TABLA DE DECISION'!$A$156=1,MAX('TABLA DE DECISION'!CQ$159:CQ$208)-'TABLA DE DECISION'!CQ172,'TABLA DE DECISION'!CQ172-MIN('TABLA DE DECISION'!CQ$159:CQ$208)))","v":""},{"$f":"IF('TABLA DE DECISION'!CR172=\"\",\"\",IF('TABLA DE DECISION'!$A$156=1,MAX('TABLA DE DECISION'!CR$159:CR$208)-'TABLA DE DECISION'!CR172,'TABLA DE DECISION'!CR172-MIN('TABLA DE DECISION'!CR$159:CR$208)))","v":""},{"$f":"IF('TABLA DE DECISION'!CS172=\"\",\"\",IF('TABLA DE DECISION'!$A$156=1,MAX('TABLA DE DECISION'!CS$159:CS$208)-'TABLA DE DECISION'!CS172,'TABLA DE DECISION'!CS172-MIN('TABLA DE DECISION'!CS$159:CS$208)))","v":""},{"$f":"IF('TABLA DE DECISION'!CT172=\"\",\"\",IF('TABLA DE DECISION'!$A$156=1,MAX('TABLA DE DECISION'!CT$159:CT$208)-'TABLA DE DECISION'!CT172,'TABLA DE DECISION'!CT172-MIN('TABLA DE DECISION'!CT$159:CT$208)))","v":""},{"$f":"IF('TABLA DE DECISION'!CU172=\"\",\"\",IF('TABLA DE DECISION'!$A$156=1,MAX('TABLA DE DECISION'!CU$159:CU$208)-'TABLA DE DECISION'!CU172,'TABLA DE DECISION'!CU172-MIN('TABLA DE DECISION'!CU$159:CU$208)))","v":""},{"$f":"IF('TABLA DE DECISION'!CV172=\"\",\"\",IF('TABLA DE DECISION'!$A$156=1,MAX('TABLA DE DECISION'!CV$159:CV$208)-'TABLA DE DECISION'!CV172,'TABLA DE DECISION'!CV172-MIN('TABLA DE DECISION'!CV$159:CV$208)))","v":""},{"$f":"IF('TABLA DE DECISION'!CW172=\"\",\"\",IF('TABLA DE DECISION'!$A$156=1,MAX('TABLA DE DECISION'!CW$159:CW$208)-'TABLA DE DECISION'!CW172,'TABLA DE DECISION'!CW172-MIN('TABLA DE DECISION'!CW$159:CW$208)))","v":""},{"$f":"IF('TABLA DE DECISION'!CX172=\"\",\"\",IF('TABLA DE DECISION'!$A$156=1,MAX('TABLA DE DECISION'!CX$159:CX$208)-'TABLA DE DECISION'!CX172,'TABLA DE DECISION'!CX172-MIN('TABLA DE DECISION'!CX$159:CX$208)))","v":""},{"$f":"IF('TABLA DE DECISION'!CY172=\"\",\"\",IF('TABLA DE DECISION'!$A$156=1,MAX('TABLA DE DECISION'!CY$159:CY$208)-'TABLA DE DECISION'!CY172,'TABLA DE DECISION'!CY172-MIN('TABLA DE DECISION'!CY$159:CY$208)))","v":""},{"$f":"IF('TABLA DE DECISION'!CZ172=\"\",\"\",IF('TABLA DE DECISION'!$A$156=1,MAX('TABLA DE DECISION'!CZ$159:CZ$208)-'TABLA DE DECISION'!CZ172,'TABLA DE DECISION'!CZ172-MIN('TABLA DE DECISION'!CZ$159:CZ$208)))","v":""},{"$f":"IF('TABLA DE DECISION'!DA172=\"\",\"\",IF('TABLA DE DECISION'!$A$156=1,MAX('TABLA DE DECISION'!DA$159:DA$208)-'TABLA DE DECISION'!DA172,'TABLA DE DECISION'!DA172-MIN('TABLA DE DECISION'!DA$159:DA$208)))","v":""},{"$f":"IF('TABLA DE DECISION'!DB172=\"\",\"\",IF('TABLA DE DECISION'!$A$156=1,MAX('TABLA DE DECISION'!DB$159:DB$208)-'TABLA DE DECISION'!DB172,'TABLA DE DECISION'!DB172-MIN('TABLA DE DECISION'!DB$159:DB$208)))","v":""},{"$f":"IF('TABLA DE DECISION'!DC172=\"\",\"\",IF('TABLA DE DECISION'!$A$156=1,MAX('TABLA DE DECISION'!DC$159:DC$208)-'TABLA DE DECISION'!DC172,'TABLA DE DECISION'!DC172-MIN('TABLA DE DECISION'!DC$159:DC$208)))","v":""},{"$f":"IF('TABLA DE DECISION'!DD172=\"\",\"\",IF('TABLA DE DECISION'!$A$156=1,MAX('TABLA DE DECISION'!DD$159:DD$208)-'TABLA DE DECISION'!DD172,'TABLA DE DECISION'!DD172-MIN('TABLA DE DECISION'!DD$159:DD$208)))","v":""},{"$f":"IF('TABLA DE DECISION'!DE172=\"\",\"\",IF('TABLA DE DECISION'!$A$156=1,MAX('TABLA DE DECISION'!DE$159:DE$208)-'TABLA DE DECISION'!DE172,'TABLA DE DECISION'!DE172-MIN('TABLA DE DECISION'!DE$159:DE$208)))","v":""},null,{"$f":"IF(C16=\"\",\"\",SUMPRODUCT(C16:AZ16,'TABLA DE DECISION'!BH$156:DE$156))","v":""}]
[{"$f":"IF('TABLA DE DECISION'!BF173=\"\",\"\",'TABLA DE DECISION'!BF173)","v":""},{"$f":"IF('TABLA DE DECISION'!BG173=\"\",\"\",'TABLA DE DECISION'!BG173)","v":"a15"},{"$f":"IF('TABLA DE DECISION'!BH173=\"\",\"\",IF('TABLA DE DECISION'!$A$156=1,MAX('TABLA DE DECISION'!BH$159:BH$208)-'TABLA DE DECISION'!BH173,'TABLA DE DECISION'!BH173-MIN('TABLA DE DECISION'!BH$159:BH$208)))","v":""},{"$f":"IF('TABLA DE DECISION'!BI173=\"\",\"\",IF('TABLA DE DECISION'!$A$156=1,MAX('TABLA DE DECISION'!BI$159:BI$208)-'TABLA DE DECISION'!BI173,'TABLA DE DECISION'!BI173-MIN('TABLA DE DECISION'!BI$159:BI$208)))","v":""},{"$f":"IF('TABLA DE DECISION'!BJ173=\"\",\"\",IF('TABLA DE DECISION'!$A$156=1,MAX('TABLA DE DECISION'!BJ$159:BJ$208)-'TABLA DE DECISION'!BJ173,'TABLA DE DECISION'!BJ173-MIN('TABLA DE DECISION'!BJ$159:BJ$208)))","v":""},{"$f":"IF('TABLA DE DECISION'!BK173=\"\",\"\",IF('TABLA DE DECISION'!$A$156=1,MAX('TABLA DE DECISION'!BK$159:BK$208)-'TABLA DE DECISION'!BK173,'TABLA DE DECISION'!BK173-MIN('TABLA DE DECISION'!BK$159:BK$208)))","v":""},{"$f":"IF('TABLA DE DECISION'!BL173=\"\",\"\",IF('TABLA DE DECISION'!$A$156=1,MAX('TABLA DE DECISION'!BL$159:BL$208)-'TABLA DE DECISION'!BL173,'TABLA DE DECISION'!BL173-MIN('TABLA DE DECISION'!BL$159:BL$208)))","v":""},{"$f":"IF('TABLA DE DECISION'!BM173=\"\",\"\",IF('TABLA DE DECISION'!$A$156=1,MAX('TABLA DE DECISION'!BM$159:BM$208)-'TABLA DE DECISION'!BM173,'TABLA DE DECISION'!BM173-MIN('TABLA DE DECISION'!BM$159:BM$208)))","v":""},{"$f":"IF('TABLA DE DECISION'!BN173=\"\",\"\",IF('TABLA DE DECISION'!$A$156=1,MAX('TABLA DE DECISION'!BN$159:BN$208)-'TABLA DE DECISION'!BN173,'TABLA DE DECISION'!BN173-MIN('TABLA DE DECISION'!BN$159:BN$208)))","v":""},{"$f":"IF('TABLA DE DECISION'!BO173=\"\",\"\",IF('TABLA DE DECISION'!$A$156=1,MAX('TABLA DE DECISION'!BO$159:BO$208)-'TABLA DE DECISION'!BO173,'TABLA DE DECISION'!BO173-MIN('TABLA DE DECISION'!BO$159:BO$208)))","v":""},{"$f":"IF('TABLA DE DECISION'!BP173=\"\",\"\",IF('TABLA DE DECISION'!$A$156=1,MAX('TABLA DE DECISION'!BP$159:BP$208)-'TABLA DE DECISION'!BP173,'TABLA DE DECISION'!BP173-MIN('TABLA DE DECISION'!BP$159:BP$208)))","v":""},{"$f":"IF('TABLA DE DECISION'!BQ173=\"\",\"\",IF('TABLA DE DECISION'!$A$156=1,MAX('TABLA DE DECISION'!BQ$159:BQ$208)-'TABLA DE DECISION'!BQ173,'TABLA DE DECISION'!BQ173-MIN('TABLA DE DECISION'!BQ$159:BQ$208)))","v":""},{"$f":"IF('TABLA DE DECISION'!BR173=\"\",\"\",IF('TABLA DE DECISION'!$A$156=1,MAX('TABLA DE DECISION'!BR$159:BR$208)-'TABLA DE DECISION'!BR173,'TABLA DE DECISION'!BR173-MIN('TABLA DE DECISION'!BR$159:BR$208)))","v":""},{"$f":"IF('TABLA DE DECISION'!BS173=\"\",\"\",IF('TABLA DE DECISION'!$A$156=1,MAX('TABLA DE DECISION'!BS$159:BS$208)-'TABLA DE DECISION'!BS173,'TABLA DE DECISION'!BS173-MIN('TABLA DE DECISION'!BS$159:BS$208)))","v":""},{"$f":"IF('TABLA DE DECISION'!BT173=\"\",\"\",IF('TABLA DE DECISION'!$A$156=1,MAX('TABLA DE DECISION'!BT$159:BT$208)-'TABLA DE DECISION'!BT173,'TABLA DE DECISION'!BT173-MIN('TABLA DE DECISION'!BT$159:BT$208)))","v":""},{"$f":"IF('TABLA DE DECISION'!BU173=\"\",\"\",IF('TABLA DE DECISION'!$A$156=1,MAX('TABLA DE DECISION'!BU$159:BU$208)-'TABLA DE DECISION'!BU173,'TABLA DE DECISION'!BU173-MIN('TABLA DE DECISION'!BU$159:BU$208)))","v":""},{"$f":"IF('TABLA DE DECISION'!BV173=\"\",\"\",IF('TABLA DE DECISION'!$A$156=1,MAX('TABLA DE DECISION'!BV$159:BV$208)-'TABLA DE DECISION'!BV173,'TABLA DE DECISION'!BV173-MIN('TABLA DE DECISION'!BV$159:BV$208)))","v":""},{"$f":"IF('TABLA DE DECISION'!BW173=\"\",\"\",IF('TABLA DE DECISION'!$A$156=1,MAX('TABLA DE DECISION'!BW$159:BW$208)-'TABLA DE DECISION'!BW173,'TABLA DE DECISION'!BW173-MIN('TABLA DE DECISION'!BW$159:BW$208)))","v":""},{"$f":"IF('TABLA DE DECISION'!BX173=\"\",\"\",IF('TABLA DE DECISION'!$A$156=1,MAX('TABLA DE DECISION'!BX$159:BX$208)-'TABLA DE DECISION'!BX173,'TABLA DE DECISION'!BX173-MIN('TABLA DE DECISION'!BX$159:BX$208)))","v":""},{"$f":"IF('TABLA DE DECISION'!BY173=\"\",\"\",IF('TABLA DE DECISION'!$A$156=1,MAX('TABLA DE DECISION'!BY$159:BY$208)-'TABLA DE DECISION'!BY173,'TABLA DE DECISION'!BY173-MIN('TABLA DE DECISION'!BY$159:BY$208)))","v":""},{"$f":"IF('TABLA DE DECISION'!BZ173=\"\",\"\",IF('TABLA DE DECISION'!$A$156=1,MAX('TABLA DE DECISION'!BZ$159:BZ$208)-'TABLA DE DECISION'!BZ173,'TABLA DE DECISION'!BZ173-MIN('TABLA DE DECISION'!BZ$159:BZ$208)))","v":""},{"$f":"IF('TABLA DE DECISION'!CA173=\"\",\"\",IF('TABLA DE DECISION'!$A$156=1,MAX('TABLA DE DECISION'!CA$159:CA$208)-'TABLA DE DECISION'!CA173,'TABLA DE DECISION'!CA173-MIN('TABLA DE DECISION'!CA$159:CA$208)))","v":""},{"$f":"IF('TABLA DE DECISION'!CB173=\"\",\"\",IF('TABLA DE DECISION'!$A$156=1,MAX('TABLA DE DECISION'!CB$159:CB$208)-'TABLA DE DECISION'!CB173,'TABLA DE DECISION'!CB173-MIN('TABLA DE DECISION'!CB$159:CB$208)))","v":""},{"$f":"IF('TABLA DE DECISION'!CC173=\"\",\"\",IF('TABLA DE DECISION'!$A$156=1,MAX('TABLA DE DECISION'!CC$159:CC$208)-'TABLA DE DECISION'!CC173,'TABLA DE DECISION'!CC173-MIN('TABLA DE DECISION'!CC$159:CC$208)))","v":""},{"$f":"IF('TABLA DE DECISION'!CD173=\"\",\"\",IF('TABLA DE DECISION'!$A$156=1,MAX('TABLA DE DECISION'!CD$159:CD$208)-'TABLA DE DECISION'!CD173,'TABLA DE DECISION'!CD173-MIN('TABLA DE DECISION'!CD$159:CD$208)))","v":""},{"$f":"IF('TABLA DE DECISION'!CE173=\"\",\"\",IF('TABLA DE DECISION'!$A$156=1,MAX('TABLA DE DECISION'!CE$159:CE$208)-'TABLA DE DECISION'!CE173,'TABLA DE DECISION'!CE173-MIN('TABLA DE DECISION'!CE$159:CE$208)))","v":""},{"$f":"IF('TABLA DE DECISION'!CF173=\"\",\"\",IF('TABLA DE DECISION'!$A$156=1,MAX('TABLA DE DECISION'!CF$159:CF$208)-'TABLA DE DECISION'!CF173,'TABLA DE DECISION'!CF173-MIN('TABLA DE DECISION'!CF$159:CF$208)))","v":""},{"$f":"IF('TABLA DE DECISION'!CG173=\"\",\"\",IF('TABLA DE DECISION'!$A$156=1,MAX('TABLA DE DECISION'!CG$159:CG$208)-'TABLA DE DECISION'!CG173,'TABLA DE DECISION'!CG173-MIN('TABLA DE DECISION'!CG$159:CG$208)))","v":""},{"$f":"IF('TABLA DE DECISION'!CH173=\"\",\"\",IF('TABLA DE DECISION'!$A$156=1,MAX('TABLA DE DECISION'!CH$159:CH$208)-'TABLA DE DECISION'!CH173,'TABLA DE DECISION'!CH173-MIN('TABLA DE DECISION'!CH$159:CH$208)))","v":""},{"$f":"IF('TABLA DE DECISION'!CI173=\"\",\"\",IF('TABLA DE DECISION'!$A$156=1,MAX('TABLA DE DECISION'!CI$159:CI$208)-'TABLA DE DECISION'!CI173,'TABLA DE DECISION'!CI173-MIN('TABLA DE DECISION'!CI$159:CI$208)))","v":""},{"$f":"IF('TABLA DE DECISION'!CJ173=\"\",\"\",IF('TABLA DE DECISION'!$A$156=1,MAX('TABLA DE DECISION'!CJ$159:CJ$208)-'TABLA DE DECISION'!CJ173,'TABLA DE DECISION'!CJ173-MIN('TABLA DE DECISION'!CJ$159:CJ$208)))","v":""},{"$f":"IF('TABLA DE DECISION'!CK173=\"\",\"\",IF('TABLA DE DECISION'!$A$156=1,MAX('TABLA DE DECISION'!CK$159:CK$208)-'TABLA DE DECISION'!CK173,'TABLA DE DECISION'!CK173-MIN('TABLA DE DECISION'!CK$159:CK$208)))","v":""},{"$f":"IF('TABLA DE DECISION'!CL173=\"\",\"\",IF('TABLA DE DECISION'!$A$156=1,MAX('TABLA DE DECISION'!CL$159:CL$208)-'TABLA DE DECISION'!CL173,'TABLA DE DECISION'!CL173-MIN('TABLA DE DECISION'!CL$159:CL$208)))","v":""},{"$f":"IF('TABLA DE DECISION'!CM173=\"\",\"\",IF('TABLA DE DECISION'!$A$156=1,MAX('TABLA DE DECISION'!CM$159:CM$208)-'TABLA DE DECISION'!CM173,'TABLA DE DECISION'!CM173-MIN('TABLA DE DECISION'!CM$159:CM$208)))","v":""},{"$f":"IF('TABLA DE DECISION'!CN173=\"\",\"\",IF('TABLA DE DECISION'!$A$156=1,MAX('TABLA DE DECISION'!CN$159:CN$208)-'TABLA DE DECISION'!CN173,'TABLA DE DECISION'!CN173-MIN('TABLA DE DECISION'!CN$159:CN$208)))","v":""},{"$f":"IF('TABLA DE DECISION'!CO173=\"\",\"\",IF('TABLA DE DECISION'!$A$156=1,MAX('TABLA DE DECISION'!CO$159:CO$208)-'TABLA DE DECISION'!CO173,'TABLA DE DECISION'!CO173-MIN('TABLA DE DECISION'!CO$159:CO$208)))","v":""},{"$f":"IF('TABLA DE DECISION'!CP173=\"\",\"\",IF('TABLA DE DECISION'!$A$156=1,MAX('TABLA DE DECISION'!CP$159:CP$208)-'TABLA DE DECISION'!CP173,'TABLA DE DECISION'!CP173-MIN('TABLA DE DECISION'!CP$159:CP$208)))","v":""},{"$f":"IF('TABLA DE DECISION'!CQ173=\"\",\"\",IF('TABLA DE DECISION'!$A$156=1,MAX('TABLA DE DECISION'!CQ$159:CQ$208)-'TABLA DE DECISION'!CQ173,'TABLA DE DECISION'!CQ173-MIN('TABLA DE DECISION'!CQ$159:CQ$208)))","v":""},{"$f":"IF('TABLA DE DECISION'!CR173=\"\",\"\",IF('TABLA DE DECISION'!$A$156=1,MAX('TABLA DE DECISION'!CR$159:CR$208)-'TABLA DE DECISION'!CR173,'TABLA DE DECISION'!CR173-MIN('TABLA DE DECISION'!CR$159:CR$208)))","v":""},{"$f":"IF('TABLA DE DECISION'!CS173=\"\",\"\",IF('TABLA DE DECISION'!$A$156=1,MAX('TABLA DE DECISION'!CS$159:CS$208)-'TABLA DE DECISION'!CS173,'TABLA DE DECISION'!CS173-MIN('TABLA DE DECISION'!CS$159:CS$208)))","v":""},{"$f":"IF('TABLA DE DECISION'!CT173=\"\",\"\",IF('TABLA DE DECISION'!$A$156=1,MAX('TABLA DE DECISION'!CT$159:CT$208)-'TABLA DE DECISION'!CT173,'TABLA DE DECISION'!CT173-MIN('TABLA DE DECISION'!CT$159:CT$208)))","v":""},{"$f":"IF('TABLA DE DECISION'!CU173=\"\",\"\",IF('TABLA DE DECISION'!$A$156=1,MAX('TABLA DE DECISION'!CU$159:CU$208)-'TABLA DE DECISION'!CU173,'TABLA DE DECISION'!CU173-MIN('TABLA DE DECISION'!CU$159:CU$208)))","v":""},{"$f":"IF('TABLA DE DECISION'!CV173=\"\",\"\",IF('TABLA DE DECISION'!$A$156=1,MAX('TABLA DE DECISION'!CV$159:CV$208)-'TABLA DE DECISION'!CV173,'TABLA DE DECISION'!CV173-MIN('TABLA DE DECISION'!CV$159:CV$208)))","v":""},{"$f":"IF('TABLA DE DECISION'!CW173=\"\",\"\",IF('TABLA DE DECISION'!$A$156=1,MAX('TABLA DE DECISION'!CW$159:CW$208)-'TABLA DE DECISION'!CW173,'TABLA DE DECISION'!CW173-MIN('TABLA DE DECISION'!CW$159:CW$208)))","v":""},{"$f":"IF('TABLA DE DECISION'!CX173=\"\",\"\",IF('TABLA DE DECISION'!$A$156=1,MAX('TABLA DE DECISION'!CX$159:CX$208)-'TABLA DE DECISION'!CX173,'TABLA DE DECISION'!CX173-MIN('TABLA DE DECISION'!CX$159:CX$208)))","v":""},{"$f":"IF('TABLA DE DECISION'!CY173=\"\",\"\",IF('TABLA DE DECISION'!$A$156=1,MAX('TABLA DE DECISION'!CY$159:CY$208)-'TABLA DE DECISION'!CY173,'TABLA DE DECISION'!CY173-MIN('TABLA DE DECISION'!CY$159:CY$208)))","v":""},{"$f":"IF('TABLA DE DECISION'!CZ173=\"\",\"\",IF('TABLA DE DECISION'!$A$156=1,MAX('TABLA DE DECISION'!CZ$159:CZ$208)-'TABLA DE DECISION'!CZ173,'TABLA DE DECISION'!CZ173-MIN('TABLA DE DECISION'!CZ$159:CZ$208)))","v":""},{"$f":"IF('TABLA DE DECISION'!DA173=\"\",\"\",IF('TABLA DE DECISION'!$A$156=1,MAX('TABLA DE DECISION'!DA$159:DA$208)-'TABLA DE DECISION'!DA173,'TABLA DE DECISION'!DA173-MIN('TABLA DE DECISION'!DA$159:DA$208)))","v":""},{"$f":"IF('TABLA DE DECISION'!DB173=\"\",\"\",IF('TABLA DE DECISION'!$A$156=1,MAX('TABLA DE DECISION'!DB$159:DB$208)-'TABLA DE DECISION'!DB173,'TABLA DE DECISION'!DB173-MIN('TABLA DE DECISION'!DB$159:DB$208)))","v":""},{"$f":"IF('TABLA DE DECISION'!DC173=\"\",\"\",IF('TABLA DE DECISION'!$A$156=1,MAX('TABLA DE DECISION'!DC$159:DC$208)-'TABLA DE DECISION'!DC173,'TABLA DE DECISION'!DC173-MIN('TABLA DE DECISION'!DC$159:DC$208)))","v":""},{"$f":"IF('TABLA DE DECISION'!DD173=\"\",\"\",IF('TABLA DE DECISION'!$A$156=1,MAX('TABLA DE DECISION'!DD$159:DD$208)-'TABLA DE DECISION'!DD173,'TABLA DE DECISION'!DD173-MIN('TABLA DE DECISION'!DD$159:DD$208)))","v":""},{"$f":"IF('TABLA DE DECISION'!DE173=\"\",\"\",IF('TABLA DE DECISION'!$A$156=1,MAX('TABLA DE DECISION'!DE$159:DE$208)-'TABLA DE DECISION'!DE173,'TABLA DE DECISION'!DE173-MIN('TABLA DE DECISION'!DE$159:DE$208)))","v":""},null,{"$f":"IF(C17=\"\",\"\",SUMPRODUCT(C17:AZ17,'TABLA DE DECISION'!BH$156:DE$156))","v":""}]
[{"$f":"IF('TABLA DE DECISION'!BF174=\"\",\"\",'TABLA DE DECISION'!BF174)","v":""},{"$f":"IF('TABLA DE DECISION'!BG174=\"\",\"\",'TABLA DE DECISION'!BG174)","v":"a16"},{"$f":"IF('TABLA DE DECISION'!BH174=\"\",\"\",IF('TABLA DE DECISION'!$A$156=1,MAX('TABLA DE DECISION'!BH$159:BH$208)-'TABLA DE DECISION'!BH174,'TABLA DE DECISION'!BH174-MIN('TABLA DE DECISION'!BH$159:BH$208)))","v":""},{"$f":"IF('TABLA DE DECISION'!BI174=\"\",\"\",IF('TABLA DE DECISION'!$A$156=1,MAX('TABLA DE DECISION'!BI$159:BI$208)-'TABLA DE DECISION'!BI174,'TABLA DE DECISION'!BI174-MIN('TABLA DE DECISION'!BI$159:BI$208)))","v":""},{"$f":"IF('TABLA DE DECISION'!BJ174=\"\",\"\",IF('TABLA DE DECISION'!$A$156=1,MAX('TABLA DE DECISION'!BJ$159:BJ$208)-'TABLA DE DECISION'!BJ174,'TABLA DE DECISION'!BJ174-MIN('TABLA DE DECISION'!BJ$159:BJ$208)))","v":""},{"$f":"IF('TABLA DE DECISION'!BK174=\"\",\"\",IF('TABLA DE DECISION'!$A$156=1,MAX('TABLA DE DECISION'!BK$159:BK$208)-'TABLA DE DECISION'!BK174,'TABLA DE DECISION'!BK174-MIN('TABLA DE DECISION'!BK$159:BK$208)))","v":""},{"$f":"IF('TABLA DE DECISION'!BL174=\"\",\"\",IF('TABLA DE DECISION'!$A$156=1,MAX('TABLA DE DECISION'!BL$159:BL$208)-'TABLA DE DECISION'!BL174,'TABLA DE DECISION'!BL174-MIN('TABLA DE DECISION'!BL$159:BL$208)))","v":""},{"$f":"IF('TABLA DE DECISION'!BM174=\"\",\"\",IF('TABLA DE DECISION'!$A$156=1,MAX('TABLA DE DECISION'!BM$159:BM$208)-'TABLA DE DECISION'!BM174,'TABLA DE DECISION'!BM174-MIN('TABLA DE DECISION'!BM$159:BM$208)))","v":""},{"$f":"IF('TABLA DE DECISION'!BN174=\"\",\"\",IF('TABLA DE DECISION'!$A$156=1,MAX('TABLA DE DECISION'!BN$159:BN$208)-'TABLA DE DECISION'!BN174,'TABLA DE DECISION'!BN174-MIN('TABLA DE DECISION'!BN$159:BN$208)))","v":""},{"$f":"IF('TABLA DE DECISION'!BO174=\"\",\"\",IF('TABLA DE DECISION'!$A$156=1,MAX('TABLA DE DECISION'!BO$159:BO$208)-'TABLA DE DECISION'!BO174,'TABLA DE DECISION'!BO174-MIN('TABLA DE DECISION'!BO$159:BO$208)))","v":""},{"$f":"IF('TABLA DE DECISION'!BP174=\"\",\"\",IF('TABLA DE DECISION'!$A$156=1,MAX('TABLA DE DECISION'!BP$159:BP$208)-'TABLA DE DECISION'!BP174,'TABLA DE DECISION'!BP174-MIN('TABLA DE DECISION'!BP$159:BP$208)))","v":""},{"$f":"IF('TABLA DE DECISION'!BQ174=\"\",\"\",IF('TABLA DE DECISION'!$A$156=1,MAX('TABLA DE DECISION'!BQ$159:BQ$208)-'TABLA DE DECISION'!BQ174,'TABLA DE DECISION'!BQ174-MIN('TABLA DE DECISION'!BQ$159:BQ$208)))","v":""},{"$f":"IF('TABLA DE DECISION'!BR174=\"\",\"\",IF('TABLA DE DECISION'!$A$156=1,MAX('TABLA DE DECISION'!BR$159:BR$208)-'TABLA DE DECISION'!BR174,'TABLA DE DECISION'!BR174-MIN('TABLA DE DECISION'!BR$159:BR$208)))","v":""},{"$f":"IF('TABLA DE DECISION'!BS174=\"\",\"\",IF('TABLA DE DECISION'!$A$156=1,MAX('TABLA DE DECISION'!BS$159:BS$208)-'TABLA DE DECISION'!BS174,'TABLA DE DECISION'!BS174-MIN('TABLA DE DECISION'!BS$159:BS$208)))","v":""},{"$f":"IF('TABLA DE DECISION'!BT174=\"\",\"\",IF('TABLA DE DECISION'!$A$156=1,MAX('TABLA DE DECISION'!BT$159:BT$208)-'TABLA DE DECISION'!BT174,'TABLA DE DECISION'!BT174-MIN('TABLA DE DECISION'!BT$159:BT$208)))","v":""},{"$f":"IF('TABLA DE DECISION'!BU174=\"\",\"\",IF('TABLA DE DECISION'!$A$156=1,MAX('TABLA DE DECISION'!BU$159:BU$208)-'TABLA DE DECISION'!BU174,'TABLA DE DECISION'!BU174-MIN('TABLA DE DECISION'!BU$159:BU$208)))","v":""},{"$f":"IF('TABLA DE DECISION'!BV174=\"\",\"\",IF('TABLA DE DECISION'!$A$156=1,MAX('TABLA DE DECISION'!BV$159:BV$208)-'TABLA DE DECISION'!BV174,'TABLA DE DECISION'!BV174-MIN('TABLA DE DECISION'!BV$159:BV$208)))","v":""},{"$f":"IF('TABLA DE DECISION'!BW174=\"\",\"\",IF('TABLA DE DECISION'!$A$156=1,MAX('TABLA DE DECISION'!BW$159:BW$208)-'TABLA DE DECISION'!BW174,'TABLA DE DECISION'!BW174-MIN('TABLA DE DECISION'!BW$159:BW$208)))","v":""},{"$f":"IF('TABLA DE DECISION'!BX174=\"\",\"\",IF('TABLA DE DECISION'!$A$156=1,MAX('TABLA DE DECISION'!BX$159:BX$208)-'TABLA DE DECISION'!BX174,'TABLA DE DECISION'!BX174-MIN('TABLA DE DECISION'!BX$159:BX$208)))","v":""},{"$f":"IF('TABLA DE DECISION'!BY174=\"\",\"\",IF('TABLA DE DECISION'!$A$156=1,MAX('TABLA DE DECISION'!BY$159:BY$208)-'TABLA DE DECISION'!BY174,'TABLA DE DECISION'!BY174-MIN('TABLA DE DECISION'!BY$159:BY$208)))","v":""},{"$f":"IF('TABLA DE DECISION'!BZ174=\"\",\"\",IF('TABLA DE DECISION'!$A$156=1,MAX('TABLA DE DECISION'!BZ$159:BZ$208)-'TABLA DE DECISION'!BZ174,'TABLA DE DECISION'!BZ174-MIN('TABLA DE DECISION'!BZ$159:BZ$208)))","v":""},{"$f":"IF('TABLA DE DECISION'!CA174=\"\",\"\",IF('TABLA DE DECISION'!$A$156=1,MAX('TABLA DE DECISION'!CA$159:CA$208)-'TABLA DE DECISION'!CA174,'TABLA DE DECISION'!CA174-MIN('TABLA DE DECISION'!CA$159:CA$208)))","v":""},{"$f":"IF('TABLA DE DECISION'!CB174=\"\",\"\",IF('TABLA DE DECISION'!$A$156=1,MAX('TABLA DE DECISION'!CB$159:CB$208)-'TABLA DE DECISION'!CB174,'TABLA DE DECISION'!CB174-MIN('TABLA DE DECISION'!CB$159:CB$208)))","v":""},{"$f":"IF('TABLA DE DECISION'!CC174=\"\",\"\",IF('TABLA DE DECISION'!$A$156=1,MAX('TABLA DE DECISION'!CC$159:CC$208)-'TABLA DE DECISION'!CC174,'TABLA DE DECISION'!CC174-MIN('TABLA DE DECISION'!CC$159:CC$208)))","v":""},{"$f":"IF('TABLA DE DECISION'!CD174=\"\",\"\",IF('TABLA DE DECISION'!$A$156=1,MAX('TABLA DE DECISION'!CD$159:CD$208)-'TABLA DE DECISION'!CD174,'TABLA DE DECISION'!CD174-MIN('TABLA DE DECISION'!CD$159:CD$208)))","v":""},{"$f":"IF('TABLA DE DECISION'!CE174=\"\",\"\",IF('TABLA DE DECISION'!$A$156=1,MAX('TABLA DE DECISION'!CE$159:CE$208)-'TABLA DE DECISION'!CE174,'TABLA DE DECISION'!CE174-MIN('TABLA DE DECISION'!CE$159:CE$208)))","v":""},{"$f":"IF('TABLA DE DECISION'!CF174=\"\",\"\",IF('TABLA DE DECISION'!$A$156=1,MAX('TABLA DE DECISION'!CF$159:CF$208)-'TABLA DE DECISION'!CF174,'TABLA DE DECISION'!CF174-MIN('TABLA DE DECISION'!CF$159:CF$208)))","v":""},{"$f":"IF('TABLA DE DECISION'!CG174=\"\",\"\",IF('TABLA DE DECISION'!$A$156=1,MAX('TABLA DE DECISION'!CG$159:CG$208)-'TABLA DE DECISION'!CG174,'TABLA DE DECISION'!CG174-MIN('TABLA DE DECISION'!CG$159:CG$208)))","v":""},{"$f":"IF('TABLA DE DECISION'!CH174=\"\",\"\",IF('TABLA DE DECISION'!$A$156=1,MAX('TABLA DE DECISION'!CH$159:CH$208)-'TABLA DE DECISION'!CH174,'TABLA DE DECISION'!CH174-MIN('TABLA DE DECISION'!CH$159:CH$208)))","v":""},{"$f":"IF('TABLA DE DECISION'!CI174=\"\",\"\",IF('TABLA DE DECISION'!$A$156=1,MAX('TABLA DE DECISION'!CI$159:CI$208)-'TABLA DE DECISION'!CI174,'TABLA DE DECISION'!CI174-MIN('TABLA DE DECISION'!CI$159:CI$208)))","v":""},{"$f":"IF('TABLA DE DECISION'!CJ174=\"\",\"\",IF('TABLA DE DECISION'!$A$156=1,MAX('TABLA DE DECISION'!CJ$159:CJ$208)-'TABLA DE DECISION'!CJ174,'TABLA DE DECISION'!CJ174-MIN('TABLA DE DECISION'!CJ$159:CJ$208)))","v":""},{"$f":"IF('TABLA DE DECISION'!CK174=\"\",\"\",IF('TABLA DE DECISION'!$A$156=1,MAX('TABLA DE DECISION'!CK$159:CK$208)-'TABLA DE DECISION'!CK174,'TABLA DE DECISION'!CK174-MIN('TABLA DE DECISION'!CK$159:CK$208)))","v":""},{"$f":"IF('TABLA DE DECISION'!CL174=\"\",\"\",IF('TABLA DE DECISION'!$A$156=1,MAX('TABLA DE DECISION'!CL$159:CL$208)-'TABLA DE DECISION'!CL174,'TABLA DE DECISION'!CL174-MIN('TABLA DE DECISION'!CL$159:CL$208)))","v":""},{"$f":"IF('TABLA DE DECISION'!CM174=\"\",\"\",IF('TABLA DE DECISION'!$A$156=1,MAX('TABLA DE DECISION'!CM$159:CM$208)-'TABLA DE DECISION'!CM174,'TABLA DE DECISION'!CM174-MIN('TABLA DE DECISION'!CM$159:CM$208)))","v":""},{"$f":"IF('TABLA DE DECISION'!CN174=\"\",\"\",IF('TABLA DE DECISION'!$A$156=1,MAX('TABLA DE DECISION'!CN$159:CN$208)-'TABLA DE DECISION'!CN174,'TABLA DE DECISION'!CN174-MIN('TABLA DE DECISION'!CN$159:CN$208)))","v":""},{"$f":"IF('TABLA DE DECISION'!CO174=\"\",\"\",IF('TABLA DE DECISION'!$A$156=1,MAX('TABLA DE DECISION'!CO$159:CO$208)-'TABLA DE DECISION'!CO174,'TABLA DE DECISION'!CO174-MIN('TABLA DE DECISION'!CO$159:CO$208)))","v":""},{"$f":"IF('TABLA DE DECISION'!CP174=\"\",\"\",IF('TABLA DE DECISION'!$A$156=1,MAX('TABLA DE DECISION'!CP$159:CP$208)-'TABLA DE DECISION'!CP174,'TABLA DE DECISION'!CP174-MIN('TABLA DE DECISION'!CP$159:CP$208)))","v":""},{"$f":"IF('TABLA DE DECISION'!CQ174=\"\",\"\",IF('TABLA DE DECISION'!$A$156=1,MAX('TABLA DE DECISION'!CQ$159:CQ$208)-'TABLA DE DECISION'!CQ174,'TABLA DE DECISION'!CQ174-MIN('TABLA DE DECISION'!CQ$159:CQ$208)))","v":""},{"$f":"IF('TABLA DE DECISION'!CR174=\"\",\"\",IF('TABLA DE DECISION'!$A$156=1,MAX('TABLA DE DECISION'!CR$159:CR$208)-'TABLA DE DECISION'!CR174,'TABLA DE DECISION'!CR174-MIN('TABLA DE DECISION'!CR$159:CR$208)))","v":""},{"$f":"IF('TABLA DE DECISION'!CS174=\"\",\"\",IF('TABLA DE DECISION'!$A$156=1,MAX('TABLA DE DECISION'!CS$159:CS$208)-'TABLA DE DECISION'!CS174,'TABLA DE DECISION'!CS174-MIN('TABLA DE DECISION'!CS$159:CS$208)))","v":""},{"$f":"IF('TABLA DE DECISION'!CT174=\"\",\"\",IF('TABLA DE DECISION'!$A$156=1,MAX('TABLA DE DECISION'!CT$159:CT$208)-'TABLA DE DECISION'!CT174,'TABLA DE DECISION'!CT174-MIN('TABLA DE DECISION'!CT$159:CT$208)))","v":""},{"$f":"IF('TABLA DE DECISION'!CU174=\"\",\"\",IF('TABLA DE DECISION'!$A$156=1,MAX('TABLA DE DECISION'!CU$159:CU$208)-'TABLA DE DECISION'!CU174,'TABLA DE DECISION'!CU174-MIN('TABLA DE DECISION'!CU$159:CU$208)))","v":""},{"$f":"IF('TABLA DE DECISION'!CV174=\"\",\"\",IF('TABLA DE DECISION'!$A$156=1,MAX('TABLA DE DECISION'!CV$159:CV$208)-'TABLA DE DECISION'!CV174,'TABLA DE DECISION'!CV174-MIN('TABLA DE DECISION'!CV$159:CV$208)))","v":""},{"$f":"IF('TABLA DE DECISION'!CW174=\"\",\"\",IF('TABLA DE DECISION'!$A$156=1,MAX('TABLA DE DECISION'!CW$159:CW$208)-'TABLA DE DECISION'!CW174,'TABLA DE DECISION'!CW174-MIN('TABLA DE DECISION'!CW$159:CW$208)))","v":""},{"$f":"IF('TABLA DE DECISION'!CX174=\"\",\"\",IF('TABLA DE DECISION'!$A$156=1,MAX('TABLA DE DECISION'!CX$159:CX$208)-'TABLA DE DECISION'!CX174,'TABLA DE DECISION'!CX174-MIN('TABLA DE DECISION'!CX$159:CX$208)))","v":""},{"$f":"IF('TABLA DE DECISION'!CY174=\"\",\"\",IF('TABLA DE DECISION'!$A$156=1,MAX('TABLA DE DECISION'!CY$159:CY$208)-'TABLA DE DECISION'!CY174,'TABLA DE DECISION'!CY174-MIN('TABLA DE DECISION'!CY$159:CY$208)))","v":""},{"$f":"IF('TABLA DE DECISION'!CZ174=\"\",\"\",IF('TABLA DE DECISION'!$A$156=1,MAX('TABLA DE DECISION'!CZ$159:CZ$208)-'TABLA DE DECISION'!CZ174,'TABLA DE DECISION'!CZ174-MIN('TABLA DE DECISION'!CZ$159:CZ$208)))","v":""},{"$f":"IF('TABLA DE DECISION'!DA174=\"\",\"\",IF('TABLA DE DECISION'!$A$156=1,MAX('TABLA DE DECISION'!DA$159:DA$208)-'TABLA DE DECISION'!DA174,'TABLA DE DECISION'!DA174-MIN('TABLA DE DECISION'!DA$159:DA$208)))","v":""},{"$f":"IF('TABLA DE DECISION'!DB174=\"\",\"\",IF('TABLA DE DECISION'!$A$156=1,MAX('TABLA DE DECISION'!DB$159:DB$208)-'TABLA DE DECISION'!DB174,'TABLA DE DECISION'!DB174-MIN('TABLA DE DECISION'!DB$159:DB$208)))","v":""},{"$f":"IF('TABLA DE DECISION'!DC174=\"\",\"\",IF('TABLA DE DECISION'!$A$156=1,MAX('TABLA DE DECISION'!DC$159:DC$208)-'TABLA DE DECISION'!DC174,'TABLA DE DECISION'!DC174-MIN('TABLA DE DECISION'!DC$159:DC$208)))","v":""},{"$f":"IF('TABLA DE DECISION'!DD174=\"\",\"\",IF('TABLA DE DECISION'!$A$156=1,MAX('TABLA DE DECISION'!DD$159:DD$208)-'TABLA DE DECISION'!DD174,'TABLA DE DECISION'!DD174-MIN('TABLA DE DECISION'!DD$159:DD$208)))","v":""},{"$f":"IF('TABLA DE DECISION'!DE174=\"\",\"\",IF('TABLA DE DECISION'!$A$156=1,MAX('TABLA DE DECISION'!DE$159:DE$208)-'TABLA DE DECISION'!DE174,'TABLA DE DECISION'!DE174-MIN('TABLA DE DECISION'!DE$159:DE$208)))","v":""},null,{"$f":"IF(C18=\"\",\"\",SUMPRODUCT(C18:AZ18,'TABLA DE DECISION'!BH$156:DE$156))","v":""}]
[{"$f":"IF('TABLA DE DECISION'!BF175=\"\",\"\",'TABLA DE DECISION'!BF175)","v":""},{"$f":"IF('TABLA DE DECISION'!BG175=\"\",\"\",'TABLA DE DECISION'!BG175)","v":"a17"},{"$f":"IF('TABLA DE DECISION'!BH175=\"\",\"\",IF('TABLA DE DECISION'!$A$156=1,MAX('TABLA DE DECISION'!BH$159:BH$208)-'TABLA DE DECISION'!BH175,'TABLA DE DECISION'!BH175-MIN('TABLA DE DECISION'!BH$159:BH$208)))","v":""},{"$f":"IF('TABLA DE DECISION'!BI175=\"\",\"\",IF('TABLA DE DECISION'!$A$156=1,MAX('TABLA DE DECISION'!BI$159:BI$208)-'TABLA DE DECISION'!BI175,'TABLA DE DECISION'!BI175-MIN('TABLA DE DECISION'!BI$159:BI$208)))","v":""},{"$f":"IF('TABLA DE DECISION'!BJ175=\"\",\"\",IF('TABLA DE DECISION'!$A$156=1,MAX('TABLA DE DECISION'!BJ$159:BJ$208)-'TABLA DE DECISION'!BJ175,'TABLA DE DECISION'!BJ175-MIN('TABLA DE DECISION'!BJ$159:BJ$208)))","v":""},{"$f":"IF('TABLA DE DECISION'!BK175=\"\",\"\",IF('TABLA DE DECISION'!$A$156=1,MAX('TABLA DE DECISION'!BK$159:BK$208)-'TABLA DE DECISION'!BK175,'TABLA DE DECISION'!BK175-MIN('TABLA DE DECISION'!BK$159:BK$208)))","v":""},{"$f":"IF('TABLA DE DECISION'!BL175=\"\",\"\",IF('TABLA DE DECISION'!$A$156=1,MAX('TABLA DE DECISION'!BL$159:BL$208)-'TABLA DE DECISION'!BL175,'TABLA DE DECISION'!BL175-MIN('TABLA DE DECISION'!BL$159:BL$208)))","v":""},{"$f":"IF('TABLA DE DECISION'!BM175=\"\",\"\",IF('TABLA DE DECISION'!$A$156=1,MAX('TABLA DE DECISION'!BM$159:BM$208)-'TABLA DE DECISION'!BM175,'TABLA DE DECISION'!BM175-MIN('TABLA DE DECISION'!BM$159:BM$208)))","v":""},{"$f":"IF('TABLA DE DECISION'!BN175=\"\",\"\",IF('TABLA DE DECISION'!$A$156=1,MAX('TABLA DE DECISION'!BN$159:BN$208)-'TABLA DE DECISION'!BN175,'TABLA DE DECISION'!BN175-MIN('TABLA DE DECISION'!BN$159:BN$208)))","v":""},{"$f":"IF('TABLA DE DECISION'!BO175=\"\",\"\",IF('TABLA DE DECISION'!$A$156=1,MAX('TABLA DE DECISION'!BO$159:BO$208)-'TABLA DE DECISION'!BO175,'TABLA DE DECISION'!BO175-MIN('TABLA DE DECISION'!BO$159:BO$208)))","v":""},{"$f":"IF('TABLA DE DECISION'!BP175=\"\",\"\",IF('TABLA DE DECISION'!$A$156=1,MAX('TABLA DE DECISION'!BP$159:BP$208)-'TABLA DE DECISION'!BP175,'TABLA DE DECISION'!BP175-MIN('TABLA DE DECISION'!BP$159:BP$208)))","v":""},{"$f":"IF('TABLA DE DECISION'!BQ175=\"\",\"\",IF('TABLA DE DECISION'!$A$156=1,MAX('TABLA DE DECISION'!BQ$159:BQ$208)-'TABLA DE DECISION'!BQ175,'TABLA DE DECISION'!BQ175-MIN('TABLA DE DECISION'!BQ$159:BQ$208)))","v":""},{"$f":"IF('TABLA DE DECISION'!BR175=\"\",\"\",IF('TABLA DE DECISION'!$A$156=1,MAX('TABLA DE DECISION'!BR$159:BR$208)-'TABLA DE DECISION'!BR175,'TABLA DE DECISION'!BR175-MIN('TABLA DE DECISION'!BR$159:BR$208)))","v":""},{"$f":"IF('TABLA DE DECISION'!BS175=\"\",\"\",IF('TABLA DE DECISION'!$A$156=1,MAX('TABLA DE DECISION'!BS$159:BS$208)-'TABLA DE DECISION'!BS175,'TABLA DE DECISION'!BS175-MIN('TABLA DE DECISION'!BS$159:BS$208)))","v":""},{"$f":"IF('TABLA DE DECISION'!BT175=\"\",\"\",IF('TABLA DE DECISION'!$A$156=1,MAX('TABLA DE DECISION'!BT$159:BT$208)-'TABLA DE DECISION'!BT175,'TABLA DE DECISION'!BT175-MIN('TABLA DE DECISION'!BT$159:BT$208)))","v":""},{"$f":"IF('TABLA DE DECISION'!BU175=\"\",\"\",IF('TABLA DE DECISION'!$A$156=1,MAX('TABLA DE DECISION'!BU$159:BU$208)-'TABLA DE DECISION'!BU175,'TABLA DE DECISION'!BU175-MIN('TABLA DE DECISION'!BU$159:BU$208)))","v":""},{"$f":"IF('TABLA DE DECISION'!BV175=\"\",\"\",IF('TABLA DE DECISION'!$A$156=1,MAX('TABLA DE DECISION'!BV$159:BV$208)-'TABLA DE DECISION'!BV175,'TABLA DE DECISION'!BV175-MIN('TABLA DE DECISION'!BV$159:BV$208)))","v":""},{"$f":"IF('TABLA DE DECISION'!BW175=\"\",\"\",IF('TABLA DE DECISION'!$A$156=1,MAX('TABLA DE DECISION'!BW$159:BW$208)-'TABLA DE DECISION'!BW175,'TABLA DE DECISION'!BW175-MIN('TABLA DE DECISION'!BW$159:BW$208)))","v":""},{"$f":"IF('TABLA DE DECISION'!BX175=\"\",\"\",IF('TABLA DE DECISION'!$A$156=1,MAX('TABLA DE DECISION'!BX$159:BX$208)-'TABLA DE DECISION'!BX175,'TABLA DE DECISION'!BX175-MIN('TABLA DE DECISION'!BX$159:BX$208)))","v":""},{"$f":"IF('TABLA DE DECISION'!BY175=\"\",\"\",IF('TABLA DE DECISION'!$A$156=1,MAX('TABLA DE DECISION'!BY$159:BY$208)-'TABLA DE DECISION'!BY175,'TABLA DE DECISION'!BY175-MIN('TABLA DE DECISION'!BY$159:BY$208)))","v":""},{"$f":"IF('TABLA DE DECISION'!BZ175=\"\",\"\",IF('TABLA DE DECISION'!$A$156=1,MAX('TABLA DE DECISION'!BZ$159:BZ$208)-'TABLA DE DECISION'!BZ175,'TABLA DE DECISION'!BZ175-MIN('TABLA DE DECISION'!BZ$159:BZ$208)))","v":""},{"$f":"IF('TABLA DE DECISION'!CA175=\"\",\"\",IF('TABLA DE DECISION'!$A$156=1,MAX('TABLA DE DECISION'!CA$159:CA$208)-'TABLA DE DECISION'!CA175,'TABLA DE DECISION'!CA175-MIN('TABLA DE DECISION'!CA$159:CA$208)))","v":""},{"$f":"IF('TABLA DE DECISION'!CB175=\"\",\"\",IF('TABLA DE DECISION'!$A$156=1,MAX('TABLA DE DECISION'!CB$159:CB$208)-'TABLA DE DECISION'!CB175,'TABLA DE DECISION'!CB175-MIN('TABLA DE DECISION'!CB$159:CB$208)))","v":""},{"$f":"IF('TABLA DE DECISION'!CC175=\"\",\"\",IF('TABLA DE DECISION'!$A$156=1,MAX('TABLA DE DECISION'!CC$159:CC$208)-'TABLA DE DECISION'!CC175,'TABLA DE DECISION'!CC175-MIN('TABLA DE DECISION'!CC$159:CC$208)))","v":""},{"$f":"IF('TABLA DE DECISION'!CD175=\"\",\"\",IF('TABLA DE DECISION'!$A$156=1,MAX('TABLA DE DECISION'!CD$159:CD$208)-'TABLA DE DECISION'!CD175,'TABLA DE DECISION'!CD175-MIN('TABLA DE DECISION'!CD$159:CD$208)))","v":""},{"$f":"IF('TABLA DE DECISION'!CE175=\"\",\"\",IF('TABLA DE DECISION'!$A$156=1,MAX('TABLA DE DECISION'!CE$159:CE$208)-'TABLA DE DECISION'!CE175,'TABLA DE DECISION'!CE175-MIN('TABLA DE DECISION'!CE$159:CE$208)))","v":""},{"$f":"IF('TABLA DE DECISION'!CF175=\"\",\"\",IF('TABLA DE DECISION'!$A$156=1,MAX('TABLA DE DECISION'!CF$159:CF$208)-'TABLA DE DECISION'!CF175,'TABLA DE DECISION'!CF175-MIN('TABLA DE DECISION'!CF$159:CF$208)))","v":""},{"$f":"IF('TABLA DE DECISION'!CG175=\"\",\"\",IF('TABLA DE DECISION'!$A$156=1,MAX('TABLA DE DECISION'!CG$159:CG$208)-'TABLA DE DECISION'!CG175,'TABLA DE DECISION'!CG175-MIN('TABLA DE DECISION'!CG$159:CG$208)))","v":""},{"$f":"IF('TABLA DE DECISION'!CH175=\"\",\"\",IF('TABLA DE DECISION'!$A$156=1,MAX('TABLA DE DECISION'!CH$159:CH$208)-'TABLA DE DECISION'!CH175,'TABLA DE DECISION'!CH175-MIN('TABLA DE DECISION'!CH$159:CH$208)))","v":""},{"$f":"IF('TABLA DE DECISION'!CI175=\"\",\"\",IF('TABLA DE DECISION'!$A$156=1,MAX('TABLA DE DECISION'!CI$159:CI$208)-'TABLA DE DECISION'!CI175,'TABLA DE DECISION'!CI175-MIN('TABLA DE DECISION'!CI$159:CI$208)))","v":""},{"$f":"IF('TABLA DE DECISION'!CJ175=\"\",\"\",IF('TABLA DE DECISION'!$A$156=1,MAX('TABLA DE DECISION'!CJ$159:CJ$208)-'TABLA DE DECISION'!CJ175,'TABLA DE DECISION'!CJ175-MIN('TABLA DE DECISION'!CJ$159:CJ$208)))","v":""},{"$f":"IF('TABLA DE DECISION'!CK175=\"\",\"\",IF('TABLA DE DECISION'!$A$156=1,MAX('TABLA DE DECISION'!CK$159:CK$208)-'TABLA DE DECISION'!CK175,'TABLA DE DECISION'!CK175-MIN('TABLA DE DECISION'!CK$159:CK$208)))","v":""},{"$f":"IF('TABLA DE DECISION'!CL175=\"\",\"\",IF('TABLA DE DECISION'!$A$156=1,MAX('TABLA DE DECISION'!CL$159:CL$208)-'TABLA DE DECISION'!CL175,'TABLA DE DECISION'!CL175-MIN('TABLA DE DECISION'!CL$159:CL$208)))","v":""},{"$f":"IF('TABLA DE DECISION'!CM175=\"\",\"\",IF('TABLA DE DECISION'!$A$156=1,MAX('TABLA DE DECISION'!CM$159:CM$208)-'TABLA DE DECISION'!CM175,'TABLA DE DECISION'!CM175-MIN('TABLA DE DECISION'!CM$159:CM$208)))","v":""},{"$f":"IF('TABLA DE DECISION'!CN175=\"\",\"\",IF('TABLA DE DECISION'!$A$156=1,MAX('TABLA DE DECISION'!CN$159:CN$208)-'TABLA DE DECISION'!CN175,'TABLA DE DECISION'!CN175-MIN('TABLA DE DECISION'!CN$159:CN$208)))","v":""},{"$f":"IF('TABLA DE DECISION'!CO175=\"\",\"\",IF('TABLA DE DECISION'!$A$156=1,MAX('TABLA DE DECISION'!CO$159:CO$208)-'TABLA DE DECISION'!CO175,'TABLA DE DECISION'!CO175-MIN('TABLA DE DECISION'!CO$159:CO$208)))","v":""},{"$f":"IF('TABLA DE DECISION'!CP175=\"\",\"\",IF('TABLA DE DECISION'!$A$156=1,MAX('TABLA DE DECISION'!CP$159:CP$208)-'TABLA DE DECISION'!CP175,'TABLA DE DECISION'!CP175-MIN('TABLA DE DECISION'!CP$159:CP$208)))","v":""},{"$f":"IF('TABLA DE DECISION'!CQ175=\"\",\"\",IF('TABLA DE DECISION'!$A$156=1,MAX('TABLA DE DECISION'!CQ$159:CQ$208)-'TABLA DE DECISION'!CQ175,'TABLA DE DECISION'!CQ175-MIN('TABLA DE DECISION'!CQ$159:CQ$208)))","v":""},{"$f":"IF('TABLA DE DECISION'!CR175=\"\",\"\",IF('TABLA DE DECISION'!$A$156=1,MAX('TABLA DE DECISION'!CR$159:CR$208)-'TABLA DE DECISION'!CR175,'TABLA DE DECISION'!CR175-MIN('TABLA DE DECISION'!CR$159:CR$208)))","v":""},{"$f":"IF('TABLA DE DECISION'!CS175=\"\",\"\",IF('TABLA DE DECISION'!$A$156=1,MAX('TABLA DE DECISION'!CS$159:CS$208)-'TABLA DE DECISION'!CS175,'TABLA DE DECISION'!CS175-MIN('TABLA DE DECISION'!CS$159:CS$208)))","v":""},{"$f":"IF('TABLA DE DECISION'!CT175=\"\",\"\",IF('TABLA DE DECISION'!$A$156=1,MAX('TABLA DE DECISION'!CT$159:CT$208)-'TABLA DE DECISION'!CT175,'TABLA DE DECISION'!CT175-MIN('TABLA DE DECISION'!CT$159:CT$208)))","v":""},{"$f":"IF('TABLA DE DECISION'!CU175=\"\",\"\",IF('TABLA DE DECISION'!$A$156=1,MAX('TABLA DE DECISION'!CU$159:CU$208)-'TABLA DE DECISION'!CU175,'TABLA DE DECISION'!CU175-MIN('TABLA DE DECISION'!CU$159:CU$208)))","v":""},{"$f":"IF('TABLA DE DECISION'!CV175=\"\",\"\",IF('TABLA DE DECISION'!$A$156=1,MAX('TABLA DE DECISION'!CV$159:CV$208)-'TABLA DE DECISION'!CV175,'TABLA DE DECISION'!CV175-MIN('TABLA DE DECISION'!CV$159:CV$208)))","v":""},{"$f":"IF('TABLA DE DECISION'!CW175=\"\",\"\",IF('TABLA DE DECISION'!$A$156=1,MAX('TABLA DE DECISION'!CW$159:CW$208)-'TABLA DE DECISION'!CW175,'TABLA DE DECISION'!CW175-MIN('TABLA DE DECISION'!CW$159:CW$208)))","v":""},{"$f":"IF('TABLA DE DECISION'!CX175=\"\",\"\",IF('TABLA DE DECISION'!$A$156=1,MAX('TABLA DE DECISION'!CX$159:CX$208)-'TABLA DE DECISION'!CX175,'TABLA DE DECISION'!CX175-MIN('TABLA DE DECISION'!CX$159:CX$208)))","v":""},{"$f":"IF('TABLA DE DECISION'!CY175=\"\",\"\",IF('TABLA DE DECISION'!$A$156=1,MAX('TABLA DE DECISION'!CY$159:CY$208)-'TABLA DE DECISION'!CY175,'TABLA DE DECISION'!CY175-MIN('TABLA DE DECISION'!CY$159:CY$208)))","v":""},{"$f":"IF('TABLA DE DECISION'!CZ175=\"\",\"\",IF('TABLA DE DECISION'!$A$156=1,MAX('TABLA DE DECISION'!CZ$159:CZ$208)-'TABLA DE DECISION'!CZ175,'TABLA DE DECISION'!CZ175-MIN('TABLA DE DECISION'!CZ$159:CZ$208)))","v":""},{"$f":"IF('TABLA DE DECISION'!DA175=\"\",\"\",IF('TABLA DE DECISION'!$A$156=1,MAX('TABLA DE DECISION'!DA$159:DA$208)-'TABLA DE DECISION'!DA175,'TABLA DE DECISION'!DA175-MIN('TABLA DE DECISION'!DA$159:DA$208)))","v":""},{"$f":"IF('TABLA DE DECISION'!DB175=\"\",\"\",IF('TABLA DE DECISION'!$A$156=1,MAX('TABLA DE DECISION'!DB$159:DB$208)-'TABLA DE DECISION'!DB175,'TABLA DE DECISION'!DB175-MIN('TABLA DE DECISION'!DB$159:DB$208)))","v":""},{"$f":"IF('TABLA DE DECISION'!DC175=\"\",\"\",IF('TABLA DE DECISION'!$A$156=1,MAX('TABLA DE DECISION'!DC$159:DC$208)-'TABLA DE DECISION'!DC175,'TABLA DE DECISION'!DC175-MIN('TABLA DE DECISION'!DC$159:DC$208)))","v":""},{"$f":"IF('TABLA DE DECISION'!DD175=\"\",\"\",IF('TABLA DE DECISION'!$A$156=1,MAX('TABLA DE DECISION'!DD$159:DD$208)-'TABLA DE DECISION'!DD175,'TABLA DE DECISION'!DD175-MIN('TABLA DE DECISION'!DD$159:DD$208)))","v":""},{"$f":"IF('TABLA DE DECISION'!DE175=\"\",\"\",IF('TABLA DE DECISION'!$A$156=1,MAX('TABLA DE DECISION'!DE$159:DE$208)-'TABLA DE DECISION'!DE175,'TABLA DE DECISION'!DE175-MIN('TABLA DE DECISION'!DE$159:DE$208)))","v":""},null,{"$f":"IF(C19=\"\",\"\",SUMPRODUCT(C19:AZ19,'TABLA DE DECISION'!BH$156:DE$156))","v":""}]
[{"$f":"IF('TABLA DE DECISION'!BF176=\"\",\"\",'TABLA DE DECISION'!BF176)","v":""},{"$f":"IF('TABLA DE DECISION'!BG176=\"\",\"\",'TABLA DE DECISION'!BG176)","v":"a18"},{"$f":"IF('TABLA DE DECISION'!BH176=\"\",\"\",IF('TABLA DE DECISION'!$A$156=1,MAX('TABLA DE DECISION'!BH$159:BH$208)-'TABLA DE DECISION'!BH176,'TABLA DE DECISION'!BH176-MIN('TABLA DE DECISION'!BH$159:BH$208)))","v":""},{"$f":"IF('TABLA DE DECISION'!BI176=\"\",\"\",IF('TABLA DE DECISION'!$A$156=1,MAX('TABLA DE DECISION'!BI$159:BI$208)-'TABLA DE DECISION'!BI176,'TABLA DE DECISION'!BI176-MIN('TABLA DE DECISION'!BI$159:BI$208)))","v":""},{"$f":"IF('TABLA DE DECISION'!BJ176=\"\",\"\",IF('TABLA DE DECISION'!$A$156=1,MAX('TABLA DE DECISION'!BJ$159:BJ$208)-'TABLA DE DECISION'!BJ176,'TABLA DE DECISION'!BJ176-MIN('TABLA DE DECISION'!BJ$159:BJ$208)))","v":""},{"$f":"IF('TABLA DE DECISION'!BK176=\"\",\"\",IF('TABLA DE DECISION'!$A$156=1,MAX('TABLA DE DECISION'!BK$159:BK$208)-'TABLA DE DECISION'!BK176,'TABLA DE DECISION'!BK176-MIN('TABLA DE DECISION'!BK$159:BK$208)))","v":""},{"$f":"IF('TABLA DE DECISION'!BL176=\"\",\"\",IF('TABLA DE DECISION'!$A$156=1,MAX('TABLA DE DECISION'!BL$159:BL$208)-'TABLA DE DECISION'!BL176,'TABLA DE DECISION'!BL176-MIN('TABLA DE DECISION'!BL$159:BL$208)))","v":""},{"$f":"IF('TABLA DE DECISION'!BM176=\"\",\"\",IF('TABLA DE DECISION'!$A$156=1,MAX('TABLA DE DECISION'!BM$159:BM$208)-'TABLA DE DECISION'!BM176,'TABLA DE DECISION'!BM176-MIN('TABLA DE DECISION'!BM$159:BM$208)))","v":""},{"$f":"IF('TABLA DE DECISION'!BN176=\"\",\"\",IF('TABLA DE DECISION'!$A$156=1,MAX('TABLA DE DECISION'!BN$159:BN$208)-'TABLA DE DECISION'!BN176,'TABLA DE DECISION'!BN176-MIN('TABLA DE DECISION'!BN$159:BN$208)))","v":""},{"$f":"IF('TABLA DE DECISION'!BO176=\"\",\"\",IF('TABLA DE DECISION'!$A$156=1,MAX('TABLA DE DECISION'!BO$159:BO$208)-'TABLA DE DECISION'!BO176,'TABLA DE DECISION'!BO176-MIN('TABLA DE DECISION'!BO$159:BO$208)))","v":""},{"$f":"IF('TABLA DE DECISION'!BP176=\"\",\"\",IF('TABLA DE DECISION'!$A$156=1,MAX('TABLA DE DECISION'!BP$159:BP$208)-'TABLA DE DECISION'!BP176,'TABLA DE DECISION'!BP176-MIN('TABLA DE DECISION'!BP$159:BP$208)))","v":""},{"$f":"IF('TABLA DE DECISION'!BQ176=\"\",\"\",IF('TABLA DE DECISION'!$A$156=1,MAX('TABLA DE DECISION'!BQ$159:BQ$208)-'TABLA DE DECISION'!BQ176,'TABLA DE DECISION'!BQ176-MIN('TABLA DE DECISION'!BQ$159:BQ$208)))","v":""},{"$f":"IF('TABLA DE DECISION'!BR176=\"\",\"\",IF('TABLA DE DECISION'!$A$156=1,MAX('TABLA DE DECISION'!BR$159:BR$208)-'TABLA DE DECISION'!BR176,'TABLA DE DECISION'!BR176-MIN('TABLA DE DECISION'!BR$159:BR$208)))","v":""},{"$f":"IF('TABLA DE DECISION'!BS176=\"\",\"\",IF('TABLA DE DECISION'!$A$156=1,MAX('TABLA DE DECISION'!BS$159:BS$208)-'TABLA DE DECISION'!BS176,'TABLA DE DECISION'!BS176-MIN('TABLA DE DECISION'!BS$159:BS$208)))","v":""},{"$f":"IF('TABLA DE DECISION'!BT176=\"\",\"\",IF('TABLA DE DECISION'!$A$156=1,MAX('TABLA DE DECISION'!BT$159:BT$208)-'TABLA DE DECISION'!BT176,'TABLA DE DECISION'!BT176-MIN('TABLA DE DECISION'!BT$159:BT$208)))","v":""},{"$f":"IF('TABLA DE DECISION'!BU176=\"\",\"\",IF('TABLA DE DECISION'!$A$156=1,MAX('TABLA DE DECISION'!BU$159:BU$208)-'TABLA DE DECISION'!BU176,'TABLA DE DECISION'!BU176-MIN('TABLA DE DECISION'!BU$159:BU$208)))","v":""},{"$f":"IF('TABLA DE DECISION'!BV176=\"\",\"\",IF('TABLA DE DECISION'!$A$156=1,MAX('TABLA DE DECISION'!BV$159:BV$208)-'TABLA DE DECISION'!BV176,'TABLA DE DECISION'!BV176-MIN('TABLA DE DECISION'!BV$159:BV$208)))","v":""},{"$f":"IF('TABLA DE DECISION'!BW176=\"\",\"\",IF('TABLA DE DECISION'!$A$156=1,MAX('TABLA DE DECISION'!BW$159:BW$208)-'TABLA DE DECISION'!BW176,'TABLA DE DECISION'!BW176-MIN('TABLA DE DECISION'!BW$159:BW$208)))","v":""},{"$f":"IF('TABLA DE DECISION'!BX176=\"\",\"\",IF('TABLA DE DECISION'!$A$156=1,MAX('TABLA DE DECISION'!BX$159:BX$208)-'TABLA DE DECISION'!BX176,'TABLA DE DECISION'!BX176-MIN('TABLA DE DECISION'!BX$159:BX$208)))","v":""},{"$f":"IF('TABLA DE DECISION'!BY176=\"\",\"\",IF('TABLA DE DECISION'!$A$156=1,MAX('TABLA DE DECISION'!BY$159:BY$208)-'TABLA DE DECISION'!BY176,'TABLA DE DECISION'!BY176-MIN('TABLA DE DECISION'!BY$159:BY$208)))","v":""},{"$f":"IF('TABLA DE DECISION'!BZ176=\"\",\"\",IF('TABLA DE DECISION'!$A$156=1,MAX('TABLA DE DECISION'!BZ$159:BZ$208)-'TABLA DE DECISION'!BZ176,'TABLA DE DECISION'!BZ176-MIN('TABLA DE DECISION'!BZ$159:BZ$208)))","v":""},{"$f":"IF('TABLA DE DECISION'!CA176=\"\",\"\",IF('TABLA DE DECISION'!$A$156=1,MAX('TABLA DE DECISION'!CA$159:CA$208)-'TABLA DE DECISION'!CA176,'TABLA DE DECISION'!CA176-MIN('TABLA DE DECISION'!CA$159:CA$208)))","v":""},{"$f":"IF('TABLA DE DECISION'!CB176=\"\",\"\",IF('TABLA DE DECISION'!$A$156=1,MAX('TABLA DE DECISION'!CB$159:CB$208)-'TABLA DE DECISION'!CB176,'TABLA DE DECISION'!CB176-MIN('TABLA DE DECISION'!CB$159:CB$208)))","v":""},{"$f":"IF('TABLA DE DECISION'!CC176=\"\",\"\",IF('TABLA DE DECISION'!$A$156=1,MAX('TABLA DE DECISION'!CC$159:CC$208)-'TABLA DE DECISION'!CC176,'TABLA DE DECISION'!CC176-MIN('TABLA DE DECISION'!CC$159:CC$208)))","v":""},{"$f":"IF('TABLA DE DECISION'!CD176=\"\",\"\",IF('TABLA DE DECISION'!$A$156=1,MAX('TABLA DE DECISION'!CD$159:CD$208)-'TABLA DE DECISION'!CD176,'TABLA DE DECISION'!CD176-MIN('TABLA DE DECISION'!CD$159:CD$208)))","v":""},{"$f":"IF('TABLA DE DECISION'!CE176=\"\",\"\",IF('TABLA DE DECISION'!$A$156=1,MAX('TABLA DE DECISION'!CE$159:CE$208)-'TABLA DE DECISION'!CE176,'TABLA DE DECISION'!CE176-MIN('TABLA DE DECISION'!CE$159:CE$208)))","v":""},{"$f":"IF('TABLA DE DECISION'!CF176=\"\",\"\",IF('TABLA DE DECISION'!$A$156=1,MAX('TABLA DE DECISION'!CF$159:CF$208)-'TABLA DE DECISION'!CF176,'TABLA DE DECISION'!CF176-MIN('TABLA DE DECISION'!CF$159:CF$208)))","v":""},{"$f":"IF('TABLA DE DECISION'!CG176=\"\",\"\",IF('TABLA DE DECISION'!$A$156=1,MAX('TABLA DE DECISION'!CG$159:CG$208)-'TABLA DE DECISION'!CG176,'TABLA DE DECISION'!CG176-MIN('TABLA DE DECISION'!CG$159:CG$208)))","v":""},{"$f":"IF('TABLA DE DECISION'!CH176=\"\",\"\",IF('TABLA DE DECISION'!$A$156=1,MAX('TABLA DE DECISION'!CH$159:CH$208)-'TABLA DE DECISION'!CH176,'TABLA DE DECISION'!CH176-MIN('TABLA DE DECISION'!CH$159:CH$208)))","v":""},{"$f":"IF('TABLA DE DECISION'!CI176=\"\",\"\",IF('TABLA DE DECISION'!$A$156=1,MAX('TABLA DE DECISION'!CI$159:CI$208)-'TABLA DE DECISION'!CI176,'TABLA DE DECISION'!CI176-MIN('TABLA DE DECISION'!CI$159:CI$208)))","v":""},{"$f":"IF('TABLA DE DECISION'!CJ176=\"\",\"\",IF('TABLA DE DECISION'!$A$156=1,MAX('TABLA DE DECISION'!CJ$159:CJ$208)-'TABLA DE DECISION'!CJ176,'TABLA DE DECISION'!CJ176-MIN('TABLA DE DECISION'!CJ$159:CJ$208)))","v":""},{"$f":"IF('TABLA DE DECISION'!CK176=\"\",\"\",IF('TABLA DE DECISION'!$A$156=1,MAX('TABLA DE DECISION'!CK$159:CK$208)-'TABLA DE DECISION'!CK176,'TABLA DE DECISION'!CK176-MIN('TABLA DE DECISION'!CK$159:CK$208)))","v":""},{"$f":"IF('TABLA DE DECISION'!CL176=\"\",\"\",IF('TABLA DE DECISION'!$A$156=1,MAX('TABLA DE DECISION'!CL$159:CL$208)-'TABLA DE DECISION'!CL176,'TABLA DE DECISION'!CL176-MIN('TABLA DE DECISION'!CL$159:CL$208)))","v":""},{"$f":"IF('TABLA DE DECISION'!CM176=\"\",\"\",IF('TABLA DE DECISION'!$A$156=1,MAX('TABLA DE DECISION'!CM$159:CM$208)-'TABLA DE DECISION'!CM176,'TABLA DE DECISION'!CM176-MIN('TABLA DE DECISION'!CM$159:CM$208)))","v":""},{"$f":"IF('TABLA DE DECISION'!CN176=\"\",\"\",IF('TABLA DE DECISION'!$A$156=1,MAX('TABLA DE DECISION'!CN$159:CN$208)-'TABLA DE DECISION'!CN176,'TABLA DE DECISION'!CN176-MIN('TABLA DE DECISION'!CN$159:CN$208)))","v":""},{"$f":"IF('TABLA DE DECISION'!CO176=\"\",\"\",IF('TABLA DE DECISION'!$A$156=1,MAX('TABLA DE DECISION'!CO$159:CO$208)-'TABLA DE DECISION'!CO176,'TABLA DE DECISION'!CO176-MIN('TABLA DE DECISION'!CO$159:CO$208)))","v":""},{"$f":"IF('TABLA DE DECISION'!CP176=\"\",\"\",IF('TABLA DE DECISION'!$A$156=1,MAX('TABLA DE DECISION'!CP$159:CP$208)-'TABLA DE DECISION'!CP176,'TABLA DE DECISION'!CP176-MIN('TABLA DE DECISION'!CP$159:CP$208)))","v":""},{"$f":"IF('TABLA DE DECISION'!CQ176=\"\",\"\",IF('TABLA DE DECISION'!$A$156=1,MAX('TABLA DE DECISION'!CQ$159:CQ$208)-'TABLA DE DECISION'!CQ176,'TABLA DE DECISION'!CQ176-MIN('TABLA DE DECISION'!CQ$159:CQ$208)))","v":""},{"$f":"IF('TABLA DE DECISION'!CR176=\"\",\"\",IF('TABLA DE DECISION'!$A$156=1,MAX('TABLA DE DECISION'!CR$159:CR$208)-'TABLA DE DECISION'!CR176,'TABLA DE DECISION'!CR176-MIN('TABLA DE DECISION'!CR$159:CR$208)))","v":""},{"$f":"IF('TABLA DE DECISION'!CS176=\"\",\"\",IF('TABLA DE DECISION'!$A$156=1,MAX('TABLA DE DECISION'!CS$159:CS$208)-'TABLA DE DECISION'!CS176,'TABLA DE DECISION'!CS176-MIN('TABLA DE DECISION'!CS$159:CS$208)))","v":""},{"$f":"IF('TABLA DE DECISION'!CT176=\"\",\"\",IF('TABLA DE DECISION'!$A$156=1,MAX('TABLA DE DECISION'!CT$159:CT$208)-'TABLA DE DECISION'!CT176,'TABLA DE DECISION'!CT176-MIN('TABLA DE DECISION'!CT$159:CT$208)))","v":""},{"$f":"IF('TABLA DE DECISION'!CU176=\"\",\"\",IF('TABLA DE DECISION'!$A$156=1,MAX('TABLA DE DECISION'!CU$159:CU$208)-'TABLA DE DECISION'!CU176,'TABLA DE DECISION'!CU176-MIN('TABLA DE DECISION'!CU$159:CU$208)))","v":""},{"$f":"IF('TABLA DE DECISION'!CV176=\"\",\"\",IF('TABLA DE DECISION'!$A$156=1,MAX('TABLA DE DECISION'!CV$159:CV$208)-'TABLA DE DECISION'!CV176,'TABLA DE DECISION'!CV176-MIN('TABLA DE DECISION'!CV$159:CV$208)))","v":""},{"$f":"IF('TABLA DE DECISION'!CW176=\"\",\"\",IF('TABLA DE DECISION'!$A$156=1,MAX('TABLA DE DECISION'!CW$159:CW$208)-'TABLA DE DECISION'!CW176,'TABLA DE DECISION'!CW176-MIN('TABLA DE DECISION'!CW$159:CW$208)))","v":""},{"$f":"IF('TABLA DE DECISION'!CX176=\"\",\"\",IF('TABLA DE DECISION'!$A$156=1,MAX('TABLA DE DECISION'!CX$159:CX$208)-'TABLA DE DECISION'!CX176,'TABLA DE DECISION'!CX176-MIN('TABLA DE DECISION'!CX$159:CX$208)))","v":""},{"$f":"IF('TABLA DE DECISION'!CY176=\"\",\"\",IF('TABLA DE DECISION'!$A$156=1,MAX('TABLA DE DECISION'!CY$159:CY$208)-'TABLA DE DECISION'!CY176,'TABLA DE DECISION'!CY176-MIN('TABLA DE DECISION'!CY$159:CY$208)))","v":""},{"$f":"IF('TABLA DE DECISION'!CZ176=\"\",\"\",IF('TABLA DE DECISION'!$A$156=1,MAX('TABLA DE DECISION'!CZ$159:CZ$208)-'TABLA DE DECISION'!CZ176,'TABLA DE DECISION'!CZ176-MIN('TABLA DE DECISION'!CZ$159:CZ$208)))","v":""},{"$f":"IF('TABLA DE DECISION'!DA176=\"\",\"\",IF('TABLA DE DECISION'!$A$156=1,MAX('TABLA DE DECISION'!DA$159:DA$208)-'TABLA DE DECISION'!DA176,'TABLA DE DECISION'!DA176-MIN('TABLA DE DECISION'!DA$159:DA$208)))","v":""},{"$f":"IF('TABLA DE DECISION'!DB176=\"\",\"\",IF('TABLA DE DECISION'!$A$156=1,MAX('TABLA DE DECISION'!DB$159:DB$208)-'TABLA DE DECISION'!DB176,'TABLA DE DECISION'!DB176-MIN('TABLA DE DECISION'!DB$159:DB$208)))","v":""},{"$f":"IF('TABLA DE DECISION'!DC176=\"\",\"\",IF('TABLA DE DECISION'!$A$156=1,MAX('TABLA DE DECISION'!DC$159:DC$208)-'TABLA DE DECISION'!DC176,'TABLA DE DECISION'!DC176-MIN('TABLA DE DECISION'!DC$159:DC$208)))","v":""},{"$f":"IF('TABLA DE DECISION'!DD176=\"\",\"\",IF('TABLA DE DECISION'!$A$156=1,MAX('TABLA DE DECISION'!DD$159:DD$208)-'TABLA DE DECISION'!DD176,'TABLA DE DECISION'!DD176-MIN('TABLA DE DECISION'!DD$159:DD$208)))","v":""},{"$f":"IF('TABLA DE DECISION'!DE176=\"\",\"\",IF('TABLA DE DECISION'!$A$156=1,MAX('TABLA DE DECISION'!DE$159:DE$208)-'TABLA DE DECISION'!DE176,'TABLA DE DECISION'!DE176-MIN('TABLA DE DECISION'!DE$159:DE$208)))","v":""},null,{"$f":"IF(C20=\"\",\"\",SUMPRODUCT(C20:AZ20,'TABLA DE DECISION'!BH$156:DE$156))","v":""}]
[{"$f":"IF('TABLA DE DECISION'!BF177=\"\",\"\",'TABLA DE DECISION'!BF177)","v":""},{"$f":"IF('TABLA DE DECISION'!BG177=\"\",\"\",'TABLA DE DECISION'!BG177)","v":"a19"},{"$f":"IF('TABLA DE DECISION'!BH177=\"\",\"\",IF('TABLA DE DECISION'!$A$156=1,MAX('TABLA DE DECISION'!BH$159:BH$208)-'TABLA DE DECISION'!BH177,'TABLA DE DECISION'!BH177-MIN('TABLA DE DECISION'!BH$159:BH$208)))","v":""},{"$f":"IF('TABLA DE DECISION'!BI177=\"\",\"\",IF('TABLA DE DECISION'!$A$156=1,MAX('TABLA DE DECISION'!BI$159:BI$208)-'TABLA DE DECISION'!BI177,'TABLA DE DECISION'!BI177-MIN('TABLA DE DECISION'!BI$159:BI$208)))","v":""},{"$f":"IF('TABLA DE DECISION'!BJ177=\"\",\"\",IF('TABLA DE DECISION'!$A$156=1,MAX('TABLA DE DECISION'!BJ$159:BJ$208)-'TABLA DE DECISION'!BJ177,'TABLA DE DECISION'!BJ177-MIN('TABLA DE DECISION'!BJ$159:BJ$208)))","v":""},{"$f":"IF('TABLA DE DECISION'!BK177=\"\",\"\",IF('TABLA DE DECISION'!$A$156=1,MAX('TABLA DE DECISION'!BK$159:BK$208)-'TABLA DE DECISION'!BK177,'TABLA DE DECISION'!BK177-MIN('TABLA DE DECISION'!BK$159:BK$208)))","v":""},{"$f":"IF('TABLA DE DECISION'!BL177=\"\",\"\",IF('TABLA DE DECISION'!$A$156=1,MAX('TABLA DE DECISION'!BL$159:BL$208)-'TABLA DE DECISION'!BL177,'TABLA DE DECISION'!BL177-MIN('TABLA DE DECISION'!BL$159:BL$208)))","v":""},{"$f":"IF('TABLA DE DECISION'!BM177=\"\",\"\",IF('TABLA DE DECISION'!$A$156=1,MAX('TABLA DE DECISION'!BM$159:BM$208)-'TABLA DE DECISION'!BM177,'TABLA DE DECISION'!BM177-MIN('TABLA DE DECISION'!BM$159:BM$208)))","v":""},{"$f":"IF('TABLA DE DECISION'!BN177=\"\",\"\",IF('TABLA DE DECISION'!$A$156=1,MAX('TABLA DE DECISION'!BN$159:BN$208)-'TABLA DE DECISION'!BN177,'TABLA DE DECISION'!BN177-MIN('TABLA DE DECISION'!BN$159:BN$208)))","v":""},{"$f":"IF('TABLA DE DECISION'!BO177=\"\",\"\",IF('TABLA DE DECISION'!$A$156=1,MAX('TABLA DE DECISION'!BO$159:BO$208)-'TABLA DE DECISION'!BO177,'TABLA DE DECISION'!BO177-MIN('TABLA DE DECISION'!BO$159:BO$208)))","v":""},{"$f":"IF('TABLA DE DECISION'!BP177=\"\",\"\",IF('TABLA DE DECISION'!$A$156=1,MAX('TABLA DE DECISION'!BP$159:BP$208)-'TABLA DE DECISION'!BP177,'TABLA DE DECISION'!BP177-MIN('TABLA DE DECISION'!BP$159:BP$208)))","v":""},{"$f":"IF('TABLA DE DECISION'!BQ177=\"\",\"\",IF('TABLA DE DECISION'!$A$156=1,MAX('TABLA DE DECISION'!BQ$159:BQ$208)-'TABLA DE DECISION'!BQ177,'TABLA DE DECISION'!BQ177-MIN('TABLA DE DECISION'!BQ$159:BQ$208)))","v":""},{"$f":"IF('TABLA DE DECISION'!BR177=\"\",\"\",IF('TABLA DE DECISION'!$A$156=1,MAX('TABLA DE DECISION'!BR$159:BR$208)-'TABLA DE DECISION'!BR177,'TABLA DE DECISION'!BR177-MIN('TABLA DE DECISION'!BR$159:BR$208)))","v":""},{"$f":"IF('TABLA DE DECISION'!BS177=\"\",\"\",IF('TABLA DE DECISION'!$A$156=1,MAX('TABLA DE DECISION'!BS$159:BS$208)-'TABLA DE DECISION'!BS177,'TABLA DE DECISION'!BS177-MIN('TABLA DE DECISION'!BS$159:BS$208)))","v":""},{"$f":"IF('TABLA DE DECISION'!BT177=\"\",\"\",IF('TABLA DE DECISION'!$A$156=1,MAX('TABLA DE DECISION'!BT$159:BT$208)-'TABLA DE DECISION'!BT177,'TABLA DE DECISION'!BT177-MIN('TABLA DE DECISION'!BT$159:BT$208)))","v":""},{"$f":"IF('TABLA DE DECISION'!BU177=\"\",\"\",IF('TABLA DE DECISION'!$A$156=1,MAX('TABLA DE DECISION'!BU$159:BU$208)-'TABLA DE DECISION'!BU177,'TABLA DE DECISION'!BU177-MIN('TABLA DE DECISION'!BU$159:BU$208)))","v":""},{"$f":"IF('TABLA DE DECISION'!BV177=\"\",\"\",IF('TABLA DE DECISION'!$A$156=1,MAX('TABLA DE DECISION'!BV$159:BV$208)-'TABLA DE DECISION'!BV177,'TABLA DE DECISION'!BV177-MIN('TABLA DE DECISION'!BV$159:BV$208)))","v":""},{"$f":"IF('TABLA DE DECISION'!BW177=\"\",\"\",IF('TABLA DE DECISION'!$A$156=1,MAX('TABLA DE DECISION'!BW$159:BW$208)-'TABLA DE DECISION'!BW177,'TABLA DE DECISION'!BW177-MIN('TABLA DE DECISION'!BW$159:BW$208)))","v":""},{"$f":"IF('TABLA DE DECISION'!BX177=\"\",\"\",IF('TABLA DE DECISION'!$A$156=1,MAX('TABLA DE DECISION'!BX$159:BX$208)-'TABLA DE DECISION'!BX177,'TABLA DE DECISION'!BX177-MIN('TABLA DE DECISION'!BX$159:BX$208)))","v":""},{"$f":"IF('TABLA DE DECISION'!BY177=\"\",\"\",IF('TABLA DE DECISION'!$A$156=1,MAX('TABLA DE DECISION'!BY$159:BY$208)-'TABLA DE DECISION'!BY177,'TABLA DE DECISION'!BY177-MIN('TABLA DE DECISION'!BY$159:BY$208)))","v":""},{"$f":"IF('TABLA DE DECISION'!BZ177=\"\",\"\",IF('TABLA DE DECISION'!$A$156=1,MAX('TABLA DE DECISION'!BZ$159:BZ$208)-'TABLA DE DECISION'!BZ177,'TABLA DE DECISION'!BZ177-MIN('TABLA DE DECISION'!BZ$159:BZ$208)))","v":""},{"$f":"IF('TABLA DE DECISION'!CA177=\"\",\"\",IF('TABLA DE DECISION'!$A$156=1,MAX('TABLA DE DECISION'!CA$159:CA$208)-'TABLA DE DECISION'!CA177,'TABLA DE DECISION'!CA177-MIN('TABLA DE DECISION'!CA$159:CA$208)))","v":""},{"$f":"IF('TABLA DE DECISION'!CB177=\"\",\"\",IF('TABLA DE DECISION'!$A$156=1,MAX('TABLA DE DECISION'!CB$159:CB$208)-'TABLA DE DECISION'!CB177,'TABLA DE DECISION'!CB177-MIN('TABLA DE DECISION'!CB$159:CB$208)))","v":""},{"$f":"IF('TABLA DE DECISION'!CC177=\"\",\"\",IF('TABLA DE DECISION'!$A$156=1,MAX('TABLA DE DECISION'!CC$159:CC$208)-'TABLA DE DECISION'!CC177,'TABLA DE DECISION'!CC177-MIN('TABLA DE DECISION'!CC$159:CC$208)))","v":""},{"$f":"IF('TABLA DE DECISION'!CD177=\"\",\"\",IF('TABLA DE DECISION'!$A$156=1,MAX('TABLA DE DECISION'!CD$159:CD$208)-'TABLA DE DECISION'!CD177,'TABLA DE DECISION'!CD177-MIN('TABLA DE DECISION'!CD$159:CD$208)))","v":""},{"$f":"IF('TABLA DE DECISION'!CE177=\"\",\"\",IF('TABLA DE DECISION'!$A$156=1,MAX('TABLA DE DECISION'!CE$159:CE$208)-'TABLA DE DECISION'!CE177,'TABLA DE DECISION'!CE177-MIN('TABLA DE DECISION'!CE$159:CE$208)))","v":""},{"$f":"IF('TABLA DE DECISION'!CF177=\"\",\"\",IF('TABLA DE DECISION'!$A$156=1,MAX('TABLA DE DECISION'!CF$159:CF$208)-'TABLA DE DECISION'!CF177,'TABLA DE DECISION'!CF177-MIN('TABLA DE DECISION'!CF$159:CF$208)))","v":""},{"$f":"IF('TABLA DE DECISION'!CG177=\"\",\"\",IF('TABLA DE DECISION'!$A$156=1,MAX('TABLA DE DECISION'!CG$159:CG$208)-'TABLA DE DECISION'!CG177,'TABLA DE DECISION'!CG177-MIN('TABLA DE DECISION'!CG$159:CG$208)))","v":""},{"$f":"IF('TABLA DE DECISION'!CH177=\"\",\"\",IF('TABLA DE DECISION'!$A$156=1,MAX('TABLA DE DECISION'!CH$159:CH$208)-'TABLA DE DECISION'!CH177,'TABLA DE DECISION'!CH177-MIN('TABLA DE DECISION'!CH$159:CH$208)))","v":""},{"$f":"IF('TABLA DE DECISION'!CI177=\"\",\"\",IF('TABLA DE DECISION'!$A$156=1,MAX('TABLA DE DECISION'!CI$159:CI$208)-'TABLA DE DECISION'!CI177,'TABLA DE DECISION'!CI177-MIN('TABLA DE DECISION'!CI$159:CI$208)))","v":""},{"$f":"IF('TABLA DE DECISION'!CJ177=\"\",\"\",IF('TABLA DE DECISION'!$A$156=1,MAX('TABLA DE DECISION'!CJ$159:CJ$208)-'TABLA DE DECISION'!CJ177,'TABLA DE DECISION'!CJ177-MIN('TABLA DE DECISION'!CJ$159:CJ$208)))","v":""},{"$f":"IF('TABLA DE DECISION'!CK177=\"\",\"\",IF('TABLA DE DECISION'!$A$156=1,MAX('TABLA DE DECISION'!CK$159:CK$208)-'TABLA DE DECISION'!CK177,'TABLA DE DECISION'!CK177-MIN('TABLA DE DECISION'!CK$159:CK$208)))","v":""},{"$f":"IF('TABLA DE DECISION'!CL177=\"\",\"\",IF('TABLA DE DECISION'!$A$156=1,MAX('TABLA DE DECISION'!CL$159:CL$208)-'TABLA DE DECISION'!CL177,'TABLA DE DECISION'!CL177-MIN('TABLA DE DECISION'!CL$159:CL$208)))","v":""},{"$f":"IF('TABLA DE DECISION'!CM177=\"\",\"\",IF('TABLA DE DECISION'!$A$156=1,MAX('TABLA DE DECISION'!CM$159:CM$208)-'TABLA DE DECISION'!CM177,'TABLA DE DECISION'!CM177-MIN('TABLA DE DECISION'!CM$159:CM$208)))","v":""},{"$f":"IF('TABLA DE DECISION'!CN177=\"\",\"\",IF('TABLA DE DECISION'!$A$156=1,MAX('TABLA DE DECISION'!CN$159:CN$208)-'TABLA DE DECISION'!CN177,'TABLA DE DECISION'!CN177-MIN('TABLA DE DECISION'!CN$159:CN$208)))","v":""},{"$f":"IF('TABLA DE DECISION'!CO177=\"\",\"\",IF('TABLA DE DECISION'!$A$156=1,MAX('TABLA DE DECISION'!CO$159:CO$208)-'TABLA DE DECISION'!CO177,'TABLA DE DECISION'!CO177-MIN('TABLA DE DECISION'!CO$159:CO$208)))","v":""},{"$f":"IF('TABLA DE DECISION'!CP177=\"\",\"\",IF('TABLA DE DECISION'!$A$156=1,MAX('TABLA DE DECISION'!CP$159:CP$208)-'TABLA DE DECISION'!CP177,'TABLA DE DECISION'!CP177-MIN('TABLA DE DECISION'!CP$159:CP$208)))","v":""},{"$f":"IF('TABLA DE DECISION'!CQ177=\"\",\"\",IF('TABLA DE DECISION'!$A$156=1,MAX('TABLA DE DECISION'!CQ$159:CQ$208)-'TABLA DE DECISION'!CQ177,'TABLA DE DECISION'!CQ177-MIN('TABLA DE DECISION'!CQ$159:CQ$208)))","v":""},{"$f":"IF('TABLA DE DECISION'!CR177=\"\",\"\",IF('TABLA DE DECISION'!$A$156=1,MAX('TABLA DE DECISION'!CR$159:CR$208)-'TABLA DE DECISION'!CR177,'TABLA DE DECISION'!CR177-MIN('TABLA DE DECISION'!CR$159:CR$208)))","v":""},{"$f":"IF('TABLA DE DECISION'!CS177=\"\",\"\",IF('TABLA DE DECISION'!$A$156=1,MAX('TABLA DE DECISION'!CS$159:CS$208)-'TABLA DE DECISION'!CS177,'TABLA DE DECISION'!CS177-MIN('TABLA DE DECISION'!CS$159:CS$208)))","v":""},{"$f":"IF('TABLA DE DECISION'!CT177=\"\",\"\",IF('TABLA DE DECISION'!$A$156=1,MAX('TABLA DE DECISION'!CT$159:CT$208)-'TABLA DE DECISION'!CT177,'TABLA DE DECISION'!CT177-MIN('TABLA DE DECISION'!CT$159:CT$208)))","v":""},{"$f":"IF('TABLA DE DECISION'!CU177=\"\",\"\",IF('TABLA DE DECISION'!$A$156=1,MAX('TABLA DE DECISION'!CU$159:CU$208)-'TABLA DE DECISION'!CU177,'TABLA DE DECISION'!CU177-MIN('TABLA DE DECISION'!CU$159:CU$208)))","v":""},{"$f":"IF('TABLA DE DECISION'!CV177=\"\",\"\",IF('TABLA DE DECISION'!$A$156=1,MAX('TABLA DE DECISION'!CV$159:CV$208)-'TABLA DE DECISION'!CV177,'TABLA DE DECISION'!CV177-MIN('TABLA DE DECISION'!CV$159:CV$208)))","v":""},{"$f":"IF('TABLA DE DECISION'!CW177=\"\",\"\",IF('TABLA DE DECISION'!$A$156=1,MAX('TABLA DE DECISION'!CW$159:CW$208)-'TABLA DE DECISION'!CW177,'TABLA DE DECISION'!CW177-MIN('TABLA DE DECISION'!CW$159:CW$208)))","v":""},{"$f":"IF('TABLA DE DECISION'!CX177=\"\",\"\",IF('TABLA DE DECISION'!$A$156=1,MAX('TABLA DE DECISION'!CX$159:CX$208)-'TABLA DE DECISION'!CX177,'TABLA DE DECISION'!CX177-MIN('TABLA DE DECISION'!CX$159:CX$208)))","v":""},{"$f":"IF('TABLA DE DECISION'!CY177=\"\",\"\",IF('TABLA DE DECISION'!$A$156=1,MAX('TABLA DE DECISION'!CY$159:CY$208)-'TABLA DE DECISION'!CY177,'TABLA DE DECISION'!CY177-MIN('TABLA DE DECISION'!CY$159:CY$208)))","v":""},{"$f":"IF('TABLA DE DECISION'!CZ177=\"\",\"\",IF('TABLA DE DECISION'!$A$156=1,MAX('TABLA DE DECISION'!CZ$159:CZ$208)-'TABLA DE DECISION'!CZ177,'TABLA DE DECISION'!CZ177-MIN('TABLA DE DECISION'!CZ$159:CZ$208)))","v":""},{"$f":"IF('TABLA DE DECISION'!DA177=\"\",\"\",IF('TABLA DE DECISION'!$A$156=1,MAX('TABLA DE DECISION'!DA$159:DA$208)-'TABLA DE DECISION'!DA177,'TABLA DE DECISION'!DA177-MIN('TABLA DE DECISION'!DA$159:DA$208)))","v":""},{"$f":"IF('TABLA DE DECISION'!DB177=\"\",\"\",IF('TABLA DE DECISION'!$A$156=1,MAX('TABLA DE DECISION'!DB$159:DB$208)-'TABLA DE DECISION'!DB177,'TABLA DE DECISION'!DB177-MIN('TABLA DE DECISION'!DB$159:DB$208)))","v":""},{"$f":"IF('TABLA DE DECISION'!DC177=\"\",\"\",IF('TABLA DE DECISION'!$A$156=1,MAX('TABLA DE DECISION'!DC$159:DC$208)-'TABLA DE DECISION'!DC177,'TABLA DE DECISION'!DC177-MIN('TABLA DE DECISION'!DC$159:DC$208)))","v":""},{"$f":"IF('TABLA DE DECISION'!DD177=\"\",\"\",IF('TABLA DE DECISION'!$A$156=1,MAX('TABLA DE DECISION'!DD$159:DD$208)-'TABLA DE DECISION'!DD177,'TABLA DE DECISION'!DD177-MIN('TABLA DE DECISION'!DD$159:DD$208)))","v":""},{"$f":"IF('TABLA DE DECISION'!DE177=\"\",\"\",IF('TABLA DE DECISION'!$A$156=1,MAX('TABLA DE DECISION'!DE$159:DE$208)-'TABLA DE DECISION'!DE177,'TABLA DE DECISION'!DE177-MIN('TABLA DE DECISION'!DE$159:DE$208)))","v":""},null,{"$f":"IF(C21=\"\",\"\",SUMPRODUCT(C21:AZ21,'TABLA DE DECISION'!BH$156:DE$156))","v":""}]
[{"$f":"IF('TABLA DE DECISION'!BF178=\"\",\"\",'TABLA DE DECISION'!BF178)","v":""},{"$f":"IF('TABLA DE DECISION'!BG178=\"\",\"\",'TABLA DE DECISION'!BG178)","v":"a20"},{"$f":"IF('TABLA DE DECISION'!BH178=\"\",\"\",IF('TABLA DE DECISION'!$A$156=1,MAX('TABLA DE DECISION'!BH$159:BH$208)-'TABLA DE DECISION'!BH178,'TABLA DE DECISION'!BH178-MIN('TABLA DE DECISION'!BH$159:BH$208)))","v":""},{"$f":"IF('TABLA DE DECISION'!BI178=\"\",\"\",IF('TABLA DE DECISION'!$A$156=1,MAX('TABLA DE DECISION'!BI$159:BI$208)-'TABLA DE DECISION'!BI178,'TABLA DE DECISION'!BI178-MIN('TABLA DE DECISION'!BI$159:BI$208)))","v":""},{"$f":"IF('TABLA DE DECISION'!BJ178=\"\",\"\",IF('TABLA DE DECISION'!$A$156=1,MAX('TABLA DE DECISION'!BJ$159:BJ$208)-'TABLA DE DECISION'!BJ178,'TABLA DE DECISION'!BJ178-MIN('TABLA DE DECISION'!BJ$159:BJ$208)))","v":""},{"$f":"IF('TABLA DE DECISION'!BK178=\"\",\"\",IF('TABLA DE DECISION'!$A$156=1,MAX('TABLA DE DECISION'!BK$159:BK$208)-'TABLA DE DECISION'!BK178,'TABLA DE DECISION'!BK178-MIN('TABLA DE DECISION'!BK$159:BK$208)))","v":""},{"$f":"IF('TABLA DE DECISION'!BL178=\"\",\"\",IF('TABLA DE DECISION'!$A$156=1,MAX('TABLA DE DECISION'!BL$159:BL$208)-'TABLA DE DECISION'!BL178,'TABLA DE DECISION'!BL178-MIN('TABLA DE DECISION'!BL$159:BL$208)))","v":""},{"$f":"IF('TABLA DE DECISION'!BM178=\"\",\"\",IF('TABLA DE DECISION'!$A$156=1,MAX('TABLA DE DECISION'!BM$159:BM$208)-'TABLA DE DECISION'!BM178,'TABLA DE DECISION'!BM178-MIN('TABLA DE DECISION'!BM$159:BM$208)))","v":""},{"$f":"IF('TABLA DE DECISION'!BN178=\"\",\"\",IF('TABLA DE DECISION'!$A$156=1,MAX('TABLA DE DECISION'!BN$159:BN$208)-'TABLA DE DECISION'!BN178,'TABLA DE DECISION'!BN178-MIN('TABLA DE DECISION'!BN$159:BN$208)))","v":""},{"$f":"IF('TABLA DE DECISION'!BO178=\"\",\"\",IF('TABLA DE DECISION'!$A$156=1,MAX('TABLA DE DECISION'!BO$159:BO$208)-'TABLA DE DECISION'!BO178,'TABLA DE DECISION'!BO178-MIN('TABLA DE DECISION'!BO$159:BO$208)))","v":""},{"$f":"IF('TABLA DE DECISION'!BP178=\"\",\"\",IF('TABLA DE DECISION'!$A$156=1,MAX('TABLA DE DECISION'!BP$159:BP$208)-'TABLA DE DECISION'!BP178,'TABLA DE DECISION'!BP178-MIN('TABLA DE DECISION'!BP$159:BP$208)))","v":""},{"$f":"IF('TABLA DE DECISION'!BQ178=\"\",\"\",IF('TABLA DE DECISION'!$A$156=1,MAX('TABLA DE DECISION'!BQ$159:BQ$208)-'TABLA DE DECISION'!BQ178,'TABLA DE DECISION'!BQ178-MIN('TABLA DE DECISION'!BQ$159:BQ$208)))","v":""},{"$f":"IF('TABLA DE DECISION'!BR178=\"\",\"\",IF('TABLA DE DECISION'!$A$156=1,MAX('TABLA DE DECISION'!BR$159:BR$208)-'TABLA DE DECISION'!BR178,'TABLA DE DECISION'!BR178-MIN('TABLA DE DECISION'!BR$159:BR$208)))","v":""},{"$f":"IF('TABLA DE DECISION'!BS178=\"\",\"\",IF('TABLA DE DECISION'!$A$156=1,MAX('TABLA DE DECISION'!BS$159:BS$208)-'TABLA DE DECISION'!BS178,'TABLA DE DECISION'!BS178-MIN('TABLA DE DECISION'!BS$159:BS$208)))","v":""},{"$f":"IF('TABLA DE DECISION'!BT178=\"\",\"\",IF('TABLA DE DECISION'!$A$156=1,MAX('TABLA DE DECISION'!BT$159:BT$208)-'TABLA DE DECISION'!BT178,'TABLA DE DECISION'!BT178-MIN('TABLA DE DECISION'!BT$159:BT$208)))","v":""},{"$f":"IF('TABLA DE DECISION'!BU178=\"\",\"\",IF('TABLA DE DECISION'!$A$156=1,MAX('TABLA DE DECISION'!BU$159:BU$208)-'TABLA DE DECISION'!BU178,'TABLA DE DECISION'!BU178-MIN('TABLA DE DECISION'!BU$159:BU$208)))","v":""},{"$f":"IF('TABLA DE DECISION'!BV178=\"\",\"\",IF('TABLA DE DECISION'!$A$156=1,MAX('TABLA DE DECISION'!BV$159:BV$208)-'TABLA DE DECISION'!BV178,'TABLA DE DECISION'!BV178-MIN('TABLA DE DECISION'!BV$159:BV$208)))","v":""},{"$f":"IF('TABLA DE DECISION'!BW178=\"\",\"\",IF('TABLA DE DECISION'!$A$156=1,MAX('TABLA DE DECISION'!BW$159:BW$208)-'TABLA DE DECISION'!BW178,'TABLA DE DECISION'!BW178-MIN('TABLA DE DECISION'!BW$159:BW$208)))","v":""},{"$f":"IF('TABLA DE DECISION'!BX178=\"\",\"\",IF('TABLA DE DECISION'!$A$156=1,MAX('TABLA DE DECISION'!BX$159:BX$208)-'TABLA DE DECISION'!BX178,'TABLA DE DECISION'!BX178-MIN('TABLA DE DECISION'!BX$159:BX$208)))","v":""},{"$f":"IF('TABLA DE DECISION'!BY178=\"\",\"\",IF('TABLA DE DECISION'!$A$156=1,MAX('TABLA DE DECISION'!BY$159:BY$208)-'TABLA DE DECISION'!BY178,'TABLA DE DECISION'!BY178-MIN('TABLA DE DECISION'!BY$159:BY$208)))","v":""},{"$f":"IF('TABLA DE DECISION'!BZ178=\"\",\"\",IF('TABLA DE DECISION'!$A$156=1,MAX('TABLA DE DECISION'!BZ$159:BZ$208)-'TABLA DE DECISION'!BZ178,'TABLA DE DECISION'!BZ178-MIN('TABLA DE DECISION'!BZ$159:BZ$208)))","v":""},{"$f":"IF('TABLA DE DECISION'!CA178=\"\",\"\",IF('TABLA DE DECISION'!$A$156=1,MAX('TABLA DE DECISION'!CA$159:CA$208)-'TABLA DE DECISION'!CA178,'TABLA DE DECISION'!CA178-MIN('TABLA DE DECISION'!CA$159:CA$208)))","v":""},{"$f":"IF('TABLA DE DECISION'!CB178=\"\",\"\",IF('TABLA DE DECISION'!$A$156=1,MAX('TABLA DE DECISION'!CB$159:CB$208)-'TABLA DE DECISION'!CB178,'TABLA DE DECISION'!CB178-MIN('TABLA DE DECISION'!CB$159:CB$208)))","v":""},{"$f":"IF('TABLA DE DECISION'!CC178=\"\",\"\",IF('TABLA DE DECISION'!$A$156=1,MAX('TABLA DE DECISION'!CC$159:CC$208)-'TABLA DE DECISION'!CC178,'TABLA DE DECISION'!CC178-MIN('TABLA DE DECISION'!CC$159:CC$208)))","v":""},{"$f":"IF('TABLA DE DECISION'!CD178=\"\",\"\",IF('TABLA DE DECISION'!$A$156=1,MAX('TABLA DE DECISION'!CD$159:CD$208)-'TABLA DE DECISION'!CD178,'TABLA DE DECISION'!CD178-MIN('TABLA DE DECISION'!CD$159:CD$208)))","v":""},{"$f":"IF('TABLA DE DECISION'!CE178=\"\",\"\",IF('TABLA DE DECISION'!$A$156=1,MAX('TABLA DE DECISION'!CE$159:CE$208)-'TABLA DE DECISION'!CE178,'TABLA DE DECISION'!CE178-MIN('TABLA DE DECISION'!CE$159:CE$208)))","v":""},{"$f":"IF('TABLA DE DECISION'!CF178=\"\",\"\",IF('TABLA DE DECISION'!$A$156=1,MAX('TABLA DE DECISION'!CF$159:CF$208)-'TABLA DE DECISION'!CF178,'TABLA DE DECISION'!CF178-MIN('TABLA DE DECISION'!CF$159:CF$208)))","v":""},{"$f":"IF('TABLA DE DECISION'!CG178=\"\",\"\",IF('TABLA DE DECISION'!$A$156=1,MAX('TABLA DE DECISION'!CG$159:CG$208)-'TABLA DE DECISION'!CG178,'TABLA DE DECISION'!CG178-MIN('TABLA DE DECISION'!CG$159:CG$208)))","v":""},{"$f":"IF('TABLA DE DECISION'!CH178=\"\",\"\",IF('TABLA DE DECISION'!$A$156=1,MAX('TABLA DE DECISION'!CH$159:CH$208)-'TABLA DE DECISION'!CH178,'TABLA DE DECISION'!CH178-MIN('TABLA DE DECISION'!CH$159:CH$208)))","v":""},{"$f":"IF('TABLA DE DECISION'!CI178=\"\",\"\",IF('TABLA DE DECISION'!$A$156=1,MAX('TABLA DE DECISION'!CI$159:CI$208)-'TABLA DE DECISION'!CI178,'TABLA DE DECISION'!CI178-MIN('TABLA DE DECISION'!CI$159:CI$208)))","v":""},{"$f":"IF('TABLA DE DECISION'!CJ178=\"\",\"\",IF('TABLA DE DECISION'!$A$156=1,MAX('TABLA DE DECISION'!CJ$159:CJ$208)-'TABLA DE DECISION'!CJ178,'TABLA DE DECISION'!CJ178-MIN('TABLA DE DECISION'!CJ$159:CJ$208)))","v":""},{"$f":"IF('TABLA DE DECISION'!CK178=\"\",\"\",IF('TABLA DE DECISION'!$A$156=1,MAX('TABLA DE DECISION'!CK$159:CK$208)-'TABLA DE DECISION'!CK178,'TABLA DE DECISION'!CK178-MIN('TABLA DE DECISION'!CK$159:CK$208)))","v":""},{"$f":"IF('TABLA DE DECISION'!CL178=\"\",\"\",IF('TABLA DE DECISION'!$A$156=1,MAX('TABLA DE DECISION'!CL$159:CL$208)-'TABLA DE DECISION'!CL178,'TABLA DE DECISION'!CL178-MIN('TABLA DE DECISION'!CL$159:CL$208)))","v":""},{"$f":"IF('TABLA DE DECISION'!CM178=\"\",\"\",IF('TABLA DE DECISION'!$A$156=1,MAX('TABLA DE DECISION'!CM$159:CM$208)-'TABLA DE DECISION'!CM178,'TABLA DE DECISION'!CM178-MIN('TABLA DE DECISION'!CM$159:CM$208)))","v":""},{"$f":"IF('TABLA DE DECISION'!CN178=\"\",\"\",IF('TABLA DE DECISION'!$A$156=1,MAX('TABLA DE DECISION'!CN$159:CN$208)-'TABLA DE DECISION'!CN178,'TABLA DE DECISION'!CN178-MIN('TABLA DE DECISION'!CN$159:CN$208)))","v":""},{"$f":"IF('TABLA DE DECISION'!CO178=\"\",\"\",IF('TABLA DE DECISION'!$A$156=1,MAX('TABLA DE DECISION'!CO$159:CO$208)-'TABLA DE DECISION'!CO178,'TABLA DE DECISION'!CO178-MIN('TABLA DE DECISION'!CO$159:CO$208)))","v":""},{"$f":"IF('TABLA DE DECISION'!CP178=\"\",\"\",IF('TABLA DE DECISION'!$A$156=1,MAX('TABLA DE DECISION'!CP$159:CP$208)-'TABLA DE DECISION'!CP178,'TABLA DE DECISION'!CP178-MIN('TABLA DE DECISION'!CP$159:CP$208)))","v":""},{"$f":"IF('TABLA DE DECISION'!CQ178=\"\",\"\",IF('TABLA DE DECISION'!$A$156=1,MAX('TABLA DE DECISION'!CQ$159:CQ$208)-'TABLA DE DECISION'!CQ178,'TABLA DE DECISION'!CQ178-MIN('TABLA DE DECISION'!CQ$159:CQ$208)))","v":""},{"$f":"IF('TABLA DE DECISION'!CR178=\"\",\"\",IF('TABLA DE DECISION'!$A$156=1,MAX('TABLA DE DECISION'!CR$159:CR$208)-'TABLA DE DECISION'!CR178,'TABLA DE DECISION'!CR178-MIN('TABLA DE DECISION'!CR$159:CR$208)))","v":""},{"$f":"IF('TABLA DE DECISION'!CS178=\"\",\"\",IF('TABLA DE DECISION'!$A$156=1,MAX('TABLA DE DECISION'!CS$159:CS$208)-'TABLA DE DECISION'!CS178,'TABLA DE DECISION'!CS178-MIN('TABLA DE DECISION'!CS$159:CS$208)))","v":""},{"$f":"IF('TABLA DE DECISION'!CT178=\"\",\"\",IF('TABLA DE DECISION'!$A$156=1,MAX('TABLA DE DECISION'!CT$159:CT$208)-'TABLA DE DECISION'!CT178,'TABLA DE DECISION'!CT178-MIN('TABLA DE DECISION'!CT$159:CT$208)))","v":""},{"$f":"IF('TABLA DE DECISION'!CU178=\"\",\"\",IF('TABLA DE DECISION'!$A$156=1,MAX('TABLA DE DECISION'!CU$159:CU$208)-'TABLA DE DECISION'!CU178,'TABLA DE DECISION'!CU178-MIN('TABLA DE DECISION'!CU$159:CU$208)))","v":""},{"$f":"IF('TABLA DE DECISION'!CV178=\"\",\"\",IF('TABLA DE DECISION'!$A$156=1,MAX('TABLA DE DECISION'!CV$159:CV$208)-'TABLA DE DECISION'!CV178,'TABLA DE DECISION'!CV178-MIN('TABLA DE DECISION'!CV$159:CV$208)))","v":""},{"$f":"IF('TABLA DE DECISION'!CW178=\"\",\"\",IF('TABLA DE DECISION'!$A$156=1,MAX('TABLA DE DECISION'!CW$159:CW$208)-'TABLA DE DECISION'!CW178,'TABLA DE DECISION'!CW178-MIN('TABLA DE DECISION'!CW$159:CW$208)))","v":""},{"$f":"IF('TABLA DE DECISION'!CX178=\"\",\"\",IF('TABLA DE DECISION'!$A$156=1,MAX('TABLA DE DECISION'!CX$159:CX$208)-'TABLA DE DECISION'!CX178,'TABLA DE DECISION'!CX178-MIN('TABLA DE DECISION'!CX$159:CX$208)))","v":""},{"$f":"IF('TABLA DE DECISION'!CY178=\"\",\"\",IF('TABLA DE DECISION'!$A$156=1,MAX('TABLA DE DECISION'!CY$159:CY$208)-'TABLA DE DECISION'!CY178,'TABLA DE DECISION'!CY178-MIN('TABLA DE DECISION'!CY$159:CY$208)))","v":""},{"$f":"IF('TABLA DE DECISION'!CZ178=\"\",\"\",IF('TABLA DE DECISION'!$A$156=1,MAX('TABLA DE DECISION'!CZ$159:CZ$208)-'TABLA DE DECISION'!CZ178,'TABLA DE DECISION'!CZ178-MIN('TABLA DE DECISION'!CZ$159:CZ$208)))","v":""},{"$f":"IF('TABLA DE DECISION'!DA178=\"\",\"\",IF('TABLA DE DECISION'!$A$156=1,MAX('TABLA DE DECISION'!DA$159:DA$208)-'TABLA DE DECISION'!DA178,'TABLA DE DECISION'!DA178-MIN('TABLA DE DECISION'!DA$159:DA$208)))","v":""},{"$f":"IF('TABLA DE DECISION'!DB178=\"\",\"\",IF('TABLA DE DECISION'!$A$156=1,MAX('TABLA DE DECISION'!DB$159:DB$208)-'TABLA DE DECISION'!DB178,'TABLA DE DECISION'!DB178-MIN('TABLA DE DECISION'!DB$159:DB$208)))","v":""},{"$f":"IF('TABLA DE DECISION'!DC178=\"\",\"\",IF('TABLA DE DECISION'!$A$156=1,MAX('TABLA DE DECISION'!DC$159:DC$208)-'TABLA DE DECISION'!DC178,'TABLA DE DECISION'!DC178-MIN('TABLA DE DECISION'!DC$159:DC$208)))","v":""},{"$f":"IF('TABLA DE DECISION'!DD178=\"\",\"\",IF('TABLA DE DECISION'!$A$156=1,MAX('TABLA DE DECISION'!DD$159:DD$208)-'TABLA DE DECISION'!DD178,'TABLA DE DECISION'!DD178-MIN('TABLA DE DECISION'!DD$159:DD$208)))","v":""},{"$f":"IF('TABLA DE DECISION'!DE178=\"\",\"\",IF('TABLA DE DECISION'!$A$156=1,MAX('TABLA DE DECISION'!DE$159:DE$208)-'TABLA DE DECISION'!DE178,'TABLA DE DECISION'!DE178-MIN('TABLA DE DECISION'!DE$159:DE$208)))","v":""},null,{"$f":"IF(C22=\"\",\"\",SUMPRODUCT(C22:AZ22,'TABLA DE DECISION'!BH$156:DE$156))","v":""}]
[{"$f":"IF('TABLA DE DECISION'!BF179=\"\",\"\",'TABLA DE DECISION'!BF179)","v":""},{"$f":"IF('TABLA DE DECISION'!BG179=\"\",\"\",'TABLA DE DECISION'!BG179)","v":"a21"},{"$f":"IF('TABLA DE DECISION'!BH179=\"\",\"\",IF('TABLA DE DECISION'!$A$156=1,MAX('TABLA DE DECISION'!BH$159:BH$208)-'TABLA DE DECISION'!BH179,'TABLA DE DECISION'!BH179-MIN('TABLA DE DECISION'!BH$159:BH$208)))","v":""},{"$f":"IF('TABLA DE DECISION'!BI179=\"\",\"\",IF('TABLA DE DECISION'!$A$156=1,MAX('TABLA DE DECISION'!BI$159:BI$208)-'TABLA DE DECISION'!BI179,'TABLA DE DECISION'!BI179-MIN('TABLA DE DECISION'!BI$159:BI$208)))","v":""},{"$f":"IF('TABLA DE DECISION'!BJ179=\"\",\"\",IF('TABLA DE DECISION'!$A$156=1,MAX('TABLA DE DECISION'!BJ$159:BJ$208)-'TABLA DE DECISION'!BJ179,'TABLA DE DECISION'!BJ179-MIN('TABLA DE DECISION'!BJ$159:BJ$208)))","v":""},{"$f":"IF('TABLA DE DECISION'!BK179=\"\",\"\",IF('TABLA DE DECISION'!$A$156=1,MAX('TABLA DE DECISION'!BK$159:BK$208)-'TABLA DE DECISION'!BK179,'TABLA DE DECISION'!BK179-MIN('TABLA DE DECISION'!BK$159:BK$208)))","v":""},{"$f":"IF('TABLA DE DECISION'!BL179=\"\",\"\",IF('TABLA DE DECISION'!$A$156=1,MAX('TABLA DE DECISION'!BL$159:BL$208)-'TABLA DE DECISION'!BL179,'TABLA DE DECISION'!BL179-MIN('TABLA DE DECISION'!BL$159:BL$208)))","v":""},{"$f":"IF('TABLA DE DECISION'!BM179=\"\",\"\",IF('TABLA DE DECISION'!$A$156=1,MAX('TABLA DE DECISION'!BM$159:BM$208)-'TABLA DE DECISION'!BM179,'TABLA DE DECISION'!BM179-MIN('TABLA DE DECISION'!BM$159:BM$208)))","v":""},{"$f":"IF('TABLA DE DECISION'!BN179=\"\",\"\",IF('TABLA DE DECISION'!$A$156=1,MAX('TABLA DE DECISION'!BN$159:BN$208)-'TABLA DE DECISION'!BN179,'TABLA DE DECISION'!BN179-MIN('TABLA DE DECISION'!BN$159:BN$208)))","v":""},{"$f":"IF('TABLA DE DECISION'!BO179=\"\",\"\",IF('TABLA DE DECISION'!$A$156=1,MAX('TABLA DE DECISION'!BO$159:BO$208)-'TABLA DE DECISION'!BO179,'TABLA DE DECISION'!BO179-MIN('TABLA DE DECISION'!BO$159:BO$208)))","v":""},{"$f":"IF('TABLA DE DECISION'!BP179=\"\",\"\",IF('TABLA DE DECISION'!$A$156=1,MAX('TABLA DE DECISION'!BP$159:BP$208)-'TABLA DE DECISION'!BP179,'TABLA DE DECISION'!BP179-MIN('TABLA DE DECISION'!BP$159:BP$208)))","v":""},{"$f":"IF('TABLA DE DECISION'!BQ179=\"\",\"\",IF('TABLA DE DECISION'!$A$156=1,MAX('TABLA DE DECISION'!BQ$159:BQ$208)-'TABLA DE DECISION'!BQ179,'TABLA DE DECISION'!BQ179-MIN('TABLA DE DECISION'!BQ$159:BQ$208)))","v":""},{"$f":"IF('TABLA DE DECISION'!BR179=\"\",\"\",IF('TABLA DE DECISION'!$A$156=1,MAX('TABLA DE DECISION'!BR$159:BR$208)-'TABLA DE DECISION'!BR179,'TABLA DE DECISION'!BR179-MIN('TABLA DE DECISION'!BR$159:BR$208)))","v":""},{"$f":"IF('TABLA DE DECISION'!BS179=\"\",\"\",IF('TABLA DE DECISION'!$A$156=1,MAX('TABLA DE DECISION'!BS$159:BS$208)-'TABLA DE DECISION'!BS179,'TABLA DE DECISION'!BS179-MIN('TABLA DE DECISION'!BS$159:BS$208)))","v":""},{"$f":"IF('TABLA DE DECISION'!BT179=\"\",\"\",IF('TABLA DE DECISION'!$A$156=1,MAX('TABLA DE DECISION'!BT$159:BT$208)-'TABLA DE DECISION'!BT179,'TABLA DE DECISION'!BT179-MIN('TABLA DE DECISION'!BT$159:BT$208)))","v":""},{"$f":"IF('TABLA DE DECISION'!BU179=\"\",\"\",IF('TABLA DE DECISION'!$A$156=1,MAX('TABLA DE DECISION'!BU$159:BU$208)-'TABLA DE DECISION'!BU179,'TABLA DE DECISION'!BU179-MIN('TABLA DE DECISION'!BU$159:BU$208)))","v":""},{"$f":"IF('TABLA DE DECISION'!BV179=\"\",\"\",IF('TABLA DE DECISION'!$A$156=1,MAX('TABLA DE DECISION'!BV$159:BV$208)-'TABLA DE DECISION'!BV179,'TABLA DE DECISION'!BV179-MIN('TABLA DE DECISION'!BV$159:BV$208)))","v":""},{"$f":"IF('TABLA DE DECISION'!BW179=\"\",\"\",IF('TABLA DE DECISION'!$A$156=1,MAX('TABLA DE DECISION'!BW$159:BW$208)-'TABLA DE DECISION'!BW179,'TABLA DE DECISION'!BW179-MIN('TABLA DE DECISION'!BW$159:BW$208)))","v":""},{"$f":"IF('TABLA DE DECISION'!BX179=\"\",\"\",IF('TABLA DE DECISION'!$A$156=1,MAX('TABLA DE DECISION'!BX$159:BX$208)-'TABLA DE DECISION'!BX179,'TABLA DE DECISION'!BX179-MIN('TABLA DE DECISION'!BX$159:BX$208)))","v":""},{"$f":"IF('TABLA DE DECISION'!BY179=\"\",\"\",IF('TABLA DE DECISION'!$A$156=1,MAX('TABLA DE DECISION'!BY$159:BY$208)-'TABLA DE DECISION'!BY179,'TABLA DE DECISION'!BY179-MIN('TABLA DE DECISION'!BY$159:BY$208)))","v":""},{"$f":"IF('TABLA DE DECISION'!BZ179=\"\",\"\",IF('TABLA DE DECISION'!$A$156=1,MAX('TABLA DE DECISION'!BZ$159:BZ$208)-'TABLA DE DECISION'!BZ179,'TABLA DE DECISION'!BZ179-MIN('TABLA DE DECISION'!BZ$159:BZ$208)))","v":""},{"$f":"IF('TABLA DE DECISION'!CA179=\"\",\"\",IF('TABLA DE DECISION'!$A$156=1,MAX('TABLA DE DECISION'!CA$159:CA$208)-'TABLA DE DECISION'!CA179,'TABLA DE DECISION'!CA179-MIN('TABLA DE DECISION'!CA$159:CA$208)))","v":""},{"$f":"IF('TABLA DE DECISION'!CB179=\"\",\"\",IF('TABLA DE DECISION'!$A$156=1,MAX('TABLA DE DECISION'!CB$159:CB$208)-'TABLA DE DECISION'!CB179,'TABLA DE DECISION'!CB179-MIN('TABLA DE DECISION'!CB$159:CB$208)))","v":""},{"$f":"IF('TABLA DE DECISION'!CC179=\"\",\"\",IF('TABLA DE DECISION'!$A$156=1,MAX('TABLA DE DECISION'!CC$159:CC$208)-'TABLA DE DECISION'!CC179,'TABLA DE DECISION'!CC179-MIN('TABLA DE DECISION'!CC$159:CC$208)))","v":""},{"$f":"IF('TABLA DE DECISION'!CD179=\"\",\"\",IF('TABLA DE DECISION'!$A$156=1,MAX('TABLA DE DECISION'!CD$159:CD$208)-'TABLA DE DECISION'!CD179,'TABLA DE DECISION'!CD179-MIN('TABLA DE DECISION'!CD$159:CD$208)))","v":""},{"$f":"IF('TABLA DE DECISION'!CE179=\"\",\"\",IF('TABLA DE DECISION'!$A$156=1,MAX('TABLA DE DECISION'!CE$159:CE$208)-'TABLA DE DECISION'!CE179,'TABLA DE DECISION'!CE179-MIN('TABLA DE DECISION'!CE$159:CE$208)))","v":""},{"$f":"IF('TABLA DE DECISION'!CF179=\"\",\"\",IF('TABLA DE DECISION'!$A$156=1,MAX('TABLA DE DECISION'!CF$159:CF$208)-'TABLA DE DECISION'!CF179,'TABLA DE DECISION'!CF179-MIN('TABLA DE DECISION'!CF$159:CF$208)))","v":""},{"$f":"IF('TABLA DE DECISION'!CG179=\"\",\"\",IF('TABLA DE DECISION'!$A$156=1,MAX('TABLA DE DECISION'!CG$159:CG$208)-'TABLA DE DECISION'!CG179,'TABLA DE DECISION'!CG179-MIN('TABLA DE DECISION'!CG$159:CG$208)))","v":""},{"$f":"IF('TABLA DE DECISION'!CH179=\"\",\"\",IF('TABLA DE DECISION'!$A$156=1,MAX('TABLA DE DECISION'!CH$159:CH$208)-'TABLA DE DECISION'!CH179,'TABLA DE DECISION'!CH179-MIN('TABLA DE DECISION'!CH$159:CH$208)))","v":""},{"$f":"IF('TABLA DE DECISION'!CI179=\"\",\"\",IF('TABLA DE DECISION'!$A$156=1,MAX('TABLA DE DECISION'!CI$159:CI$208)-'TABLA DE DECISION'!CI179,'TABLA DE DECISION'!CI179-MIN('TABLA DE DECISION'!CI$159:CI$208)))","v":""},{"$f":"IF('TABLA DE DECISION'!CJ179=\"\",\"\",IF('TABLA DE DECISION'!$A$156=1,MAX('TABLA DE DECISION'!CJ$159:CJ$208)-'TABLA DE DECISION'!CJ179,'TABLA DE DECISION'!CJ179-MIN('TABLA DE DECISION'!CJ$159:CJ$208)))","v":""},{"$f":"IF('TABLA DE DECISION'!CK179=\"\",\"\",IF('TABLA DE DECISION'!$A$156=1,MAX('TABLA DE DECISION'!CK$159:CK$208)-'TABLA DE DECISION'!CK179,'TABLA DE DECISION'!CK179-MIN('TABLA DE DECISION'!CK$159:CK$208)))","v":""},{"$f":"IF('TABLA DE DECISION'!CL179=\"\",\"\",IF('TABLA DE DECISION'!$A$156=1,MAX('TABLA DE DECISION'!CL$159:CL$208)-'TABLA DE DECISION'!CL179,'TABLA DE DECISION'!CL179-MIN('TABLA DE DECISION'!CL$159:CL$208)))","v":""},{"$f":"IF('TABLA DE DECISION'!CM179=\"\",\"\",IF('TABLA DE DECISION'!$A$156=1,MAX('TABLA DE DECISION'!CM$159:CM$208)-'TABLA DE DECISION'!CM179,'TABLA DE DECISION'!CM179-MIN('TABLA DE DECISION'!CM$159:CM$208)))","v":""},{"$f":"IF('TABLA DE DECISION'!CN179=\"\",\"\",IF('TABLA DE DECISION'!$A$156=1,MAX('TABLA DE DECISION'!CN$159:CN$208)-'TABLA DE DECISION'!CN179,'TABLA DE DECISION'!CN179-MIN('TABLA DE DECISION'!CN$159:CN$208)))","v":""},{"$f":"IF('TABLA DE DECISION'!CO179=\"\",\"\",IF('TABLA DE DECISION'!$A$156=1,MAX('TABLA DE DECISION'!CO$159:CO$208)-'TABLA DE DECISION'!CO179,'TABLA DE DECISION'!CO179-MIN('TABLA DE DECISION'!CO$159:CO$208)))","v":""},{"$f":"IF('TABLA DE DECISION'!CP179=\"\",\"\",IF('TABLA DE DECISION'!$A$156=1,MAX('TABLA DE DECISION'!CP$159:CP$208)-'TABLA DE DECISION'!CP179,'TABLA DE DECISION'!CP179-MIN('TABLA DE DECISION'!CP$159:CP$208)))","v":""},{"$f":"IF('TABLA DE DECISION'!CQ179=\"\",\"\",IF('TABLA DE DECISION'!$A$156=1,MAX('TABLA DE DECISION'!CQ$159:CQ$208)-'TABLA DE DECISION'!CQ179,'TABLA DE DECISION'!CQ179-MIN('TABLA DE DECISION'!CQ$159:CQ$208)))","v":""},{"$f":"IF('TABLA DE DECISION'!CR179=\"\",\"\",IF('TABLA DE DECISION'!$A$156=1,MAX('TABLA DE DECISION'!CR$159:CR$208)-'TABLA DE DECISION'!CR179,'TABLA DE DECISION'!CR179-MIN('TABLA DE DECISION'!CR$159:CR$208)))","v":""},{"$f":"IF('TABLA DE DECISION'!CS179=\"\",\"\",IF('TABLA DE DECISION'!$A$156=1,MAX('TABLA DE DECISION'!CS$159:CS$208)-'TABLA DE DECISION'!CS179,'TABLA DE DECISION'!CS179-MIN('TABLA DE DECISION'!CS$159:CS$208)))","v":""},{"$f":"IF('TABLA DE DECISION'!CT179=\"\",\"\",IF('TABLA DE DECISION'!$A$156=1,MAX('TABLA DE DECISION'!CT$159:CT$208)-'TABLA DE DECISION'!CT179,'TABLA DE DECISION'!CT179-MIN('TABLA DE DECISION'!CT$159:CT$208)))","v":""},{"$f":"IF('TABLA DE DECISION'!CU179=\"\",\"\",IF('TABLA DE DECISION'!$A$156=1,MAX('TABLA DE DECISION'!CU$159:CU$208)-'TABLA DE DECISION'!CU179,'TABLA DE DECISION'!CU179-MIN('TABLA DE DECISION'!CU$159:CU$208)))","v":""},{"$f":"IF('TABLA DE DECISION'!CV179=\"\",\"\",IF('TABLA DE DECISION'!$A$156=1,MAX('TABLA DE DECISION'!CV$159:CV$208)-'TABLA DE DECISION'!CV179,'TABLA DE DECISION'!CV179-MIN('TABLA DE DECISION'!CV$159:CV$208)))","v":""},{"$f":"IF('TABLA DE DECISION'!CW179=\"\",\"\",IF('TABLA DE DECISION'!$A$156=1,MAX('TABLA DE DECISION'!CW$159:CW$208)-'TABLA DE DECISION'!CW179,'TABLA DE DECISION'!CW179-MIN('TABLA DE DECISION'!CW$159:CW$208)))","v":""},{"$f":"IF('TABLA DE DECISION'!CX179=\"\",\"\",IF('TABLA DE DECISION'!$A$156=1,MAX('TABLA DE DECISION'!CX$159:CX$208)-'TABLA DE DECISION'!CX179,'TABLA DE DECISION'!CX179-MIN('TABLA DE DECISION'!CX$159:CX$208)))","v":""},{"$f":"IF('TABLA DE DECISION'!CY179=\"\",\"\",IF('TABLA DE DECISION'!$A$156=1,MAX('TABLA DE DECISION'!CY$159:CY$208)-'TABLA DE DECISION'!CY179,'TABLA DE DECISION'!CY179-MIN('TABLA DE DECISION'!CY$159:CY$208)))","v":""},{"$f":"IF('TABLA DE DECISION'!CZ179=\"\",\"\",IF('TABLA DE DECISION'!$A$156=1,MAX('TABLA DE DECISION'!CZ$159:CZ$208)-'TABLA DE DECISION'!CZ179,'TABLA DE DECISION'!CZ179-MIN('TABLA DE DECISION'!CZ$159:CZ$208)))","v":""},{"$f":"IF('TABLA DE DECISION'!DA179=\"\",\"\",IF('TABLA DE DECISION'!$A$156=1,MAX('TABLA DE DECISION'!DA$159:DA$208)-'TABLA DE DECISION'!DA179,'TABLA DE DECISION'!DA179-MIN('TABLA DE DECISION'!DA$159:DA$208)))","v":""},{"$f":"IF('TABLA DE DECISION'!DB179=\"\",\"\",IF('TABLA DE DECISION'!$A$156=1,MAX('TABLA DE DECISION'!DB$159:DB$208)-'TABLA DE DECISION'!DB179,'TABLA DE DECISION'!DB179-MIN('TABLA DE DECISION'!DB$159:DB$208)))","v":""},{"$f":"IF('TABLA DE DECISION'!DC179=\"\",\"\",IF('TABLA DE DECISION'!$A$156=1,MAX('TABLA DE DECISION'!DC$159:DC$208)-'TABLA DE DECISION'!DC179,'TABLA DE DECISION'!DC179-MIN('TABLA DE DECISION'!DC$159:DC$208)))","v":""},{"$f":"IF('TABLA DE DECISION'!DD179=\"\",\"\",IF('TABLA DE DECISION'!$A$156=1,MAX('TABLA DE DECISION'!DD$159:DD$208)-'TABLA DE DECISION'!DD179,'TABLA DE DECISION'!DD179-MIN('TABLA DE DECISION'!DD$159:DD$208)))","v":""},{"$f":"IF('TABLA DE DECISION'!DE179=\"\",\"\",IF('TABLA DE DECISION'!$A$156=1,MAX('TABLA DE DECISION'!DE$159:DE$208)-'TABLA DE DECISION'!DE179,'TABLA DE DECISION'!DE179-MIN('TABLA DE DECISION'!DE$159:DE$208)))","v":""},null,{"$f":"IF(C23=\"\",\"\",SUMPRODUCT(C23:AZ23,'TABLA DE DECISION'!BH$156:DE$156))","v":""}]
[{"$f":"IF('TABLA DE DECISION'!BF180=\"\",\"\",'TABLA DE DECISION'!BF180)","v":""},{"$f":"IF('TABLA DE DECISION'!BG180=\"\",\"\",'TABLA DE DECISION'!BG180)","v":"a22"},{"$f":"IF('TABLA DE DECISION'!BH180=\"\",\"\",IF('TABLA DE DECISION'!$A$156=1,MAX('TABLA DE DECISION'!BH$159:BH$208)-'TABLA DE DECISION'!BH180,'TABLA DE DECISION'!BH180-MIN('TABLA DE DECISION'!BH$159:BH$208)))","v":""},{"$f":"IF('TABLA DE DECISION'!BI180=\"\",\"\",IF('TABLA DE DECISION'!$A$156=1,MAX('TABLA DE DECISION'!BI$159:BI$208)-'TABLA DE DECISION'!BI180,'TABLA DE DECISION'!BI180-MIN('TABLA DE DECISION'!BI$159:BI$208)))","v":""},{"$f":"IF('TABLA DE DECISION'!BJ180=\"\",\"\",IF('TABLA DE DECISION'!$A$156=1,MAX('TABLA DE DECISION'!BJ$159:BJ$208)-'TABLA DE DECISION'!BJ180,'TABLA DE DECISION'!BJ180-MIN('TABLA DE DECISION'!BJ$159:BJ$208)))","v":""},{"$f":"IF('TABLA DE DECISION'!BK180=\"\",\"\",IF('TABLA DE DECISION'!$A$156=1,MAX('TABLA DE DECISION'!BK$159:BK$208)-'TABLA DE DECISION'!BK180,'TABLA DE DECISION'!BK180-MIN('TABLA DE DECISION'!BK$159:BK$208)))","v":""},{"$f":"IF('TABLA DE DECISION'!BL180=\"\",\"\",IF('TABLA DE DECISION'!$A$156=1,MAX('TABLA DE DECISION'!BL$159:BL$208)-'TABLA DE DECISION'!BL180,'TABLA DE DECISION'!BL180-MIN('TABLA DE DECISION'!BL$159:BL$208)))","v":""},{"$f":"IF('TABLA DE DECISION'!BM180=\"\",\"\",IF('TABLA DE DECISION'!$A$156=1,MAX('TABLA DE DECISION'!BM$159:BM$208)-'TABLA DE DECISION'!BM180,'TABLA DE DECISION'!BM180-MIN('TABLA DE DECISION'!BM$159:BM$208)))","v":""},{"$f":"IF('TABLA DE DECISION'!BN180=\"\",\"\",IF('TABLA DE DECISION'!$A$156=1,MAX('TABLA DE DECISION'!BN$159:BN$208)-'TABLA DE DECISION'!BN180,'TABLA DE DECISION'!BN180-MIN('TABLA DE DECISION'!BN$159:BN$208)))","v":""},{"$f":"IF('TABLA DE DECISION'!BO180=\"\",\"\",IF('TABLA DE DECISION'!$A$156=1,MAX('TABLA DE DECISION'!BO$159:BO$208)-'TABLA DE DECISION'!BO180,'TABLA DE DECISION'!BO180-MIN('TABLA DE DECISION'!BO$159:BO$208)))","v":""},{"$f":"IF('TABLA DE DECISION'!BP180=\"\",\"\",IF('TABLA DE DECISION'!$A$156=1,MAX('TABLA DE DECISION'!BP$159:BP$208)-'TABLA DE DECISION'!BP180,'TABLA DE DECISION'!BP180-MIN('TABLA DE DECISION'!BP$159:BP$208)))","v":""},{"$f":"IF('TABLA DE DECISION'!BQ180=\"\",\"\",IF('TABLA DE DECISION'!$A$156=1,MAX('TABLA DE DECISION'!BQ$159:BQ$208)-'TABLA DE DECISION'!BQ180,'TABLA DE DECISION'!BQ180-MIN('TABLA DE DECISION'!BQ$159:BQ$208)))","v":""},{"$f":"IF('TABLA DE DECISION'!BR180=\"\",\"\",IF('TABLA DE DECISION'!$A$156=1,MAX('TABLA DE DECISION'!BR$159:BR$208)-'TABLA DE DECISION'!BR180,'TABLA DE DECISION'!BR180-MIN('TABLA DE DECISION'!BR$159:BR$208)))","v":""},{"$f":"IF('TABLA DE DECISION'!BS180=\"\",\"\",IF('TABLA DE DECISION'!$A$156=1,MAX('TABLA DE DECISION'!BS$159:BS$208)-'TABLA DE DECISION'!BS180,'TABLA DE DECISION'!BS180-MIN('TABLA DE DECISION'!BS$159:BS$208)))","v":""},{"$f":"IF('TABLA DE DECISION'!BT180=\"\",\"\",IF('TABLA DE DECISION'!$A$156=1,MAX('TABLA DE DECISION'!BT$159:BT$208)-'TABLA DE DECISION'!BT180,'TABLA DE DECISION'!BT180-MIN('TABLA DE DECISION'!BT$159:BT$208)))","v":""},{"$f":"IF('TABLA DE DECISION'!BU180=\"\",\"\",IF('TABLA DE DECISION'!$A$156=1,MAX('TABLA DE DECISION'!BU$159:BU$208)-'TABLA DE DECISION'!BU180,'TABLA DE DECISION'!BU180-MIN('TABLA DE DECISION'!BU$159:BU$208)))","v":""},{"$f":"IF('TABLA DE DECISION'!BV180=\"\",\"\",IF('TABLA DE DECISION'!$A$156=1,MAX('TABLA DE DECISION'!BV$159:BV$208)-'TABLA DE DECISION'!BV180,'TABLA DE DECISION'!BV180-MIN('TABLA DE DECISION'!BV$159:BV$208)))","v":""},{"$f":"IF('TABLA DE DECISION'!BW180=\"\",\"\",IF('TABLA DE DECISION'!$A$156=1,MAX('TABLA DE DECISION'!BW$159:BW$208)-'TABLA DE DECISION'!BW180,'TABLA DE DECISION'!BW180-MIN('TABLA DE DECISION'!BW$159:BW$208)))","v":""},{"$f":"IF('TABLA DE DECISION'!BX180=\"\",\"\",IF('TABLA DE DECISION'!$A$156=1,MAX('TABLA DE DECISION'!BX$159:BX$208)-'TABLA DE DECISION'!BX180,'TABLA DE DECISION'!BX180-MIN('TABLA DE DECISION'!BX$159:BX$208)))","v":""},{"$f":"IF('TABLA DE DECISION'!BY180=\"\",\"\",IF('TABLA DE DECISION'!$A$156=1,MAX('TABLA DE DECISION'!BY$159:BY$208)-'TABLA DE DECISION'!BY180,'TABLA DE DECISION'!BY180-MIN('TABLA DE DECISION'!BY$159:BY$208)))","v":""},{"$f":"IF('TABLA DE DECISION'!BZ180=\"\",\"\",IF('TABLA DE DECISION'!$A$156=1,MAX('TABLA DE DECISION'!BZ$159:BZ$208)-'TABLA DE DECISION'!BZ180,'TABLA DE DECISION'!BZ180-MIN('TABLA DE DECISION'!BZ$159:BZ$208)))","v":""},{"$f":"IF('TABLA DE DECISION'!CA180=\"\",\"\",IF('TABLA DE DECISION'!$A$156=1,MAX('TABLA DE DECISION'!CA$159:CA$208)-'TABLA DE DECISION'!CA180,'TABLA DE DECISION'!CA180-MIN('TABLA DE DECISION'!CA$159:CA$208)))","v":""},{"$f":"IF('TABLA DE DECISION'!CB180=\"\",\"\",IF('TABLA DE DECISION'!$A$156=1,MAX('TABLA DE DECISION'!CB$159:CB$208)-'TABLA DE DECISION'!CB180,'TABLA DE DECISION'!CB180-MIN('TABLA DE DECISION'!CB$159:CB$208)))","v":""},{"$f":"IF('TABLA DE DECISION'!CC180=\"\",\"\",IF('TABLA DE DECISION'!$A$156=1,MAX('TABLA DE DECISION'!CC$159:CC$208)-'TABLA DE DECISION'!CC180,'TABLA DE DECISION'!CC180-MIN('TABLA DE DECISION'!CC$159:CC$208)))","v":""},{"$f":"IF('TABLA DE DECISION'!CD180=\"\",\"\",IF('TABLA DE DECISION'!$A$156=1,MAX('TABLA DE DECISION'!CD$159:CD$208)-'TABLA DE DECISION'!CD180,'TABLA DE DECISION'!CD180-MIN('TABLA DE DECISION'!CD$159:CD$208)))","v":""},{"$f":"IF('TABLA DE DECISION'!CE180=\"\",\"\",IF('TABLA DE DECISION'!$A$156=1,MAX('TABLA DE DECISION'!CE$159:CE$208)-'TABLA DE DECISION'!CE180,'TABLA DE DECISION'!CE180-MIN('TABLA DE DECISION'!CE$159:CE$208)))","v":""},{"$f":"IF('TABLA DE DECISION'!CF180=\"\",\"\",IF('TABLA DE DECISION'!$A$156=1,MAX('TABLA DE DECISION'!CF$159:CF$208)-'TABLA DE DECISION'!CF180,'TABLA DE DECISION'!CF180-MIN('TABLA DE DECISION'!CF$159:CF$208)))","v":""},{"$f":"IF('TABLA DE DECISION'!CG180=\"\",\"\",IF('TABLA DE DECISION'!$A$156=1,MAX('TABLA DE DECISION'!CG$159:CG$208)-'TABLA DE DECISION'!CG180,'TABLA DE DECISION'!CG180-MIN('TABLA DE DECISION'!CG$159:CG$208)))","v":""},{"$f":"IF('TABLA DE DECISION'!CH180=\"\",\"\",IF('TABLA DE DECISION'!$A$156=1,MAX('TABLA DE DECISION'!CH$159:CH$208)-'TABLA DE DECISION'!CH180,'TABLA DE DECISION'!CH180-MIN('TABLA DE DECISION'!CH$159:CH$208)))","v":""},{"$f":"IF('TABLA DE DECISION'!CI180=\"\",\"\",IF('TABLA DE DECISION'!$A$156=1,MAX('TABLA DE DECISION'!CI$159:CI$208)-'TABLA DE DECISION'!CI180,'TABLA DE DECISION'!CI180-MIN('TABLA DE DECISION'!CI$159:CI$208)))","v":""},{"$f":"IF('TABLA DE DECISION'!CJ180=\"\",\"\",IF('TABLA DE DECISION'!$A$156=1,MAX('TABLA DE DECISION'!CJ$159:CJ$208)-'TABLA DE DECISION'!CJ180,'TABLA DE DECISION'!CJ180-MIN('TABLA DE DECISION'!CJ$159:CJ$208)))","v":""},{"$f":"IF('TABLA DE DECISION'!CK180=\"\",\"\",IF('TABLA DE DECISION'!$A$156=1,MAX('TABLA DE DECISION'!CK$159:CK$208)-'TABLA DE DECISION'!CK180,'TABLA DE DECISION'!CK180-MIN('TABLA DE DECISION'!CK$159:CK$208)))","v":""},{"$f":"IF('TABLA DE DECISION'!CL180=\"\",\"\",IF('TABLA DE DECISION'!$A$156=1,MAX('TABLA DE DECISION'!CL$159:CL$208)-'TABLA DE DECISION'!CL180,'TABLA DE DECISION'!CL180-MIN('TABLA DE DECISION'!CL$159:CL$208)))","v":""},{"$f":"IF('TABLA DE DECISION'!CM180=\"\",\"\",IF('TABLA DE DECISION'!$A$156=1,MAX('TABLA DE DECISION'!CM$159:CM$208)-'TABLA DE DECISION'!CM180,'TABLA DE DECISION'!CM180-MIN('TABLA DE DECISION'!CM$159:CM$208)))","v":""},{"$f":"IF('TABLA DE DECISION'!CN180=\"\",\"\",IF('TABLA DE DECISION'!$A$156=1,MAX('TABLA DE DECISION'!CN$159:CN$208)-'TABLA DE DECISION'!CN180,'TABLA DE DECISION'!CN180-MIN('TABLA DE DECISION'!CN$159:CN$208)))","v":""},{"$f":"IF('TABLA DE DECISION'!CO180=\"\",\"\",IF('TABLA DE DECISION'!$A$156=1,MAX('TABLA DE DECISION'!CO$159:CO$208)-'TABLA DE DECISION'!CO180,'TABLA DE DECISION'!CO180-MIN('TABLA DE DECISION'!CO$159:CO$208)))","v":""},{"$f":"IF('TABLA DE DECISION'!CP180=\"\",\"\",IF('TABLA DE DECISION'!$A$156=1,MAX('TABLA DE DECISION'!CP$159:CP$208)-'TABLA DE DECISION'!CP180,'TABLA DE DECISION'!CP180-MIN('TABLA DE DECISION'!CP$159:CP$208)))","v":""},{"$f":"IF('TABLA DE DECISION'!CQ180=\"\",\"\",IF('TABLA DE DECISION'!$A$156=1,MAX('TABLA DE DECISION'!CQ$159:CQ$208)-'TABLA DE DECISION'!CQ180,'TABLA DE DECISION'!CQ180-MIN('TABLA DE DECISION'!CQ$159:CQ$208)))","v":""},{"$f":"IF('TABLA DE DECISION'!CR180=\"\",\"\",IF('TABLA DE DECISION'!$A$156=1,MAX('TABLA DE DECISION'!CR$159:CR$208)-'TABLA DE DECISION'!CR180,'TABLA DE DECISION'!CR180-MIN('TABLA DE DECISION'!CR$159:CR$208)))","v":""},{"$f":"IF('TABLA DE DECISION'!CS180=\"\",\"\",IF('TABLA DE DECISION'!$A$156=1,MAX('TABLA DE DECISION'!CS$159:CS$208)-'TABLA DE DECISION'!CS180,'TABLA DE DECISION'!CS180-MIN('TABLA DE DECISION'!CS$159:CS$208)))","v":""},{"$f":"IF('TABLA DE DECISION'!CT180=\"\",\"\",IF('TABLA DE DECISION'!$A$156=1,MAX('TABLA DE DECISION'!CT$159:CT$208)-'TABLA DE DECISION'!CT180,'TABLA DE DECISION'!CT180-MIN('TABLA DE DECISION'!CT$159:CT$208)))","v":""},{"$f":"IF('TABLA DE DECISION'!CU180=\"\",\"\",IF('TABLA DE DECISION'!$A$156=1,MAX('TABLA DE DECISION'!CU$159:CU$208)-'TABLA DE DECISION'!CU180,'TABLA DE DECISION'!CU180-MIN('TABLA DE DECISION'!CU$159:CU$208)))","v":""},{"$f":"IF('TABLA DE DECISION'!CV180=\"\",\"\",IF('TABLA DE DECISION'!$A$156=1,MAX('TABLA DE DECISION'!CV$159:CV$208)-'TABLA DE DECISION'!CV180,'TABLA DE DECISION'!CV180-MIN('TABLA DE DECISION'!CV$159:CV$208)))","v":""},{"$f":"IF('TABLA DE DECISION'!CW180=\"\",\"\",IF('TABLA DE DECISION'!$A$156=1,MAX('TABLA DE DECISION'!CW$159:CW$208)-'TABLA DE DECISION'!CW180,'TABLA DE DECISION'!CW180-MIN('TABLA DE DECISION'!CW$159:CW$208)))","v":""},{"$f":"IF('TABLA DE DECISION'!CX180=\"\",\"\",IF('TABLA DE DECISION'!$A$156=1,MAX('TABLA DE DECISION'!CX$159:CX$208)-'TABLA DE DECISION'!CX180,'TABLA DE DECISION'!CX180-MIN('TABLA DE DECISION'!CX$159:CX$208)))","v":""},{"$f":"IF('TABLA DE DECISION'!CY180=\"\",\"\",IF('TABLA DE DECISION'!$A$156=1,MAX('TABLA DE DECISION'!CY$159:CY$208)-'TABLA DE DECISION'!CY180,'TABLA DE DECISION'!CY180-MIN('TABLA DE DECISION'!CY$159:CY$208)))","v":""},{"$f":"IF('TABLA DE DECISION'!CZ180=\"\",\"\",IF('TABLA DE DECISION'!$A$156=1,MAX('TABLA DE DECISION'!CZ$159:CZ$208)-'TABLA DE DECISION'!CZ180,'TABLA DE DECISION'!CZ180-MIN('TABLA DE DECISION'!CZ$159:CZ$208)))","v":""},{"$f":"IF('TABLA DE DECISION'!DA180=\"\",\"\",IF('TABLA DE DECISION'!$A$156=1,MAX('TABLA DE DECISION'!DA$159:DA$208)-'TABLA DE DECISION'!DA180,'TABLA DE DECISION'!DA180-MIN('TABLA DE DECISION'!DA$159:DA$208)))","v":""},{"$f":"IF('TABLA DE DECISION'!DB180=\"\",\"\",IF('TABLA DE DECISION'!$A$156=1,MAX('TABLA DE DECISION'!DB$159:DB$208)-'TABLA DE DECISION'!DB180,'TABLA DE DECISION'!DB180-MIN('TABLA DE DECISION'!DB$159:DB$208)))","v":""},{"$f":"IF('TABLA DE DECISION'!DC180=\"\",\"\",IF('TABLA DE DECISION'!$A$156=1,MAX('TABLA DE DECISION'!DC$159:DC$208)-'TABLA DE DECISION'!DC180,'TABLA DE DECISION'!DC180-MIN('TABLA DE DECISION'!DC$159:DC$208)))","v":""},{"$f":"IF('TABLA DE DECISION'!DD180=\"\",\"\",IF('TABLA DE DECISION'!$A$156=1,MAX('TABLA DE DECISION'!DD$159:DD$208)-'TABLA DE DECISION'!DD180,'TABLA DE DECISION'!DD180-MIN('TABLA DE DECISION'!DD$159:DD$208)))","v":""},{"$f":"IF('TABLA DE DECISION'!DE180=\"\",\"\",IF('TABLA DE DECISION'!$A$156=1,MAX('TABLA DE DECISION'!DE$159:DE$208)-'TABLA DE DECISION'!DE180,'TABLA DE DECISION'!DE180-MIN('TABLA DE DECISION'!DE$159:DE$208)))","v":""},null,{"$f":"IF(C24=\"\",\"\",SUMPRODUCT(C24:AZ24,'TABLA DE DECISION'!BH$156:DE$156))","v":""}]
[{"$f":"IF('TABLA DE DECISION'!BF181=\"\",\"\",'TABLA DE DECISION'!BF181)","v":""},{"$f":"IF('TABLA DE DECISION'!BG181=\"\",\"\",'TABLA DE DECISION'!BG181)","v":"a23"},{"$f":"IF('TABLA DE DECISION'!BH181=\"\",\"\",IF('TABLA DE DECISION'!$A$156=1,MAX('TABLA DE DECISION'!BH$159:BH$208)-'TABLA DE DECISION'!BH181,'TABLA DE DECISION'!BH181-MIN('TABLA DE DECISION'!BH$159:BH$208)))","v":""},{"$f":"IF('TABLA DE DECISION'!BI181=\"\",\"\",IF('TABLA DE DECISION'!$A$156=1,MAX('TABLA DE DECISION'!BI$159:BI$208)-'TABLA DE DECISION'!BI181,'TABLA DE DECISION'!BI181-MIN('TABLA DE DECISION'!BI$159:BI$208)))","v":""},{"$f":"IF('TABLA DE DECISION'!BJ181=\"\",\"\",IF('TABLA DE DECISION'!$A$156=1,MAX('TABLA DE DECISION'!BJ$159:BJ$208)-'TABLA DE DECISION'!BJ181,'TABLA DE DECISION'!BJ181-MIN('TABLA DE DECISION'!BJ$159:BJ$208)))","v":""},{"$f":"IF('TABLA DE DECISION'!BK181=\"\",\"\",IF('TABLA DE DECISION'!$A$156=1,MAX('TABLA DE DECISION'!BK$159:BK$208)-'TABLA DE DECISION'!BK181,'TABLA DE DECISION'!BK181-MIN('TABLA DE DECISION'!BK$159:BK$208)))","v":""},{"$f":"IF('TABLA DE DECISION'!BL181=\"\",\"\",IF('TABLA DE DECISION'!$A$156=1,MAX('TABLA DE DECISION'!BL$159:BL$208)-'TABLA DE DECISION'!BL181,'TABLA DE DECISION'!BL181-MIN('TABLA DE DECISION'!BL$159:BL$208)))","v":""},{"$f":"IF('TABLA DE DECISION'!BM181=\"\",\"\",IF('TABLA DE DECISION'!$A$156=1,MAX('TABLA DE DECISION'!BM$159:BM$208)-'TABLA DE DECISION'!BM181,'TABLA DE DECISION'!BM181-MIN('TABLA DE DECISION'!BM$159:BM$208)))","v":""},{"$f":"IF('TABLA DE DECISION'!BN181=\"\",\"\",IF('TABLA DE DECISION'!$A$156=1,MAX('TABLA DE DECISION'!BN$159:BN$208)-'TABLA DE DECISION'!BN181,'TABLA DE DECISION'!BN181-MIN('TABLA DE DECISION'!BN$159:BN$208)))","v":""},{"$f":"IF('TABLA DE DECISION'!BO181=\"\",\"\",IF('TABLA DE DECISION'!$A$156=1,MAX('TABLA DE DECISION'!BO$159:BO$208)-'TABLA DE DECISION'!BO181,'TABLA DE DECISION'!BO181-MIN('TABLA DE DECISION'!BO$159:BO$208)))","v":""},{"$f":"IF('TABLA DE DECISION'!BP181=\"\",\"\",IF('TABLA DE DECISION'!$A$156=1,MAX('TABLA DE DECISION'!BP$159:BP$208)-'TABLA DE DECISION'!BP181,'TABLA DE DECISION'!BP181-MIN('TABLA DE DECISION'!BP$159:BP$208)))","v":""},{"$f":"IF('TABLA DE DECISION'!BQ181=\"\",\"\",IF('TABLA DE DECISION'!$A$156=1,MAX('TABLA DE DECISION'!BQ$159:BQ$208)-'TABLA DE DECISION'!BQ181,'TABLA DE DECISION'!BQ181-MIN('TABLA DE DECISION'!BQ$159:BQ$208)))","v":""},{"$f":"IF('TABLA DE DECISION'!BR181=\"\",\"\",IF('TABLA DE DECISION'!$A$156=1,MAX('TABLA DE DECISION'!BR$159:BR$208)-'TABLA DE DECISION'!BR181,'TABLA DE DECISION'!BR181-MIN('TABLA DE DECISION'!BR$159:BR$208)))","v":""},{"$f":"IF('TABLA DE DECISION'!BS181=\"\",\"\",IF('TABLA DE DECISION'!$A$156=1,MAX('TABLA DE DECISION'!BS$159:BS$208)-'TABLA DE DECISION'!BS181,'TABLA DE DECISION'!BS181-MIN('TABLA DE DECISION'!BS$159:BS$208)))","v":""},{"$f":"IF('TABLA DE DECISION'!BT181=\"\",\"\",IF('TABLA DE DECISION'!$A$156=1,MAX('TABLA DE DECISION'!BT$159:BT$208)-'TABLA DE DECISION'!BT181,'TABLA DE DECISION'!BT181-MIN('TABLA DE DECISION'!BT$159:BT$208)))","v":""},{"$f":"IF('TABLA DE DECISION'!BU181=\"\",\"\",IF('TABLA DE DECISION'!$A$156=1,MAX('TABLA DE DECISION'!BU$159:BU$208)-'TABLA DE DECISION'!BU181,'TABLA DE DECISION'!BU181-MIN('TABLA DE DECISION'!BU$159:BU$208)))","v":""},{"$f":"IF('TABLA DE DECISION'!BV181=\"\",\"\",IF('TABLA DE DECISION'!$A$156=1,MAX('TABLA DE DECISION'!BV$159:BV$208)-'TABLA DE DECISION'!BV181,'TABLA DE DECISION'!BV181-MIN('TABLA DE DECISION'!BV$159:BV$208)))","v":""},{"$f":"IF('TABLA DE DECISION'!BW181=\"\",\"\",IF('TABLA DE DECISION'!$A$156=1,MAX('TABLA DE DECISION'!BW$159:BW$208)-'TABLA DE DECISION'!BW181,'TABLA DE DECISION'!BW181-MIN('TABLA DE DECISION'!BW$159:BW$208)))","v":""},{"$f":"IF('TABLA DE DECISION'!BX181=\"\",\"\",IF('TABLA DE DECISION'!$A$156=1,MAX('TABLA DE DECISION'!BX$159:BX$208)-'TABLA DE DECISION'!BX181,'TABLA DE DECISION'!BX181-MIN('TABLA DE DECISION'!BX$159:BX$208)))","v":""},{"$f":"IF('TABLA DE DECISION'!BY181=\"\",\"\",IF('TABLA DE DECISION'!$A$156=1,MAX('TABLA DE DECISION'!BY$159:BY$208)-'TABLA DE DECISION'!BY181,'TABLA DE DECISION'!BY181-MIN('TABLA DE DECISION'!BY$159:BY$208)))","v":""},{"$f":"IF('TABLA DE DECISION'!BZ181=\"\",\"\",IF('TABLA DE DECISION'!$A$156=1,MAX('TABLA DE DECISION'!BZ$159:BZ$208)-'TABLA DE DECISION'!BZ181,'TABLA DE DECISION'!BZ181-MIN('TABLA DE DECISION'!BZ$159:BZ$208)))","v":""},{"$f":"IF('TABLA DE DECISION'!CA181=\"\",\"\",IF('TABLA DE DECISION'!$A$156=1,MAX('TABLA DE DECISION'!CA$159:CA$208)-'TABLA DE DECISION'!CA181,'TABLA DE DECISION'!CA181-MIN('TABLA DE DECISION'!CA$159:CA$208)))","v":""},{"$f":"IF('TABLA DE DECISION'!CB181=\"\",\"\",IF('TABLA DE DECISION'!$A$156=1,MAX('TABLA DE DECISION'!CB$159:CB$208)-'TABLA DE DECISION'!CB181,'TABLA DE DECISION'!CB181-MIN('TABLA DE DECISION'!CB$159:CB$208)))","v":""},{"$f":"IF('TABLA DE DECISION'!CC181=\"\",\"\",IF('TABLA DE DECISION'!$A$156=1,MAX('TABLA DE DECISION'!CC$159:CC$208)-'TABLA DE DECISION'!CC181,'TABLA DE DECISION'!CC181-MIN('TABLA DE DECISION'!CC$159:CC$208)))","v":""},{"$f":"IF('TABLA DE DECISION'!CD181=\"\",\"\",IF('TABLA DE DECISION'!$A$156=1,MAX('TABLA DE DECISION'!CD$159:CD$208)-'TABLA DE DECISION'!CD181,'TABLA DE DECISION'!CD181-MIN('TABLA DE DECISION'!CD$159:CD$208)))","v":""},{"$f":"IF('TABLA DE DECISION'!CE181=\"\",\"\",IF('TABLA DE DECISION'!$A$156=1,MAX('TABLA DE DECISION'!CE$159:CE$208)-'TABLA DE DECISION'!CE181,'TABLA DE DECISION'!CE181-MIN('TABLA DE DECISION'!CE$159:CE$208)))","v":""},{"$f":"IF('TABLA DE DECISION'!CF181=\"\",\"\",IF('TABLA DE DECISION'!$A$156=1,MAX('TABLA DE DECISION'!CF$159:CF$208)-'TABLA DE DECISION'!CF181,'TABLA DE DECISION'!CF181-MIN('TABLA DE DECISION'!CF$159:CF$208)))","v":""},{"$f":"IF('TABLA DE DECISION'!CG181=\"\",\"\",IF('TABLA DE DECISION'!$A$156=1,MAX('TABLA DE DECISION'!CG$159:CG$208)-'TABLA DE DECISION'!CG181,'TABLA DE DECISION'!CG181-MIN('TABLA DE DECISION'!CG$159:CG$208)))","v":""},{"$f":"IF('TABLA DE DECISION'!CH181=\"\",\"\",IF('TABLA DE DECISION'!$A$156=1,MAX('TABLA DE DECISION'!CH$159:CH$208)-'TABLA DE DECISION'!CH181,'TABLA DE DECISION'!CH181-MIN('TABLA DE DECISION'!CH$159:CH$208)))","v":""},{"$f":"IF('TABLA DE DECISION'!CI181=\"\",\"\",IF('TABLA DE DECISION'!$A$156=1,MAX('TABLA DE DECISION'!CI$159:CI$208)-'TABLA DE DECISION'!CI181,'TABLA DE DECISION'!CI181-MIN('TABLA DE DECISION'!CI$159:CI$208)))","v":""},{"$f":"IF('TABLA DE DECISION'!CJ181=\"\",\"\",IF('TABLA DE DECISION'!$A$156=1,MAX('TABLA DE DECISION'!CJ$159:CJ$208)-'TABLA DE DECISION'!CJ181,'TABLA DE DECISION'!CJ181-MIN('TABLA DE DECISION'!CJ$159:CJ$208)))","v":""},{"$f":"IF('TABLA DE DECISION'!CK181=\"\",\"\",IF('TABLA DE DECISION'!$A$156=1,MAX('TABLA DE DECISION'!CK$159:CK$208)-'TABLA DE DECISION'!CK181,'TABLA DE DECISION'!CK181-MIN('TABLA DE DECISION'!CK$159:CK$208)))","v":""},{"$f":"IF('TABLA DE DECISION'!CL181=\"\",\"\",IF('TABLA DE DECISION'!$A$156=1,MAX('TABLA DE DECISION'!CL$159:CL$208)-'TABLA DE DECISION'!CL181,'TABLA DE DECISION'!CL181-MIN('TABLA DE DECISION'!CL$159:CL$208)))","v":""},{"$f":"IF('TABLA DE DECISION'!CM181=\"\",\"\",IF('TABLA DE DECISION'!$A$156=1,MAX('TABLA DE DECISION'!CM$159:CM$208)-'TABLA DE DECISION'!CM181,'TABLA DE DECISION'!CM181-MIN('TABLA DE DECISION'!CM$159:CM$208)))","v":""},{"$f":"IF('TABLA DE DECISION'!CN181=\"\",\"\",IF('TABLA DE DECISION'!$A$156=1,MAX('TABLA DE DECISION'!CN$159:CN$208)-'TABLA DE DECISION'!CN181,'TABLA DE DECISION'!CN181-MIN('TABLA DE DECISION'!CN$159:CN$208)))","v":""},{"$f":"IF('TABLA DE DECISION'!CO181=\"\",\"\",IF('TABLA DE DECISION'!$A$156=1,MAX('TABLA DE DECISION'!CO$159:CO$208)-'TABLA DE DECISION'!CO181,'TABLA DE DECISION'!CO181-MIN('TABLA DE DECISION'!CO$159:CO$208)))","v":""},{"$f":"IF('TABLA DE DECISION'!CP181=\"\",\"\",IF('TABLA DE DECISION'!$A$156=1,MAX('TABLA DE DECISION'!CP$159:CP$208)-'TABLA DE DECISION'!CP181,'TABLA DE DECISION'!CP181-MIN('TABLA DE DECISION'!CP$159:CP$208)))","v":""},{"$f":"IF('TABLA DE DECISION'!CQ181=\"\",\"\",IF('TABLA DE DECISION'!$A$156=1,MAX('TABLA DE DECISION'!CQ$159:CQ$208)-'TABLA DE DECISION'!CQ181,'TABLA DE DECISION'!CQ181-MIN('TABLA DE DECISION'!CQ$159:CQ$208)))","v":""},{"$f":"IF('TABLA DE DECISION'!CR181=\"\",\"\",IF('TABLA DE DECISION'!$A$156=1,MAX('TABLA DE DECISION'!CR$159:CR$208)-'TABLA DE DECISION'!CR181,'TABLA DE DECISION'!CR181-MIN('TABLA DE DECISION'!CR$159:CR$208)))","v":""},{"$f":"IF('TABLA DE DECISION'!CS181=\"\",\"\",IF('TABLA DE DECISION'!$A$156=1,MAX('TABLA DE DECISION'!CS$159:CS$208)-'TABLA DE DECISION'!CS181,'TABLA DE DECISION'!CS181-MIN('TABLA DE DECISION'!CS$159:CS$208)))","v":""},{"$f":"IF('TABLA DE DECISION'!CT181=\"\",\"\",IF('TABLA DE DECISION'!$A$156=1,MAX('TABLA DE DECISION'!CT$159:CT$208)-'TABLA DE DECISION'!CT181,'TABLA DE DECISION'!CT181-MIN('TABLA DE DECISION'!CT$159:CT$208)))","v":""},{"$f":"IF('TABLA DE DECISION'!CU181=\"\",\"\",IF('TABLA DE DECISION'!$A$156=1,MAX('TABLA DE DECISION'!CU$159:CU$208)-'TABLA DE DECISION'!CU181,'TABLA DE DECISION'!CU181-MIN('TABLA DE DECISION'!CU$159:CU$208)))","v":""},{"$f":"IF('TABLA DE DECISION'!CV181=\"\",\"\",IF('TABLA DE DECISION'!$A$156=1,MAX('TABLA DE DECISION'!CV$159:CV$208)-'TABLA DE DECISION'!CV181,'TABLA DE DECISION'!CV181-MIN('TABLA DE DECISION'!CV$159:CV$208)))","v":""},{"$f":"IF('TABLA DE DECISION'!CW181=\"\",\"\",IF('TABLA DE DECISION'!$A$156=1,MAX('TABLA DE DECISION'!CW$159:CW$208)-'TABLA DE DECISION'!CW181,'TABLA DE DECISION'!CW181-MIN('TABLA DE DECISION'!CW$159:CW$208)))","v":""},{"$f":"IF('TABLA DE DECISION'!CX181=\"\",\"\",IF('TABLA DE DECISION'!$A$156=1,MAX('TABLA DE DECISION'!CX$159:CX$208)-'TABLA DE DECISION'!CX181,'TABLA DE DECISION'!CX181-MIN('TABLA DE DECISION'!CX$159:CX$208)))","v":""},{"$f":"IF('TABLA DE DECISION'!CY181=\"\",\"\",IF('TABLA DE DECISION'!$A$156=1,MAX('TABLA DE DECISION'!CY$159:CY$208)-'TABLA DE DECISION'!CY181,'TABLA DE DECISION'!CY181-MIN('TABLA DE DECISION'!CY$159:CY$208)))","v":""},{"$f":"IF('TABLA DE DECISION'!CZ181=\"\",\"\",IF('TABLA DE DECISION'!$A$156=1,MAX('TABLA DE DECISION'!CZ$159:CZ$208)-'TABLA DE DECISION'!CZ181,'TABLA DE DECISION'!CZ181-MIN('TABLA DE DECISION'!CZ$159:CZ$208)))","v":""},{"$f":"IF('TABLA DE DECISION'!DA181=\"\",\"\",IF('TABLA DE DECISION'!$A$156=1,MAX('TABLA DE DECISION'!DA$159:DA$208)-'TABLA DE DECISION'!DA181,'TABLA DE DECISION'!DA181-MIN('TABLA DE DECISION'!DA$159:DA$208)))","v":""},{"$f":"IF('TABLA DE DECISION'!DB181=\"\",\"\",IF('TABLA DE DECISION'!$A$156=1,MAX('TABLA DE DECISION'!DB$159:DB$208)-'TABLA DE DECISION'!DB181,'TABLA DE DECISION'!DB181-MIN('TABLA DE DECISION'!DB$159:DB$208)))","v":""},{"$f":"IF('TABLA DE DECISION'!DC181=\"\",\"\",IF('TABLA DE DECISION'!$A$156=1,MAX('TABLA DE DECISION'!DC$159:DC$208)-'TABLA DE DECISION'!DC181,'TABLA DE DECISION'!DC181-MIN('TABLA DE DECISION'!DC$159:DC$208)))","v":""},{"$f":"IF('TABLA DE DECISION'!DD181=\"\",\"\",IF('TABLA DE DECISION'!$A$156=1,MAX('TABLA DE DECISION'!DD$159:DD$208)-'TABLA DE DECISION'!DD181,'TABLA DE DECISION'!DD181-MIN('TABLA DE DECISION'!DD$159:DD$208)))","v":""},{"$f":"IF('TABLA DE DECISION'!DE181=\"\",\"\",IF('TABLA DE DECISION'!$A$156=1,MAX('TABLA DE DECISION'!DE$159:DE$208)-'TABLA DE DECISION'!DE181,'TABLA DE DECISION'!DE181-MIN('TABLA DE DECISION'!DE$159:DE$208)))","v":""},null,{"$f":"IF(C25=\"\",\"\",SUMPRODUCT(C25:AZ25,'TABLA DE DECISION'!BH$156:DE$156))","v":""}]
[{"$f":"IF('TABLA DE DECISION'!BF182=\"\",\"\",'TABLA DE DECISION'!BF182)","v":""},{"$f":"IF('TABLA DE DECISION'!BG182=\"\",\"\",'TABLA DE DECISION'!BG182)","v":"a24"},{"$f":"IF('TABLA DE DECISION'!BH182=\"\",\"\",IF('TABLA DE DECISION'!$A$156=1,MAX('TABLA DE DECISION'!BH$159:BH$208)-'TABLA DE DECISION'!BH182,'TABLA DE DECISION'!BH182-MIN('TABLA DE DECISION'!BH$159:BH$208)))","v":""},{"$f":"IF('TABLA DE DECISION'!BI182=\"\",\"\",IF('TABLA DE DECISION'!$A$156=1,MAX('TABLA DE DECISION'!BI$159:BI$208)-'TABLA DE DECISION'!BI182,'TABLA DE DECISION'!BI182-MIN('TABLA DE DECISION'!BI$159:BI$208)))","v":""},{"$f":"IF('TABLA DE DECISION'!BJ182=\"\",\"\",IF('TABLA DE DECISION'!$A$156=1,MAX('TABLA DE DECISION'!BJ$159:BJ$208)-'TABLA DE DECISION'!BJ182,'TABLA DE DECISION'!BJ182-MIN('TABLA DE DECISION'!BJ$159:BJ$208)))","v":""},{"$f":"IF('TABLA DE DECISION'!BK182=\"\",\"\",IF('TABLA DE DECISION'!$A$156=1,MAX('TABLA DE DECISION'!BK$159:BK$208)-'TABLA DE DECISION'!BK182,'TABLA DE DECISION'!BK182-MIN('TABLA DE DECISION'!BK$159:BK$208)))","v":""},{"$f":"IF('TABLA DE DECISION'!BL182=\"\",\"\",IF('TABLA DE DECISION'!$A$156=1,MAX('TABLA DE DECISION'!BL$159:BL$208)-'TABLA DE DECISION'!BL182,'TABLA DE DECISION'!BL182-MIN('TABLA DE DECISION'!BL$159:BL$208)))","v":""},{"$f":"IF('TABLA DE DECISION'!BM182=\"\",\"\",IF('TABLA DE DECISION'!$A$156=1,MAX('TABLA DE DECISION'!BM$159:BM$208)-'TABLA DE DECISION'!BM182,'TABLA DE DECISION'!BM182-MIN('TABLA DE DECISION'!BM$159:BM$208)))","v":""},{"$f":"IF('TABLA DE DECISION'!BN182=\"\",\"\",IF('TABLA DE DECISION'!$A$156=1,MAX('TABLA DE DECISION'!BN$159:BN$208)-'TABLA DE DECISION'!BN182,'TABLA DE DECISION'!BN182-MIN('TABLA DE DECISION'!BN$159:BN$208)))","v":""},{"$f":"IF('TABLA DE DECISION'!BO182=\"\",\"\",IF('TABLA DE DECISION'!$A$156=1,MAX('TABLA DE DECISION'!BO$159:BO$208)-'TABLA DE DECISION'!BO182,'TABLA DE DECISION'!BO182-MIN('TABLA DE DECISION'!BO$159:BO$208)))","v":""},{"$f":"IF('TABLA DE DECISION'!BP182=\"\",\"\",IF('TABLA DE DECISION'!$A$156=1,MAX('TABLA DE DECISION'!BP$159:BP$208)-'TABLA DE DECISION'!BP182,'TABLA DE DECISION'!BP182-MIN('TABLA DE DECISION'!BP$159:BP$208)))","v":""},{"$f":"IF('TABLA DE DECISION'!BQ182=\"\",\"\",IF('TABLA DE DECISION'!$A$156=1,MAX('TABLA DE DECISION'!BQ$159:BQ$208)-'TABLA DE DECISION'!BQ182,'TABLA DE DECISION'!BQ182-MIN('TABLA DE DECISION'!BQ$159:BQ$208)))","v":""},{"$f":"IF('TABLA DE DECISION'!BR182=\"\",\"\",IF('TABLA DE DECISION'!$A$156=1,MAX('TABLA DE DECISION'!BR$159:BR$208)-'TABLA DE DECISION'!BR182,'TABLA DE DECISION'!BR182-MIN('TABLA DE DECISION'!BR$159:BR$208)))","v":""},{"$f":"IF('TABLA DE DECISION'!BS182=\"\",\"\",IF('TABLA DE DECISION'!$A$156=1,MAX('TABLA DE DECISION'!BS$159:BS$208)-'TABLA DE DECISION'!BS182,'TABLA DE DECISION'!BS182-MIN('TABLA DE DECISION'!BS$159:BS$208)))","v":""},{"$f":"IF('TABLA DE DECISION'!BT182=\"\",\"\",IF('TABLA DE DECISION'!$A$156=1,MAX('TABLA DE DECISION'!BT$159:BT$208)-'TABLA DE DECISION'!BT182,'TABLA DE DECISION'!BT182-MIN('TABLA DE DECISION'!BT$159:BT$208)))","v":""},{"$f":"IF('TABLA DE DECISION'!BU182=\"\",\"\",IF('TABLA DE DECISION'!$A$156=1,MAX('TABLA DE DECISION'!BU$159:BU$208)-'TABLA DE DECISION'!BU182,'TABLA DE DECISION'!BU182-MIN('TABLA DE DECISION'!BU$159:BU$208)))","v":""},{"$f":"IF('TABLA DE DECISION'!BV182=\"\",\"\",IF('TABLA DE DECISION'!$A$156=1,MAX('TABLA DE DECISION'!BV$159:BV$208)-'TABLA DE DECISION'!BV182,'TABLA DE DECISION'!BV182-MIN('TABLA DE DECISION'!BV$159:BV$208)))","v":""},{"$f":"IF('TABLA DE DECISION'!BW182=\"\",\"\",IF('TABLA DE DECISION'!$A$156=1,MAX('TABLA DE DECISION'!BW$159:BW$208)-'TABLA DE DECISION'!BW182,'TABLA DE DECISION'!BW182-MIN('TABLA DE DECISION'!BW$159:BW$208)))","v":""},{"$f":"IF('TABLA DE DECISION'!BX182=\"\",\"\",IF('TABLA DE DECISION'!$A$156=1,MAX('TABLA DE DECISION'!BX$159:BX$208)-'TABLA DE DECISION'!BX182,'TABLA DE DECISION'!BX182-MIN('TABLA DE DECISION'!BX$159:BX$208)))","v":""},{"$f":"IF('TABLA DE DECISION'!BY182=\"\",\"\",IF('TABLA DE DECISION'!$A$156=1,MAX('TABLA DE DECISION'!BY$159:BY$208)-'TABLA DE DECISION'!BY182,'TABLA DE DECISION'!BY182-MIN('TABLA DE DECISION'!BY$159:BY$208)))","v":""},{"$f":"IF('TABLA DE DECISION'!BZ182=\"\",\"\",IF('TABLA DE DECISION'!$A$156=1,MAX('TABLA DE DECISION'!BZ$159:BZ$208)-'TABLA DE DECISION'!BZ182,'TABLA DE DECISION'!BZ182-MIN('TABLA DE DECISION'!BZ$159:BZ$208)))","v":""},{"$f":"IF('TABLA DE DECISION'!CA182=\"\",\"\",IF('TABLA DE DECISION'!$A$156=1,MAX('TABLA DE DECISION'!CA$159:CA$208)-'TABLA DE DECISION'!CA182,'TABLA DE DECISION'!CA182-MIN('TABLA DE DECISION'!CA$159:CA$208)))","v":""},{"$f":"IF('TABLA DE DECISION'!CB182=\"\",\"\",IF('TABLA DE DECISION'!$A$156=1,MAX('TABLA DE DECISION'!CB$159:CB$208)-'TABLA DE DECISION'!CB182,'TABLA DE DECISION'!CB182-MIN('TABLA DE DECISION'!CB$159:CB$208)))","v":""},{"$f":"IF('TABLA DE DECISION'!CC182=\"\",\"\",IF('TABLA DE DECISION'!$A$156=1,MAX('TABLA DE DECISION'!CC$159:CC$208)-'TABLA DE DECISION'!CC182,'TABLA DE DECISION'!CC182-MIN('TABLA DE DECISION'!CC$159:CC$208)))","v":""},{"$f":"IF('TABLA DE DECISION'!CD182=\"\",\"\",IF('TABLA DE DECISION'!$A$156=1,MAX('TABLA DE DECISION'!CD$159:CD$208)-'TABLA DE DECISION'!CD182,'TABLA DE DECISION'!CD182-MIN('TABLA DE DECISION'!CD$159:CD$208)))","v":""},{"$f":"IF('TABLA DE DECISION'!CE182=\"\",\"\",IF('TABLA DE DECISION'!$A$156=1,MAX('TABLA DE DECISION'!CE$159:CE$208)-'TABLA DE DECISION'!CE182,'TABLA DE DECISION'!CE182-MIN('TABLA DE DECISION'!CE$159:CE$208)))","v":""},{"$f":"IF('TABLA DE DECISION'!CF182=\"\",\"\",IF('TABLA DE DECISION'!$A$156=1,MAX('TABLA DE DECISION'!CF$159:CF$208)-'TABLA DE DECISION'!CF182,'TABLA DE DECISION'!CF182-MIN('TABLA DE DECISION'!CF$159:CF$208)))","v":""},{"$f":"IF('TABLA DE DECISION'!CG182=\"\",\"\",IF('TABLA DE DECISION'!$A$156=1,MAX('TABLA DE DECISION'!CG$159:CG$208)-'TABLA DE DECISION'!CG182,'TABLA DE DECISION'!CG182-MIN('TABLA DE DECISION'!CG$159:CG$208)))","v":""},{"$f":"IF('TABLA DE DECISION'!CH182=\"\",\"\",IF('TABLA DE DECISION'!$A$156=1,MAX('TABLA DE DECISION'!CH$159:CH$208)-'TABLA DE DECISION'!CH182,'TABLA DE DECISION'!CH182-MIN('TABLA DE DECISION'!CH$159:CH$208)))","v":""},{"$f":"IF('TABLA DE DECISION'!CI182=\"\",\"\",IF('TABLA DE DECISION'!$A$156=1,MAX('TABLA DE DECISION'!CI$159:CI$208)-'TABLA DE DECISION'!CI182,'TABLA DE DECISION'!CI182-MIN('TABLA DE DECISION'!CI$159:CI$208)))","v":""},{"$f":"IF('TABLA DE DECISION'!CJ182=\"\",\"\",IF('TABLA DE DECISION'!$A$156=1,MAX('TABLA DE DECISION'!CJ$159:CJ$208)-'TABLA DE DECISION'!CJ182,'TABLA DE DECISION'!CJ182-MIN('TABLA DE DECISION'!CJ$159:CJ$208)))","v":""},{"$f":"IF('TABLA DE DECISION'!CK182=\"\",\"\",IF('TABLA DE DECISION'!$A$156=1,MAX('TABLA DE DECISION'!CK$159:CK$208)-'TABLA DE DECISION'!CK182,'TABLA DE DECISION'!CK182-MIN('TABLA DE DECISION'!CK$159:CK$208)))","v":""},{"$f":"IF('TABLA DE DECISION'!CL182=\"\",\"\",IF('TABLA DE DECISION'!$A$156=1,MAX('TABLA DE DECISION'!CL$159:CL$208)-'TABLA DE DECISION'!CL182,'TABLA DE DECISION'!CL182-MIN('TABLA DE DECISION'!CL$159:CL$208)))","v":""},{"$f":"IF('TABLA DE DECISION'!CM182=\"\",\"\",IF('TABLA DE DECISION'!$A$156=1,MAX('TABLA DE DECISION'!CM$159:CM$208)-'TABLA DE DECISION'!CM182,'TABLA DE DECISION'!CM182-MIN('TABLA DE DECISION'!CM$159:CM$208)))","v":""},{"$f":"IF('TABLA DE DECISION'!CN182=\"\",\"\",IF('TABLA DE DECISION'!$A$156=1,MAX('TABLA DE DECISION'!CN$159:CN$208)-'TABLA DE DECISION'!CN182,'TABLA DE DECISION'!CN182-MIN('TABLA DE DECISION'!CN$159:CN$208)))","v":""},{"$f":"IF('TABLA DE DECISION'!CO182=\"\",\"\",IF('TABLA DE DECISION'!$A$156=1,MAX('TABLA DE DECISION'!CO$159:CO$208)-'TABLA DE DECISION'!CO182,'TABLA DE DECISION'!CO182-MIN('TABLA DE DECISION'!CO$159:CO$208)))","v":""},{"$f":"IF('TABLA DE DECISION'!CP182=\"\",\"\",IF('TABLA DE DECISION'!$A$156=1,MAX('TABLA DE DECISION'!CP$159:CP$208)-'TABLA DE DECISION'!CP182,'TABLA DE DECISION'!CP182-MIN('TABLA DE DECISION'!CP$159:CP$208)))","v":""},{"$f":"IF('TABLA DE DECISION'!CQ182=\"\",\"\",IF('TABLA DE DECISION'!$A$156=1,MAX('TABLA DE DECISION'!CQ$159:CQ$208)-'TABLA DE DECISION'!CQ182,'TABLA DE DECISION'!CQ182-MIN('TABLA DE DECISION'!CQ$159:CQ$208)))","v":""},{"$f":"IF('TABLA DE DECISION'!CR182=\"\",\"\",IF('TABLA DE DECISION'!$A$156=1,MAX('TABLA DE DECISION'!CR$159:CR$208)-'TABLA DE DECISION'!CR182,'TABLA DE DECISION'!CR182-MIN('TABLA DE DECISION'!CR$159:CR$208)))","v":""},{"$f":"IF('TABLA DE DECISION'!CS182=\"\",\"\",IF('TABLA DE DECISION'!$A$156=1,MAX('TABLA DE DECISION'!CS$159:CS$208)-'TABLA DE DECISION'!CS182,'TABLA DE DECISION'!CS182-MIN('TABLA DE DECISION'!CS$159:CS$208)))","v":""},{"$f":"IF('TABLA DE DECISION'!CT182=\"\",\"\",IF('TABLA DE DECISION'!$A$156=1,MAX('TABLA DE DECISION'!CT$159:CT$208)-'TABLA DE DECISION'!CT182,'TABLA DE DECISION'!CT182-MIN('TABLA DE DECISION'!CT$159:CT$208)))","v":""},{"$f":"IF('TABLA DE DECISION'!CU182=\"\",\"\",IF('TABLA DE DECISION'!$A$156=1,MAX('TABLA DE DECISION'!CU$159:CU$208)-'TABLA DE DECISION'!CU182,'TABLA DE DECISION'!CU182-MIN('TABLA DE DECISION'!CU$159:CU$208)))","v":""},{"$f":"IF('TABLA DE DECISION'!CV182=\"\",\"\",IF('TABLA DE DECISION'!$A$156=1,MAX('TABLA DE DECISION'!CV$159:CV$208)-'TABLA DE DECISION'!CV182,'TABLA DE DECISION'!CV182-MIN('TABLA DE DECISION'!CV$159:CV$208)))","v":""},{"$f":"IF('TABLA DE DECISION'!CW182=\"\",\"\",IF('TABLA DE DECISION'!$A$156=1,MAX('TABLA DE DECISION'!CW$159:CW$208)-'TABLA DE DECISION'!CW182,'TABLA DE DECISION'!CW182-MIN('TABLA DE DECISION'!CW$159:CW$208)))","v":""},{"$f":"IF('TABLA DE DECISION'!CX182=\"\",\"\",IF('TABLA DE DECISION'!$A$156=1,MAX('TABLA DE DECISION'!CX$159:CX$208)-'TABLA DE DECISION'!CX182,'TABLA DE DECISION'!CX182-MIN('TABLA DE DECISION'!CX$159:CX$208)))","v":""},{"$f":"IF('TABLA DE DECISION'!CY182=\"\",\"\",IF('TABLA DE DECISION'!$A$156=1,MAX('TABLA DE DECISION'!CY$159:CY$208)-'TABLA DE DECISION'!CY182,'TABLA DE DECISION'!CY182-MIN('TABLA DE DECISION'!CY$159:CY$208)))","v":""},{"$f":"IF('TABLA DE DECISION'!CZ182=\"\",\"\",IF('TABLA DE DECISION'!$A$156=1,MAX('TABLA DE DECISION'!CZ$159:CZ$208)-'TABLA DE DECISION'!CZ182,'TABLA DE DECISION'!CZ182-MIN('TABLA DE DECISION'!CZ$159:CZ$208)))","v":""},{"$f":"IF('TABLA DE DECISION'!DA182=\"\",\"\",IF('TABLA DE DECISION'!$A$156=1,MAX('TABLA DE DECISION'!DA$159:DA$208)-'TABLA DE DECISION'!DA182,'TABLA DE DECISION'!DA182-MIN('TABLA DE DECISION'!DA$159:DA$208)))","v":""},{"$f":"IF('TABLA DE DECISION'!DB182=\"\",\"\",IF('TABLA DE DECISION'!$A$156=1,MAX('TABLA DE DECISION'!DB$159:DB$208)-'TABLA DE DECISION'!DB182,'TABLA DE DECISION'!DB182-MIN('TABLA DE DECISION'!DB$159:DB$208)))","v":""},{"$f":"IF('TABLA DE DECISION'!DC182=\"\",\"\",IF('TABLA DE DECISION'!$A$156=1,MAX('TABLA DE DECISION'!DC$159:DC$208)-'TABLA DE DECISION'!DC182,'TABLA DE DECISION'!DC182-MIN('TABLA DE DECISION'!DC$159:DC$208)))","v":""},{"$f":"IF('TABLA DE DECISION'!DD182=\"\",\"\",IF('TABLA DE DECISION'!$A$156=1,MAX('TABLA DE DECISION'!DD$159:DD$208)-'TABLA DE DECISION'!DD182,'TABLA DE DECISION'!DD182-MIN('TABLA DE DECISION'!DD$159:DD$208)))","v":""},{"$f":"IF('TABLA DE DECISION'!DE182=\"\",\"\",IF('TABLA DE DECISION'!$A$156=1,MAX('TABLA DE DECISION'!DE$159:DE$208)-'TABLA DE DECISION'!DE182,'TABLA DE DECISION'!DE182-MIN('TABLA DE DECISION'!DE$159:DE$208)))","v":""},null,{"$f":"IF(C26=\"\",\"\",SUMPRODUCT(C26:AZ26,'TABLA DE DECISION'!BH$156:DE$156))","v":""}]
[{"$f":"IF('TABLA DE DECISION'!BF183=\"\",\"\",'TABLA DE DECISION'!BF183)","v":""},{"$f":"IF('TABLA DE DECISION'!BG183=\"\",\"\",'TABLA DE DECISION'!BG183)","v":"a25"},{"$f":"IF('TABLA DE DECISION'!BH183=\"\",\"\",IF('TABLA DE DECISION'!$A$156=1,MAX('TABLA DE DECISION'!BH$159:BH$208)-'TABLA DE DECISION'!BH183,'TABLA DE DECISION'!BH183-MIN('TABLA DE DECISION'!BH$159:BH$208)))","v":""},{"$f":"IF('TABLA DE DECISION'!BI183=\"\",\"\",IF('TABLA DE DECISION'!$A$156=1,MAX('TABLA DE DECISION'!BI$159:BI$208)-'TABLA DE DECISION'!BI183,'TABLA DE DECISION'!BI183-MIN('TABLA DE DECISION'!BI$159:BI$208)))","v":""},{"$f":"IF('TABLA DE DECISION'!BJ183=\"\",\"\",IF('TABLA DE DECISION'!$A$156=1,MAX('TABLA DE DECISION'!BJ$159:BJ$208)-'TABLA DE DECISION'!BJ183,'TABLA DE DECISION'!BJ183-MIN('TABLA DE DECISION'!BJ$159:BJ$208)))","v":""},{"$f":"IF('TABLA DE DECISION'!BK183=\"\",\"\",IF('TABLA DE DECISION'!$A$156=1,MAX('TABLA DE DECISION'!BK$159:BK$208)-'TABLA DE DECISION'!BK183,'TABLA DE DECISION'!BK183-MIN('TABLA DE DECISION'!BK$159:BK$208)))","v":""},{"$f":"IF('TABLA DE DECISION'!BL183=\"\",\"\",IF('TABLA DE DECISION'!$A$156=1,MAX('TABLA DE DECISION'!BL$159:BL$208)-'TABLA DE DECISION'!BL183,'TABLA DE DECISION'!BL183-MIN('TABLA DE DECISION'!BL$159:BL$208)))","v":""},{"$f":"IF('TABLA DE DECISION'!BM183=\"\",\"\",IF('TABLA DE DECISION'!$A$156=1,MAX('TABLA DE DECISION'!BM$159:BM$208)-'TABLA DE DECISION'!BM183,'TABLA DE DECISION'!BM183-MIN('TABLA DE DECISION'!BM$159:BM$208)))","v":""},{"$f":"IF('TABLA DE DECISION'!BN183=\"\",\"\",IF('TABLA DE DECISION'!$A$156=1,MAX('TABLA DE DECISION'!BN$159:BN$208)-'TABLA DE DECISION'!BN183,'TABLA DE DECISION'!BN183-MIN('TABLA DE DECISION'!BN$159:BN$208)))","v":""},{"$f":"IF('TABLA DE DECISION'!BO183=\"\",\"\",IF('TABLA DE DECISION'!$A$156=1,MAX('TABLA DE DECISION'!BO$159:BO$208)-'TABLA DE DECISION'!BO183,'TABLA DE DECISION'!BO183-MIN('TABLA DE DECISION'!BO$159:BO$208)))","v":""},{"$f":"IF('TABLA DE DECISION'!BP183=\"\",\"\",IF('TABLA DE DECISION'!$A$156=1,MAX('TABLA DE DECISION'!BP$159:BP$208)-'TABLA DE DECISION'!BP183,'TABLA DE DECISION'!BP183-MIN('TABLA DE DECISION'!BP$159:BP$208)))","v":""},{"$f":"IF('TABLA DE DECISION'!BQ183=\"\",\"\",IF('TABLA DE DECISION'!$A$156=1,MAX('TABLA DE DECISION'!BQ$159:BQ$208)-'TABLA DE DECISION'!BQ183,'TABLA DE DECISION'!BQ183-MIN('TABLA DE DECISION'!BQ$159:BQ$208)))","v":""},{"$f":"IF('TABLA DE DECISION'!BR183=\"\",\"\",IF('TABLA DE DECISION'!$A$156=1,MAX('TABLA DE DECISION'!BR$159:BR$208)-'TABLA DE DECISION'!BR183,'TABLA DE DECISION'!BR183-MIN('TABLA DE DECISION'!BR$159:BR$208)))","v":""},{"$f":"IF('TABLA DE DECISION'!BS183=\"\",\"\",IF('TABLA DE DECISION'!$A$156=1,MAX('TABLA DE DECISION'!BS$159:BS$208)-'TABLA DE DECISION'!BS183,'TABLA DE DECISION'!BS183-MIN('TABLA DE DECISION'!BS$159:BS$208)))","v":""},{"$f":"IF('TABLA DE DECISION'!BT183=\"\",\"\",IF('TABLA DE DECISION'!$A$156=1,MAX('TABLA DE DECISION'!BT$159:BT$208)-'TABLA DE DECISION'!BT183,'TABLA DE DECISION'!BT183-MIN('TABLA DE DECISION'!BT$159:BT$208)))","v":""},{"$f":"IF('TABLA DE DECISION'!BU183=\"\",\"\",IF('TABLA DE DECISION'!$A$156=1,MAX('TABLA DE DECISION'!BU$159:BU$208)-'TABLA DE DECISION'!BU183,'TABLA DE DECISION'!BU183-MIN('TABLA DE DECISION'!BU$159:BU$208)))","v":""},{"$f":"IF('TABLA DE DECISION'!BV183=\"\",\"\",IF('TABLA DE DECISION'!$A$156=1,MAX('TABLA DE DECISION'!BV$159:BV$208)-'TABLA DE DECISION'!BV183,'TABLA DE DECISION'!BV183-MIN('TABLA DE DECISION'!BV$159:BV$208)))","v":""},{"$f":"IF('TABLA DE DECISION'!BW183=\"\",\"\",IF('TABLA DE DECISION'!$A$156=1,MAX('TABLA DE DECISION'!BW$159:BW$208)-'TABLA DE DECISION'!BW183,'TABLA DE DECISION'!BW183-MIN('TABLA DE DECISION'!BW$159:BW$208)))","v":""},{"$f":"IF('TABLA DE DECISION'!BX183=\"\",\"\",IF('TABLA DE DECISION'!$A$156=1,MAX('TABLA DE DECISION'!BX$159:BX$208)-'TABLA DE DECISION'!BX183,'TABLA DE DECISION'!BX183-MIN('TABLA DE DECISION'!BX$159:BX$208)))","v":""},{"$f":"IF('TABLA DE DECISION'!BY183=\"\",\"\",IF('TABLA DE DECISION'!$A$156=1,MAX('TABLA DE DECISION'!BY$159:BY$208)-'TABLA DE DECISION'!BY183,'TABLA DE DECISION'!BY183-MIN('TABLA DE DECISION'!BY$159:BY$208)))","v":""},{"$f":"IF('TABLA DE DECISION'!BZ183=\"\",\"\",IF('TABLA DE DECISION'!$A$156=1,MAX('TABLA DE DECISION'!BZ$159:BZ$208)-'TABLA DE DECISION'!BZ183,'TABLA DE DECISION'!BZ183-MIN('TABLA DE DECISION'!BZ$159:BZ$208)))","v":""},{"$f":"IF('TABLA DE DECISION'!CA183=\"\",\"\",IF('TABLA DE DECISION'!$A$156=1,MAX('TABLA DE DECISION'!CA$159:CA$208)-'TABLA DE DECISION'!CA183,'TABLA DE DECISION'!CA183-MIN('TABLA DE DECISION'!CA$159:CA$208)))","v":""},{"$f":"IF('TABLA DE DECISION'!CB183=\"\",\"\",IF('TABLA DE DECISION'!$A$156=1,MAX('TABLA DE DECISION'!CB$159:CB$208)-'TABLA DE DECISION'!CB183,'TABLA DE DECISION'!CB183-MIN('TABLA DE DECISION'!CB$159:CB$208)))","v":""},{"$f":"IF('TABLA DE DECISION'!CC183=\"\",\"\",IF('TABLA DE DECISION'!$A$156=1,MAX('TABLA DE DECISION'!CC$159:CC$208)-'TABLA DE DECISION'!CC183,'TABLA DE DECISION'!CC183-MIN('TABLA DE DECISION'!CC$159:CC$208)))","v":""},{"$f":"IF('TABLA DE DECISION'!CD183=\"\",\"\",IF('TABLA DE DECISION'!$A$156=1,MAX('TABLA DE DECISION'!CD$159:CD$208)-'TABLA DE DECISION'!CD183,'TABLA DE DECISION'!CD183-MIN('TABLA DE DECISION'!CD$159:CD$208)))","v":""},{"$f":"IF('TABLA DE DECISION'!CE183=\"\",\"\",IF('TABLA DE DECISION'!$A$156=1,MAX('TABLA DE DECISION'!CE$159:CE$208)-'TABLA DE DECISION'!CE183,'TABLA DE DECISION'!CE183-MIN('TABLA DE DECISION'!CE$159:CE$208)))","v":""},{"$f":"IF('TABLA DE DECISION'!CF183=\"\",\"\",IF('TABLA DE DECISION'!$A$156=1,MAX('TABLA DE DECISION'!CF$159:CF$208)-'TABLA DE DECISION'!CF183,'TABLA DE DECISION'!CF183-MIN('TABLA DE DECISION'!CF$159:CF$208)))","v":""},{"$f":"IF('TABLA DE DECISION'!CG183=\"\",\"\",IF('TABLA DE DECISION'!$A$156=1,MAX('TABLA DE DECISION'!CG$159:CG$208)-'TABLA DE DECISION'!CG183,'TABLA DE DECISION'!CG183-MIN('TABLA DE DECISION'!CG$159:CG$208)))","v":""},{"$f":"IF('TABLA DE DECISION'!CH183=\"\",\"\",IF('TABLA DE DECISION'!$A$156=1,MAX('TABLA DE DECISION'!CH$159:CH$208)-'TABLA DE DECISION'!CH183,'TABLA DE DECISION'!CH183-MIN('TABLA DE DECISION'!CH$159:CH$208)))","v":""},{"$f":"IF('TABLA DE DECISION'!CI183=\"\",\"\",IF('TABLA DE DECISION'!$A$156=1,MAX('TABLA DE DECISION'!CI$159:CI$208)-'TABLA DE DECISION'!CI183,'TABLA DE DECISION'!CI183-MIN('TABLA DE DECISION'!CI$159:CI$208)))","v":""},{"$f":"IF('TABLA DE DECISION'!CJ183=\"\",\"\",IF('TABLA DE DECISION'!$A$156=1,MAX('TABLA DE DECISION'!CJ$159:CJ$208)-'TABLA DE DECISION'!CJ183,'TABLA DE DECISION'!CJ183-MIN('TABLA DE DECISION'!CJ$159:CJ$208)))","v":""},{"$f":"IF('TABLA DE DECISION'!CK183=\"\",\"\",IF('TABLA DE DECISION'!$A$156=1,MAX('TABLA DE DECISION'!CK$159:CK$208)-'TABLA DE DECISION'!CK183,'TABLA DE DECISION'!CK183-MIN('TABLA DE DECISION'!CK$159:CK$208)))","v":""},{"$f":"IF('TABLA DE DECISION'!CL183=\"\",\"\",IF('TABLA DE DECISION'!$A$156=1,MAX('TABLA DE DECISION'!CL$159:CL$208)-'TABLA DE DECISION'!CL183,'TABLA DE DECISION'!CL183-MIN('TABLA DE DECISION'!CL$159:CL$208)))","v":""},{"$f":"IF('TABLA DE DECISION'!CM183=\"\",\"\",IF('TABLA DE DECISION'!$A$156=1,MAX('TABLA DE DECISION'!CM$159:CM$208)-'TABLA DE DECISION'!CM183,'TABLA DE DECISION'!CM183-MIN('TABLA DE DECISION'!CM$159:CM$208)))","v":""},{"$f":"IF('TABLA DE DECISION'!CN183=\"\",\"\",IF('TABLA DE DECISION'!$A$156=1,MAX('TABLA DE DECISION'!CN$159:CN$208)-'TABLA DE DECISION'!CN183,'TABLA DE DECISION'!CN183-MIN('TABLA DE DECISION'!CN$159:CN$208)))","v":""},{"$f":"IF('TABLA DE DECISION'!CO183=\"\",\"\",IF('TABLA DE DECISION'!$A$156=1,MAX('TABLA DE DECISION'!CO$159:CO$208)-'TABLA DE DECISION'!CO183,'TABLA DE DECISION'!CO183-MIN('TABLA DE DECISION'!CO$159:CO$208)))","v":""},{"$f":"IF('TABLA DE DECISION'!CP183=\"\",\"\",IF('TABLA DE DECISION'!$A$156=1,MAX('TABLA DE DECISION'!CP$159:CP$208)-'TABLA DE DECISION'!CP183,'TABLA DE DECISION'!CP183-MIN('TABLA DE DECISION'!CP$159:CP$208)))","v":""},{"$f":"IF('TABLA DE DECISION'!CQ183=\"\",\"\",IF('TABLA DE DECISION'!$A$156=1,MAX('TABLA DE DECISION'!CQ$159:CQ$208)-'TABLA DE DECISION'!CQ183,'TABLA DE DECISION'!CQ183-MIN('TABLA DE DECISION'!CQ$159:CQ$208)))","v":""},{"$f":"IF('TABLA DE DECISION'!CR183=\"\",\"\",IF('TABLA DE DECISION'!$A$156=1,MAX('TABLA DE DECISION'!CR$159:CR$208)-'TABLA DE DECISION'!CR183,'TABLA DE DECISION'!CR183-MIN('TABLA DE DECISION'!CR$159:CR$208)))","v":""},{"$f":"IF('TABLA DE DECISION'!CS183=\"\",\"\",IF('TABLA DE DECISION'!$A$156=1,MAX('TABLA DE DECISION'!CS$159:CS$208)-'TABLA DE DECISION'!CS183,'TABLA DE DECISION'!CS183-MIN('TABLA DE DECISION'!CS$159:CS$208)))","v":""},{"$f":"IF('TABLA DE DECISION'!CT183=\"\",\"\",IF('TABLA DE DECISION'!$A$156=1,MAX('TABLA DE DECISION'!CT$159:CT$208)-'TABLA DE DECISION'!CT183,'TABLA DE DECISION'!CT183-MIN('TABLA DE DECISION'!CT$159:CT$208)))","v":""},{"$f":"IF('TABLA DE DECISION'!CU183=\"\",\"\",IF('TABLA DE DECISION'!$A$156=1,MAX('TABLA DE DECISION'!CU$159:CU$208)-'TABLA DE DECISION'!CU183,'TABLA DE DECISION'!CU183-MIN('TABLA DE DECISION'!CU$159:CU$208)))","v":""},{"$f":"IF('TABLA DE DECISION'!CV183=\"\",\"\",IF('TABLA DE DECISION'!$A$156=1,MAX('TABLA DE DECISION'!CV$159:CV$208)-'TABLA DE DECISION'!CV183,'TABLA DE DECISION'!CV183-MIN('TABLA DE DECISION'!CV$159:CV$208)))","v":""},{"$f":"IF('TABLA DE DECISION'!CW183=\"\",\"\",IF('TABLA DE DECISION'!$A$156=1,MAX('TABLA DE DECISION'!CW$159:CW$208)-'TABLA DE DECISION'!CW183,'TABLA DE DECISION'!CW183-MIN('TABLA DE DECISION'!CW$159:CW$208)))","v":""},{"$f":"IF('TABLA DE DECISION'!CX183=\"\",\"\",IF('TABLA DE DECISION'!$A$156=1,MAX('TABLA DE DECISION'!CX$159:CX$208)-'TABLA DE DECISION'!CX183,'TABLA DE DECISION'!CX183-MIN('TABLA DE DECISION'!CX$159:CX$208)))","v":""},{"$f":"IF('TABLA DE DECISION'!CY183=\"\",\"\",IF('TABLA DE DECISION'!$A$156=1,MAX('TABLA DE DECISION'!CY$159:CY$208)-'TABLA DE DECISION'!CY183,'TABLA DE DECISION'!CY183-MIN('TABLA DE DECISION'!CY$159:CY$208)))","v":""},{"$f":"IF('TABLA DE DECISION'!CZ183=\"\",\"\",IF('TABLA DE DECISION'!$A$156=1,MAX('TABLA DE DECISION'!CZ$159:CZ$208)-'TABLA DE DECISION'!CZ183,'TABLA DE DECISION'!CZ183-MIN('TABLA DE DECISION'!CZ$159:CZ$208)))","v":""},{"$f":"IF('TABLA DE DECISION'!DA183=\"\",\"\",IF('TABLA DE DECISION'!$A$156=1,MAX('TABLA DE DECISION'!DA$159:DA$208)-'TABLA DE DECISION'!DA183,'TABLA DE DECISION'!DA183-MIN('TABLA DE DECISION'!DA$159:DA$208)))","v":""},{"$f":"IF('TABLA DE DECISION'!DB183=\"\",\"\",IF('TABLA DE DECISION'!$A$156=1,MAX('TABLA DE DECISION'!DB$159:DB$208)-'TABLA DE DECISION'!DB183,'TABLA DE DECISION'!DB183-MIN('TABLA DE DECISION'!DB$159:DB$208)))","v":""},{"$f":"IF('TABLA DE DECISION'!DC183=\"\",\"\",IF('TABLA DE DECISION'!$A$156=1,MAX('TABLA DE DECISION'!DC$159:DC$208)-'TABLA DE DECISION'!DC183,'TABLA DE DECISION'!DC183-MIN('TABLA DE DECISION'!DC$159:DC$208)))","v":""},{"$f":"IF('TABLA DE DECISION'!DD183=\"\",\"\",IF('TABLA DE DECISION'!$A$156=1,MAX('TABLA DE DECISION'!DD$159:DD$208)-'TABLA DE DECISION'!DD183,'TABLA DE DECISION'!DD183-MIN('TABLA DE DECISION'!DD$159:DD$208)))","v":""},{"$f":"IF('TABLA DE DECISION'!DE183=\"\",\"\",IF('TABLA DE DECISION'!$A$156=1,MAX('TABLA DE DECISION'!DE$159:DE$208)-'TABLA DE DECISION'!DE183,'TABLA DE DECISION'!DE183-MIN('TABLA DE DECISION'!DE$159:DE$208)))","v":""},null,{"$f":"IF(C27=\"\",\"\",SUMPRODUCT(C27:AZ27,'TABLA DE DECISION'!BH$156:DE$156))","v":""}]
[{"$f":"IF('TABLA DE DECISION'!BF184=\"\",\"\",'TABLA DE DECISION'!BF184)","v":""},{"$f":"IF('TABLA DE DECISION'!BG184=\"\",\"\",'TABLA DE DECISION'!BG184)","v":"a26"},{"$f":"IF('TABLA DE DECISION'!BH184=\"\",\"\",IF('TABLA DE DECISION'!$A$156=1,MAX('TABLA DE DECISION'!BH$159:BH$208)-'TABLA DE DECISION'!BH184,'TABLA DE DECISION'!BH184-MIN('TABLA DE DECISION'!BH$159:BH$208)))","v":""},{"$f":"IF('TABLA DE DECISION'!BI184=\"\",\"\",IF('TABLA DE DECISION'!$A$156=1,MAX('TABLA DE DECISION'!BI$159:BI$208)-'TABLA DE DECISION'!BI184,'TABLA DE DECISION'!BI184-MIN('TABLA DE DECISION'!BI$159:BI$208)))","v":""},{"$f":"IF('TABLA DE DECISION'!BJ184=\"\",\"\",IF('TABLA DE DECISION'!$A$156=1,MAX('TABLA DE DECISION'!BJ$159:BJ$208)-'TABLA DE DECISION'!BJ184,'TABLA DE DECISION'!BJ184-MIN('TABLA DE DECISION'!BJ$159:BJ$208)))","v":""},{"$f":"IF('TABLA DE DECISION'!BK184=\"\",\"\",IF('TABLA DE DECISION'!$A$156=1,MAX('TABLA DE DECISION'!BK$159:BK$208)-'TABLA DE DECISION'!BK184,'TABLA DE DECISION'!BK184-MIN('TABLA DE DECISION'!BK$159:BK$208)))","v":""},{"$f":"IF('TABLA DE DECISION'!BL184=\"\",\"\",IF('TABLA DE DECISION'!$A$156=1,MAX('TABLA DE DECISION'!BL$159:BL$208)-'TABLA DE DECISION'!BL184,'TABLA DE DECISION'!BL184-MIN('TABLA DE DECISION'!BL$159:BL$208)))","v":""},{"$f":"IF('TABLA DE DECISION'!BM184=\"\",\"\",IF('TABLA DE DECISION'!$A$156=1,MAX('TABLA DE DECISION'!BM$159:BM$208)-'TABLA DE DECISION'!BM184,'TABLA DE DECISION'!BM184-MIN('TABLA DE DECISION'!BM$159:BM$208)))","v":""},{"$f":"IF('TABLA DE DECISION'!BN184=\"\",\"\",IF('TABLA DE DECISION'!$A$156=1,MAX('TABLA DE DECISION'!BN$159:BN$208)-'TABLA DE DECISION'!BN184,'TABLA DE DECISION'!BN184-MIN('TABLA DE DECISION'!BN$159:BN$208)))","v":""},{"$f":"IF('TABLA DE DECISION'!BO184=\"\",\"\",IF('TABLA DE DECISION'!$A$156=1,MAX('TABLA DE DECISION'!BO$159:BO$208)-'TABLA DE DECISION'!BO184,'TABLA DE DECISION'!BO184-MIN('TABLA DE DECISION'!BO$159:BO$208)))","v":""},{"$f":"IF('TABLA DE DECISION'!BP184=\"\",\"\",IF('TABLA DE DECISION'!$A$156=1,MAX('TABLA DE DECISION'!BP$159:BP$208)-'TABLA DE DECISION'!BP184,'TABLA DE DECISION'!BP184-MIN('TABLA DE DECISION'!BP$159:BP$208)))","v":""},{"$f":"IF('TABLA DE DECISION'!BQ184=\"\",\"\",IF('TABLA DE DECISION'!$A$156=1,MAX('TABLA DE DECISION'!BQ$159:BQ$208)-'TABLA DE DECISION'!BQ184,'TABLA DE DECISION'!BQ184-MIN('TABLA DE DECISION'!BQ$159:BQ$208)))","v":""},{"$f":"IF('TABLA DE DECISION'!BR184=\"\",\"\",IF('TABLA DE DECISION'!$A$156=1,MAX('TABLA DE DECISION'!BR$159:BR$208)-'TABLA DE DECISION'!BR184,'TABLA DE DECISION'!BR184-MIN('TABLA DE DECISION'!BR$159:BR$208)))","v":""},{"$f":"IF('TABLA DE DECISION'!BS184=\"\",\"\",IF('TABLA DE DECISION'!$A$156=1,MAX('TABLA DE DECISION'!BS$159:BS$208)-'TABLA DE DECISION'!BS184,'TABLA DE DECISION'!BS184-MIN('TABLA DE DECISION'!BS$159:BS$208)))","v":""},{"$f":"IF('TABLA DE DECISION'!BT184=\"\",\"\",IF('TABLA DE DECISION'!$A$156=1,MAX('TABLA DE DECISION'!BT$159:BT$208)-'TABLA DE DECISION'!BT184,'TABLA DE DECISION'!BT184-MIN('TABLA DE DECISION'!BT$159:BT$208)))","v":""},{"$f":"IF('TABLA DE DECISION'!BU184=\"\",\"\",IF('TABLA DE DECISION'!$A$156=1,MAX('TABLA DE DECISION'!BU$159:BU$208)-'TABLA DE DECISION'!BU184,'TABLA DE DECISION'!BU184-MIN('TABLA DE DECISION'!BU$159:BU$208)))","v":""},{"$f":"IF('TABLA DE DECISION'!BV184=\"\",\"\",IF('TABLA DE DECISION'!$A$156=1,MAX('TABLA DE DECISION'!BV$159:BV$208)-'TABLA DE DECISION'!BV184,'TABLA DE DECISION'!BV184-MIN('TABLA DE DECISION'!BV$159:BV$208)))","v":""},{"$f":"IF('TABLA DE DECISION'!BW184=\"\",\"\",IF('TABLA DE DECISION'!$A$156=1,MAX('TABLA DE DECISION'!BW$159:BW$208)-'TABLA DE DECISION'!BW184,'TABLA DE DECISION'!BW184-MIN('TABLA DE DECISION'!BW$159:BW$208)))","v":""},{"$f":"IF('TABLA DE DECISION'!BX184=\"\",\"\",IF('TABLA DE DECISION'!$A$156=1,MAX('TABLA DE DECISION'!BX$159:BX$208)-'TABLA DE DECISION'!BX184,'TABLA DE DECISION'!BX184-MIN('TABLA DE DECISION'!BX$159:BX$208)))","v":""},{"$f":"IF('TABLA DE DECISION'!BY184=\"\",\"\",IF('TABLA DE DECISION'!$A$156=1,MAX('TABLA DE DECISION'!BY$159:BY$208)-'TABLA DE DECISION'!BY184,'TABLA DE DECISION'!BY184-MIN('TABLA DE DECISION'!BY$159:BY$208)))","v":""},{"$f":"IF('TABLA DE DECISION'!BZ184=\"\",\"\",IF('TABLA DE DECISION'!$A$156=1,MAX('TABLA DE DECISION'!BZ$159:BZ$208)-'TABLA DE DECISION'!BZ184,'TABLA DE DECISION'!BZ184-MIN('TABLA DE DECISION'!BZ$159:BZ$208)))","v":""},{"$f":"IF('TABLA DE DECISION'!CA184=\"\",\"\",IF('TABLA DE DECISION'!$A$156=1,MAX('TABLA DE DECISION'!CA$159:CA$208)-'TABLA DE DECISION'!CA184,'TABLA DE DECISION'!CA184-MIN('TABLA DE DECISION'!CA$159:CA$208)))","v":""},{"$f":"IF('TABLA DE DECISION'!CB184=\"\",\"\",IF('TABLA DE DECISION'!$A$156=1,MAX('TABLA DE DECISION'!CB$159:CB$208)-'TABLA DE DECISION'!CB184,'TABLA DE DECISION'!CB184-MIN('TABLA DE DECISION'!CB$159:CB$208)))","v":""},{"$f":"IF('TABLA DE DECISION'!CC184=\"\",\"\",IF('TABLA DE DECISION'!$A$156=1,MAX('TABLA DE DECISION'!CC$159:CC$208)-'TABLA DE DECISION'!CC184,'TABLA DE DECISION'!CC184-MIN('TABLA DE DECISION'!CC$159:CC$208)))","v":""},{"$f":"IF('TABLA DE DECISION'!CD184=\"\",\"\",IF('TABLA DE DECISION'!$A$156=1,MAX('TABLA DE DECISION'!CD$159:CD$208)-'TABLA DE DECISION'!CD184,'TABLA DE DECISION'!CD184-MIN('TABLA DE DECISION'!CD$159:CD$208)))","v":""},{"$f":"IF('TABLA DE DECISION'!CE184=\"\",\"\",IF('TABLA DE DECISION'!$A$156=1,MAX('TABLA DE DECISION'!CE$159:CE$208)-'TABLA DE DECISION'!CE184,'TABLA DE DECISION'!CE184-MIN('TABLA DE DECISION'!CE$159:CE$208)))","v":""},{"$f":"IF('TABLA DE DECISION'!CF184=\"\",\"\",IF('TABLA DE DECISION'!$A$156=1,MAX('TABLA DE DECISION'!CF$159:CF$208)-'TABLA DE DECISION'!CF184,'TABLA DE DECISION'!CF184-MIN('TABLA DE DECISION'!CF$159:CF$208)))","v":""},{"$f":"IF('TABLA DE DECISION'!CG184=\"\",\"\",IF('TABLA DE DECISION'!$A$156=1,MAX('TABLA DE DECISION'!CG$159:CG$208)-'TABLA DE DECISION'!CG184,'TABLA DE DECISION'!CG184-MIN('TABLA DE DECISION'!CG$159:CG$208)))","v":""},{"$f":"IF('TABLA DE DECISION'!CH184=\"\",\"\",IF('TABLA DE DECISION'!$A$156=1,MAX('TABLA DE DECISION'!CH$159:CH$208)-'TABLA DE DECISION'!CH184,'TABLA DE DECISION'!CH184-MIN('TABLA DE DECISION'!CH$159:CH$208)))","v":""},{"$f":"IF('TABLA DE DECISION'!CI184=\"\",\"\",IF('TABLA DE DECISION'!$A$156=1,MAX('TABLA DE DECISION'!CI$159:CI$208)-'TABLA DE DECISION'!CI184,'TABLA DE DECISION'!CI184-MIN('TABLA DE DECISION'!CI$159:CI$208)))","v":""},{"$f":"IF('TABLA DE DECISION'!CJ184=\"\",\"\",IF('TABLA DE DECISION'!$A$156=1,MAX('TABLA DE DECISION'!CJ$159:CJ$208)-'TABLA DE DECISION'!CJ184,'TABLA DE DECISION'!CJ184-MIN('TABLA DE DECISION'!CJ$159:CJ$208)))","v":""},{"$f":"IF('TABLA DE DECISION'!CK184=\"\",\"\",IF('TABLA DE DECISION'!$A$156=1,MAX('TABLA DE DECISION'!CK$159:CK$208)-'TABLA DE DECISION'!CK184,'TABLA DE DECISION'!CK184-MIN('TABLA DE DECISION'!CK$159:CK$208)))","v":""},{"$f":"IF('TABLA DE DECISION'!CL184=\"\",\"\",IF('TABLA DE DECISION'!$A$156=1,MAX('TABLA DE DECISION'!CL$159:CL$208)-'TABLA DE DECISION'!CL184,'TABLA DE DECISION'!CL184-MIN('TABLA DE DECISION'!CL$159:CL$208)))","v":""},{"$f":"IF('TABLA DE DECISION'!CM184=\"\",\"\",IF('TABLA DE DECISION'!$A$156=1,MAX('TABLA DE DECISION'!CM$159:CM$208)-'TABLA DE DECISION'!CM184,'TABLA DE DECISION'!CM184-MIN('TABLA DE DECISION'!CM$159:CM$208)))","v":""},{"$f":"IF('TABLA DE DECISION'!CN184=\"\",\"\",IF('TABLA DE DECISION'!$A$156=1,MAX('TABLA DE DECISION'!CN$159:CN$208)-'TABLA DE DECISION'!CN184,'TABLA DE DECISION'!CN184-MIN('TABLA DE DECISION'!CN$159:CN$208)))","v":""},{"$f":"IF('TABLA DE DECISION'!CO184=\"\",\"\",IF('TABLA DE DECISION'!$A$156=1,MAX('TABLA DE DECISION'!CO$159:CO$208)-'TABLA DE DECISION'!CO184,'TABLA DE DECISION'!CO184-MIN('TABLA DE DECISION'!CO$159:CO$208)))","v":""},{"$f":"IF('TABLA DE DECISION'!CP184=\"\",\"\",IF('TABLA DE DECISION'!$A$156=1,MAX('TABLA DE DECISION'!CP$159:CP$208)-'TABLA DE DECISION'!CP184,'TABLA DE DECISION'!CP184-MIN('TABLA DE DECISION'!CP$159:CP$208)))","v":""},{"$f":"IF('TABLA DE DECISION'!CQ184=\"\",\"\",IF('TABLA DE DECISION'!$A$156=1,MAX('TABLA DE DECISION'!CQ$159:CQ$208)-'TABLA DE DECISION'!CQ184,'TABLA DE DECISION'!CQ184-MIN('TABLA DE DECISION'!CQ$159:CQ$208)))","v":""},{"$f":"IF('TABLA DE DECISION'!CR184=\"\",\"\",IF('TABLA DE DECISION'!$A$156=1,MAX('TABLA DE DECISION'!CR$159:CR$208)-'TABLA DE DECISION'!CR184,'TABLA DE DECISION'!CR184-MIN('TABLA DE DECISION'!CR$159:CR$208)))","v":""},{"$f":"IF('TABLA DE DECISION'!CS184=\"\",\"\",IF('TABLA DE DECISION'!$A$156=1,MAX('TABLA DE DECISION'!CS$159:CS$208)-'TABLA DE DECISION'!CS184,'TABLA DE DECISION'!CS184-MIN('TABLA DE DECISION'!CS$159:CS$208)))","v":""},{"$f":"IF('TABLA DE DECISION'!CT184=\"\",\"\",IF('TABLA DE DECISION'!$A$156=1,MAX('TABLA DE DECISION'!CT$159:CT$208)-'TABLA DE DECISION'!CT184,'TABLA DE DECISION'!CT184-MIN('TABLA DE DECISION'!CT$159:CT$208)))","v":""},{"$f":"IF('TABLA DE DECISION'!CU184=\"\",\"\",IF('TABLA DE DECISION'!$A$156=1,MAX('TABLA DE DECISION'!CU$159:CU$208)-'TABLA DE DECISION'!CU184,'TABLA DE DECISION'!CU184-MIN('TABLA DE DECISION'!CU$159:CU$208)))","v":""},{"$f":"IF('TABLA DE DECISION'!CV184=\"\",\"\",IF('TABLA DE DECISION'!$A$156=1,MAX('TABLA DE DECISION'!CV$159:CV$208)-'TABLA DE DECISION'!CV184,'TABLA DE DECISION'!CV184-MIN('TABLA DE DECISION'!CV$159:CV$208)))","v":""},{"$f":"IF('TABLA DE DECISION'!CW184=\"\",\"\",IF('TABLA DE DECISION'!$A$156=1,MAX('TABLA DE DECISION'!CW$159:CW$208)-'TABLA DE DECISION'!CW184,'TABLA DE DECISION'!CW184-MIN('TABLA DE DECISION'!CW$159:CW$208)))","v":""},{"$f":"IF('TABLA DE DECISION'!CX184=\"\",\"\",IF('TABLA DE DECISION'!$A$156=1,MAX('TABLA DE DECISION'!CX$159:CX$208)-'TABLA DE DECISION'!CX184,'TABLA DE DECISION'!CX184-MIN('TABLA DE DECISION'!CX$159:CX$208)))","v":""},{"$f":"IF('TABLA DE DECISION'!CY184=\"\",\"\",IF('TABLA DE DECISION'!$A$156=1,MAX('TABLA DE DECISION'!CY$159:CY$208)-'TABLA DE DECISION'!CY184,'TABLA DE DECISION'!CY184-MIN('TABLA DE DECISION'!CY$159:CY$208)))","v":""},{"$f":"IF('TABLA DE DECISION'!CZ184=\"\",\"\",IF('TABLA DE DECISION'!$A$156=1,MAX('TABLA DE DECISION'!CZ$159:CZ$208)-'TABLA DE DECISION'!CZ184,'TABLA DE DECISION'!CZ184-MIN('TABLA DE DECISION'!CZ$159:CZ$208)))","v":""},{"$f":"IF('TABLA DE DECISION'!DA184=\"\",\"\",IF('TABLA DE DECISION'!$A$156=1,MAX('TABLA DE DECISION'!DA$159:DA$208)-'TABLA DE DECISION'!DA184,'TABLA DE DECISION'!DA184-MIN('TABLA DE DECISION'!DA$159:DA$208)))","v":""},{"$f":"IF('TABLA DE DECISION'!DB184=\"\",\"\",IF('TABLA DE DECISION'!$A$156=1,MAX('TABLA DE DECISION'!DB$159:DB$208)-'TABLA DE DECISION'!DB184,'TABLA DE DECISION'!DB184-MIN('TABLA DE DECISION'!DB$159:DB$208)))","v":""},{"$f":"IF('TABLA DE DECISION'!DC184=\"\",\"\",IF('TABLA DE DECISION'!$A$156=1,MAX('TABLA DE DECISION'!DC$159:DC$208)-'TABLA DE DECISION'!DC184,'TABLA DE DECISION'!DC184-MIN('TABLA DE DECISION'!DC$159:DC$208)))","v":""},{"$f":"IF('TABLA DE DECISION'!DD184=\"\",\"\",IF('TABLA DE DECISION'!$A$156=1,MAX('TABLA DE DECISION'!DD$159:DD$208)-'TABLA DE DECISION'!DD184,'TABLA DE DECISION'!DD184-MIN('TABLA DE DECISION'!DD$159:DD$208)))","v":""},{"$f":"IF('TABLA DE DECISION'!DE184=\"\",\"\",IF('TABLA DE DECISION'!$A$156=1,MAX('TABLA DE DECISION'!DE$159:DE$208)-'TABLA DE DECISION'!DE184,'TABLA DE DECISION'!DE184-MIN('TABLA DE DECISION'!DE$159:DE$208)))","v":""},null,{"$f":"IF(C28=\"\",\"\",SUMPRODUCT(C28:AZ28,'TABLA DE DECISION'!BH$156:DE$156))","v":""}]
[{"$f":"IF('TABLA DE DECISION'!BF185=\"\",\"\",'TABLA DE DECISION'!BF185)","v":""},{"$f":"IF('TABLA DE DECISION'!BG185=\"\",\"\",'TABLA DE DECISION'!BG185)","v":"a27"},{"$f":"IF('TABLA DE DECISION'!BH185=\"\",\"\",IF('TABLA DE DECISION'!$A$156=1,MAX('TABLA DE DECISION'!BH$159:BH$208)-'TABLA DE DECISION'!BH185,'TABLA DE DECISION'!BH185-MIN('TABLA DE DECISION'!BH$159:BH$208)))","v":""},{"$f":"IF('TABLA DE DECISION'!BI185=\"\",\"\",IF('TABLA DE DECISION'!$A$156=1,MAX('TABLA DE DECISION'!BI$159:BI$208)-'TABLA DE DECISION'!BI185,'TABLA DE DECISION'!BI185-MIN('TABLA DE DECISION'!BI$159:BI$208)))","v":""},{"$f":"IF('TABLA DE DECISION'!BJ185=\"\",\"\",IF('TABLA DE DECISION'!$A$156=1,MAX('TABLA DE DECISION'!BJ$159:BJ$208)-'TABLA DE DECISION'!BJ185,'TABLA DE DECISION'!BJ185-MIN('TABLA DE DECISION'!BJ$159:BJ$208)))","v":""},{"$f":"IF('TABLA DE DECISION'!BK185=\"\",\"\",IF('TABLA DE DECISION'!$A$156=1,MAX('TABLA DE DECISION'!BK$159:BK$208)-'TABLA DE DECISION'!BK185,'TABLA DE DECISION'!BK185-MIN('TABLA DE DECISION'!BK$159:BK$208)))","v":""},{"$f":"IF('TABLA DE DECISION'!BL185=\"\",\"\",IF('TABLA DE DECISION'!$A$156=1,MAX('TABLA DE DECISION'!BL$159:BL$208)-'TABLA DE DECISION'!BL185,'TABLA DE DECISION'!BL185-MIN('TABLA DE DECISION'!BL$159:BL$208)))","v":""},{"$f":"IF('TABLA DE DECISION'!BM185=\"\",\"\",IF('TABLA DE DECISION'!$A$156=1,MAX('TABLA DE DECISION'!BM$159:BM$208)-'TABLA DE DECISION'!BM185,'TABLA DE DECISION'!BM185-MIN('TABLA DE DECISION'!BM$159:BM$208)))","v":""},{"$f":"IF('TABLA DE DECISION'!BN185=\"\",\"\",IF('TABLA DE DECISION'!$A$156=1,MAX('TABLA DE DECISION'!BN$159:BN$208)-'TABLA DE DECISION'!BN185,'TABLA DE DECISION'!BN185-MIN('TABLA DE DECISION'!BN$159:BN$208)))","v":""},{"$f":"IF('TABLA DE DECISION'!BO185=\"\",\"\",IF('TABLA DE DECISION'!$A$156=1,MAX('TABLA DE DECISION'!BO$159:BO$208)-'TABLA DE DECISION'!BO185,'TABLA DE DECISION'!BO185-MIN('TABLA DE DECISION'!BO$159:BO$208)))","v":""},{"$f":"IF('TABLA DE DECISION'!BP185=\"\",\"\",IF('TABLA DE DECISION'!$A$156=1,MAX('TABLA DE DECISION'!BP$159:BP$208)-'TABLA DE DECISION'!BP185,'TABLA DE DECISION'!BP185-MIN('TABLA DE DECISION'!BP$159:BP$208)))","v":""},{"$f":"IF('TABLA DE DECISION'!BQ185=\"\",\"\",IF('TABLA DE DECISION'!$A$156=1,MAX('TABLA DE DECISION'!BQ$159:BQ$208)-'TABLA DE DECISION'!BQ185,'TABLA DE DECISION'!BQ185-MIN('TABLA DE DECISION'!BQ$159:BQ$208)))","v":""},{"$f":"IF('TABLA DE DECISION'!BR185=\"\",\"\",IF('TABLA DE DECISION'!$A$156=1,MAX('TABLA DE DECISION'!BR$159:BR$208)-'TABLA DE DECISION'!BR185,'TABLA DE DECISION'!BR185-MIN('TABLA DE DECISION'!BR$159:BR$208)))","v":""},{"$f":"IF('TABLA DE DECISION'!BS185=\"\",\"\",IF('TABLA DE DECISION'!$A$156=1,MAX('TABLA DE DECISION'!BS$159:BS$208)-'TABLA DE DECISION'!BS185,'TABLA DE DECISION'!BS185-MIN('TABLA DE DECISION'!BS$159:BS$208)))","v":""},{"$f":"IF('TABLA DE DECISION'!BT185=\"\",\"\",IF('TABLA DE DECISION'!$A$156=1,MAX('TABLA DE DECISION'!BT$159:BT$208)-'TABLA DE DECISION'!BT185,'TABLA DE DECISION'!BT185-MIN('TABLA DE DECISION'!BT$159:BT$208)))","v":""},{"$f":"IF('TABLA DE DECISION'!BU185=\"\",\"\",IF('TABLA DE DECISION'!$A$156=1,MAX('TABLA DE DECISION'!BU$159:BU$208)-'TABLA DE DECISION'!BU185,'TABLA DE DECISION'!BU185-MIN('TABLA DE DECISION'!BU$159:BU$208)))","v":""},{"$f":"IF('TABLA DE DECISION'!BV185=\"\",\"\",IF('TABLA DE DECISION'!$A$156=1,MAX('TABLA DE DECISION'!BV$159:BV$208)-'TABLA DE DECISION'!BV185,'TABLA DE DECISION'!BV185-MIN('TABLA DE DECISION'!BV$159:BV$208)))","v":""},{"$f":"IF('TABLA DE DECISION'!BW185=\"\",\"\",IF('TABLA DE DECISION'!$A$156=1,MAX('TABLA DE DECISION'!BW$159:BW$208)-'TABLA DE DECISION'!BW185,'TABLA DE DECISION'!BW185-MIN('TABLA DE DECISION'!BW$159:BW$208)))","v":""},{"$f":"IF('TABLA DE DECISION'!BX185=\"\",\"\",IF('TABLA DE DECISION'!$A$156=1,MAX('TABLA DE DECISION'!BX$159:BX$208)-'TABLA DE DECISION'!BX185,'TABLA DE DECISION'!BX185-MIN('TABLA DE DECISION'!BX$159:BX$208)))","v":""},{"$f":"IF('TABLA DE DECISION'!BY185=\"\",\"\",IF('TABLA DE DECISION'!$A$156=1,MAX('TABLA DE DECISION'!BY$159:BY$208)-'TABLA DE DECISION'!BY185,'TABLA DE DECISION'!BY185-MIN('TABLA DE DECISION'!BY$159:BY$208)))","v":""},{"$f":"IF('TABLA DE DECISION'!BZ185=\"\",\"\",IF('TABLA DE DECISION'!$A$156=1,MAX('TABLA DE DECISION'!BZ$159:BZ$208)-'TABLA DE DECISION'!BZ185,'TABLA DE DECISION'!BZ185-MIN('TABLA DE DECISION'!BZ$159:BZ$208)))","v":""},{"$f":"IF('TABLA DE DECISION'!CA185=\"\",\"\",IF('TABLA DE DECISION'!$A$156=1,MAX('TABLA DE DECISION'!CA$159:CA$208)-'TABLA DE DECISION'!CA185,'TABLA DE DECISION'!CA185-MIN('TABLA DE DECISION'!CA$159:CA$208)))","v":""},{"$f":"IF('TABLA DE DECISION'!CB185=\"\",\"\",IF('TABLA DE DECISION'!$A$156=1,MAX('TABLA DE DECISION'!CB$159:CB$208)-'TABLA DE DECISION'!CB185,'TABLA DE DECISION'!CB185-MIN('TABLA DE DECISION'!CB$159:CB$208)))","v":""},{"$f":"IF('TABLA DE DECISION'!CC185=\"\",\"\",IF('TABLA DE DECISION'!$A$156=1,MAX('TABLA DE DECISION'!CC$159:CC$208)-'TABLA DE DECISION'!CC185,'TABLA DE DECISION'!CC185-MIN('TABLA DE DECISION'!CC$159:CC$208)))","v":""},{"$f":"IF('TABLA DE DECISION'!CD185=\"\",\"\",IF('TABLA DE DECISION'!$A$156=1,MAX('TABLA DE DECISION'!CD$159:CD$208)-'TABLA DE DECISION'!CD185,'TABLA DE DECISION'!CD185-MIN('TABLA DE DECISION'!CD$159:CD$208)))","v":""},{"$f":"IF('TABLA DE DECISION'!CE185=\"\",\"\",IF('TABLA DE DECISION'!$A$156=1,MAX('TABLA DE DECISION'!CE$159:CE$208)-'TABLA DE DECISION'!CE185,'TABLA DE DECISION'!CE185-MIN('TABLA DE DECISION'!CE$159:CE$208)))","v":""},{"$f":"IF('TABLA DE DECISION'!CF185=\"\",\"\",IF('TABLA DE DECISION'!$A$156=1,MAX('TABLA DE DECISION'!CF$159:CF$208)-'TABLA DE DECISION'!CF185,'TABLA DE DECISION'!CF185-MIN('TABLA DE DECISION'!CF$159:CF$208)))","v":""},{"$f":"IF('TABLA DE DECISION'!CG185=\"\",\"\",IF('TABLA DE DECISION'!$A$156=1,MAX('TABLA DE DECISION'!CG$159:CG$208)-'TABLA DE DECISION'!CG185,'TABLA DE DECISION'!CG185-MIN('TABLA DE DECISION'!CG$159:CG$208)))","v":""},{"$f":"IF('TABLA DE DECISION'!CH185=\"\",\"\",IF('TABLA DE DECISION'!$A$156=1,MAX('TABLA DE DECISION'!CH$159:CH$208)-'TABLA DE DECISION'!CH185,'TABLA DE DECISION'!CH185-MIN('TABLA DE DECISION'!CH$159:CH$208)))","v":""},{"$f":"IF('TABLA DE DECISION'!CI185=\"\",\"\",IF('TABLA DE DECISION'!$A$156=1,MAX('TABLA DE DECISION'!CI$159:CI$208)-'TABLA DE DECISION'!CI185,'TABLA DE DECISION'!CI185-MIN('TABLA DE DECISION'!CI$159:CI$208)))","v":""},{"$f":"IF('TABLA DE DECISION'!CJ185=\"\",\"\",IF('TABLA DE DECISION'!$A$156=1,MAX('TABLA DE DECISION'!CJ$159:CJ$208)-'TABLA DE DECISION'!CJ185,'TABLA DE DECISION'!CJ185-MIN('TABLA DE DECISION'!CJ$159:CJ$208)))","v":""},{"$f":"IF('TABLA DE DECISION'!CK185=\"\",\"\",IF('TABLA DE DECISION'!$A$156=1,MAX('TABLA DE DECISION'!CK$159:CK$208)-'TABLA DE DECISION'!CK185,'TABLA DE DECISION'!CK185-MIN('TABLA DE DECISION'!CK$159:CK$208)))","v":""},{"$f":"IF('TABLA DE DECISION'!CL185=\"\",\"\",IF('TABLA DE DECISION'!$A$156=1,MAX('TABLA DE DECISION'!CL$159:CL$208)-'TABLA DE DECISION'!CL185,'TABLA DE DECISION'!CL185-MIN('TABLA DE DECISION'!CL$159:CL$208)))","v":""},{"$f":"IF('TABLA DE DECISION'!CM185=\"\",\"\",IF('TABLA DE DECISION'!$A$156=1,MAX('TABLA DE DECISION'!CM$159:CM$208)-'TABLA DE DECISION'!CM185,'TABLA DE DECISION'!CM185-MIN('TABLA DE DECISION'!CM$159:CM$208)))","v":""},{"$f":"IF('TABLA DE DECISION'!CN185=\"\",\"\",IF('TABLA DE DECISION'!$A$156=1,MAX('TABLA DE DECISION'!CN$159:CN$208)-'TABLA DE DECISION'!CN185,'TABLA DE DECISION'!CN185-MIN('TABLA DE DECISION'!CN$159:CN$208)))","v":""},{"$f":"IF('TABLA DE DECISION'!CO185=\"\",\"\",IF('TABLA DE DECISION'!$A$156=1,MAX('TABLA DE DECISION'!CO$159:CO$208)-'TABLA DE DECISION'!CO185,'TABLA DE DECISION'!CO185-MIN('TABLA DE DECISION'!CO$159:CO$208)))","v":""},{"$f":"IF('TABLA DE DECISION'!CP185=\"\",\"\",IF('TABLA DE DECISION'!$A$156=1,MAX('TABLA DE DECISION'!CP$159:CP$208)-'TABLA DE DECISION'!CP185,'TABLA DE DECISION'!CP185-MIN('TABLA DE DECISION'!CP$159:CP$208)))","v":""},{"$f":"IF('TABLA DE DECISION'!CQ185=\"\",\"\",IF('TABLA DE DECISION'!$A$156=1,MAX('TABLA DE DECISION'!CQ$159:CQ$208)-'TABLA DE DECISION'!CQ185,'TABLA DE DECISION'!CQ185-MIN('TABLA DE DECISION'!CQ$159:CQ$208)))","v":""},{"$f":"IF('TABLA DE DECISION'!CR185=\"\",\"\",IF('TABLA DE DECISION'!$A$156=1,MAX('TABLA DE DECISION'!CR$159:CR$208)-'TABLA DE DECISION'!CR185,'TABLA DE DECISION'!CR185-MIN('TABLA DE DECISION'!CR$159:CR$208)))","v":""},{"$f":"IF('TABLA DE DECISION'!CS185=\"\",\"\",IF('TABLA DE DECISION'!$A$156=1,MAX('TABLA DE DECISION'!CS$159:CS$208)-'TABLA DE DECISION'!CS185,'TABLA DE DECISION'!CS185-MIN('TABLA DE DECISION'!CS$159:CS$208)))","v":""},{"$f":"IF('TABLA DE DECISION'!CT185=\"\",\"\",IF('TABLA DE DECISION'!$A$156=1,MAX('TABLA DE DECISION'!CT$159:CT$208)-'TABLA DE DECISION'!CT185,'TABLA DE DECISION'!CT185-MIN('TABLA DE DECISION'!CT$159:CT$208)))","v":""},{"$f":"IF('TABLA DE DECISION'!CU185=\"\",\"\",IF('TABLA DE DECISION'!$A$156=1,MAX('TABLA DE DECISION'!CU$159:CU$208)-'TABLA DE DECISION'!CU185,'TABLA DE DECISION'!CU185-MIN('TABLA DE DECISION'!CU$159:CU$208)))","v":""},{"$f":"IF('TABLA DE DECISION'!CV185=\"\",\"\",IF('TABLA DE DECISION'!$A$156=1,MAX('TABLA DE DECISION'!CV$159:CV$208)-'TABLA DE DECISION'!CV185,'TABLA DE DECISION'!CV185-MIN('TABLA DE DECISION'!CV$159:CV$208)))","v":""},{"$f":"IF('TABLA DE DECISION'!CW185=\"\",\"\",IF('TABLA DE DECISION'!$A$156=1,MAX('TABLA DE DECISION'!CW$159:CW$208)-'TABLA DE DECISION'!CW185,'TABLA DE DECISION'!CW185-MIN('TABLA DE DECISION'!CW$159:CW$208)))","v":""},{"$f":"IF('TABLA DE DECISION'!CX185=\"\",\"\",IF('TABLA DE DECISION'!$A$156=1,MAX('TABLA DE DECISION'!CX$159:CX$208)-'TABLA DE DECISION'!CX185,'TABLA DE DECISION'!CX185-MIN('TABLA DE DECISION'!CX$159:CX$208)))","v":""},{"$f":"IF('TABLA DE DECISION'!CY185=\"\",\"\",IF('TABLA DE DECISION'!$A$156=1,MAX('TABLA DE DECISION'!CY$159:CY$208)-'TABLA DE DECISION'!CY185,'TABLA DE DECISION'!CY185-MIN('TABLA DE DECISION'!CY$159:CY$208)))","v":""},{"$f":"IF('TABLA DE DECISION'!CZ185=\"\",\"\",IF('TABLA DE DECISION'!$A$156=1,MAX('TABLA DE DECISION'!CZ$159:CZ$208)-'TABLA DE DECISION'!CZ185,'TABLA DE DECISION'!CZ185-MIN('TABLA DE DECISION'!CZ$159:CZ$208)))","v":""},{"$f":"IF('TABLA DE DECISION'!DA185=\"\",\"\",IF('TABLA DE DECISION'!$A$156=1,MAX('TABLA DE DECISION'!DA$159:DA$208)-'TABLA DE DECISION'!DA185,'TABLA DE DECISION'!DA185-MIN('TABLA DE DECISION'!DA$159:DA$208)))","v":""},{"$f":"IF('TABLA DE DECISION'!DB185=\"\",\"\",IF('TABLA DE DECISION'!$A$156=1,MAX('TABLA DE DECISION'!DB$159:DB$208)-'TABLA DE DECISION'!DB185,'TABLA DE DECISION'!DB185-MIN('TABLA DE DECISION'!DB$159:DB$208)))","v":""},{"$f":"IF('TABLA DE DECISION'!DC185=\"\",\"\",IF('TABLA DE DECISION'!$A$156=1,MAX('TABLA DE DECISION'!DC$159:DC$208)-'TABLA DE DECISION'!DC185,'TABLA DE DECISION'!DC185-MIN('TABLA DE DECISION'!DC$159:DC$208)))","v":""},{"$f":"IF('TABLA DE DECISION'!DD185=\"\",\"\",IF('TABLA DE DECISION'!$A$156=1,MAX('TABLA DE DECISION'!DD$159:DD$208)-'TABLA DE DECISION'!DD185,'TABLA DE DECISION'!DD185-MIN('TABLA DE DECISION'!DD$159:DD$208)))","v":""},{"$f":"IF('TABLA DE DECISION'!DE185=\"\",\"\",IF('TABLA DE DECISION'!$A$156=1,MAX('TABLA DE DECISION'!DE$159:DE$208)-'TABLA DE DECISION'!DE185,'TABLA DE DECISION'!DE185-MIN('TABLA DE DECISION'!DE$159:DE$208)))","v":""},null,{"$f":"IF(C29=\"\",\"\",SUMPRODUCT(C29:AZ29,'TABLA DE DECISION'!BH$156:DE$156))","v":""}]
[{"$f":"IF('TABLA DE DECISION'!BF186=\"\",\"\",'TABLA DE DECISION'!BF186)","v":""},{"$f":"IF('TABLA DE DECISION'!BG186=\"\",\"\",'TABLA DE DECISION'!BG186)","v":"a28"},{"$f":"IF('TABLA DE DECISION'!BH186=\"\",\"\",IF('TABLA DE DECISION'!$A$156=1,MAX('TABLA DE DECISION'!BH$159:BH$208)-'TABLA DE DECISION'!BH186,'TABLA DE DECISION'!BH186-MIN('TABLA DE DECISION'!BH$159:BH$208)))","v":""},{"$f":"IF('TABLA DE DECISION'!BI186=\"\",\"\",IF('TABLA DE DECISION'!$A$156=1,MAX('TABLA DE DECISION'!BI$159:BI$208)-'TABLA DE DECISION'!BI186,'TABLA DE DECISION'!BI186-MIN('TABLA DE DECISION'!BI$159:BI$208)))","v":""},{"$f":"IF('TABLA DE DECISION'!BJ186=\"\",\"\",IF('TABLA DE DECISION'!$A$156=1,MAX('TABLA DE DECISION'!BJ$159:BJ$208)-'TABLA DE DECISION'!BJ186,'TABLA DE DECISION'!BJ186-MIN('TABLA DE DECISION'!BJ$159:BJ$208)))","v":""},{"$f":"IF('TABLA DE DECISION'!BK186=\"\",\"\",IF('TABLA DE DECISION'!$A$156=1,MAX('TABLA DE DECISION'!BK$159:BK$208)-'TABLA DE DECISION'!BK186,'TABLA DE DECISION'!BK186-MIN('TABLA DE DECISION'!BK$159:BK$208)))","v":""},{"$f":"IF('TABLA DE DECISION'!BL186=\"\",\"\",IF('TABLA DE DECISION'!$A$156=1,MAX('TABLA DE DECISION'!BL$159:BL$208)-'TABLA DE DECISION'!BL186,'TABLA DE DECISION'!BL186-MIN('TABLA DE DECISION'!BL$159:BL$208)))","v":""},{"$f":"IF('TABLA DE DECISION'!BM186=\"\",\"\",IF('TABLA DE DECISION'!$A$156=1,MAX('TABLA DE DECISION'!BM$159:BM$208)-'TABLA DE DECISION'!BM186,'TABLA DE DECISION'!BM186-MIN('TABLA DE DECISION'!BM$159:BM$208)))","v":""},{"$f":"IF('TABLA DE DECISION'!BN186=\"\",\"\",IF('TABLA DE DECISION'!$A$156=1,MAX('TABLA DE DECISION'!BN$159:BN$208)-'TABLA DE DECISION'!BN186,'TABLA DE DECISION'!BN186-MIN('TABLA DE DECISION'!BN$159:BN$208)))","v":""},{"$f":"IF('TABLA DE DECISION'!BO186=\"\",\"\",IF('TABLA DE DECISION'!$A$156=1,MAX('TABLA DE DECISION'!BO$159:BO$208)-'TABLA DE DECISION'!BO186,'TABLA DE DECISION'!BO186-MIN('TABLA DE DECISION'!BO$159:BO$208)))","v":""},{"$f":"IF('TABLA DE DECISION'!BP186=\"\",\"\",IF('TABLA DE DECISION'!$A$156=1,MAX('TABLA DE DECISION'!BP$159:BP$208)-'TABLA DE DECISION'!BP186,'TABLA DE DECISION'!BP186-MIN('TABLA DE DECISION'!BP$159:BP$208)))","v":""},{"$f":"IF('TABLA DE DECISION'!BQ186=\"\",\"\",IF('TABLA DE DECISION'!$A$156=1,MAX('TABLA DE DECISION'!BQ$159:BQ$208)-'TABLA DE DECISION'!BQ186,'TABLA DE DECISION'!BQ186-MIN('TABLA DE DECISION'!BQ$159:BQ$208)))","v":""},{"$f":"IF('TABLA DE DECISION'!BR186=\"\",\"\",IF('TABLA DE DECISION'!$A$156=1,MAX('TABLA DE DECISION'!BR$159:BR$208)-'TABLA DE DECISION'!BR186,'TABLA DE DECISION'!BR186-MIN('TABLA DE DECISION'!BR$159:BR$208)))","v":""},{"$f":"IF('TABLA DE DECISION'!BS186=\"\",\"\",IF('TABLA DE DECISION'!$A$156=1,MAX('TABLA DE DECISION'!BS$159:BS$208)-'TABLA DE DECISION'!BS186,'TABLA DE DECISION'!BS186-MIN('TABLA DE DECISION'!BS$159:BS$208)))","v":""},{"$f":"IF('TABLA DE DECISION'!BT186=\"\",\"\",IF('TABLA DE DECISION'!$A$156=1,MAX('TABLA DE DECISION'!BT$159:BT$208)-'TABLA DE DECISION'!BT186,'TABLA DE DECISION'!BT186-MIN('TABLA DE DECISION'!BT$159:BT$208)))","v":""},{"$f":"IF('TABLA DE DECISION'!BU186=\"\",\"\",IF('TABLA DE DECISION'!$A$156=1,MAX('TABLA DE DECISION'!BU$159:BU$208)-'TABLA DE DECISION'!BU186,'TABLA DE DECISION'!BU186-MIN('TABLA DE DECISION'!BU$159:BU$208)))","v":""},{"$f":"IF('TABLA DE DECISION'!BV186=\"\",\"\",IF('TABLA DE DECISION'!$A$156=1,MAX('TABLA DE DECISION'!BV$159:BV$208)-'TABLA DE DECISION'!BV186,'TABLA DE DECISION'!BV186-MIN('TABLA DE DECISION'!BV$159:BV$208)))","v":""},{"$f":"IF('TABLA DE DECISION'!BW186=\"\",\"\",IF('TABLA DE DECISION'!$A$156=1,MAX('TABLA DE DECISION'!BW$159:BW$208)-'TABLA DE DECISION'!BW186,'TABLA DE DECISION'!BW186-MIN('TABLA DE DECISION'!BW$159:BW$208)))","v":""},{"$f":"IF('TABLA DE DECISION'!BX186=\"\",\"\",IF('TABLA DE DECISION'!$A$156=1,MAX('TABLA DE DECISION'!BX$159:BX$208)-'TABLA DE DECISION'!BX186,'TABLA DE DECISION'!BX186-MIN('TABLA DE DECISION'!BX$159:BX$208)))","v":""},{"$f":"IF('TABLA DE DECISION'!BY186=\"\",\"\",IF('TABLA DE DECISION'!$A$156=1,MAX('TABLA DE DECISION'!BY$159:BY$208)-'TABLA DE DECISION'!BY186,'TABLA DE DECISION'!BY186-MIN('TABLA DE DECISION'!BY$159:BY$208)))","v":""},{"$f":"IF('TABLA DE DECISION'!BZ186=\"\",\"\",IF('TABLA DE DECISION'!$A$156=1,MAX('TABLA DE DECISION'!BZ$159:BZ$208)-'TABLA DE DECISION'!BZ186,'TABLA DE DECISION'!BZ186-MIN('TABLA DE DECISION'!BZ$159:BZ$208)))","v":""},{"$f":"IF('TABLA DE DECISION'!CA186=\"\",\"\",IF('TABLA DE DECISION'!$A$156=1,MAX('TABLA DE DECISION'!CA$159:CA$208)-'TABLA DE DECISION'!CA186,'TABLA DE DECISION'!CA186-MIN('TABLA DE DECISION'!CA$159:CA$208)))","v":""},{"$f":"IF('TABLA DE DECISION'!CB186=\"\",\"\",IF('TABLA DE DECISION'!$A$156=1,MAX('TABLA DE DECISION'!CB$159:CB$208)-'TABLA DE DECISION'!CB186,'TABLA DE DECISION'!CB186-MIN('TABLA DE DECISION'!CB$159:CB$208)))","v":""},{"$f":"IF('TABLA DE DECISION'!CC186=\"\",\"\",IF('TABLA DE DECISION'!$A$156=1,MAX('TABLA DE DECISION'!CC$159:CC$208)-'TABLA DE DECISION'!CC186,'TABLA DE DECISION'!CC186-MIN('TABLA DE DECISION'!CC$159:CC$208)))","v":""},{"$f":"IF('TABLA DE DECISION'!CD186=\"\",\"\",IF('TABLA DE DECISION'!$A$156=1,MAX('TABLA DE DECISION'!CD$159:CD$208)-'TABLA DE DECISION'!CD186,'TABLA DE DECISION'!CD186-MIN('TABLA DE DECISION'!CD$159:CD$208)))","v":""},{"$f":"IF('TABLA DE DECISION'!CE186=\"\",\"\",IF('TABLA DE DECISION'!$A$156=1,MAX('TABLA DE DECISION'!CE$159:CE$208)-'TABLA DE DECISION'!CE186,'TABLA DE DECISION'!CE186-MIN('TABLA DE DECISION'!CE$159:CE$208)))","v":""},{"$f":"IF('TABLA DE DECISION'!CF186=\"\",\"\",IF('TABLA DE DECISION'!$A$156=1,MAX('TABLA DE DECISION'!CF$159:CF$208)-'TABLA DE DECISION'!CF186,'TABLA DE DECISION'!CF186-MIN('TABLA DE DECISION'!CF$159:CF$208)))","v":""},{"$f":"IF('TABLA DE DECISION'!CG186=\"\",\"\",IF('TABLA DE DECISION'!$A$156=1,MAX('TABLA DE DECISION'!CG$159:CG$208)-'TABLA DE DECISION'!CG186,'TABLA DE DECISION'!CG186-MIN('TABLA DE DECISION'!CG$159:CG$208)))","v":""},{"$f":"IF('TABLA DE DECISION'!CH186=\"\",\"\",IF('TABLA DE DECISION'!$A$156=1,MAX('TABLA DE DECISION'!CH$159:CH$208)-'TABLA DE DECISION'!CH186,'TABLA DE DECISION'!CH186-MIN('TABLA DE DECISION'!CH$159:CH$208)))","v":""},{"$f":"IF('TABLA DE DECISION'!CI186=\"\",\"\",IF('TABLA DE DECISION'!$A$156=1,MAX('TABLA DE DECISION'!CI$159:CI$208)-'TABLA DE DECISION'!CI186,'TABLA DE DECISION'!CI186-MIN('TABLA DE DECISION'!CI$159:CI$208)))","v":""},{"$f":"IF('TABLA DE DECISION'!CJ186=\"\",\"\",IF('TABLA DE DECISION'!$A$156=1,MAX('TABLA DE DECISION'!CJ$159:CJ$208)-'TABLA DE DECISION'!CJ186,'TABLA DE DECISION'!CJ186-MIN('TABLA DE DECISION'!CJ$159:CJ$208)))","v":""},{"$f":"IF('TABLA DE DECISION'!CK186=\"\",\"\",IF('TABLA DE DECISION'!$A$156=1,MAX('TABLA DE DECISION'!CK$159:CK$208)-'TABLA DE DECISION'!CK186,'TABLA DE DECISION'!CK186-MIN('TABLA DE DECISION'!CK$159:CK$208)))","v":""},{"$f":"IF('TABLA DE DECISION'!CL186=\"\",\"\",IF('TABLA DE DECISION'!$A$156=1,MAX('TABLA DE DECISION'!CL$159:CL$208)-'TABLA DE DECISION'!CL186,'TABLA DE DECISION'!CL186-MIN('TABLA DE DECISION'!CL$159:CL$208)))","v":""},{"$f":"IF('TABLA DE DECISION'!CM186=\"\",\"\",IF('TABLA DE DECISION'!$A$156=1,MAX('TABLA DE DECISION'!CM$159:CM$208)-'TABLA DE DECISION'!CM186,'TABLA DE DECISION'!CM186-MIN('TABLA DE DECISION'!CM$159:CM$208)))","v":""},{"$f":"IF('TABLA DE DECISION'!CN186=\"\",\"\",IF('TABLA DE DECISION'!$A$156=1,MAX('TABLA DE DECISION'!CN$159:CN$208)-'TABLA DE DECISION'!CN186,'TABLA DE DECISION'!CN186-MIN('TABLA DE DECISION'!CN$159:CN$208)))","v":""},{"$f":"IF('TABLA DE DECISION'!CO186=\"\",\"\",IF('TABLA DE DECISION'!$A$156=1,MAX('TABLA DE DECISION'!CO$159:CO$208)-'TABLA DE DECISION'!CO186,'TABLA DE DECISION'!CO186-MIN('TABLA DE DECISION'!CO$159:CO$208)))","v":""},{"$f":"IF('TABLA DE DECISION'!CP186=\"\",\"\",IF('TABLA DE DECISION'!$A$156=1,MAX('TABLA DE DECISION'!CP$159:CP$208)-'TABLA DE DECISION'!CP186,'TABLA DE DECISION'!CP186-MIN('TABLA DE DECISION'!CP$159:CP$208)))","v":""},{"$f":"IF('TABLA DE DECISION'!CQ186=\"\",\"\",IF('TABLA DE DECISION'!$A$156=1,MAX('TABLA DE DECISION'!CQ$159:CQ$208)-'TABLA DE DECISION'!CQ186,'TABLA DE DECISION'!CQ186-MIN('TABLA DE DECISION'!CQ$159:CQ$208)))","v":""},{"$f":"IF('TABLA DE DECISION'!CR186=\"\",\"\",IF('TABLA DE DECISION'!$A$156=1,MAX('TABLA DE DECISION'!CR$159:CR$208)-'TABLA DE DECISION'!CR186,'TABLA DE DECISION'!CR186-MIN('TABLA DE DECISION'!CR$159:CR$208)))","v":""},{"$f":"IF('TABLA DE DECISION'!CS186=\"\",\"\",IF('TABLA DE DECISION'!$A$156=1,MAX('TABLA DE DECISION'!CS$159:CS$208)-'TABLA DE DECISION'!CS186,'TABLA DE DECISION'!CS186-MIN('TABLA DE DECISION'!CS$159:CS$208)))","v":""},{"$f":"IF('TABLA DE DECISION'!CT186=\"\",\"\",IF('TABLA DE DECISION'!$A$156=1,MAX('TABLA DE DECISION'!CT$159:CT$208)-'TABLA DE DECISION'!CT186,'TABLA DE DECISION'!CT186-MIN('TABLA DE DECISION'!CT$159:CT$208)))","v":""},{"$f":"IF('TABLA DE DECISION'!CU186=\"\",\"\",IF('TABLA DE DECISION'!$A$156=1,MAX('TABLA DE DECISION'!CU$159:CU$208)-'TABLA DE DECISION'!CU186,'TABLA DE DECISION'!CU186-MIN('TABLA DE DECISION'!CU$159:CU$208)))","v":""},{"$f":"IF('TABLA DE DECISION'!CV186=\"\",\"\",IF('TABLA DE DECISION'!$A$156=1,MAX('TABLA DE DECISION'!CV$159:CV$208)-'TABLA DE DECISION'!CV186,'TABLA DE DECISION'!CV186-MIN('TABLA DE DECISION'!CV$159:CV$208)))","v":""},{"$f":"IF('TABLA DE DECISION'!CW186=\"\",\"\",IF('TABLA DE DECISION'!$A$156=1,MAX('TABLA DE DECISION'!CW$159:CW$208)-'TABLA DE DECISION'!CW186,'TABLA DE DECISION'!CW186-MIN('TABLA DE DECISION'!CW$159:CW$208)))","v":""},{"$f":"IF('TABLA DE DECISION'!CX186=\"\",\"\",IF('TABLA DE DECISION'!$A$156=1,MAX('TABLA DE DECISION'!CX$159:CX$208)-'TABLA DE DECISION'!CX186,'TABLA DE DECISION'!CX186-MIN('TABLA DE DECISION'!CX$159:CX$208)))","v":""},{"$f":"IF('TABLA DE DECISION'!CY186=\"\",\"\",IF('TABLA DE DECISION'!$A$156=1,MAX('TABLA DE DECISION'!CY$159:CY$208)-'TABLA DE DECISION'!CY186,'TABLA DE DECISION'!CY186-MIN('TABLA DE DECISION'!CY$159:CY$208)))","v":""},{"$f":"IF('TABLA DE DECISION'!CZ186=\"\",\"\",IF('TABLA DE DECISION'!$A$156=1,MAX('TABLA DE DECISION'!CZ$159:CZ$208)-'TABLA DE DECISION'!CZ186,'TABLA DE DECISION'!CZ186-MIN('TABLA DE DECISION'!CZ$159:CZ$208)))","v":""},{"$f":"IF('TABLA DE DECISION'!DA186=\"\",\"\",IF('TABLA DE DECISION'!$A$156=1,MAX('TABLA DE DECISION'!DA$159:DA$208)-'TABLA DE DECISION'!DA186,'TABLA DE DECISION'!DA186-MIN('TABLA DE DECISION'!DA$159:DA$208)))","v":""},{"$f":"IF('TABLA DE DECISION'!DB186=\"\",\"\",IF('TABLA DE DECISION'!$A$156=1,MAX('TABLA DE DECISION'!DB$159:DB$208)-'TABLA DE DECISION'!DB186,'TABLA DE DECISION'!DB186-MIN('TABLA DE DECISION'!DB$159:DB$208)))","v":""},{"$f":"IF('TABLA DE DECISION'!DC186=\"\",\"\",IF('TABLA DE DECISION'!$A$156=1,MAX('TABLA DE DECISION'!DC$159:DC$208)-'TABLA DE DECISION'!DC186,'TABLA DE DECISION'!DC186-MIN('TABLA DE DECISION'!DC$159:DC$208)))","v":""},{"$f":"IF('TABLA DE DECISION'!DD186=\"\",\"\",IF('TABLA DE DECISION'!$A$156=1,MAX('TABLA DE DECISION'!DD$159:DD$208)-'TABLA DE DECISION'!DD186,'TABLA DE DECISION'!DD186-MIN('TABLA DE DECISION'!DD$159:DD$208)))","v":""},{"$f":"IF('TABLA DE DECISION'!DE186=\"\",\"\",IF('TABLA DE DECISION'!$A$156=1,MAX('TABLA DE DECISION'!DE$159:DE$208)-'TABLA DE DECISION'!DE186,'TABLA DE DECISION'!DE186-MIN('TABLA DE DECISION'!DE$159:DE$208)))","v":""},null,{"$f":"IF(C30=\"\",\"\",SUMPRODUCT(C30:AZ30,'TABLA DE DECISION'!BH$156:DE$156))","v":""}]
[{"$f":"IF('TABLA DE DECISION'!BF187=\"\",\"\",'TABLA DE DECISION'!BF187)","v":""},{"$f":"IF('TABLA DE DECISION'!BG187=\"\",\"\",'TABLA DE DECISION'!BG187)","v":"a29"},{"$f":"IF('TABLA DE DECISION'!BH187=\"\",\"\",IF('TABLA DE DECISION'!$A$156=1,MAX('TABLA DE DECISION'!BH$159:BH$208)-'TABLA DE DECISION'!BH187,'TABLA DE DECISION'!BH187-MIN('TABLA DE DECISION'!BH$159:BH$208)))","v":""},{"$f":"IF('TABLA DE DECISION'!BI187=\"\",\"\",IF('TABLA DE DECISION'!$A$156=1,MAX('TABLA DE DECISION'!BI$159:BI$208)-'TABLA DE DECISION'!BI187,'TABLA DE DECISION'!BI187-MIN('TABLA DE DECISION'!BI$159:BI$208)))","v":""},{"$f":"IF('TABLA DE DECISION'!BJ187=\"\",\"\",IF('TABLA DE DECISION'!$A$156=1,MAX('TABLA DE DECISION'!BJ$159:BJ$208)-'TABLA DE DECISION'!BJ187,'TABLA DE DECISION'!BJ187-MIN('TABLA DE DECISION'!BJ$159:BJ$208)))","v":""},{"$f":"IF('TABLA DE DECISION'!BK187=\"\",\"\",IF('TABLA DE DECISION'!$A$156=1,MAX('TABLA DE DECISION'!BK$159:BK$208)-'TABLA DE DECISION'!BK187,'TABLA DE DECISION'!BK187-MIN('TABLA DE DECISION'!BK$159:BK$208)))","v":""},{"$f":"IF('TABLA DE DECISION'!BL187=\"\",\"\",IF('TABLA DE DECISION'!$A$156=1,MAX('TABLA DE DECISION'!BL$159:BL$208)-'TABLA DE DECISION'!BL187,'TABLA DE DECISION'!BL187-MIN('TABLA DE DECISION'!BL$159:BL$208)))","v":""},{"$f":"IF('TABLA DE DECISION'!BM187=\"\",\"\",IF('TABLA DE DECISION'!$A$156=1,MAX('TABLA DE DECISION'!BM$159:BM$208)-'TABLA DE DECISION'!BM187,'TABLA DE DECISION'!BM187-MIN('TABLA DE DECISION'!BM$159:BM$208)))","v":""},{"$f":"IF('TABLA DE DECISION'!BN187=\"\",\"\",IF('TABLA DE DECISION'!$A$156=1,MAX('TABLA DE DECISION'!BN$159:BN$208)-'TABLA DE DECISION'!BN187,'TABLA DE DECISION'!BN187-MIN('TABLA DE DECISION'!BN$159:BN$208)))","v":""},{"$f":"IF('TABLA DE DECISION'!BO187=\"\",\"\",IF('TABLA DE DECISION'!$A$156=1,MAX('TABLA DE DECISION'!BO$159:BO$208)-'TABLA DE DECISION'!BO187,'TABLA DE DECISION'!BO187-MIN('TABLA DE DECISION'!BO$159:BO$208)))","v":""},{"$f":"IF('TABLA DE DECISION'!BP187=\"\",\"\",IF('TABLA DE DECISION'!$A$156=1,MAX('TABLA DE DECISION'!BP$159:BP$208)-'TABLA DE DECISION'!BP187,'TABLA DE DECISION'!BP187-MIN('TABLA DE DECISION'!BP$159:BP$208)))","v":""},{"$f":"IF('TABLA DE DECISION'!BQ187=\"\",\"\",IF('TABLA DE DECISION'!$A$156=1,MAX('TABLA DE DECISION'!BQ$159:BQ$208)-'TABLA DE DECISION'!BQ187,'TABLA DE DECISION'!BQ187-MIN('TABLA DE DECISION'!BQ$159:BQ$208)))","v":""},{"$f":"IF('TABLA DE DECISION'!BR187=\"\",\"\",IF('TABLA DE DECISION'!$A$156=1,MAX('TABLA DE DECISION'!BR$159:BR$208)-'TABLA DE DECISION'!BR187,'TABLA DE DECISION'!BR187-MIN('TABLA DE DECISION'!BR$159:BR$208)))","v":""},{"$f":"IF('TABLA DE DECISION'!BS187=\"\",\"\",IF('TABLA DE DECISION'!$A$156=1,MAX('TABLA DE DECISION'!BS$159:BS$208)-'TABLA DE DECISION'!BS187,'TABLA DE DECISION'!BS187-MIN('TABLA DE DECISION'!BS$159:BS$208)))","v":""},{"$f":"IF('TABLA DE DECISION'!BT187=\"\",\"\",IF('TABLA DE DECISION'!$A$156=1,MAX('TABLA DE DECISION'!BT$159:BT$208)-'TABLA DE DECISION'!BT187,'TABLA DE DECISION'!BT187-MIN('TABLA DE DECISION'!BT$159:BT$208)))","v":""},{"$f":"IF('TABLA DE DECISION'!BU187=\"\",\"\",IF('TABLA DE DECISION'!$A$156=1,MAX('TABLA DE DECISION'!BU$159:BU$208)-'TABLA DE DECISION'!BU187,'TABLA DE DECISION'!BU187-MIN('TABLA DE DECISION'!BU$159:BU$208)))","v":""},{"$f":"IF('TABLA DE DECISION'!BV187=\"\",\"\",IF('TABLA DE DECISION'!$A$156=1,MAX('TABLA DE DECISION'!BV$159:BV$208)-'TABLA DE DECISION'!BV187,'TABLA DE DECISION'!BV187-MIN('TABLA DE DECISION'!BV$159:BV$208)))","v":""},{"$f":"IF('TABLA DE DECISION'!BW187=\"\",\"\",IF('TABLA DE DECISION'!$A$156=1,MAX('TABLA DE DECISION'!BW$159:BW$208)-'TABLA DE DECISION'!BW187,'TABLA DE DECISION'!BW187-MIN('TABLA DE DECISION'!BW$159:BW$208)))","v":""},{"$f":"IF('TABLA DE DECISION'!BX187=\"\",\"\",IF('TABLA DE DECISION'!$A$156=1,MAX('TABLA DE DECISION'!BX$159:BX$208)-'TABLA DE DECISION'!BX187,'TABLA DE DECISION'!BX187-MIN('TABLA DE DECISION'!BX$159:BX$208)))","v":""},{"$f":"IF('TABLA DE DECISION'!BY187=\"\",\"\",IF('TABLA DE DECISION'!$A$156=1,MAX('TABLA DE DECISION'!BY$159:BY$208)-'TABLA DE DECISION'!BY187,'TABLA DE DECISION'!BY187-MIN('TABLA DE DECISION'!BY$159:BY$208)))","v":""},{"$f":"IF('TABLA DE DECISION'!BZ187=\"\",\"\",IF('TABLA DE DECISION'!$A$156=1,MAX('TABLA DE DECISION'!BZ$159:BZ$208)-'TABLA DE DECISION'!BZ187,'TABLA DE DECISION'!BZ187-MIN('TABLA DE DECISION'!BZ$159:BZ$208)))","v":""},{"$f":"IF('TABLA DE DECISION'!CA187=\"\",\"\",IF('TABLA DE DECISION'!$A$156=1,MAX('TABLA DE DECISION'!CA$159:CA$208)-'TABLA DE DECISION'!CA187,'TABLA DE DECISION'!CA187-MIN('TABLA DE DECISION'!CA$159:CA$208)))","v":""},{"$f":"IF('TABLA DE DECISION'!CB187=\"\",\"\",IF('TABLA DE DECISION'!$A$156=1,MAX('TABLA DE DECISION'!CB$159:CB$208)-'TABLA DE DECISION'!CB187,'TABLA DE DECISION'!CB187-MIN('TABLA DE DECISION'!CB$159:CB$208)))","v":""},{"$f":"IF('TABLA DE DECISION'!CC187=\"\",\"\",IF('TABLA DE DECISION'!$A$156=1,MAX('TABLA DE DECISION'!CC$159:CC$208)-'TABLA DE DECISION'!CC187,'TABLA DE DECISION'!CC187-MIN('TABLA DE DECISION'!CC$159:CC$208)))","v":""},{"$f":"IF('TABLA DE DECISION'!CD187=\"\",\"\",IF('TABLA DE DECISION'!$A$156=1,MAX('TABLA DE DECISION'!CD$159:CD$208)-'TABLA DE DECISION'!CD187,'TABLA DE DECISION'!CD187-MIN('TABLA DE DECISION'!CD$159:CD$208)))","v":""},{"$f":"IF('TABLA DE DECISION'!CE187=\"\",\"\",IF('TABLA DE DECISION'!$A$156=1,MAX('TABLA DE DECISION'!CE$159:CE$208)-'TABLA DE DECISION'!CE187,'TABLA DE DECISION'!CE187-MIN('TABLA DE DECISION'!CE$159:CE$208)))","v":""},{"$f":"IF('TABLA DE DECISION'!CF187=\"\",\"\",IF('TABLA DE DECISION'!$A$156=1,MAX('TABLA DE DECISION'!CF$159:CF$208)-'TABLA DE DECISION'!CF187,'TABLA DE DECISION'!CF187-MIN('TABLA DE DECISION'!CF$159:CF$208)))","v":""},{"$f":"IF('TABLA DE DECISION'!CG187=\"\",\"\",IF('TABLA DE DECISION'!$A$156=1,MAX('TABLA DE DECISION'!CG$159:CG$208)-'TABLA DE DECISION'!CG187,'TABLA DE DECISION'!CG187-MIN('TABLA DE DECISION'!CG$159:CG$208)))","v":""},{"$f":"IF('TABLA DE DECISION'!CH187=\"\",\"\",IF('TABLA DE DECISION'!$A$156=1,MAX('TABLA DE DECISION'!CH$159:CH$208)-'TABLA DE DECISION'!CH187,'TABLA DE DECISION'!CH187-MIN('TABLA DE DECISION'!CH$159:CH$208)))","v":""},{"$f":"IF('TABLA DE DECISION'!CI187=\"\",\"\",IF('TABLA DE DECISION'!$A$156=1,MAX('TABLA DE DECISION'!CI$159:CI$208)-'TABLA DE DECISION'!CI187,'TABLA DE DECISION'!CI187-MIN('TABLA DE DECISION'!CI$159:CI$208)))","v":""},{"$f":"IF('TABLA DE DECISION'!CJ187=\"\",\"\",IF('TABLA DE DECISION'!$A$156=1,MAX('TABLA DE DECISION'!CJ$159:CJ$208)-'TABLA DE DECISION'!CJ187,'TABLA DE DECISION'!CJ187-MIN('TABLA DE DECISION'!CJ$159:CJ$208)))","v":""},{"$f":"IF('TABLA DE DECISION'!CK187=\"\",\"\",IF('TABLA DE DECISION'!$A$156=1,MAX('TABLA DE DECISION'!CK$159:CK$208)-'TABLA DE DECISION'!CK187,'TABLA DE DECISION'!CK187-MIN('TABLA DE DECISION'!CK$159:CK$208)))","v":""},{"$f":"IF('TABLA DE DECISION'!CL187=\"\",\"\",IF('TABLA DE DECISION'!$A$156=1,MAX('TABLA DE DECISION'!CL$159:CL$208)-'TABLA DE DECISION'!CL187,'TABLA DE DECISION'!CL187-MIN('TABLA DE DECISION'!CL$159:CL$208)))","v":""},{"$f":"IF('TABLA DE DECISION'!CM187=\"\",\"\",IF('TABLA DE DECISION'!$A$156=1,MAX('TABLA DE DECISION'!CM$159:CM$208)-'TABLA DE DECISION'!CM187,'TABLA DE DECISION'!CM187-MIN('TABLA DE DECISION'!CM$159:CM$208)))","v":""},{"$f":"IF('TABLA DE DECISION'!CN187=\"\",\"\",IF('TABLA DE DECISION'!$A$156=1,MAX('TABLA DE DECISION'!CN$159:CN$208)-'TABLA DE DECISION'!CN187,'TABLA DE DECISION'!CN187-MIN('TABLA DE DECISION'!CN$159:CN$208)))","v":""},{"$f":"IF('TABLA DE DECISION'!CO187=\"\",\"\",IF('TABLA DE DECISION'!$A$156=1,MAX('TABLA DE DECISION'!CO$159:CO$208)-'TABLA DE DECISION'!CO187,'TABLA DE DECISION'!CO187-MIN('TABLA DE DECISION'!CO$159:CO$208)))","v":""},{"$f":"IF('TABLA DE DECISION'!CP187=\"\",\"\",IF('TABLA DE DECISION'!$A$156=1,MAX('TABLA DE DECISION'!CP$159:CP$208)-'TABLA DE DECISION'!CP187,'TABLA DE DECISION'!CP187-MIN('TABLA DE DECISION'!CP$159:CP$208)))","v":""},{"$f":"IF('TABLA DE DECISION'!CQ187=\"\",\"\",IF('TABLA DE DECISION'!$A$156=1,MAX('TABLA DE DECISION'!CQ$159:CQ$208)-'TABLA DE DECISION'!CQ187,'TABLA DE DECISION'!CQ187-MIN('TABLA DE DECISION'!CQ$159:CQ$208)))","v":""},{"$f":"IF('TABLA DE DECISION'!CR187=\"\",\"\",IF('TABLA DE DECISION'!$A$156=1,MAX('TABLA DE DECISION'!CR$159:CR$208)-'TABLA DE DECISION'!CR187,'TABLA DE DECISION'!CR187-MIN('TABLA DE DECISION'!CR$159:CR$208)))","v":""},{"$f":"IF('TABLA DE DECISION'!CS187=\"\",\"\",IF('TABLA DE DECISION'!$A$156=1,MAX('TABLA DE DECISION'!CS$159:CS$208)-'TABLA DE DECISION'!CS187,'TABLA DE DECISION'!CS187-MIN('TABLA DE DECISION'!CS$159:CS$208)))","v":""},{"$f":"IF('TABLA DE DECISION'!CT187=\"\",\"\",IF('TABLA DE DECISION'!$A$156=1,MAX('TABLA DE DECISION'!CT$159:CT$208)-'TABLA DE DECISION'!CT187,'TABLA DE DECISION'!CT187-MIN('TABLA DE DECISION'!CT$159:CT$208)))","v":""},{"$f":"IF('TABLA DE DECISION'!CU187=\"\",\"\",IF('TABLA DE DECISION'!$A$156=1,MAX('TABLA DE DECISION'!CU$159:CU$208)-'TABLA DE DECISION'!CU187,'TABLA DE DECISION'!CU187-MIN('TABLA DE DECISION'!CU$159:CU$208)))","v":""},{"$f":"IF('TABLA DE DECISION'!CV187=\"\",\"\",IF('TABLA DE DECISION'!$A$156=1,MAX('TABLA DE DECISION'!CV$159:CV$208)-'TABLA DE DECISION'!CV187,'TABLA DE DECISION'!CV187-MIN('TABLA DE DECISION'!CV$159:CV$208)))","v":""},{"$f":"IF('TABLA DE DECISION'!CW187=\"\",\"\",IF('TABLA DE DECISION'!$A$156=1,MAX('TABLA DE DECISION'!CW$159:CW$208)-'TABLA DE DECISION'!CW187,'TABLA DE DECISION'!CW187-MIN('TABLA DE DECISION'!CW$159:CW$208)))","v":""},{"$f":"IF('TABLA DE DECISION'!CX187=\"\",\"\",IF('TABLA DE DECISION'!$A$156=1,MAX('TABLA DE DECISION'!CX$159:CX$208)-'TABLA DE DECISION'!CX187,'TABLA DE DECISION'!CX187-MIN('TABLA DE DECISION'!CX$159:CX$208)))","v":""},{"$f":"IF('TABLA DE DECISION'!CY187=\"\",\"\",IF('TABLA DE DECISION'!$A$156=1,MAX('TABLA DE DECISION'!CY$159:CY$208)-'TABLA DE DECISION'!CY187,'TABLA DE DECISION'!CY187-MIN('TABLA DE DECISION'!CY$159:CY$208)))","v":""},{"$f":"IF('TABLA DE DECISION'!CZ187=\"\",\"\",IF('TABLA DE DECISION'!$A$156=1,MAX('TABLA DE DECISION'!CZ$159:CZ$208)-'TABLA DE DECISION'!CZ187,'TABLA DE DECISION'!CZ187-MIN('TABLA DE DECISION'!CZ$159:CZ$208)))","v":""},{"$f":"IF('TABLA DE DECISION'!DA187=\"\",\"\",IF('TABLA DE DECISION'!$A$156=1,MAX('TABLA DE DECISION'!DA$159:DA$208)-'TABLA DE DECISION'!DA187,'TABLA DE DECISION'!DA187-MIN('TABLA DE DECISION'!DA$159:DA$208)))","v":""},{"$f":"IF('TABLA DE DECISION'!DB187=\"\",\"\",IF('TABLA DE DECISION'!$A$156=1,MAX('TABLA DE DECISION'!DB$159:DB$208)-'TABLA DE DECISION'!DB187,'TABLA DE DECISION'!DB187-MIN('TABLA DE DECISION'!DB$159:DB$208)))","v":""},{"$f":"IF('TABLA DE DECISION'!DC187=\"\",\"\",IF('TABLA DE DECISION'!$A$156=1,MAX('TABLA DE DECISION'!DC$159:DC$208)-'TABLA DE DECISION'!DC187,'TABLA DE DECISION'!DC187-MIN('TABLA DE DECISION'!DC$159:DC$208)))","v":""},{"$f":"IF('TABLA DE DECISION'!DD187=\"\",\"\",IF('TABLA DE DECISION'!$A$156=1,MAX('TABLA DE DECISION'!DD$159:DD$208)-'TABLA DE DECISION'!DD187,'TABLA DE DECISION'!DD187-MIN('TABLA DE DECISION'!DD$159:DD$208)))","v":""},{"$f":"IF('TABLA DE DECISION'!DE187=\"\",\"\",IF('TABLA DE DECISION'!$A$156=1,MAX('TABLA DE DECISION'!DE$159:DE$208)-'TABLA DE DECISION'!DE187,'TABLA DE DECISION'!DE187-MIN('TABLA DE DECISION'!DE$159:DE$208)))","v":""},null,{"$f":"IF(C31=\"\",\"\",SUMPRODUCT(C31:AZ31,'TABLA DE DECISION'!BH$156:DE$156))","v":""}]
[{"$f":"IF('TABLA DE DECISION'!BF188=\"\",\"\",'TABLA DE DECISION'!BF188)","v":""},{"$f":"IF('TABLA DE DECISION'!BG188=\"\",\"\",'TABLA DE DECISION'!BG188)","v":"a30"},{"$f":"IF('TABLA DE DECISION'!BH188=\"\",\"\",IF('TABLA DE DECISION'!$A$156=1,MAX('TABLA DE DECISION'!BH$159:BH$208)-'TABLA DE DECISION'!BH188,'TABLA DE DECISION'!BH188-MIN('TABLA DE DECISION'!BH$159:BH$208)))","v":""},{"$f":"IF('TABLA DE DECISION'!BI188=\"\",\"\",IF('TABLA DE DECISION'!$A$156=1,MAX('TABLA DE DECISION'!BI$159:BI$208)-'TABLA DE DECISION'!BI188,'TABLA DE DECISION'!BI188-MIN('TABLA DE DECISION'!BI$159:BI$208)))","v":""},{"$f":"IF('TABLA DE DECISION'!BJ188=\"\",\"\",IF('TABLA DE DECISION'!$A$156=1,MAX('TABLA DE DECISION'!BJ$159:BJ$208)-'TABLA DE DECISION'!BJ188,'TABLA DE DECISION'!BJ188-MIN('TABLA DE DECISION'!BJ$159:BJ$208)))","v":""},{"$f":"IF('TABLA DE DECISION'!BK188=\"\",\"\",IF('TABLA DE DECISION'!$A$156=1,MAX('TABLA DE DECISION'!BK$159:BK$208)-'TABLA DE DECISION'!BK188,'TABLA DE DECISION'!BK188-MIN('TABLA DE DECISION'!BK$159:BK$208)))","v":""},{"$f":"IF('TABLA DE DECISION'!BL188=\"\",\"\",IF('TABLA DE DECISION'!$A$156=1,MAX('TABLA DE DECISION'!BL$159:BL$208)-'TABLA DE DECISION'!BL188,'TABLA DE DECISION'!BL188-MIN('TABLA DE DECISION'!BL$159:BL$208)))","v":""},{"$f":"IF('TABLA DE DECISION'!BM188=\"\",\"\",IF('TABLA DE DECISION'!$A$156=1,MAX('TABLA DE DECISION'!BM$159:BM$208)-'TABLA DE DECISION'!BM188,'TABLA DE DECISION'!BM188-MIN('TABLA DE DECISION'!BM$159:BM$208)))","v":""},{"$f":"IF('TABLA DE DECISION'!BN188=\"\",\"\",IF('TABLA DE DECISION'!$A$156=1,MAX('TABLA DE DECISION'!BN$159:BN$208)-'TABLA DE DECISION'!BN188,'TABLA DE DECISION'!BN188-MIN('TABLA DE DECISION'!BN$159:BN$208)))","v":""},{"$f":"IF('TABLA DE DECISION'!BO188=\"\",\"\",IF('TABLA DE DECISION'!$A$156=1,MAX('TABLA DE DECISION'!BO$159:BO$208)-'TABLA DE DECISION'!BO188,'TABLA DE DECISION'!BO188-MIN('TABLA DE DECISION'!BO$159:BO$208)))","v":""},{"$f":"IF('TABLA DE DECISION'!BP188=\"\",\"\",IF('TABLA DE DECISION'!$A$156=1,MAX('TABLA DE DECISION'!BP$159:BP$208)-'TABLA DE DECISION'!BP188,'TABLA DE DECISION'!BP188-MIN('TABLA DE DECISION'!BP$159:BP$208)))","v":""},{"$f":"IF('TABLA DE DECISION'!BQ188=\"\",\"\",IF('TABLA DE DECISION'!$A$156=1,MAX('TABLA DE DECISION'!BQ$159:BQ$208)-'TABLA DE DECISION'!BQ188,'TABLA DE DECISION'!BQ188-MIN('TABLA DE DECISION'!BQ$159:BQ$208)))","v":""},{"$f":"IF('TABLA DE DECISION'!BR188=\"\",\"\",IF('TABLA DE DECISION'!$A$156=1,MAX('TABLA DE DECISION'!BR$159:BR$208)-'TABLA DE DECISION'!BR188,'TABLA DE DECISION'!BR188-MIN('TABLA DE DECISION'!BR$159:BR$208)))","v":""},{"$f":"IF('TABLA DE DECISION'!BS188=\"\",\"\",IF('TABLA DE DECISION'!$A$156=1,MAX('TABLA DE DECISION'!BS$159:BS$208)-'TABLA DE DECISION'!BS188,'TABLA DE DECISION'!BS188-MIN('TABLA DE DECISION'!BS$159:BS$208)))","v":""},{"$f":"IF('TABLA DE DECISION'!BT188=\"\",\"\",IF('TABLA DE DECISION'!$A$156=1,MAX('TABLA DE DECISION'!BT$159:BT$208)-'TABLA DE DECISION'!BT188,'TABLA DE DECISION'!BT188-MIN('TABLA DE DECISION'!BT$159:BT$208)))","v":""},{"$f":"IF('TABLA DE DECISION'!BU188=\"\",\"\",IF('TABLA DE DECISION'!$A$156=1,MAX('TABLA DE DECISION'!BU$159:BU$208)-'TABLA DE DECISION'!BU188,'TABLA DE DECISION'!BU188-MIN('TABLA DE DECISION'!BU$159:BU$208)))","v":""},{"$f":"IF('TABLA DE DECISION'!BV188=\"\",\"\",IF('TABLA DE DECISION'!$A$156=1,MAX('TABLA DE DECISION'!BV$159:BV$208)-'TABLA DE DECISION'!BV188,'TABLA DE DECISION'!BV188-MIN('TABLA DE DECISION'!BV$159:BV$208)))","v":""},{"$f":"IF('TABLA DE DECISION'!BW188=\"\",\"\",IF('TABLA DE DECISION'!$A$156=1,MAX('TABLA DE DECISION'!BW$159:BW$208)-'TABLA DE DECISION'!BW188,'TABLA DE DECISION'!BW188-MIN('TABLA DE DECISION'!BW$159:BW$208)))","v":""},{"$f":"IF('TABLA DE DECISION'!BX188=\"\",\"\",IF('TABLA DE DECISION'!$A$156=1,MAX('TABLA DE DECISION'!BX$159:BX$208)-'TABLA DE DECISION'!BX188,'TABLA DE DECISION'!BX188-MIN('TABLA DE DECISION'!BX$159:BX$208)))","v":""},{"$f":"IF('TABLA DE DECISION'!BY188=\"\",\"\",IF('TABLA DE DECISION'!$A$156=1,MAX('TABLA DE DECISION'!BY$159:BY$208)-'TABLA DE DECISION'!BY188,'TABLA DE DECISION'!BY188-MIN('TABLA DE DECISION'!BY$159:BY$208)))","v":""},{"$f":"IF('TABLA DE DECISION'!BZ188=\"\",\"\",IF('TABLA DE DECISION'!$A$156=1,MAX('TABLA DE DECISION'!BZ$159:BZ$208)-'TABLA DE DECISION'!BZ188,'TABLA DE DECISION'!BZ188-MIN('TABLA DE DECISION'!BZ$159:BZ$208)))","v":""},{"$f":"IF('TABLA DE DECISION'!CA188=\"\",\"\",IF('TABLA DE DECISION'!$A$156=1,MAX('TABLA DE DECISION'!CA$159:CA$208)-'TABLA DE DECISION'!CA188,'TABLA DE DECISION'!CA188-MIN('TABLA DE DECISION'!CA$159:CA$208)))","v":""},{"$f":"IF('TABLA DE DECISION'!CB188=\"\",\"\",IF('TABLA DE DECISION'!$A$156=1,MAX('TABLA DE DECISION'!CB$159:CB$208)-'TABLA DE DECISION'!CB188,'TABLA DE DECISION'!CB188-MIN('TABLA DE DECISION'!CB$159:CB$208)))","v":""},{"$f":"IF('TABLA DE DECISION'!CC188=\"\",\"\",IF('TABLA DE DECISION'!$A$156=1,MAX('TABLA DE DECISION'!CC$159:CC$208)-'TABLA DE DECISION'!CC188,'TABLA DE DECISION'!CC188-MIN('TABLA DE DECISION'!CC$159:CC$208)))","v":""},{"$f":"IF('TABLA DE DECISION'!CD188=\"\",\"\",IF('TABLA DE DECISION'!$A$156=1,MAX('TABLA DE DECISION'!CD$159:CD$208)-'TABLA DE DECISION'!CD188,'TABLA DE DECISION'!CD188-MIN('TABLA DE DECISION'!CD$159:CD$208)))","v":""},{"$f":"IF('TABLA DE DECISION'!CE188=\"\",\"\",IF('TABLA DE DECISION'!$A$156=1,MAX('TABLA DE DECISION'!CE$159:CE$208)-'TABLA DE DECISION'!CE188,'TABLA DE DECISION'!CE188-MIN('TABLA DE DECISION'!CE$159:CE$208)))","v":""},{"$f":"IF('TABLA DE DECISION'!CF188=\"\",\"\",IF('TABLA DE DECISION'!$A$156=1,MAX('TABLA DE DECISION'!CF$159:CF$208)-'TABLA DE DECISION'!CF188,'TABLA DE DECISION'!CF188-MIN('TABLA DE DECISION'!CF$159:CF$208)))","v":""},{"$f":"IF('TABLA DE DECISION'!CG188=\"\",\"\",IF('TABLA DE DECISION'!$A$156=1,MAX('TABLA DE DECISION'!CG$159:CG$208)-'TABLA DE DECISION'!CG188,'TABLA DE DECISION'!CG188-MIN('TABLA DE DECISION'!CG$159:CG$208)))","v":""},{"$f":"IF('TABLA DE DECISION'!CH188=\"\",\"\",IF('TABLA DE DECISION'!$A$156=1,MAX('TABLA DE DECISION'!CH$159:CH$208)-'TABLA DE DECISION'!CH188,'TABLA DE DECISION'!CH188-MIN('TABLA DE DECISION'!CH$159:CH$208)))","v":""},{"$f":"IF('TABLA DE DECISION'!CI188=\"\",\"\",IF('TABLA DE DECISION'!$A$156=1,MAX('TABLA DE DECISION'!CI$159:CI$208)-'TABLA DE DECISION'!CI188,'TABLA DE DECISION'!CI188-MIN('TABLA DE DECISION'!CI$159:CI$208)))","v":""},{"$f":"IF('TABLA DE DECISION'!CJ188=\"\",\"\",IF('TABLA DE DECISION'!$A$156=1,MAX('TABLA DE DECISION'!CJ$159:CJ$208)-'TABLA DE DECISION'!CJ188,'TABLA DE DECISION'!CJ188-MIN('TABLA DE DECISION'!CJ$159:CJ$208)))","v":""},{"$f":"IF('TABLA DE DECISION'!CK188=\"\",\"\",IF('TABLA DE DECISION'!$A$156=1,MAX('TABLA DE DECISION'!CK$159:CK$208)-'TABLA DE DECISION'!CK188,'TABLA DE DECISION'!CK188-MIN('TABLA DE DECISION'!CK$159:CK$208)))","v":""},{"$f":"IF('TABLA DE DECISION'!CL188=\"\",\"\",IF('TABLA DE DECISION'!$A$156=1,MAX('TABLA DE DECISION'!CL$159:CL$208)-'TABLA DE DECISION'!CL188,'TABLA DE DECISION'!CL188-MIN('TABLA DE DECISION'!CL$159:CL$208)))","v":""},{"$f":"IF('TABLA DE DECISION'!CM188=\"\",\"\",IF('TABLA DE DECISION'!$A$156=1,MAX('TABLA DE DECISION'!CM$159:CM$208)-'TABLA DE DECISION'!CM188,'TABLA DE DECISION'!CM188-MIN('TABLA DE DECISION'!CM$159:CM$208)))","v":""},{"$f":"IF('TABLA DE DECISION'!CN188=\"\",\"\",IF('TABLA DE DECISION'!$A$156=1,MAX('TABLA DE DECISION'!CN$159:CN$208)-'TABLA DE DECISION'!CN188,'TABLA DE DECISION'!CN188-MIN('TABLA DE DECISION'!CN$159:CN$208)))","v":""},{"$f":"IF('TABLA DE DECISION'!CO188=\"\",\"\",IF('TABLA DE DECISION'!$A$156=1,MAX('TABLA DE DECISION'!CO$159:CO$208)-'TABLA DE DECISION'!CO188,'TABLA DE DECISION'!CO188-MIN('TABLA DE DECISION'!CO$159:CO$208)))","v":""},{"$f":"IF('TABLA DE DECISION'!CP188=\"\",\"\",IF('TABLA DE DECISION'!$A$156=1,MAX('TABLA DE DECISION'!CP$159:CP$208)-'TABLA DE DECISION'!CP188,'TABLA DE DECISION'!CP188-MIN('TABLA DE DECISION'!CP$159:CP$208)))","v":""},{"$f":"IF('TABLA DE DECISION'!CQ188=\"\",\"\",IF('TABLA DE DECISION'!$A$156=1,MAX('TABLA DE DECISION'!CQ$159:CQ$208)-'TABLA DE DECISION'!CQ188,'TABLA DE DECISION'!CQ188-MIN('TABLA DE DECISION'!CQ$159:CQ$208)))","v":""},{"$f":"IF('TABLA DE DECISION'!CR188=\"\",\"\",IF('TABLA DE DECISION'!$A$156=1,MAX('TABLA DE DECISION'!CR$159:CR$208)-'TABLA DE DECISION'!CR188,'TABLA DE DECISION'!CR188-MIN('TABLA DE DECISION'!CR$159:CR$208)))","v":""},{"$f":"IF('TABLA DE DECISION'!CS188=\"\",\"\",IF('TABLA DE DECISION'!$A$156=1,MAX('TABLA DE DECISION'!CS$159:CS$208)-'TABLA DE DECISION'!CS188,'TABLA DE DECISION'!CS188-MIN('TABLA DE DECISION'!CS$159:CS$208)))","v":""},{"$f":"IF('TABLA DE DECISION'!CT188=\"\",\"\",IF('TABLA DE DECISION'!$A$156=1,MAX('TABLA DE DECISION'!CT$159:CT$208)-'TABLA DE DECISION'!CT188,'TABLA DE DECISION'!CT188-MIN('TABLA DE DECISION'!CT$159:CT$208)))","v":""},{"$f":"IF('TABLA DE DECISION'!CU188=\"\",\"\",IF('TABLA DE DECISION'!$A$156=1,MAX('TABLA DE DECISION'!CU$159:CU$208)-'TABLA DE DECISION'!CU188,'TABLA DE DECISION'!CU188-MIN('TABLA DE DECISION'!CU$159:CU$208)))","v":""},{"$f":"IF('TABLA DE DECISION'!CV188=\"\",\"\",IF('TABLA DE DECISION'!$A$156=1,MAX('TABLA DE DECISION'!CV$159:CV$208)-'TABLA DE DECISION'!CV188,'TABLA DE DECISION'!CV188-MIN('TABLA DE DECISION'!CV$159:CV$208)))","v":""},{"$f":"IF('TABLA DE DECISION'!CW188=\"\",\"\",IF('TABLA DE DECISION'!$A$156=1,MAX('TABLA DE DECISION'!CW$159:CW$208)-'TABLA DE DECISION'!CW188,'TABLA DE DECISION'!CW188-MIN('TABLA DE DECISION'!CW$159:CW$208)))","v":""},{"$f":"IF('TABLA DE DECISION'!CX188=\"\",\"\",IF('TABLA DE DECISION'!$A$156=1,MAX('TABLA DE DECISION'!CX$159:CX$208)-'TABLA DE DECISION'!CX188,'TABLA DE DECISION'!CX188-MIN('TABLA DE DECISION'!CX$159:CX$208)))","v":""},{"$f":"IF('TABLA DE DECISION'!CY188=\"\",\"\",IF('TABLA DE DECISION'!$A$156=1,MAX('TABLA DE DECISION'!CY$159:CY$208)-'TABLA DE DECISION'!CY188,'TABLA DE DECISION'!CY188-MIN('TABLA DE DECISION'!CY$159:CY$208)))","v":""},{"$f":"IF('TABLA DE DECISION'!CZ188=\"\",\"\",IF('TABLA DE DECISION'!$A$156=1,MAX('TABLA DE DECISION'!CZ$159:CZ$208)-'TABLA DE DECISION'!CZ188,'TABLA DE DECISION'!CZ188-MIN('TABLA DE DECISION'!CZ$159:CZ$208)))","v":""},{"$f":"IF('TABLA DE DECISION'!DA188=\"\",\"\",IF('TABLA DE DECISION'!$A$156=1,MAX('TABLA DE DECISION'!DA$159:DA$208)-'TABLA DE DECISION'!DA188,'TABLA DE DECISION'!DA188-MIN('TABLA DE DECISION'!DA$159:DA$208)))","v":""},{"$f":"IF('TABLA DE DECISION'!DB188=\"\",\"\",IF('TABLA DE DECISION'!$A$156=1,MAX('TABLA DE DECISION'!DB$159:DB$208)-'TABLA DE DECISION'!DB188,'TABLA DE DECISION'!DB188-MIN('TABLA DE DECISION'!DB$159:DB$208)))","v":""},{"$f":"IF('TABLA DE DECISION'!DC188=\"\",\"\",IF('TABLA DE DECISION'!$A$156=1,MAX('TABLA DE DECISION'!DC$159:DC$208)-'TABLA DE DECISION'!DC188,'TABLA DE DECISION'!DC188-MIN('TABLA DE DECISION'!DC$159:DC$208)))","v":""},{"$f":"IF('TABLA DE DECISION'!DD188=\"\",\"\",IF('TABLA DE DECISION'!$A$156=1,MAX('TABLA DE DECISION'!DD$159:DD$208)-'TABLA DE DECISION'!DD188,'TABLA DE DECISION'!DD188-MIN('TABLA DE DECISION'!DD$159:DD$208)))","v":""},{"$f":"IF('TABLA DE DECISION'!DE188=\"\",\"\",IF('TABLA DE DECISION'!$A$156=1,MAX('TABLA DE DECISION'!DE$159:DE$208)-'TABLA DE DECISION'!DE188,'TABLA DE DECISION'!DE188-MIN('TABLA DE DECISION'!DE$159:DE$208)))","v":""},null,{"$f":"IF(C32=\"\",\"\",SUMPRODUCT(C32:AZ32,'TABLA DE DECISION'!BH$156:DE$156))","v":""}]
[{"$f":"IF('TABLA DE DECISION'!BF189=\"\",\"\",'TABLA DE DECISION'!BF189)","v":""},{"$f":"IF('TABLA DE DECISION'!BG189=\"\",\"\",'TABLA DE DECISION'!BG189)","v":"a31"},{"$f":"IF('TABLA DE DECISION'!BH189=\"\",\"\",IF('TABLA DE DECISION'!$A$156=1,MAX('TABLA DE DECISION'!BH$159:BH$208)-'TABLA DE DECISION'!BH189,'TABLA DE DECISION'!BH189-MIN('TABLA DE DECISION'!BH$159:BH$208)))","v":""},{"$f":"IF('TABLA DE DECISION'!BI189=\"\",\"\",IF('TABLA DE DECISION'!$A$156=1,MAX('TABLA DE DECISION'!BI$159:BI$208)-'TABLA DE DECISION'!BI189,'TABLA DE DECISION'!BI189-MIN('TABLA DE DECISION'!BI$159:BI$208)))","v":""},{"$f":"IF('TABLA DE DECISION'!BJ189=\"\",\"\",IF('TABLA DE DECISION'!$A$156=1,MAX('TABLA DE DECISION'!BJ$159:BJ$208)-'TABLA DE DECISION'!BJ189,'TABLA DE DECISION'!BJ189-MIN('TABLA DE DECISION'!BJ$159:BJ$208)))","v":""},{"$f":"IF('TABLA DE DECISION'!BK189=\"\",\"\",IF('TABLA DE DECISION'!$A$156=1,MAX('TABLA DE DECISION'!BK$159:BK$208)-'TABLA DE DECISION'!BK189,'TABLA DE DECISION'!BK189-MIN('TABLA DE DECISION'!BK$159:BK$208)))","v":""},{"$f":"IF('TABLA DE DECISION'!BL189=\"\",\"\",IF('TABLA DE DECISION'!$A$156=1,MAX('TABLA DE DECISION'!BL$159:BL$208)-'TABLA DE DECISION'!BL189,'TABLA DE DECISION'!BL189-MIN('TABLA DE DECISION'!BL$159:BL$208)))","v":""},{"$f":"IF('TABLA DE DECISION'!BM189=\"\",\"\",IF('TABLA DE DECISION'!$A$156=1,MAX('TABLA DE DECISION'!BM$159:BM$208)-'TABLA DE DECISION'!BM189,'TABLA DE DECISION'!BM189-MIN('TABLA DE DECISION'!BM$159:BM$208)))","v":""},{"$f":"IF('TABLA DE DECISION'!BN189=\"\",\"\",IF('TABLA DE DECISION'!$A$156=1,MAX('TABLA DE DECISION'!BN$159:BN$208)-'TABLA DE DECISION'!BN189,'TABLA DE DECISION'!BN189-MIN('TABLA DE DECISION'!BN$159:BN$208)))","v":""},{"$f":"IF('TABLA DE DECISION'!BO189=\"\",\"\",IF('TABLA DE DECISION'!$A$156=1,MAX('TABLA DE DECISION'!BO$159:BO$208)-'TABLA DE DECISION'!BO189,'TABLA DE DECISION'!BO189-MIN('TABLA DE DECISION'!BO$159:BO$208)))","v":""},{"$f":"IF('TABLA DE DECISION'!BP189=\"\",\"\",IF('TABLA DE DECISION'!$A$156=1,MAX('TABLA DE DECISION'!BP$159:BP$208)-'TABLA DE DECISION'!BP189,'TABLA DE DECISION'!BP189-MIN('TABLA DE DECISION'!BP$159:BP$208)))","v":""},{"$f":"IF('TABLA DE DECISION'!BQ189=\"\",\"\",IF('TABLA DE DECISION'!$A$156=1,MAX('TABLA DE DECISION'!BQ$159:BQ$208)-'TABLA DE DECISION'!BQ189,'TABLA DE DECISION'!BQ189-MIN('TABLA DE DECISION'!BQ$159:BQ$208)))","v":""},{"$f":"IF('TABLA DE DECISION'!BR189=\"\",\"\",IF('TABLA DE DECISION'!$A$156=1,MAX('TABLA DE DECISION'!BR$159:BR$208)-'TABLA DE DECISION'!BR189,'TABLA DE DECISION'!BR189-MIN('TABLA DE DECISION'!BR$159:BR$208)))","v":""},{"$f":"IF('TABLA DE DECISION'!BS189=\"\",\"\",IF('TABLA DE DECISION'!$A$156=1,MAX('TABLA DE DECISION'!BS$159:BS$208)-'TABLA DE DECISION'!BS189,'TABLA DE DECISION'!BS189-MIN('TABLA DE DECISION'!BS$159:BS$208)))","v":""},{"$f":"IF('TABLA DE DECISION'!BT189=\"\",\"\",IF('TABLA DE DECISION'!$A$156=1,MAX('TABLA DE DECISION'!BT$159:BT$208)-'TABLA DE DECISION'!BT189,'TABLA DE DECISION'!BT189-MIN('TABLA DE DECISION'!BT$159:BT$208)))","v":""},{"$f":"IF('TABLA DE DECISION'!BU189=\"\",\"\",IF('TABLA DE DECISION'!$A$156=1,MAX('TABLA DE DECISION'!BU$159:BU$208)-'TABLA DE DECISION'!BU189,'TABLA DE DECISION'!BU189-MIN('TABLA DE DECISION'!BU$159:BU$208)))","v":""},{"$f":"IF('TABLA DE DECISION'!BV189=\"\",\"\",IF('TABLA DE DECISION'!$A$156=1,MAX('TABLA DE DECISION'!BV$159:BV$208)-'TABLA DE DECISION'!BV189,'TABLA DE DECISION'!BV189-MIN('TABLA DE DECISION'!BV$159:BV$208)))","v":""},{"$f":"IF('TABLA DE DECISION'!BW189=\"\",\"\",IF('TABLA DE DECISION'!$A$156=1,MAX('TABLA DE DECISION'!BW$159:BW$208)-'TABLA DE DECISION'!BW189,'TABLA DE DECISION'!BW189-MIN('TABLA DE DECISION'!BW$159:BW$208)))","v":""},{"$f":"IF('TABLA DE DECISION'!BX189=\"\",\"\",IF('TABLA DE DECISION'!$A$156=1,MAX('TABLA DE DECISION'!BX$159:BX$208)-'TABLA DE DECISION'!BX189,'TABLA DE DECISION'!BX189-MIN('TABLA DE DECISION'!BX$159:BX$208)))","v":""},{"$f":"IF('TABLA DE DECISION'!BY189=\"\",\"\",IF('TABLA DE DECISION'!$A$156=1,MAX('TABLA DE DECISION'!BY$159:BY$208)-'TABLA DE DECISION'!BY189,'TABLA DE DECISION'!BY189-MIN('TABLA DE DECISION'!BY$159:BY$208)))","v":""},{"$f":"IF('TABLA DE DECISION'!BZ189=\"\",\"\",IF('TABLA DE DECISION'!$A$156=1,MAX('TABLA DE DECISION'!BZ$159:BZ$208)-'TABLA DE DECISION'!BZ189,'TABLA DE DECISION'!BZ189-MIN('TABLA DE DECISION'!BZ$159:BZ$208)))","v":""},{"$f":"IF('TABLA DE DECISION'!CA189=\"\",\"\",IF('TABLA DE DECISION'!$A$156=1,MAX('TABLA DE DECISION'!CA$159:CA$208)-'TABLA DE DECISION'!CA189,'TABLA DE DECISION'!CA189-MIN('TABLA DE DECISION'!CA$159:CA$208)))","v":""},{"$f":"IF('TABLA DE DECISION'!CB189=\"\",\"\",IF('TABLA DE DECISION'!$A$156=1,MAX('TABLA DE DECISION'!CB$159:CB$208)-'TABLA DE DECISION'!CB189,'TABLA DE DECISION'!CB189-MIN('TABLA DE DECISION'!CB$159:CB$208)))","v":""},{"$f":"IF('TABLA DE DECISION'!CC189=\"\",\"\",IF('TABLA DE DECISION'!$A$156=1,MAX('TABLA DE DECISION'!CC$159:CC$208)-'TABLA DE DECISION'!CC189,'TABLA DE DECISION'!CC189-MIN('TABLA DE DECISION'!CC$159:CC$208)))","v":""},{"$f":"IF('TABLA DE DECISION'!CD189=\"\",\"\",IF('TABLA DE DECISION'!$A$156=1,MAX('TABLA DE DECISION'!CD$159:CD$208)-'TABLA DE DECISION'!CD189,'TABLA DE DECISION'!CD189-MIN('TABLA DE DECISION'!CD$159:CD$208)))","v":""},{"$f":"IF('TABLA DE DECISION'!CE189=\"\",\"\",IF('TABLA DE DECISION'!$A$156=1,MAX('TABLA DE DECISION'!CE$159:CE$208)-'TABLA DE DECISION'!CE189,'TABLA DE DECISION'!CE189-MIN('TABLA DE DECISION'!CE$159:CE$208)))","v":""},{"$f":"IF('TABLA DE DECISION'!CF189=\"\",\"\",IF('TABLA DE DECISION'!$A$156=1,MAX('TABLA DE DECISION'!CF$159:CF$208)-'TABLA DE DECISION'!CF189,'TABLA DE DECISION'!CF189-MIN('TABLA DE DECISION'!CF$159:CF$208)))","v":""},{"$f":"IF('TABLA DE DECISION'!CG189=\"\",\"\",IF('TABLA DE DECISION'!$A$156=1,MAX('TABLA DE DECISION'!CG$159:CG$208)-'TABLA DE DECISION'!CG189,'TABLA DE DECISION'!CG189-MIN('TABLA DE DECISION'!CG$159:CG$208)))","v":""},{"$f":"IF('TABLA DE DECISION'!CH189=\"\",\"\",IF('TABLA DE DECISION'!$A$156=1,MAX('TABLA DE DECISION'!CH$159:CH$208)-'TABLA DE DECISION'!CH189,'TABLA DE DECISION'!CH189-MIN('TABLA DE DECISION'!CH$159:CH$208)))","v":""},{"$f":"IF('TABLA DE DECISION'!CI189=\"\",\"\",IF('TABLA DE DECISION'!$A$156=1,MAX('TABLA DE DECISION'!CI$159:CI$208)-'TABLA DE DECISION'!CI189,'TABLA DE DECISION'!CI189-MIN('TABLA DE DECISION'!CI$159:CI$208)))","v":""},{"$f":"IF('TABLA DE DECISION'!CJ189=\"\",\"\",IF('TABLA DE DECISION'!$A$156=1,MAX('TABLA DE DECISION'!CJ$159:CJ$208)-'TABLA DE DECISION'!CJ189,'TABLA DE DECISION'!CJ189-MIN('TABLA DE DECISION'!CJ$159:CJ$208)))","v":""},{"$f":"IF('TABLA DE DECISION'!CK189=\"\",\"\",IF('TABLA DE DECISION'!$A$156=1,MAX('TABLA DE DECISION'!CK$159:CK$208)-'TABLA DE DECISION'!CK189,'TABLA DE DECISION'!CK189-MIN('TABLA DE DECISION'!CK$159:CK$208)))","v":""},{"$f":"IF('TABLA DE DECISION'!CL189=\"\",\"\",IF('TABLA DE DECISION'!$A$156=1,MAX('TABLA DE DECISION'!CL$159:CL$208)-'TABLA DE DECISION'!CL189,'TABLA DE DECISION'!CL189-MIN('TABLA DE DECISION'!CL$159:CL$208)))","v":""},{"$f":"IF('TABLA DE DECISION'!CM189=\"\",\"\",IF('TABLA DE DECISION'!$A$156=1,MAX('TABLA DE DECISION'!CM$159:CM$208)-'TABLA DE DECISION'!CM189,'TABLA DE DECISION'!CM189-MIN('TABLA DE DECISION'!CM$159:CM$208)))","v":""},{"$f":"IF('TABLA DE DECISION'!CN189=\"\",\"\",IF('TABLA DE DECISION'!$A$156=1,MAX('TABLA DE DECISION'!CN$159:CN$208)-'TABLA DE DECISION'!CN189,'TABLA DE DECISION'!CN189-MIN('TABLA DE DECISION'!CN$159:CN$208)))","v":""},{"$f":"IF('TABLA DE DECISION'!CO189=\"\",\"\",IF('TABLA DE DECISION'!$A$156=1,MAX('TABLA DE DECISION'!CO$159:CO$208)-'TABLA DE DECISION'!CO189,'TABLA DE DECISION'!CO189-MIN('TABLA DE DECISION'!CO$159:CO$208)))","v":""},{"$f":"IF('TABLA DE DECISION'!CP189=\"\",\"\",IF('TABLA DE DECISION'!$A$156=1,MAX('TABLA DE DECISION'!CP$159:CP$208)-'TABLA DE DECISION'!CP189,'TABLA DE DECISION'!CP189-MIN('TABLA DE DECISION'!CP$159:CP$208)))","v":""},{"$f":"IF('TABLA DE DECISION'!CQ189=\"\",\"\",IF('TABLA DE DECISION'!$A$156=1,MAX('TABLA DE DECISION'!CQ$159:CQ$208)-'TABLA DE DECISION'!CQ189,'TABLA DE DECISION'!CQ189-MIN('TABLA DE DECISION'!CQ$159:CQ$208)))","v":""},{"$f":"IF('TABLA DE DECISION'!CR189=\"\",\"\",IF('TABLA DE DECISION'!$A$156=1,MAX('TABLA DE DECISION'!CR$159:CR$208)-'TABLA DE DECISION'!CR189,'TABLA DE DECISION'!CR189-MIN('TABLA DE DECISION'!CR$159:CR$208)))","v":""},{"$f":"IF('TABLA DE DECISION'!CS189=\"\",\"\",IF('TABLA DE DECISION'!$A$156=1,MAX('TABLA DE DECISION'!CS$159:CS$208)-'TABLA DE DECISION'!CS189,'TABLA DE DECISION'!CS189-MIN('TABLA DE DECISION'!CS$159:CS$208)))","v":""},{"$f":"IF('TABLA DE DECISION'!CT189=\"\",\"\",IF('TABLA DE DECISION'!$A$156=1,MAX('TABLA DE DECISION'!CT$159:CT$208)-'TABLA DE DECISION'!CT189,'TABLA DE DECISION'!CT189-MIN('TABLA DE DECISION'!CT$159:CT$208)))","v":""},{"$f":"IF('TABLA DE DECISION'!CU189=\"\",\"\",IF('TABLA DE DECISION'!$A$156=1,MAX('TABLA DE DECISION'!CU$159:CU$208)-'TABLA DE DECISION'!CU189,'TABLA DE DECISION'!CU189-MIN('TABLA DE DECISION'!CU$159:CU$208)))","v":""},{"$f":"IF('TABLA DE DECISION'!CV189=\"\",\"\",IF('TABLA DE DECISION'!$A$156=1,MAX('TABLA DE DECISION'!CV$159:CV$208)-'TABLA DE DECISION'!CV189,'TABLA DE DECISION'!CV189-MIN('TABLA DE DECISION'!CV$159:CV$208)))","v":""},{"$f":"IF('TABLA DE DECISION'!CW189=\"\",\"\",IF('TABLA DE DECISION'!$A$156=1,MAX('TABLA DE DECISION'!CW$159:CW$208)-'TABLA DE DECISION'!CW189,'TABLA DE DECISION'!CW189-MIN('TABLA DE DECISION'!CW$159:CW$208)))","v":""},{"$f":"IF('TABLA DE DECISION'!CX189=\"\",\"\",IF('TABLA DE DECISION'!$A$156=1,MAX('TABLA DE DECISION'!CX$159:CX$208)-'TABLA DE DECISION'!CX189,'TABLA DE DECISION'!CX189-MIN('TABLA DE DECISION'!CX$159:CX$208)))","v":""},{"$f":"IF('TABLA DE DECISION'!CY189=\"\",\"\",IF('TABLA DE DECISION'!$A$156=1,MAX('TABLA DE DECISION'!CY$159:CY$208)-'TABLA DE DECISION'!CY189,'TABLA DE DECISION'!CY189-MIN('TABLA DE DECISION'!CY$159:CY$208)))","v":""},{"$f":"IF('TABLA DE DECISION'!CZ189=\"\",\"\",IF('TABLA DE DECISION'!$A$156=1,MAX('TABLA DE DECISION'!CZ$159:CZ$208)-'TABLA DE DECISION'!CZ189,'TABLA DE DECISION'!CZ189-MIN('TABLA DE DECISION'!CZ$159:CZ$208)))","v":""},{"$f":"IF('TABLA DE DECISION'!DA189=\"\",\"\",IF('TABLA DE DECISION'!$A$156=1,MAX('TABLA DE DECISION'!DA$159:DA$208)-'TABLA DE DECISION'!DA189,'TABLA DE DECISION'!DA189-MIN('TABLA DE DECISION'!DA$159:DA$208)))","v":""},{"$f":"IF('TABLA DE DECISION'!DB189=\"\",\"\",IF('TABLA DE DECISION'!$A$156=1,MAX('TABLA DE DECISION'!DB$159:DB$208)-'TABLA DE DECISION'!DB189,'TABLA DE DECISION'!DB189-MIN('TABLA DE DECISION'!DB$159:DB$208)))","v":""},{"$f":"IF('TABLA DE DECISION'!DC189=\"\",\"\",IF('TABLA DE DECISION'!$A$156=1,MAX('TABLA DE DECISION'!DC$159:DC$208)-'TABLA DE DECISION'!DC189,'TABLA DE DECISION'!DC189-MIN('TABLA DE DECISION'!DC$159:DC$208)))","v":""},{"$f":"IF('TABLA DE DECISION'!DD189=\"\",\"\",IF('TABLA DE DECISION'!$A$156=1,MAX('TABLA DE DECISION'!DD$159:DD$208)-'TABLA DE DECISION'!DD189,'TABLA DE DECISION'!DD189-MIN('TABLA DE DECISION'!DD$159:DD$208)))","v":""},{"$f":"IF('TABLA DE DECISION'!DE189=\"\",\"\",IF('TABLA DE DECISION'!$A$156=1,MAX('TABLA DE DECISION'!DE$159:DE$208)-'TABLA DE DECISION'!DE189,'TABLA DE DECISION'!DE189-MIN('TABLA DE DECISION'!DE$159:DE$208)))","v":""},null,{"$f":"IF(C33=\"\",\"\",SUMPRODUCT(C33:AZ33,'TABLA DE DECISION'!BH$156:DE$156))","v":""}]
[{"$f":"IF('TABLA DE DECISION'!BF190=\"\",\"\",'TABLA DE DECISION'!BF190)","v":""},{"$f":"IF('TABLA DE DECISION'!BG190=\"\",\"\",'TABLA DE DECISION'!BG190)","v":"a32"},{"$f":"IF('TABLA DE DECISION'!BH190=\"\",\"\",IF('TABLA DE DECISION'!$A$156=1,MAX('TABLA DE DECISION'!BH$159:BH$208)-'TABLA DE DECISION'!BH190,'TABLA DE DECISION'!BH190-MIN('TABLA DE DECISION'!BH$159:BH$208)))","v":""},{"$f":"IF('TABLA DE DECISION'!BI190=\"\",\"\",IF('TABLA DE DECISION'!$A$156=1,MAX('TABLA DE DECISION'!BI$159:BI$208)-'TABLA DE DECISION'!BI190,'TABLA DE DECISION'!BI190-MIN('TABLA DE DECISION'!BI$159:BI$208)))","v":""},{"$f":"IF('TABLA DE DECISION'!BJ190=\"\",\"\",IF('TABLA DE DECISION'!$A$156=1,MAX('TABLA DE DECISION'!BJ$159:BJ$208)-'TABLA DE DECISION'!BJ190,'TABLA DE DECISION'!BJ190-MIN('TABLA DE DECISION'!BJ$159:BJ$208)))","v":""},{"$f":"IF('TABLA DE DECISION'!BK190=\"\",\"\",IF('TABLA DE DECISION'!$A$156=1,MAX('TABLA DE DECISION'!BK$159:BK$208)-'TABLA DE DECISION'!BK190,'TABLA DE DECISION'!BK190-MIN('TABLA DE DECISION'!BK$159:BK$208)))","v":""},{"$f":"IF('TABLA DE DECISION'!BL190=\"\",\"\",IF('TABLA DE DECISION'!$A$156=1,MAX('TABLA DE DECISION'!BL$159:BL$208)-'TABLA DE DECISION'!BL190,'TABLA DE DECISION'!BL190-MIN('TABLA DE DECISION'!BL$159:BL$208)))","v":""},{"$f":"IF('TABLA DE DECISION'!BM190=\"\",\"\",IF('TABLA DE DECISION'!$A$156=1,MAX('TABLA DE DECISION'!BM$159:BM$208)-'TABLA DE DECISION'!BM190,'TABLA DE DECISION'!BM190-MIN('TABLA DE DECISION'!BM$159:BM$208)))","v":""},{"$f":"IF('TABLA DE DECISION'!BN190=\"\",\"\",IF('TABLA DE DECISION'!$A$156=1,MAX('TABLA DE DECISION'!BN$159:BN$208)-'TABLA DE DECISION'!BN190,'TABLA DE DECISION'!BN190-MIN('TABLA DE DECISION'!BN$159:BN$208)))","v":""},{"$f":"IF('TABLA DE DECISION'!BO190=\"\",\"\",IF('TABLA DE DECISION'!$A$156=1,MAX('TABLA DE DECISION'!BO$159:BO$208)-'TABLA DE DECISION'!BO190,'TABLA DE DECISION'!BO190-MIN('TABLA DE DECISION'!BO$159:BO$208)))","v":""},{"$f":"IF('TABLA DE DECISION'!BP190=\"\",\"\",IF('TABLA DE DECISION'!$A$156=1,MAX('TABLA DE DECISION'!BP$159:BP$208)-'TABLA DE DECISION'!BP190,'TABLA DE DECISION'!BP190-MIN('TABLA DE DECISION'!BP$159:BP$208)))","v":""},{"$f":"IF('TABLA DE DECISION'!BQ190=\"\",\"\",IF('TABLA DE DECISION'!$A$156=1,MAX('TABLA DE DECISION'!BQ$159:BQ$208)-'TABLA DE DECISION'!BQ190,'TABLA DE DECISION'!BQ190-MIN('TABLA DE DECISION'!BQ$159:BQ$208)))","v":""},{"$f":"IF('TABLA DE DECISION'!BR190=\"\",\"\",IF('TABLA DE DECISION'!$A$156=1,MAX('TABLA DE DECISION'!BR$159:BR$208)-'TABLA DE DECISION'!BR190,'TABLA DE DECISION'!BR190-MIN('TABLA DE DECISION'!BR$159:BR$208)))","v":""},{"$f":"IF('TABLA DE DECISION'!BS190=\"\",\"\",IF('TABLA DE DECISION'!$A$156=1,MAX('TABLA DE DECISION'!BS$159:BS$208)-'TABLA DE DECISION'!BS190,'TABLA DE DECISION'!BS190-MIN('TABLA DE DECISION'!BS$159:BS$208)))","v":""},{"$f":"IF('TABLA DE DECISION'!BT190=\"\",\"\",IF('TABLA DE DECISION'!$A$156=1,MAX('TABLA DE DECISION'!BT$159:BT$208)-'TABLA DE DECISION'!BT190,'TABLA DE DECISION'!BT190-MIN('TABLA DE DECISION'!BT$159:BT$208)))","v":""},{"$f":"IF('TABLA DE DECISION'!BU190=\"\",\"\",IF('TABLA DE DECISION'!$A$156=1,MAX('TABLA DE DECISION'!BU$159:BU$208)-'TABLA DE DECISION'!BU190,'TABLA DE DECISION'!BU190-MIN('TABLA DE DECISION'!BU$159:BU$208)))","v":""},{"$f":"IF('TABLA DE DECISION'!BV190=\"\",\"\",IF('TABLA DE DECISION'!$A$156=1,MAX('TABLA DE DECISION'!BV$159:BV$208)-'TABLA DE DECISION'!BV190,'TABLA DE DECISION'!BV190-MIN('TABLA DE DECISION'!BV$159:BV$208)))","v":""},{"$f":"IF('TABLA DE DECISION'!BW190=\"\",\"\",IF('TABLA DE DECISION'!$A$156=1,MAX('TABLA DE DECISION'!BW$159:BW$208)-'TABLA DE DECISION'!BW190,'TABLA DE DECISION'!BW190-MIN('TABLA DE DECISION'!BW$159:BW$208)))","v":""},{"$f":"IF('TABLA DE DECISION'!BX190=\"\",\"\",IF('TABLA DE DECISION'!$A$156=1,MAX('TABLA DE DECISION'!BX$159:BX$208)-'TABLA DE DECISION'!BX190,'TABLA DE DECISION'!BX190-MIN('TABLA DE DECISION'!BX$159:BX$208)))","v":""},{"$f":"IF('TABLA DE DECISION'!BY190=\"\",\"\",IF('TABLA DE DECISION'!$A$156=1,MAX('TABLA DE DECISION'!BY$159:BY$208)-'TABLA DE DECISION'!BY190,'TABLA DE DECISION'!BY190-MIN('TABLA DE DECISION'!BY$159:BY$208)))","v":""},{"$f":"IF('TABLA DE DECISION'!BZ190=\"\",\"\",IF('TABLA DE DECISION'!$A$156=1,MAX('TABLA DE DECISION'!BZ$159:BZ$208)-'TABLA DE DECISION'!BZ190,'TABLA DE DECISION'!BZ190-MIN('TABLA DE DECISION'!BZ$159:BZ$208)))","v":""},{"$f":"IF('TABLA DE DECISION'!CA190=\"\",\"\",IF('TABLA DE DECISION'!$A$156=1,MAX('TABLA DE DECISION'!CA$159:CA$208)-'TABLA DE DECISION'!CA190,'TABLA DE DECISION'!CA190-MIN('TABLA DE DECISION'!CA$159:CA$208)))","v":""},{"$f":"IF('TABLA DE DECISION'!CB190=\"\",\"\",IF('TABLA DE DECISION'!$A$156=1,MAX('TABLA DE DECISION'!CB$159:CB$208)-'TABLA DE DECISION'!CB190,'TABLA DE DECISION'!CB190-MIN('TABLA DE DECISION'!CB$159:CB$208)))","v":""},{"$f":"IF('TABLA DE DECISION'!CC190=\"\",\"\",IF('TABLA DE DECISION'!$A$156=1,MAX('TABLA DE DECISION'!CC$159:CC$208)-'TABLA DE DECISION'!CC190,'TABLA DE DECISION'!CC190-MIN('TABLA DE DECISION'!CC$159:CC$208)))","v":""},{"$f":"IF('TABLA DE DECISION'!CD190=\"\",\"\",IF('TABLA DE DECISION'!$A$156=1,MAX('TABLA DE DECISION'!CD$159:CD$208)-'TABLA DE DECISION'!CD190,'TABLA DE DECISION'!CD190-MIN('TABLA DE DECISION'!CD$159:CD$208)))","v":""},{"$f":"IF('TABLA DE DECISION'!CE190=\"\",\"\",IF('TABLA DE DECISION'!$A$156=1,MAX('TABLA DE DECISION'!CE$159:CE$208)-'TABLA DE DECISION'!CE190,'TABLA DE DECISION'!CE190-MIN('TABLA DE DECISION'!CE$159:CE$208)))","v":""},{"$f":"IF('TABLA DE DECISION'!CF190=\"\",\"\",IF('TABLA DE DECISION'!$A$156=1,MAX('TABLA DE DECISION'!CF$159:CF$208)-'TABLA DE DECISION'!CF190,'TABLA DE DECISION'!CF190-MIN('TABLA DE DECISION'!CF$159:CF$208)))","v":""},{"$f":"IF('TABLA DE DECISION'!CG190=\"\",\"\",IF('TABLA DE DECISION'!$A$156=1,MAX('TABLA DE DECISION'!CG$159:CG$208)-'TABLA DE DECISION'!CG190,'TABLA DE DECISION'!CG190-MIN('TABLA DE DECISION'!CG$159:CG$208)))","v":""},{"$f":"IF('TABLA DE DECISION'!CH190=\"\",\"\",IF('TABLA DE DECISION'!$A$156=1,MAX('TABLA DE DECISION'!CH$159:CH$208)-'TABLA DE DECISION'!CH190,'TABLA DE DECISION'!CH190-MIN('TABLA DE DECISION'!CH$159:CH$208)))","v":""},{"$f":"IF('TABLA DE DECISION'!CI190=\"\",\"\",IF('TABLA DE DECISION'!$A$156=1,MAX('TABLA DE DECISION'!CI$159:CI$208)-'TABLA DE DECISION'!CI190,'TABLA DE DECISION'!CI190-MIN('TABLA DE DECISION'!CI$159:CI$208)))","v":""},{"$f":"IF('TABLA DE DECISION'!CJ190=\"\",\"\",IF('TABLA DE DECISION'!$A$156=1,MAX('TABLA DE DECISION'!CJ$159:CJ$208)-'TABLA DE DECISION'!CJ190,'TABLA DE DECISION'!CJ190-MIN('TABLA DE DECISION'!CJ$159:CJ$208)))","v":""},{"$f":"IF('TABLA DE DECISION'!CK190=\"\",\"\",IF('TABLA DE DECISION'!$A$156=1,MAX('TABLA DE DECISION'!CK$159:CK$208)-'TABLA DE DECISION'!CK190,'TABLA DE DECISION'!CK190-MIN('TABLA DE DECISION'!CK$159:CK$208)))","v":""},{"$f":"IF('TABLA DE DECISION'!CL190=\"\",\"\",IF('TABLA DE DECISION'!$A$156=1,MAX('TABLA DE DECISION'!CL$159:CL$208)-'TABLA DE DECISION'!CL190,'TABLA DE DECISION'!CL190-MIN('TABLA DE DECISION'!CL$159:CL$208)))","v":""},{"$f":"IF('TABLA DE DECISION'!CM190=\"\",\"\",IF('TABLA DE DECISION'!$A$156=1,MAX('TABLA DE DECISION'!CM$159:CM$208)-'TABLA DE DECISION'!CM190,'TABLA DE DECISION'!CM190-MIN('TABLA DE DECISION'!CM$159:CM$208)))","v":""},{"$f":"IF('TABLA DE DECISION'!CN190=\"\",\"\",IF('TABLA DE DECISION'!$A$156=1,MAX('TABLA DE DECISION'!CN$159:CN$208)-'TABLA DE DECISION'!CN190,'TABLA DE DECISION'!CN190-MIN('TABLA DE DECISION'!CN$159:CN$208)))","v":""},{"$f":"IF('TABLA DE DECISION'!CO190=\"\",\"\",IF('TABLA DE DECISION'!$A$156=1,MAX('TABLA DE DECISION'!CO$159:CO$208)-'TABLA DE DECISION'!CO190,'TABLA DE DECISION'!CO190-MIN('TABLA DE DECISION'!CO$159:CO$208)))","v":""},{"$f":"IF('TABLA DE DECISION'!CP190=\"\",\"\",IF('TABLA DE DECISION'!$A$156=1,MAX('TABLA DE DECISION'!CP$159:CP$208)-'TABLA DE DECISION'!CP190,'TABLA DE DECISION'!CP190-MIN('TABLA DE DECISION'!CP$159:CP$208)))","v":""},{"$f":"IF('TABLA DE DECISION'!CQ190=\"\",\"\",IF('TABLA DE DECISION'!$A$156=1,MAX('TABLA DE DECISION'!CQ$159:CQ$208)-'TABLA DE DECISION'!CQ190,'TABLA DE DECISION'!CQ190-MIN('TABLA DE DECISION'!CQ$159:CQ$208)))","v":""},{"$f":"IF('TABLA DE DECISION'!CR190=\"\",\"\",IF('TABLA DE DECISION'!$A$156=1,MAX('TABLA DE DECISION'!CR$159:CR$208)-'TABLA DE DECISION'!CR190,'TABLA DE DECISION'!CR190-MIN('TABLA DE DECISION'!CR$159:CR$208)))","v":""},{"$f":"IF('TABLA DE DECISION'!CS190=\"\",\"\",IF('TABLA DE DECISION'!$A$156=1,MAX('TABLA DE DECISION'!CS$159:CS$208)-'TABLA DE DECISION'!CS190,'TABLA DE DECISION'!CS190-MIN('TABLA DE DECISION'!CS$159:CS$208)))","v":""},{"$f":"IF('TABLA DE DECISION'!CT190=\"\",\"\",IF('TABLA DE DECISION'!$A$156=1,MAX('TABLA DE DECISION'!CT$159:CT$208)-'TABLA DE DECISION'!CT190,'TABLA DE DECISION'!CT190-MIN('TABLA DE DECISION'!CT$159:CT$208)))","v":""},{"$f":"IF('TABLA DE DECISION'!CU190=\"\",\"\",IF('TABLA DE DECISION'!$A$156=1,MAX('TABLA DE DECISION'!CU$159:CU$208)-'TABLA DE DECISION'!CU190,'TABLA DE DECISION'!CU190-MIN('TABLA DE DECISION'!CU$159:CU$208)))","v":""},{"$f":"IF('TABLA DE DECISION'!CV190=\"\",\"\",IF('TABLA DE DECISION'!$A$156=1,MAX('TABLA DE DECISION'!CV$159:CV$208)-'TABLA DE DECISION'!CV190,'TABLA DE DECISION'!CV190-MIN('TABLA DE DECISION'!CV$159:CV$208)))","v":""},{"$f":"IF('TABLA DE DECISION'!CW190=\"\",\"\",IF('TABLA DE DECISION'!$A$156=1,MAX('TABLA DE DECISION'!CW$159:CW$208)-'TABLA DE DECISION'!CW190,'TABLA DE DECISION'!CW190-MIN('TABLA DE DECISION'!CW$159:CW$208)))","v":""},{"$f":"IF('TABLA DE DECISION'!CX190=\"\",\"\",IF('TABLA DE DECISION'!$A$156=1,MAX('TABLA DE DECISION'!CX$159:CX$208)-'TABLA DE DECISION'!CX190,'TABLA DE DECISION'!CX190-MIN('TABLA DE DECISION'!CX$159:CX$208)))","v":""},{"$f":"IF('TABLA DE DECISION'!CY190=\"\",\"\",IF('TABLA DE DECISION'!$A$156=1,MAX('TABLA DE DECISION'!CY$159:CY$208)-'TABLA DE DECISION'!CY190,'TABLA DE DECISION'!CY190-MIN('TABLA DE DECISION'!CY$159:CY$208)))","v":""},{"$f":"IF('TABLA DE DECISION'!CZ190=\"\",\"\",IF('TABLA DE DECISION'!$A$156=1,MAX('TABLA DE DECISION'!CZ$159:CZ$208)-'TABLA DE DECISION'!CZ190,'TABLA DE DECISION'!CZ190-MIN('TABLA DE DECISION'!CZ$159:CZ$208)))","v":""},{"$f":"IF('TABLA DE DECISION'!DA190=\"\",\"\",IF('TABLA DE DECISION'!$A$156=1,MAX('TABLA DE DECISION'!DA$159:DA$208)-'TABLA DE DECISION'!DA190,'TABLA DE DECISION'!DA190-MIN('TABLA DE DECISION'!DA$159:DA$208)))","v":""},{"$f":"IF('TABLA DE DECISION'!DB190=\"\",\"\",IF('TABLA DE DECISION'!$A$156=1,MAX('TABLA DE DECISION'!DB$159:DB$208)-'TABLA DE DECISION'!DB190,'TABLA DE DECISION'!DB190-MIN('TABLA DE DECISION'!DB$159:DB$208)))","v":""},{"$f":"IF('TABLA DE DECISION'!DC190=\"\",\"\",IF('TABLA DE DECISION'!$A$156=1,MAX('TABLA DE DECISION'!DC$159:DC$208)-'TABLA DE DECISION'!DC190,'TABLA DE DECISION'!DC190-MIN('TABLA DE DECISION'!DC$159:DC$208)))","v":""},{"$f":"IF('TABLA DE DECISION'!DD190=\"\",\"\",IF('TABLA DE DECISION'!$A$156=1,MAX('TABLA DE DECISION'!DD$159:DD$208)-'TABLA DE DECISION'!DD190,'TABLA DE DECISION'!DD190-MIN('TABLA DE DECISION'!DD$159:DD$208)))","v":""},{"$f":"IF('TABLA DE DECISION'!DE190=\"\",\"\",IF('TABLA DE DECISION'!$A$156=1,MAX('TABLA DE DECISION'!DE$159:DE$208)-'TABLA DE DECISION'!DE190,'TABLA DE DECISION'!DE190-MIN('TABLA DE DECISION'!DE$159:DE$208)))","v":""},null,{"$f":"IF(C34=\"\",\"\",SUMPRODUCT(C34:AZ34,'TABLA DE DECISION'!BH$156:DE$156))","v":""}]
[{"$f":"IF('TABLA DE DECISION'!BF191=\"\",\"\",'TABLA DE DECISION'!BF191)","v":""},{"$f":"IF('TABLA DE DECISION'!BG191=\"\",\"\",'TABLA DE DECISION'!BG191)","v":"a33"},{"$f":"IF('TABLA DE DECISION'!BH191=\"\",\"\",IF('TABLA DE DECISION'!$A$156=1,MAX('TABLA DE DECISION'!BH$159:BH$208)-'TABLA DE DECISION'!BH191,'TABLA DE DECISION'!BH191-MIN('TABLA DE DECISION'!BH$159:BH$208)))","v":""},{"$f":"IF('TABLA DE DECISION'!BI191=\"\",\"\",IF('TABLA DE DECISION'!$A$156=1,MAX('TABLA DE DECISION'!BI$159:BI$208)-'TABLA DE DECISION'!BI191,'TABLA DE DECISION'!BI191-MIN('TABLA DE DECISION'!BI$159:BI$208)))","v":""},{"$f":"IF('TABLA DE DECISION'!BJ191=\"\",\"\",IF('TABLA DE DECISION'!$A$156=1,MAX('TABLA DE DECISION'!BJ$159:BJ$208)-'TABLA DE DECISION'!BJ191,'TABLA DE DECISION'!BJ191-MIN('TABLA DE DECISION'!BJ$159:BJ$208)))","v":""},{"$f":"IF('TABLA DE DECISION'!BK191=\"\",\"\",IF('TABLA DE DECISION'!$A$156=1,MAX('TABLA DE DECISION'!BK$159:BK$208)-'TABLA DE DECISION'!BK191,'TABLA DE DECISION'!BK191-MIN('TABLA DE DECISION'!BK$159:BK$208)))","v":""},{"$f":"IF('TABLA DE DECISION'!BL191=\"\",\"\",IF('TABLA DE DECISION'!$A$156=1,MAX('TABLA DE DECISION'!BL$159:BL$208)-'TABLA DE DECISION'!BL191,'TABLA DE DECISION'!BL191-MIN('TABLA DE DECISION'!BL$159:BL$208)))","v":""},{"$f":"IF('TABLA DE DECISION'!BM191=\"\",\"\",IF('TABLA DE DECISION'!$A$156=1,MAX('TABLA DE DECISION'!BM$159:BM$208)-'TABLA DE DECISION'!BM191,'TABLA DE DECISION'!BM191-MIN('TABLA DE DECISION'!BM$159:BM$208)))","v":""},{"$f":"IF('TABLA DE DECISION'!BN191=\"\",\"\",IF('TABLA DE DECISION'!$A$156=1,MAX('TABLA DE DECISION'!BN$159:BN$208)-'TABLA DE DECISION'!BN191,'TABLA DE DECISION'!BN191-MIN('TABLA DE DECISION'!BN$159:BN$208)))","v":""},{"$f":"IF('TABLA DE DECISION'!BO191=\"\",\"\",IF('TABLA DE DECISION'!$A$156=1,MAX('TABLA DE DECISION'!BO$159:BO$208)-'TABLA DE DECISION'!BO191,'TABLA DE DECISION'!BO191-MIN('TABLA DE DECISION'!BO$159:BO$208)))","v":""},{"$f":"IF('TABLA DE DECISION'!BP191=\"\",\"\",IF('TABLA DE DECISION'!$A$156=1,MAX('TABLA DE DECISION'!BP$159:BP$208)-'TABLA DE DECISION'!BP191,'TABLA DE DECISION'!BP191-MIN('TABLA DE DECISION'!BP$159:BP$208)))","v":""},{"$f":"IF('TABLA DE DECISION'!BQ191=\"\",\"\",IF('TABLA DE DECISION'!$A$156=1,MAX('TABLA DE DECISION'!BQ$159:BQ$208)-'TABLA DE DECISION'!BQ191,'TABLA DE DECISION'!BQ191-MIN('TABLA DE DECISION'!BQ$159:BQ$208)))","v":""},{"$f":"IF('TABLA DE DECISION'!BR191=\"\",\"\",IF('TABLA DE DECISION'!$A$156=1,MAX('TABLA DE DECISION'!BR$159:BR$208)-'TABLA DE DECISION'!BR191,'TABLA DE DECISION'!BR191-MIN('TABLA DE DECISION'!BR$159:BR$208)))","v":""},{"$f":"IF('TABLA DE DECISION'!BS191=\"\",\"\",IF('TABLA DE DECISION'!$A$156=1,MAX('TABLA DE DECISION'!BS$159:BS$208)-'TABLA DE DECISION'!BS191,'TABLA DE DECISION'!BS191-MIN('TABLA DE DECISION'!BS$159:BS$208)))","v":""},{"$f":"IF('TABLA DE DECISION'!BT191=\"\",\"\",IF('TABLA DE DECISION'!$A$156=1,MAX('TABLA DE DECISION'!BT$159:BT$208)-'TABLA DE DECISION'!BT191,'TABLA DE DECISION'!BT191-MIN('TABLA DE DECISION'!BT$159:BT$208)))","v":""},{"$f":"IF('TABLA DE DECISION'!BU191=\"\",\"\",IF('TABLA DE DECISION'!$A$156=1,MAX('TABLA DE DECISION'!BU$159:BU$208)-'TABLA DE DECISION'!BU191,'TABLA DE DECISION'!BU191-MIN('TABLA DE DECISION'!BU$159:BU$208)))","v":""},{"$f":"IF('TABLA DE DECISION'!BV191=\"\",\"\",IF('TABLA DE DECISION'!$A$156=1,MAX('TABLA DE DECISION'!BV$159:BV$208)-'TABLA DE DECISION'!BV191,'TABLA DE DECISION'!BV191-MIN('TABLA DE DECISION'!BV$159:BV$208)))","v":""},{"$f":"IF('TABLA DE DECISION'!BW191=\"\",\"\",IF('TABLA DE DECISION'!$A$156=1,MAX('TABLA DE DECISION'!BW$159:BW$208)-'TABLA DE DECISION'!BW191,'TABLA DE DECISION'!BW191-MIN('TABLA DE DECISION'!BW$159:BW$208)))","v":""},{"$f":"IF('TABLA DE DECISION'!BX191=\"\",\"\",IF('TABLA DE DECISION'!$A$156=1,MAX('TABLA DE DECISION'!BX$159:BX$208)-'TABLA DE DECISION'!BX191,'TABLA DE DECISION'!BX191-MIN('TABLA DE DECISION'!BX$159:BX$208)))","v":""},{"$f":"IF('TABLA DE DECISION'!BY191=\"\",\"\",IF('TABLA DE DECISION'!$A$156=1,MAX('TABLA DE DECISION'!BY$159:BY$208)-'TABLA DE DECISION'!BY191,'TABLA DE DECISION'!BY191-MIN('TABLA DE DECISION'!BY$159:BY$208)))","v":""},{"$f":"IF('TABLA DE DECISION'!BZ191=\"\",\"\",IF('TABLA DE DECISION'!$A$156=1,MAX('TABLA DE DECISION'!BZ$159:BZ$208)-'TABLA DE DECISION'!BZ191,'TABLA DE DECISION'!BZ191-MIN('TABLA DE DECISION'!BZ$159:BZ$208)))","v":""},{"$f":"IF('TABLA DE DECISION'!CA191=\"\",\"\",IF('TABLA DE DECISION'!$A$156=1,MAX('TABLA DE DECISION'!CA$159:CA$208)-'TABLA DE DECISION'!CA191,'TABLA DE DECISION'!CA191-MIN('TABLA DE DECISION'!CA$159:CA$208)))","v":""},{"$f":"IF('TABLA DE DECISION'!CB191=\"\",\"\",IF('TABLA DE DECISION'!$A$156=1,MAX('TABLA DE DECISION'!CB$159:CB$208)-'TABLA DE DECISION'!CB191,'TABLA DE DECISION'!CB191-MIN('TABLA DE DECISION'!CB$159:CB$208)))","v":""},{"$f":"IF('TABLA DE DECISION'!CC191=\"\",\"\",IF('TABLA DE DECISION'!$A$156=1,MAX('TABLA DE DECISION'!CC$159:CC$208)-'TABLA DE DECISION'!CC191,'TABLA DE DECISION'!CC191-MIN('TABLA DE DECISION'!CC$159:CC$208)))","v":""},{"$f":"IF('TABLA DE DECISION'!CD191=\"\",\"\",IF('TABLA DE DECISION'!$A$156=1,MAX('TABLA DE DECISION'!CD$159:CD$208)-'TABLA DE DECISION'!CD191,'TABLA DE DECISION'!CD191-MIN('TABLA DE DECISION'!CD$159:CD$208)))","v":""},{"$f":"IF('TABLA DE DECISION'!CE191=\"\",\"\",IF('TABLA DE DECISION'!$A$156=1,MAX('TABLA DE DECISION'!CE$159:CE$208)-'TABLA DE DECISION'!CE191,'TABLA DE DECISION'!CE191-MIN('TABLA DE DECISION'!CE$159:CE$208)))","v":""},{"$f":"IF('TABLA DE DECISION'!CF191=\"\",\"\",IF('TABLA DE DECISION'!$A$156=1,MAX('TABLA DE DECISION'!CF$159:CF$208)-'TABLA DE DECISION'!CF191,'TABLA DE DECISION'!CF191-MIN('TABLA DE DECISION'!CF$159:CF$208)))","v":""},{"$f":"IF('TABLA DE DECISION'!CG191=\"\",\"\",IF('TABLA DE DECISION'!$A$156=1,MAX('TABLA DE DECISION'!CG$159:CG$208)-'TABLA DE DECISION'!CG191,'TABLA DE DECISION'!CG191-MIN('TABLA DE DECISION'!CG$159:CG$208)))","v":""},{"$f":"IF('TABLA DE DECISION'!CH191=\"\",\"\",IF('TABLA DE DECISION'!$A$156=1,MAX('TABLA DE DECISION'!CH$159:CH$208)-'TABLA DE DECISION'!CH191,'TABLA DE DECISION'!CH191-MIN('TABLA DE DECISION'!CH$159:CH$208)))","v":""},{"$f":"IF('TABLA DE DECISION'!CI191=\"\",\"\",IF('TABLA DE DECISION'!$A$156=1,MAX('TABLA DE DECISION'!CI$159:CI$208)-'TABLA DE DECISION'!CI191,'TABLA DE DECISION'!CI191-MIN('TABLA DE DECISION'!CI$159:CI$208)))","v":""},{"$f":"IF('TABLA DE DECISION'!CJ191=\"\",\"\",IF('TABLA DE DECISION'!$A$156=1,MAX('TABLA DE DECISION'!CJ$159:CJ$208)-'TABLA DE DECISION'!CJ191,'TABLA DE DECISION'!CJ191-MIN('TABLA DE DECISION'!CJ$159:CJ$208)))","v":""},{"$f":"IF('TABLA DE DECISION'!CK191=\"\",\"\",IF('TABLA DE DECISION'!$A$156=1,MAX('TABLA DE DECISION'!CK$159:CK$208)-'TABLA DE DECISION'!CK191,'TABLA DE DECISION'!CK191-MIN('TABLA DE DECISION'!CK$159:CK$208)))","v":""},{"$f":"IF('TABLA DE DECISION'!CL191=\"\",\"\",IF('TABLA DE DECISION'!$A$156=1,MAX('TABLA DE DECISION'!CL$159:CL$208)-'TABLA DE DECISION'!CL191,'TABLA DE DECISION'!CL191-MIN('TABLA DE DECISION'!CL$159:CL$208)))","v":""},{"$f":"IF('TABLA DE DECISION'!CM191=\"\",\"\",IF('TABLA DE DECISION'!$A$156=1,MAX('TABLA DE DECISION'!CM$159:CM$208)-'TABLA DE DECISION'!CM191,'TABLA DE DECISION'!CM191-MIN('TABLA DE DECISION'!CM$159:CM$208)))","v":""},{"$f":"IF('TABLA DE DECISION'!CN191=\"\",\"\",IF('TABLA DE DECISION'!$A$156=1,MAX('TABLA DE DECISION'!CN$159:CN$208)-'TABLA DE DECISION'!CN191,'TABLA DE DECISION'!CN191-MIN('TABLA DE DECISION'!CN$159:CN$208)))","v":""},{"$f":"IF('TABLA DE DECISION'!CO191=\"\",\"\",IF('TABLA DE DECISION'!$A$156=1,MAX('TABLA DE DECISION'!CO$159:CO$208)-'TABLA DE DECISION'!CO191,'TABLA DE DECISION'!CO191-MIN('TABLA DE DECISION'!CO$159:CO$208)))","v":""},{"$f":"IF('TABLA DE DECISION'!CP191=\"\",\"\",IF('TABLA DE DECISION'!$A$156=1,MAX('TABLA DE DECISION'!CP$159:CP$208)-'TABLA DE DECISION'!CP191,'TABLA DE DECISION'!CP191-MIN('TABLA DE DECISION'!CP$159:CP$208)))","v":""},{"$f":"IF('TABLA DE DECISION'!CQ191=\"\",\"\",IF('TABLA DE DECISION'!$A$156=1,MAX('TABLA DE DECISION'!CQ$159:CQ$208)-'TABLA DE DECISION'!CQ191,'TABLA DE DECISION'!CQ191-MIN('TABLA DE DECISION'!CQ$159:CQ$208)))","v":""},{"$f":"IF('TABLA DE DECISION'!CR191=\"\",\"\",IF('TABLA DE DECISION'!$A$156=1,MAX('TABLA DE DECISION'!CR$159:CR$208)-'TABLA DE DECISION'!CR191,'TABLA DE DECISION'!CR191-MIN('TABLA DE DECISION'!CR$159:CR$208)))","v":""},{"$f":"IF('TABLA DE DECISION'!CS191=\"\",\"\",IF('TABLA DE DECISION'!$A$156=1,MAX('TABLA DE DECISION'!CS$159:CS$208)-'TABLA DE DECISION'!CS191,'TABLA DE DECISION'!CS191-MIN('TABLA DE DECISION'!CS$159:CS$208)))","v":""},{"$f":"IF('TABLA DE DECISION'!CT191=\"\",\"\",IF('TABLA DE DECISION'!$A$156=1,MAX('TABLA DE DECISION'!CT$159:CT$208)-'TABLA DE DECISION'!CT191,'TABLA DE DECISION'!CT191-MIN('TABLA DE DECISION'!CT$159:CT$208)))","v":""},{"$f":"IF('TABLA DE DECISION'!CU191=\"\",\"\",IF('TABLA DE DECISION'!$A$156=1,MAX('TABLA DE DECISION'!CU$159:CU$208)-'TABLA DE DECISION'!CU191,'TABLA DE DECISION'!CU191-MIN('TABLA DE DECISION'!CU$159:CU$208)))","v":""},{"$f":"IF('TABLA DE DECISION'!CV191=\"\",\"\",IF('TABLA DE DECISION'!$A$156=1,MAX('TABLA DE DECISION'!CV$159:CV$208)-'TABLA DE DECISION'!CV191,'TABLA DE DECISION'!CV191-MIN('TABLA DE DECISION'!CV$159:CV$208)))","v":""},{"$f":"IF('TABLA DE DECISION'!CW191=\"\",\"\",IF('TABLA DE DECISION'!$A$156=1,MAX('TABLA DE DECISION'!CW$159:CW$208)-'TABLA DE DECISION'!CW191,'TABLA DE DECISION'!CW191-MIN('TABLA DE DECISION'!CW$159:CW$208)))","v":""},{"$f":"IF('TABLA DE DECISION'!CX191=\"\",\"\",IF('TABLA DE DECISION'!$A$156=1,MAX('TABLA DE DECISION'!CX$159:CX$208)-'TABLA DE DECISION'!CX191,'TABLA DE DECISION'!CX191-MIN('TABLA DE DECISION'!CX$159:CX$208)))","v":""},{"$f":"IF('TABLA DE DECISION'!CY191=\"\",\"\",IF('TABLA DE DECISION'!$A$156=1,MAX('TABLA DE DECISION'!CY$159:CY$208)-'TABLA DE DECISION'!CY191,'TABLA DE DECISION'!CY191-MIN('TABLA DE DECISION'!CY$159:CY$208)))","v":""},{"$f":"IF('TABLA DE DECISION'!CZ191=\"\",\"\",IF('TABLA DE DECISION'!$A$156=1,MAX('TABLA DE DECISION'!CZ$159:CZ$208)-'TABLA DE DECISION'!CZ191,'TABLA DE DECISION'!CZ191-MIN('TABLA DE DECISION'!CZ$159:CZ$208)))","v":""},{"$f":"IF('TABLA DE DECISION'!DA191=\"\",\"\",IF('TABLA DE DECISION'!$A$156=1,MAX('TABLA DE DECISION'!DA$159:DA$208)-'TABLA DE DECISION'!DA191,'TABLA DE DECISION'!DA191-MIN('TABLA DE DECISION'!DA$159:DA$208)))","v":""},{"$f":"IF('TABLA DE DECISION'!DB191=\"\",\"\",IF('TABLA DE DECISION'!$A$156=1,MAX('TABLA DE DECISION'!DB$159:DB$208)-'TABLA DE DECISION'!DB191,'TABLA DE DECISION'!DB191-MIN('TABLA DE DECISION'!DB$159:DB$208)))","v":""},{"$f":"IF('TABLA DE DECISION'!DC191=\"\",\"\",IF('TABLA DE DECISION'!$A$156=1,MAX('TABLA DE DECISION'!DC$159:DC$208)-'TABLA DE DECISION'!DC191,'TABLA DE DECISION'!DC191-MIN('TABLA DE DECISION'!DC$159:DC$208)))","v":""},{"$f":"IF('TABLA DE DECISION'!DD191=\"\",\"\",IF('TABLA DE DECISION'!$A$156=1,MAX('TABLA DE DECISION'!DD$159:DD$208)-'TABLA DE DECISION'!DD191,'TABLA DE DECISION'!DD191-MIN('TABLA DE DECISION'!DD$159:DD$208)))","v":""},{"$f":"IF('TABLA DE DECISION'!DE191=\"\",\"\",IF('TABLA DE DECISION'!$A$156=1,MAX('TABLA DE DECISION'!DE$159:DE$208)-'TABLA DE DECISION'!DE191,'TABLA DE DECISION'!DE191-MIN('TABLA DE DECISION'!DE$159:DE$208)))","v":""},null,{"$f":"IF(C35=\"\",\"\",SUMPRODUCT(C35:AZ35,'TABLA DE DECISION'!BH$156:DE$156))","v":""}]
[{"$f":"IF('TABLA DE DECISION'!BF192=\"\",\"\",'TABLA DE DECISION'!BF192)","v":""},{"$f":"IF('TABLA DE DECISION'!BG192=\"\",\"\",'TABLA DE DECISION'!BG192)","v":"a34"},{"$f":"IF('TABLA DE DECISION'!BH192=\"\",\"\",IF('TABLA DE DECISION'!$A$156=1,MAX('TABLA DE DECISION'!BH$159:BH$208)-'TABLA DE DECISION'!BH192,'TABLA DE DECISION'!BH192-MIN('TABLA DE DECISION'!BH$159:BH$208)))","v":""},{"$f":"IF('TABLA DE DECISION'!BI192=\"\",\"\",IF('TABLA DE DECISION'!$A$156=1,MAX('TABLA DE DECISION'!BI$159:BI$208)-'TABLA DE DECISION'!BI192,'TABLA DE DECISION'!BI192-MIN('TABLA DE DECISION'!BI$159:BI$208)))","v":""},{"$f":"IF('TABLA DE DECISION'!BJ192=\"\",\"\",IF('TABLA DE DECISION'!$A$156=1,MAX('TABLA DE DECISION'!BJ$159:BJ$208)-'TABLA DE DECISION'!BJ192,'TABLA DE DECISION'!BJ192-MIN('TABLA DE DECISION'!BJ$159:BJ$208)))","v":""},{"$f":"IF('TABLA DE DECISION'!BK192=\"\",\"\",IF('TABLA DE DECISION'!$A$156=1,MAX('TABLA DE DECISION'!BK$159:BK$208)-'TABLA DE DECISION'!BK192,'TABLA DE DECISION'!BK192-MIN('TABLA DE DECISION'!BK$159:BK$208)))","v":""},{"$f":"IF('TABLA DE DECISION'!BL192=\"\",\"\",IF('TABLA DE DECISION'!$A$156=1,MAX('TABLA DE DECISION'!BL$159:BL$208)-'TABLA DE DECISION'!BL192,'TABLA DE DECISION'!BL192-MIN('TABLA DE DECISION'!BL$159:BL$208)))","v":""},{"$f":"IF('TABLA DE DECISION'!BM192=\"\",\"\",IF('TABLA DE DECISION'!$A$156=1,MAX('TABLA DE DECISION'!BM$159:BM$208)-'TABLA DE DECISION'!BM192,'TABLA DE DECISION'!BM192-MIN('TABLA DE DECISION'!BM$159:BM$208)))","v":""},{"$f":"IF('TABLA DE DECISION'!BN192=\"\",\"\",IF('TABLA DE DECISION'!$A$156=1,MAX('TABLA DE DECISION'!BN$159:BN$208)-'TABLA DE DECISION'!BN192,'TABLA DE DECISION'!BN192-MIN('TABLA DE DECISION'!BN$159:BN$208)))","v":""},{"$f":"IF('TABLA DE DECISION'!BO192=\"\",\"\",IF('TABLA DE DECISION'!$A$156=1,MAX('TABLA DE DECISION'!BO$159:BO$208)-'TABLA DE DECISION'!BO192,'TABLA DE DECISION'!BO192-MIN('TABLA DE DECISION'!BO$159:BO$208)))","v":""},{"$f":"IF('TABLA DE DECISION'!BP192=\"\",\"\",IF('TABLA DE DECISION'!$A$156=1,MAX('TABLA DE DECISION'!BP$159:BP$208)-'TABLA DE DECISION'!BP192,'TABLA DE DECISION'!BP192-MIN('TABLA DE DECISION'!BP$159:BP$208)))","v":""},{"$f":"IF('TABLA DE DECISION'!BQ192=\"\",\"\",IF('TABLA DE DECISION'!$A$156=1,MAX('TABLA DE DECISION'!BQ$159:BQ$208)-'TABLA DE DECISION'!BQ192,'TABLA DE DECISION'!BQ192-MIN('TABLA DE DECISION'!BQ$159:BQ$208)))","v":""},{"$f":"IF('TABLA DE DECISION'!BR192=\"\",\"\",IF('TABLA DE DECISION'!$A$156=1,MAX('TABLA DE DECISION'!BR$159:BR$208)-'TABLA DE DECISION'!BR192,'TABLA DE DECISION'!BR192-MIN('TABLA DE DECISION'!BR$159:BR$208)))","v":""},{"$f":"IF('TABLA DE DECISION'!BS192=\"\",\"\",IF('TABLA DE DECISION'!$A$156=1,MAX('TABLA DE DECISION'!BS$159:BS$208)-'TABLA DE DECISION'!BS192,'TABLA DE DECISION'!BS192-MIN('TABLA DE DECISION'!BS$159:BS$208)))","v":""},{"$f":"IF('TABLA DE DECISION'!BT192=\"\",\"\",IF('TABLA DE DECISION'!$A$156=1,MAX('TABLA DE DECISION'!BT$159:BT$208)-'TABLA DE DECISION'!BT192,'TABLA DE DECISION'!BT192-MIN('TABLA DE DECISION'!BT$159:BT$208)))","v":""},{"$f":"IF('TABLA DE DECISION'!BU192=\"\",\"\",IF('TABLA DE DECISION'!$A$156=1,MAX('TABLA DE DECISION'!BU$159:BU$208)-'TABLA DE DECISION'!BU192,'TABLA DE DECISION'!BU192-MIN('TABLA DE DECISION'!BU$159:BU$208)))","v":""},{"$f":"IF('TABLA DE DECISION'!BV192=\"\",\"\",IF('TABLA DE DECISION'!$A$156=1,MAX('TABLA DE DECISION'!BV$159:BV$208)-'TABLA DE DECISION'!BV192,'TABLA DE DECISION'!BV192-MIN('TABLA DE DECISION'!BV$159:BV$208)))","v":""},{"$f":"IF('TABLA DE DECISION'!BW192=\"\",\"\",IF('TABLA DE DECISION'!$A$156=1,MAX('TABLA DE DECISION'!BW$159:BW$208)-'TABLA DE DECISION'!BW192,'TABLA DE DECISION'!BW192-MIN('TABLA DE DECISION'!BW$159:BW$208)))","v":""},{"$f":"IF('TABLA DE DECISION'!BX192=\"\",\"\",IF('TABLA DE DECISION'!$A$156=1,MAX('TABLA DE DECISION'!BX$159:BX$208)-'TABLA DE DECISION'!BX192,'TABLA DE DECISION'!BX192-MIN('TABLA DE DECISION'!BX$159:BX$208)))","v":""},{"$f":"IF('TABLA DE DECISION'!BY192=\"\",\"\",IF('TABLA DE DECISION'!$A$156=1,MAX('TABLA DE DECISION'!BY$159:BY$208)-'TABLA DE DECISION'!BY192,'TABLA DE DECISION'!BY192-MIN('TABLA DE DECISION'!BY$159:BY$208)))","v":""},{"$f":"IF('TABLA DE DECISION'!BZ192=\"\",\"\",IF('TABLA DE DECISION'!$A$156=1,MAX('TABLA DE DECISION'!BZ$159:BZ$208)-'TABLA DE DECISION'!BZ192,'TABLA DE DECISION'!BZ192-MIN('TABLA DE DECISION'!BZ$159:BZ$208)))","v":""},{"$f":"IF('TABLA DE DECISION'!CA192=\"\",\"\",IF('TABLA DE DECISION'!$A$156=1,MAX('TABLA DE DECISION'!CA$159:CA$208)-'TABLA DE DECISION'!CA192,'TABLA DE DECISION'!CA192-MIN('TABLA DE DECISION'!CA$159:CA$208)))","v":""},{"$f":"IF('TABLA DE DECISION'!CB192=\"\",\"\",IF('TABLA DE DECISION'!$A$156=1,MAX('TABLA DE DECISION'!CB$159:CB$208)-'TABLA DE DECISION'!CB192,'TABLA DE DECISION'!CB192-MIN('TABLA DE DECISION'!CB$159:CB$208)))","v":""},{"$f":"IF('TABLA DE DECISION'!CC192=\"\",\"\",IF('TABLA DE DECISION'!$A$156=1,MAX('TABLA DE DECISION'!CC$159:CC$208)-'TABLA DE DECISION'!CC192,'TABLA DE DECISION'!CC192-MIN('TABLA DE DECISION'!CC$159:CC$208)))","v":""},{"$f":"IF('TABLA DE DECISION'!CD192=\"\",\"\",IF('TABLA DE DECISION'!$A$156=1,MAX('TABLA DE DECISION'!CD$159:CD$208)-'TABLA DE DECISION'!CD192,'TABLA DE DECISION'!CD192-MIN('TABLA DE DECISION'!CD$159:CD$208)))","v":""},{"$f":"IF('TABLA DE DECISION'!CE192=\"\",\"\",IF('TABLA DE DECISION'!$A$156=1,MAX('TABLA DE DECISION'!CE$159:CE$208)-'TABLA DE DECISION'!CE192,'TABLA DE DECISION'!CE192-MIN('TABLA DE DECISION'!CE$159:CE$208)))","v":""},{"$f":"IF('TABLA DE DECISION'!CF192=\"\",\"\",IF('TABLA DE DECISION'!$A$156=1,MAX('TABLA DE DECISION'!CF$159:CF$208)-'TABLA DE DECISION'!CF192,'TABLA DE DECISION'!CF192-MIN('TABLA DE DECISION'!CF$159:CF$208)))","v":""},{"$f":"IF('TABLA DE DECISION'!CG192=\"\",\"\",IF('TABLA DE DECISION'!$A$156=1,MAX('TABLA DE DECISION'!CG$159:CG$208)-'TABLA DE DECISION'!CG192,'TABLA DE DECISION'!CG192-MIN('TABLA DE DECISION'!CG$159:CG$208)))","v":""},{"$f":"IF('TABLA DE DECISION'!CH192=\"\",\"\",IF('TABLA DE DECISION'!$A$156=1,MAX('TABLA DE DECISION'!CH$159:CH$208)-'TABLA DE DECISION'!CH192,'TABLA DE DECISION'!CH192-MIN('TABLA DE DECISION'!CH$159:CH$208)))","v":""},{"$f":"IF('TABLA DE DECISION'!CI192=\"\",\"\",IF('TABLA DE DECISION'!$A$156=1,MAX('TABLA DE DECISION'!CI$159:CI$208)-'TABLA DE DECISION'!CI192,'TABLA DE DECISION'!CI192-MIN('TABLA DE DECISION'!CI$159:CI$208)))","v":""},{"$f":"IF('TABLA DE DECISION'!CJ192=\"\",\"\",IF('TABLA DE DECISION'!$A$156=1,MAX('TABLA DE DECISION'!CJ$159:CJ$208)-'TABLA DE DECISION'!CJ192,'TABLA DE DECISION'!CJ192-MIN('TABLA DE DECISION'!CJ$159:CJ$208)))","v":""},{"$f":"IF('TABLA DE DECISION'!CK192=\"\",\"\",IF('TABLA DE DECISION'!$A$156=1,MAX('TABLA DE DECISION'!CK$159:CK$208)-'TABLA DE DECISION'!CK192,'TABLA DE DECISION'!CK192-MIN('TABLA DE DECISION'!CK$159:CK$208)))","v":""},{"$f":"IF('TABLA DE DECISION'!CL192=\"\",\"\",IF('TABLA DE DECISION'!$A$156=1,MAX('TABLA DE DECISION'!CL$159:CL$208)-'TABLA DE DECISION'!CL192,'TABLA DE DECISION'!CL192-MIN('TABLA DE DECISION'!CL$159:CL$208)))","v":""},{"$f":"IF('TABLA DE DECISION'!CM192=\"\",\"\",IF('TABLA DE DECISION'!$A$156=1,MAX('TABLA DE DECISION'!CM$159:CM$208)-'TABLA DE DECISION'!CM192,'TABLA DE DECISION'!CM192-MIN('TABLA DE DECISION'!CM$159:CM$208)))","v":""},{"$f":"IF('TABLA DE DECISION'!CN192=\"\",\"\",IF('TABLA DE DECISION'!$A$156=1,MAX('TABLA DE DECISION'!CN$159:CN$208)-'TABLA DE DECISION'!CN192,'TABLA DE DECISION'!CN192-MIN('TABLA DE DECISION'!CN$159:CN$208)))","v":""},{"$f":"IF('TABLA DE DECISION'!CO192=\"\",\"\",IF('TABLA DE DECISION'!$A$156=1,MAX('TABLA DE DECISION'!CO$159:CO$208)-'TABLA DE DECISION'!CO192,'TABLA DE DECISION'!CO192-MIN('TABLA DE DECISION'!CO$159:CO$208)))","v":""},{"$f":"IF('TABLA DE DECISION'!CP192=\"\",\"\",IF('TABLA DE DECISION'!$A$156=1,MAX('TABLA DE DECISION'!CP$159:CP$208)-'TABLA DE DECISION'!CP192,'TABLA DE DECISION'!CP192-MIN('TABLA DE DECISION'!CP$159:CP$208)))","v":""},{"$f":"IF('TABLA DE DECISION'!CQ192=\"\",\"\",IF('TABLA DE DECISION'!$A$156=1,MAX('TABLA DE DECISION'!CQ$159:CQ$208)-'TABLA DE DECISION'!CQ192,'TABLA DE DECISION'!CQ192-MIN('TABLA DE DECISION'!CQ$159:CQ$208)))","v":""},{"$f":"IF('TABLA DE DECISION'!CR192=\"\",\"\",IF('TABLA DE DECISION'!$A$156=1,MAX('TABLA DE DECISION'!CR$159:CR$208)-'TABLA DE DECISION'!CR192,'TABLA DE DECISION'!CR192-MIN('TABLA DE DECISION'!CR$159:CR$208)))","v":""},{"$f":"IF('TABLA DE DECISION'!CS192=\"\",\"\",IF('TABLA DE DECISION'!$A$156=1,MAX('TABLA DE DECISION'!CS$159:CS$208)-'TABLA DE DECISION'!CS192,'TABLA DE DECISION'!CS192-MIN('TABLA DE DECISION'!CS$159:CS$208)))","v":""},{"$f":"IF('TABLA DE DECISION'!CT192=\"\",\"\",IF('TABLA DE DECISION'!$A$156=1,MAX('TABLA DE DECISION'!CT$159:CT$208)-'TABLA DE DECISION'!CT192,'TABLA DE DECISION'!CT192-MIN('TABLA DE DECISION'!CT$159:CT$208)))","v":""},{"$f":"IF('TABLA DE DECISION'!CU192=\"\",\"\",IF('TABLA DE DECISION'!$A$156=1,MAX('TABLA DE DECISION'!CU$159:CU$208)-'TABLA DE DECISION'!CU192,'TABLA DE DECISION'!CU192-MIN('TABLA DE DECISION'!CU$159:CU$208)))","v":""},{"$f":"IF('TABLA DE DECISION'!CV192=\"\",\"\",IF('TABLA DE DECISION'!$A$156=1,MAX('TABLA DE DECISION'!CV$159:CV$208)-'TABLA DE DECISION'!CV192,'TABLA DE DECISION'!CV192-MIN('TABLA DE DECISION'!CV$159:CV$208)))","v":""},{"$f":"IF('TABLA DE DECISION'!CW192=\"\",\"\",IF('TABLA DE DECISION'!$A$156=1,MAX('TABLA DE DECISION'!CW$159:CW$208)-'TABLA DE DECISION'!CW192,'TABLA DE DECISION'!CW192-MIN('TABLA DE DECISION'!CW$159:CW$208)))","v":""},{"$f":"IF('TABLA DE DECISION'!CX192=\"\",\"\",IF('TABLA DE DECISION'!$A$156=1,MAX('TABLA DE DECISION'!CX$159:CX$208)-'TABLA DE DECISION'!CX192,'TABLA DE DECISION'!CX192-MIN('TABLA DE DECISION'!CX$159:CX$208)))","v":""},{"$f":"IF('TABLA DE DECISION'!CY192=\"\",\"\",IF('TABLA DE DECISION'!$A$156=1,MAX('TABLA DE DECISION'!CY$159:CY$208)-'TABLA DE DECISION'!CY192,'TABLA DE DECISION'!CY192-MIN('TABLA DE DECISION'!CY$159:CY$208)))","v":""},{"$f":"IF('TABLA DE DECISION'!CZ192=\"\",\"\",IF('TABLA DE DECISION'!$A$156=1,MAX('TABLA DE DECISION'!CZ$159:CZ$208)-'TABLA DE DECISION'!CZ192,'TABLA DE DECISION'!CZ192-MIN('TABLA DE DECISION'!CZ$159:CZ$208)))","v":""},{"$f":"IF('TABLA DE DECISION'!DA192=\"\",\"\",IF('TABLA DE DECISION'!$A$156=1,MAX('TABLA DE DECISION'!DA$159:DA$208)-'TABLA DE DECISION'!DA192,'TABLA DE DECISION'!DA192-MIN('TABLA DE DECISION'!DA$159:DA$208)))","v":""},{"$f":"IF('TABLA DE DECISION'!DB192=\"\",\"\",IF('TABLA DE DECISION'!$A$156=1,MAX('TABLA DE DECISION'!DB$159:DB$208)-'TABLA DE DECISION'!DB192,'TABLA DE DECISION'!DB192-MIN('TABLA DE DECISION'!DB$159:DB$208)))","v":""},{"$f":"IF('TABLA DE DECISION'!DC192=\"\",\"\",IF('TABLA DE DECISION'!$A$156=1,MAX('TABLA DE DECISION'!DC$159:DC$208)-'TABLA DE DECISION'!DC192,'TABLA DE DECISION'!DC192-MIN('TABLA DE DECISION'!DC$159:DC$208)))","v":""},{"$f":"IF('TABLA DE DECISION'!DD192=\"\",\"\",IF('TABLA DE DECISION'!$A$156=1,MAX('TABLA DE DECISION'!DD$159:DD$208)-'TABLA DE DECISION'!DD192,'TABLA DE DECISION'!DD192-MIN('TABLA DE DECISION'!DD$159:DD$208)))","v":""},{"$f":"IF('TABLA DE DECISION'!DE192=\"\",\"\",IF('TABLA DE DECISION'!$A$156=1,MAX('TABLA DE DECISION'!DE$159:DE$208)-'TABLA DE DECISION'!DE192,'TABLA DE DECISION'!DE192-MIN('TABLA DE DECISION'!DE$159:DE$208)))","v":""},null,{"$f":"IF(C36=\"\",\"\",SUMPRODUCT(C36:AZ36,'TABLA DE DECISION'!BH$156:DE$156))","v":""}]
[{"$f":"IF('TABLA DE DECISION'!BF193=\"\",\"\",'TABLA DE DECISION'!BF193)","v":""},{"$f":"IF('TABLA DE DECISION'!BG193=\"\",\"\",'TABLA DE DECISION'!BG193)","v":"a35"},{"$f":"IF('TABLA DE DECISION'!BH193=\"\",\"\",IF('TABLA DE DECISION'!$A$156=1,MAX('TABLA DE DECISION'!BH$159:BH$208)-'TABLA DE DECISION'!BH193,'TABLA DE DECISION'!BH193-MIN('TABLA DE DECISION'!BH$159:BH$208)))","v":""},{"$f":"IF('TABLA DE DECISION'!BI193=\"\",\"\",IF('TABLA DE DECISION'!$A$156=1,MAX('TABLA DE DECISION'!BI$159:BI$208)-'TABLA DE DECISION'!BI193,'TABLA DE DECISION'!BI193-MIN('TABLA DE DECISION'!BI$159:BI$208)))","v":""},{"$f":"IF('TABLA DE DECISION'!BJ193=\"\",\"\",IF('TABLA DE DECISION'!$A$156=1,MAX('TABLA DE DECISION'!BJ$159:BJ$208)-'TABLA DE DECISION'!BJ193,'TABLA DE DECISION'!BJ193-MIN('TABLA DE DECISION'!BJ$159:BJ$208)))","v":""},{"$f":"IF('TABLA DE DECISION'!BK193=\"\",\"\",IF('TABLA DE DECISION'!$A$156=1,MAX('TABLA DE DECISION'!BK$159:BK$208)-'TABLA DE DECISION'!BK193,'TABLA DE DECISION'!BK193-MIN('TABLA DE DECISION'!BK$159:BK$208)))","v":""},{"$f":"IF('TABLA DE DECISION'!BL193=\"\",\"\",IF('TABLA DE DECISION'!$A$156=1,MAX('TABLA DE DECISION'!BL$159:BL$208)-'TABLA DE DECISION'!BL193,'TABLA DE DECISION'!BL193-MIN('TABLA DE DECISION'!BL$159:BL$208)))","v":""},{"$f":"IF('TABLA DE DECISION'!BM193=\"\",\"\",IF('TABLA DE DECISION'!$A$156=1,MAX('TABLA DE DECISION'!BM$159:BM$208)-'TABLA DE DECISION'!BM193,'TABLA DE DECISION'!BM193-MIN('TABLA DE DECISION'!BM$159:BM$208)))","v":""},{"$f":"IF('TABLA DE DECISION'!BN193=\"\",\"\",IF('TABLA DE DECISION'!$A$156=1,MAX('TABLA DE DECISION'!BN$159:BN$208)-'TABLA DE DECISION'!BN193,'TABLA DE DECISION'!BN193-MIN('TABLA DE DECISION'!BN$159:BN$208)))","v":""},{"$f":"IF('TABLA DE DECISION'!BO193=\"\",\"\",IF('TABLA DE DECISION'!$A$156=1,MAX('TABLA DE DECISION'!BO$159:BO$208)-'TABLA DE DECISION'!BO193,'TABLA DE DECISION'!BO193-MIN('TABLA DE DECISION'!BO$159:BO$208)))","v":""},{"$f":"IF('TABLA DE DECISION'!BP193=\"\",\"\",IF('TABLA DE DECISION'!$A$156=1,MAX('TABLA DE DECISION'!BP$159:BP$208)-'TABLA DE DECISION'!BP193,'TABLA DE DECISION'!BP193-MIN('TABLA DE DECISION'!BP$159:BP$208)))","v":""},{"$f":"IF('TABLA DE DECISION'!BQ193=\"\",\"\",IF('TABLA DE DECISION'!$A$156=1,MAX('TABLA DE DECISION'!BQ$159:BQ$208)-'TABLA DE DECISION'!BQ193,'TABLA DE DECISION'!BQ193-MIN('TABLA DE DECISION'!BQ$159:BQ$208)))","v":""},{"$f":"IF('TABLA DE DECISION'!BR193=\"\",\"\",IF('TABLA DE DECISION'!$A$156=1,MAX('TABLA DE DECISION'!BR$159:BR$208)-'TABLA DE DECISION'!BR193,'TABLA DE DECISION'!BR193-MIN('TABLA DE DECISION'!BR$159:BR$208)))","v":""},{"$f":"IF('TABLA DE DECISION'!BS193=\"\",\"\",IF('TABLA DE DECISION'!$A$156=1,MAX('TABLA DE DECISION'!BS$159:BS$208)-'TABLA DE DECISION'!BS193,'TABLA DE DECISION'!BS193-MIN('TABLA DE DECISION'!BS$159:BS$208)))","v":""},{"$f":"IF('TABLA DE DECISION'!BT193=\"\",\"\",IF('TABLA DE DECISION'!$A$156=1,MAX('TABLA DE DECISION'!BT$159:BT$208)-'TABLA DE DECISION'!BT193,'TABLA DE DECISION'!BT193-MIN('TABLA DE DECISION'!BT$159:BT$208)))","v":""},{"$f":"IF('TABLA DE DECISION'!BU193=\"\",\"\",IF('TABLA DE DECISION'!$A$156=1,MAX('TABLA DE DECISION'!BU$159:BU$208)-'TABLA DE DECISION'!BU193,'TABLA DE DECISION'!BU193-MIN('TABLA DE DECISION'!BU$159:BU$208)))","v":""},{"$f":"IF('TABLA DE DECISION'!BV193=\"\",\"\",IF('TABLA DE DECISION'!$A$156=1,MAX('TABLA DE DECISION'!BV$159:BV$208)-'TABLA DE DECISION'!BV193,'TABLA DE DECISION'!BV193-MIN('TABLA DE DECISION'!BV$159:BV$208)))","v":""},{"$f":"IF('TABLA DE DECISION'!BW193=\"\",\"\",IF('TABLA DE DECISION'!$A$156=1,MAX('TABLA DE DECISION'!BW$159:BW$208)-'TABLA DE DECISION'!BW193,'TABLA DE DECISION'!BW193-MIN('TABLA DE DECISION'!BW$159:BW$208)))","v":""},{"$f":"IF('TABLA DE DECISION'!BX193=\"\",\"\",IF('TABLA DE DECISION'!$A$156=1,MAX('TABLA DE DECISION'!BX$159:BX$208)-'TABLA DE DECISION'!BX193,'TABLA DE DECISION'!BX193-MIN('TABLA DE DECISION'!BX$159:BX$208)))","v":""},{"$f":"IF('TABLA DE DECISION'!BY193=\"\",\"\",IF('TABLA DE DECISION'!$A$156=1,MAX('TABLA DE DECISION'!BY$159:BY$208)-'TABLA DE DECISION'!BY193,'TABLA DE DECISION'!BY193-MIN('TABLA DE DECISION'!BY$159:BY$208)))","v":""},{"$f":"IF('TABLA DE DECISION'!BZ193=\"\",\"\",IF('TABLA DE DECISION'!$A$156=1,MAX('TABLA DE DECISION'!BZ$159:BZ$208)-'TABLA DE DECISION'!BZ193,'TABLA DE DECISION'!BZ193-MIN('TABLA DE DECISION'!BZ$159:BZ$208)))","v":""},{"$f":"IF('TABLA DE DECISION'!CA193=\"\",\"\",IF('TABLA DE DECISION'!$A$156=1,MAX('TABLA DE DECISION'!CA$159:CA$208)-'TABLA DE DECISION'!CA193,'TABLA DE DECISION'!CA193-MIN('TABLA DE DECISION'!CA$159:CA$208)))","v":""},{"$f":"IF('TABLA DE DECISION'!CB193=\"\",\"\",IF('TABLA DE DECISION'!$A$156=1,MAX('TABLA DE DECISION'!CB$159:CB$208)-'TABLA DE DECISION'!CB193,'TABLA DE DECISION'!CB193-MIN('TABLA DE DECISION'!CB$159:CB$208)))","v":""},{"$f":"IF('TABLA DE DECISION'!CC193=\"\",\"\",IF('TABLA DE DECISION'!$A$156=1,MAX('TABLA DE DECISION'!CC$159:CC$208)-'TABLA DE DECISION'!CC193,'TABLA DE DECISION'!CC193-MIN('TABLA DE DECISION'!CC$159:CC$208)))","v":""},{"$f":"IF('TABLA DE DECISION'!CD193=\"\",\"\",IF('TABLA DE DECISION'!$A$156=1,MAX('TABLA DE DECISION'!CD$159:CD$208)-'TABLA DE DECISION'!CD193,'TABLA DE DECISION'!CD193-MIN('TABLA DE DECISION'!CD$159:CD$208)))","v":""},{"$f":"IF('TABLA DE DECISION'!CE193=\"\",\"\",IF('TABLA DE DECISION'!$A$156=1,MAX('TABLA DE DECISION'!CE$159:CE$208)-'TABLA DE DECISION'!CE193,'TABLA DE DECISION'!CE193-MIN('TABLA DE DECISION'!CE$159:CE$208)))","v":""},{"$f":"IF('TABLA DE DECISION'!CF193=\"\",\"\",IF('TABLA DE DECISION'!$A$156=1,MAX('TABLA DE DECISION'!CF$159:CF$208)-'TABLA DE DECISION'!CF193,'TABLA DE DECISION'!CF193-MIN('TABLA DE DECISION'!CF$159:CF$208)))","v":""},{"$f":"IF('TABLA DE DECISION'!CG193=\"\",\"\",IF('TABLA DE DECISION'!$A$156=1,MAX('TABLA DE DECISION'!CG$159:CG$208)-'TABLA DE DECISION'!CG193,'TABLA DE DECISION'!CG193-MIN('TABLA DE DECISION'!CG$159:CG$208)))","v":""},{"$f":"IF('TABLA DE DECISION'!CH193=\"\",\"\",IF('TABLA DE DECISION'!$A$156=1,MAX('TABLA DE DECISION'!CH$159:CH$208)-'TABLA DE DECISION'!CH193,'TABLA DE DECISION'!CH193-MIN('TABLA DE DECISION'!CH$159:CH$208)))","v":""},{"$f":"IF('TABLA DE DECISION'!CI193=\"\",\"\",IF('TABLA DE DECISION'!$A$156=1,MAX('TABLA DE DECISION'!CI$159:CI$208)-'TABLA DE DECISION'!CI193,'TABLA DE DECISION'!CI193-MIN('TABLA DE DECISION'!CI$159:CI$208)))","v":""},{"$f":"IF('TABLA DE DECISION'!CJ193=\"\",\"\",IF('TABLA DE DECISION'!$A$156=1,MAX('TABLA DE DECISION'!CJ$159:CJ$208)-'TABLA DE DECISION'!CJ193,'TABLA DE DECISION'!CJ193-MIN('TABLA DE DECISION'!CJ$159:CJ$208)))","v":""},{"$f":"IF('TABLA DE DECISION'!CK193=\"\",\"\",IF('TABLA DE DECISION'!$A$156=1,MAX('TABLA DE DECISION'!CK$159:CK$208)-'TABLA DE DECISION'!CK193,'TABLA DE DECISION'!CK193-MIN('TABLA DE DECISION'!CK$159:CK$208)))","v":""},{"$f":"IF('TABLA DE DECISION'!CL193=\"\",\"\",IF('TABLA DE DECISION'!$A$156=1,MAX('TABLA DE DECISION'!CL$159:CL$208)-'TABLA DE DECISION'!CL193,'TABLA DE DECISION'!CL193-MIN('TABLA DE DECISION'!CL$159:CL$208)))","v":""},{"$f":"IF('TABLA DE DECISION'!CM193=\"\",\"\",IF('TABLA DE DECISION'!$A$156=1,MAX('TABLA DE DECISION'!CM$159:CM$208)-'TABLA DE DECISION'!CM193,'TABLA DE DECISION'!CM193-MIN('TABLA DE DECISION'!CM$159:CM$208)))","v":""},{"$f":"IF('TABLA DE DECISION'!CN193=\"\",\"\",IF('TABLA DE DECISION'!$A$156=1,MAX('TABLA DE DECISION'!CN$159:CN$208)-'TABLA DE DECISION'!CN193,'TABLA DE DECISION'!CN193-MIN('TABLA DE DECISION'!CN$159:CN$208)))","v":""},{"$f":"IF('TABLA DE DECISION'!CO193=\"\",\"\",IF('TABLA DE DECISION'!$A$156=1,MAX('TABLA DE DECISION'!CO$159:CO$208)-'TABLA DE DECISION'!CO193,'TABLA DE DECISION'!CO193-MIN('TABLA DE DECISION'!CO$159:CO$208)))","v":""},{"$f":"IF('TABLA DE DECISION'!CP193=\"\",\"\",IF('TABLA DE DECISION'!$A$156=1,MAX('TABLA DE DECISION'!CP$159:CP$208)-'TABLA DE DECISION'!CP193,'TABLA DE DECISION'!CP193-MIN('TABLA DE DECISION'!CP$159:CP$208)))","v":""},{"$f":"IF('TABLA DE DECISION'!CQ193=\"\",\"\",IF('TABLA DE DECISION'!$A$156=1,MAX('TABLA DE DECISION'!CQ$159:CQ$208)-'TABLA DE DECISION'!CQ193,'TABLA DE DECISION'!CQ193-MIN('TABLA DE DECISION'!CQ$159:CQ$208)))","v":""},{"$f":"IF('TABLA DE DECISION'!CR193=\"\",\"\",IF('TABLA DE DECISION'!$A$156=1,MAX('TABLA DE DECISION'!CR$159:CR$208)-'TABLA DE DECISION'!CR193,'TABLA DE DECISION'!CR193-MIN('TABLA DE DECISION'!CR$159:CR$208)))","v":""},{"$f":"IF('TABLA DE DECISION'!CS193=\"\",\"\",IF('TABLA DE DECISION'!$A$156=1,MAX('TABLA DE DECISION'!CS$159:CS$208)-'TABLA DE DECISION'!CS193,'TABLA DE DECISION'!CS193-MIN('TABLA DE DECISION'!CS$159:CS$208)))","v":""},{"$f":"IF('TABLA DE DECISION'!CT193=\"\",\"\",IF('TABLA DE DECISION'!$A$156=1,MAX('TABLA DE DECISION'!CT$159:CT$208)-'TABLA DE DECISION'!CT193,'TABLA DE DECISION'!CT193-MIN('TABLA DE DECISION'!CT$159:CT$208)))","v":""},{"$f":"IF('TABLA DE DECISION'!CU193=\"\",\"\",IF('TABLA DE DECISION'!$A$156=1,MAX('TABLA DE DECISION'!CU$159:CU$208)-'TABLA DE DECISION'!CU193,'TABLA DE DECISION'!CU193-MIN('TABLA DE DECISION'!CU$159:CU$208)))","v":""},{"$f":"IF('TABLA DE DECISION'!CV193=\"\",\"\",IF('TABLA DE DECISION'!$A$156=1,MAX('TABLA DE DECISION'!CV$159:CV$208)-'TABLA DE DECISION'!CV193,'TABLA DE DECISION'!CV193-MIN('TABLA DE DECISION'!CV$159:CV$208)))","v":""},{"$f":"IF('TABLA DE DECISION'!CW193=\"\",\"\",IF('TABLA DE DECISION'!$A$156=1,MAX('TABLA DE DECISION'!CW$159:CW$208)-'TABLA DE DECISION'!CW193,'TABLA DE DECISION'!CW193-MIN('TABLA DE DECISION'!CW$159:CW$208)))","v":""},{"$f":"IF('TABLA DE DECISION'!CX193=\"\",\"\",IF('TABLA DE DECISION'!$A$156=1,MAX('TABLA DE DECISION'!CX$159:CX$208)-'TABLA DE DECISION'!CX193,'TABLA DE DECISION'!CX193-MIN('TABLA DE DECISION'!CX$159:CX$208)))","v":""},{"$f":"IF('TABLA DE DECISION'!CY193=\"\",\"\",IF('TABLA DE DECISION'!$A$156=1,MAX('TABLA DE DECISION'!CY$159:CY$208)-'TABLA DE DECISION'!CY193,'TABLA DE DECISION'!CY193-MIN('TABLA DE DECISION'!CY$159:CY$208)))","v":""},{"$f":"IF('TABLA DE DECISION'!CZ193=\"\",\"\",IF('TABLA DE DECISION'!$A$156=1,MAX('TABLA DE DECISION'!CZ$159:CZ$208)-'TABLA DE DECISION'!CZ193,'TABLA DE DECISION'!CZ193-MIN('TABLA DE DECISION'!CZ$159:CZ$208)))","v":""},{"$f":"IF('TABLA DE DECISION'!DA193=\"\",\"\",IF('TABLA DE DECISION'!$A$156=1,MAX('TABLA DE DECISION'!DA$159:DA$208)-'TABLA DE DECISION'!DA193,'TABLA DE DECISION'!DA193-MIN('TABLA DE DECISION'!DA$159:DA$208)))","v":""},{"$f":"IF('TABLA DE DECISION'!DB193=\"\",\"\",IF('TABLA DE DECISION'!$A$156=1,MAX('TABLA DE DECISION'!DB$159:DB$208)-'TABLA DE DECISION'!DB193,'TABLA DE DECISION'!DB193-MIN('TABLA DE DECISION'!DB$159:DB$208)))","v":""},{"$f":"IF('TABLA DE DECISION'!DC193=\"\",\"\",IF('TABLA DE DECISION'!$A$156=1,MAX('TABLA DE DECISION'!DC$159:DC$208)-'TABLA DE DECISION'!DC193,'TABLA DE DECISION'!DC193-MIN('TABLA DE DECISION'!DC$159:DC$208)))","v":""},{"$f":"IF('TABLA DE DECISION'!DD193=\"\",\"\",IF('TABLA DE DECISION'!$A$156=1,MAX('TABLA DE DECISION'!DD$159:DD$208)-'TABLA DE DECISION'!DD193,'TABLA DE DECISION'!DD193-MIN('TABLA DE DECISION'!DD$159:DD$208)))","v":""},{"$f":"IF('TABLA DE DECISION'!DE193=\"\",\"\",IF('TABLA DE DECISION'!$A$156=1,MAX('TABLA DE DECISION'!DE$159:DE$208)-'TABLA DE DECISION'!DE193,'TABLA DE DECISION'!DE193-MIN('TABLA DE DECISION'!DE$159:DE$208)))","v":""},null,{"$f":"IF(C37=\"\",\"\",SUMPRODUCT(C37:AZ37,'TABLA DE DECISION'!BH$156:DE$156))","v":""}]
[{"$f":"IF('TABLA DE DECISION'!BF194=\"\",\"\",'TABLA DE DECISION'!BF194)","v":""},{"$f":"IF('TABLA DE DECISION'!BG194=\"\",\"\",'TABLA DE DECISION'!BG194)","v":"a36"},{"$f":"IF('TABLA DE DECISION'!BH194=\"\",\"\",IF('TABLA DE DECISION'!$A$156=1,MAX('TABLA DE DECISION'!BH$159:BH$208)-'TABLA DE DECISION'!BH194,'TABLA DE DECISION'!BH194-MIN('TABLA DE DECISION'!BH$159:BH$208)))","v":""},{"$f":"IF('TABLA DE DECISION'!BI194=\"\",\"\",IF('TABLA DE DECISION'!$A$156=1,MAX('TABLA DE DECISION'!BI$159:BI$208)-'TABLA DE DECISION'!BI194,'TABLA DE DECISION'!BI194-MIN('TABLA DE DECISION'!BI$159:BI$208)))","v":""},{"$f":"IF('TABLA DE DECISION'!BJ194=\"\",\"\",IF('TABLA DE DECISION'!$A$156=1,MAX('TABLA DE DECISION'!BJ$159:BJ$208)-'TABLA DE DECISION'!BJ194,'TABLA DE DECISION'!BJ194-MIN('TABLA DE DECISION'!BJ$159:BJ$208)))","v":""},{"$f":"IF('TABLA DE DECISION'!BK194=\"\",\"\",IF('TABLA DE DECISION'!$A$156=1,MAX('TABLA DE DECISION'!BK$159:BK$208)-'TABLA DE DECISION'!BK194,'TABLA DE DECISION'!BK194-MIN('TABLA DE DECISION'!BK$159:BK$208)))","v":""},{"$f":"IF('TABLA DE DECISION'!BL194=\"\",\"\",IF('TABLA DE DECISION'!$A$156=1,MAX('TABLA DE DECISION'!BL$159:BL$208)-'TABLA DE DECISION'!BL194,'TABLA DE DECISION'!BL194-MIN('TABLA DE DECISION'!BL$159:BL$208)))","v":""},{"$f":"IF('TABLA DE DECISION'!BM194=\"\",\"\",IF('TABLA DE DECISION'!$A$156=1,MAX('TABLA DE DECISION'!BM$159:BM$208)-'TABLA DE DECISION'!BM194,'TABLA DE DECISION'!BM194-MIN('TABLA DE DECISION'!BM$159:BM$208)))","v":""},{"$f":"IF('TABLA DE DECISION'!BN194=\"\",\"\",IF('TABLA DE DECISION'!$A$156=1,MAX('TABLA DE DECISION'!BN$159:BN$208)-'TABLA DE DECISION'!BN194,'TABLA DE DECISION'!BN194-MIN('TABLA DE DECISION'!BN$159:BN$208)))","v":""},{"$f":"IF('TABLA DE DECISION'!BO194=\"\",\"\",IF('TABLA DE DECISION'!$A$156=1,MAX('TABLA DE DECISION'!BO$159:BO$208)-'TABLA DE DECISION'!BO194,'TABLA DE DECISION'!BO194-MIN('TABLA DE DECISION'!BO$159:BO$208)))","v":""},{"$f":"IF('TABLA DE DECISION'!BP194=\"\",\"\",IF('TABLA DE DECISION'!$A$156=1,MAX('TABLA DE DECISION'!BP$159:BP$208)-'TABLA DE DECISION'!BP194,'TABLA DE DECISION'!BP194-MIN('TABLA DE DECISION'!BP$159:BP$208)))","v":""},{"$f":"IF('TABLA DE DECISION'!BQ194=\"\",\"\",IF('TABLA DE DECISION'!$A$156=1,MAX('TABLA DE DECISION'!BQ$159:BQ$208)-'TABLA DE DECISION'!BQ194,'TABLA DE DECISION'!BQ194-MIN('TABLA DE DECISION'!BQ$159:BQ$208)))","v":""},{"$f":"IF('TABLA DE DECISION'!BR194=\"\",\"\",IF('TABLA DE DECISION'!$A$156=1,MAX('TABLA DE DECISION'!BR$159:BR$208)-'TABLA DE DECISION'!BR194,'TABLA DE DECISION'!BR194-MIN('TABLA DE DECISION'!BR$159:BR$208)))","v":""},{"$f":"IF('TABLA DE DECISION'!BS194=\"\",\"\",IF('TABLA DE DECISION'!$A$156=1,MAX('TABLA DE DECISION'!BS$159:BS$208)-'TABLA DE DECISION'!BS194,'TABLA DE DECISION'!BS194-MIN('TABLA DE DECISION'!BS$159:BS$208)))","v":""},{"$f":"IF('TABLA DE DECISION'!BT194=\"\",\"\",IF('TABLA DE DECISION'!$A$156=1,MAX('TABLA DE DECISION'!BT$159:BT$208)-'TABLA DE DECISION'!BT194,'TABLA DE DECISION'!BT194-MIN('TABLA DE DECISION'!BT$159:BT$208)))","v":""},{"$f":"IF('TABLA DE DECISION'!BU194=\"\",\"\",IF('TABLA DE DECISION'!$A$156=1,MAX('TABLA DE DECISION'!BU$159:BU$208)-'TABLA DE DECISION'!BU194,'TABLA DE DECISION'!BU194-MIN('TABLA DE DECISION'!BU$159:BU$208)))","v":""},{"$f":"IF('TABLA DE DECISION'!BV194=\"\",\"\",IF('TABLA DE DECISION'!$A$156=1,MAX('TABLA DE DECISION'!BV$159:BV$208)-'TABLA DE DECISION'!BV194,'TABLA DE DECISION'!BV194-MIN('TABLA DE DECISION'!BV$159:BV$208)))","v":""},{"$f":"IF('TABLA DE DECISION'!BW194=\"\",\"\",IF('TABLA DE DECISION'!$A$156=1,MAX('TABLA DE DECISION'!BW$159:BW$208)-'TABLA DE DECISION'!BW194,'TABLA DE DECISION'!BW194-MIN('TABLA DE DECISION'!BW$159:BW$208)))","v":""},{"$f":"IF('TABLA DE DECISION'!BX194=\"\",\"\",IF('TABLA DE DECISION'!$A$156=1,MAX('TABLA DE DECISION'!BX$159:BX$208)-'TABLA DE DECISION'!BX194,'TABLA DE DECISION'!BX194-MIN('TABLA DE DECISION'!BX$159:BX$208)))","v":""},{"$f":"IF('TABLA DE DECISION'!BY194=\"\",\"\",IF('TABLA DE DECISION'!$A$156=1,MAX('TABLA DE DECISION'!BY$159:BY$208)-'TABLA DE DECISION'!BY194,'TABLA DE DECISION'!BY194-MIN('TABLA DE DECISION'!BY$159:BY$208)))","v":""},{"$f":"IF('TABLA DE DECISION'!BZ194=\"\",\"\",IF('TABLA DE DECISION'!$A$156=1,MAX('TABLA DE DECISION'!BZ$159:BZ$208)-'TABLA DE DECISION'!BZ194,'TABLA DE DECISION'!BZ194-MIN('TABLA DE DECISION'!BZ$159:BZ$208)))","v":""},{"$f":"IF('TABLA DE DECISION'!CA194=\"\",\"\",IF('TABLA DE DECISION'!$A$156=1,MAX('TABLA DE DECISION'!CA$159:CA$208)-'TABLA DE DECISION'!CA194,'TABLA DE DECISION'!CA194-MIN('TABLA DE DECISION'!CA$159:CA$208)))","v":""},{"$f":"IF('TABLA DE DECISION'!CB194=\"\",\"\",IF('TABLA DE DECISION'!$A$156=1,MAX('TABLA DE DECISION'!CB$159:CB$208)-'TABLA DE DECISION'!CB194,'TABLA DE DECISION'!CB194-MIN('TABLA DE DECISION'!CB$159:CB$208)))","v":""},{"$f":"IF('TABLA DE DECISION'!CC194=\"\",\"\",IF('TABLA DE DECISION'!$A$156=1,MAX('TABLA DE DECISION'!CC$159:CC$208)-'TABLA DE DECISION'!CC194,'TABLA DE DECISION'!CC194-MIN('TABLA DE DECISION'!CC$159:CC$208)))","v":""},{"$f":"IF('TABLA DE DECISION'!CD194=\"\",\"\",IF('TABLA DE DECISION'!$A$156=1,MAX('TABLA DE DECISION'!CD$159:CD$208)-'TABLA DE DECISION'!CD194,'TABLA DE DECISION'!CD194-MIN('TABLA DE DECISION'!CD$159:CD$208)))","v":""},{"$f":"IF('TABLA DE DECISION'!CE194=\"\",\"\",IF('TABLA DE DECISION'!$A$156=1,MAX('TABLA DE DECISION'!CE$159:CE$208)-'TABLA DE DECISION'!CE194,'TABLA DE DECISION'!CE194-MIN('TABLA DE DECISION'!CE$159:CE$208)))","v":""},{"$f":"IF('TABLA DE DECISION'!CF194=\"\",\"\",IF('TABLA DE DECISION'!$A$156=1,MAX('TABLA DE DECISION'!CF$159:CF$208)-'TABLA DE DECISION'!CF194,'TABLA DE DECISION'!CF194-MIN('TABLA DE DECISION'!CF$159:CF$208)))","v":""},{"$f":"IF('TABLA DE DECISION'!CG194=\"\",\"\",IF('TABLA DE DECISION'!$A$156=1,MAX('TABLA DE DECISION'!CG$159:CG$208)-'TABLA DE DECISION'!CG194,'TABLA DE DECISION'!CG194-MIN('TABLA DE DECISION'!CG$159:CG$208)))","v":""},{"$f":"IF('TABLA DE DECISION'!CH194=\"\",\"\",IF('TABLA DE DECISION'!$A$156=1,MAX('TABLA DE DECISION'!CH$159:CH$208)-'TABLA DE DECISION'!CH194,'TABLA DE DECISION'!CH194-MIN('TABLA DE DECISION'!CH$159:CH$208)))","v":""},{"$f":"IF('TABLA DE DECISION'!CI194=\"\",\"\",IF('TABLA DE DECISION'!$A$156=1,MAX('TABLA DE DECISION'!CI$159:CI$208)-'TABLA DE DECISION'!CI194,'TABLA DE DECISION'!CI194-MIN('TABLA DE DECISION'!CI$159:CI$208)))","v":""},{"$f":"IF('TABLA DE DECISION'!CJ194=\"\",\"\",IF('TABLA DE DECISION'!$A$156=1,MAX('TABLA DE DECISION'!CJ$159:CJ$208)-'TABLA DE DECISION'!CJ194,'TABLA DE DECISION'!CJ194-MIN('TABLA DE DECISION'!CJ$159:CJ$208)))","v":""},{"$f":"IF('TABLA DE DECISION'!CK194=\"\",\"\",IF('TABLA DE DECISION'!$A$156=1,MAX('TABLA DE DECISION'!CK$159:CK$208)-'TABLA DE DECISION'!CK194,'TABLA DE DECISION'!CK194-MIN('TABLA DE DECISION'!CK$159:CK$208)))","v":""},{"$f":"IF('TABLA DE DECISION'!CL194=\"\",\"\",IF('TABLA DE DECISION'!$A$156=1,MAX('TABLA DE DECISION'!CL$159:CL$208)-'TABLA DE DECISION'!CL194,'TABLA DE DECISION'!CL194-MIN('TABLA DE DECISION'!CL$159:CL$208)))","v":""},{"$f":"IF('TABLA DE DECISION'!CM194=\"\",\"\",IF('TABLA DE DECISION'!$A$156=1,MAX('TABLA DE DECISION'!CM$159:CM$208)-'TABLA DE DECISION'!CM194,'TABLA DE DECISION'!CM194-MIN('TABLA DE DECISION'!CM$159:CM$208)))","v":""},{"$f":"IF('TABLA DE DECISION'!CN194=\"\",\"\",IF('TABLA DE DECISION'!$A$156=1,MAX('TABLA DE DECISION'!CN$159:CN$208)-'TABLA DE DECISION'!CN194,'TABLA DE DECISION'!CN194-MIN('TABLA DE DECISION'!CN$159:CN$208)))","v":""},{"$f":"IF('TABLA DE DECISION'!CO194=\"\",\"\",IF('TABLA DE DECISION'!$A$156=1,MAX('TABLA DE DECISION'!CO$159:CO$208)-'TABLA DE DECISION'!CO194,'TABLA DE DECISION'!CO194-MIN('TABLA DE DECISION'!CO$159:CO$208)))","v":""},{"$f":"IF('TABLA DE DECISION'!CP194=\"\",\"\",IF('TABLA DE DECISION'!$A$156=1,MAX('TABLA DE DECISION'!CP$159:CP$208)-'TABLA DE DECISION'!CP194,'TABLA DE DECISION'!CP194-MIN('TABLA DE DECISION'!CP$159:CP$208)))","v":""},{"$f":"IF('TABLA DE DECISION'!CQ194=\"\",\"\",IF('TABLA DE DECISION'!$A$156=1,MAX('TABLA DE DECISION'!CQ$159:CQ$208)-'TABLA DE DECISION'!CQ194,'TABLA DE DECISION'!CQ194-MIN('TABLA DE DECISION'!CQ$159:CQ$208)))","v":""},{"$f":"IF('TABLA DE DECISION'!CR194=\"\",\"\",IF('TABLA DE DECISION'!$A$156=1,MAX('TABLA DE DECISION'!CR$159:CR$208)-'TABLA DE DECISION'!CR194,'TABLA DE DECISION'!CR194-MIN('TABLA DE DECISION'!CR$159:CR$208)))","v":""},{"$f":"IF('TABLA DE DECISION'!CS194=\"\",\"\",IF('TABLA DE DECISION'!$A$156=1,MAX('TABLA DE DECISION'!CS$159:CS$208)-'TABLA DE DECISION'!CS194,'TABLA DE DECISION'!CS194-MIN('TABLA DE DECISION'!CS$159:CS$208)))","v":""},{"$f":"IF('TABLA DE DECISION'!CT194=\"\",\"\",IF('TABLA DE DECISION'!$A$156=1,MAX('TABLA DE DECISION'!CT$159:CT$208)-'TABLA DE DECISION'!CT194,'TABLA DE DECISION'!CT194-MIN('TABLA DE DECISION'!CT$159:CT$208)))","v":""},{"$f":"IF('TABLA DE DECISION'!CU194=\"\",\"\",IF('TABLA DE DECISION'!$A$156=1,MAX('TABLA DE DECISION'!CU$159:CU$208)-'TABLA DE DECISION'!CU194,'TABLA DE DECISION'!CU194-MIN('TABLA DE DECISION'!CU$159:CU$208)))","v":""},{"$f":"IF('TABLA DE DECISION'!CV194=\"\",\"\",IF('TABLA DE DECISION'!$A$156=1,MAX('TABLA DE DECISION'!CV$159:CV$208)-'TABLA DE DECISION'!CV194,'TABLA DE DECISION'!CV194-MIN('TABLA DE DECISION'!CV$159:CV$208)))","v":""},{"$f":"IF('TABLA DE DECISION'!CW194=\"\",\"\",IF('TABLA DE DECISION'!$A$156=1,MAX('TABLA DE DECISION'!CW$159:CW$208)-'TABLA DE DECISION'!CW194,'TABLA DE DECISION'!CW194-MIN('TABLA DE DECISION'!CW$159:CW$208)))","v":""},{"$f":"IF('TABLA DE DECISION'!CX194=\"\",\"\",IF('TABLA DE DECISION'!$A$156=1,MAX('TABLA DE DECISION'!CX$159:CX$208)-'TABLA DE DECISION'!CX194,'TABLA DE DECISION'!CX194-MIN('TABLA DE DECISION'!CX$159:CX$208)))","v":""},{"$f":"IF('TABLA DE DECISION'!CY194=\"\",\"\",IF('TABLA DE DECISION'!$A$156=1,MAX('TABLA DE DECISION'!CY$159:CY$208)-'TABLA DE DECISION'!CY194,'TABLA DE DECISION'!CY194-MIN('TABLA DE DECISION'!CY$159:CY$208)))","v":""},{"$f":"IF('TABLA DE DECISION'!CZ194=\"\",\"\",IF('TABLA DE DECISION'!$A$156=1,MAX('TABLA DE DECISION'!CZ$159:CZ$208)-'TABLA DE DECISION'!CZ194,'TABLA DE DECISION'!CZ194-MIN('TABLA DE DECISION'!CZ$159:CZ$208)))","v":""},{"$f":"IF('TABLA DE DECISION'!DA194=\"\",\"\",IF('TABLA DE DECISION'!$A$156=1,MAX('TABLA DE DECISION'!DA$159:DA$208)-'TABLA DE DECISION'!DA194,'TABLA DE DECISION'!DA194-MIN('TABLA DE DECISION'!DA$159:DA$208)))","v":""},{"$f":"IF('TABLA DE DECISION'!DB194=\"\",\"\",IF('TABLA DE DECISION'!$A$156=1,MAX('TABLA DE DECISION'!DB$159:DB$208)-'TABLA DE DECISION'!DB194,'TABLA DE DECISION'!DB194-MIN('TABLA DE DECISION'!DB$159:DB$208)))","v":""},{"$f":"IF('TABLA DE DECISION'!DC194=\"\",\"\",IF('TABLA DE DECISION'!$A$156=1,MAX('TABLA DE DECISION'!DC$159:DC$208)-'TABLA DE DECISION'!DC194,'TABLA DE DECISION'!DC194-MIN('TABLA DE DECISION'!DC$159:DC$208)))","v":""},{"$f":"IF('TABLA DE DECISION'!DD194=\"\",\"\",IF('TABLA DE DECISION'!$A$156=1,MAX('TABLA DE DECISION'!DD$159:DD$208)-'TABLA DE DECISION'!DD194,'TABLA DE DECISION'!DD194-MIN('TABLA DE DECISION'!DD$159:DD$208)))","v":""},{"$f":"IF('TABLA DE DECISION'!DE194=\"\",\"\",IF('TABLA DE DECISION'!$A$156=1,MAX('TABLA DE DECISION'!DE$159:DE$208)-'TABLA DE DECISION'!DE194,'TABLA DE DECISION'!DE194-MIN('TABLA DE DECISION'!DE$159:DE$208)))","v":""},null,{"$f":"IF(C38=\"\",\"\",SUMPRODUCT(C38:AZ38,'TABLA DE DECISION'!BH$156:DE$156))","v":""}]
[{"$f":"IF('TABLA DE DECISION'!BF195=\"\",\"\",'TABLA DE DECISION'!BF195)","v":""},{"$f":"IF('TABLA DE DECISION'!BG195=\"\",\"\",'TABLA DE DECISION'!BG195)","v":"a37"},{"$f":"IF('TABLA DE DECISION'!BH195=\"\",\"\",IF('TABLA DE DECISION'!$A$156=1,MAX('TABLA DE DECISION'!BH$159:BH$208)-'TABLA DE DECISION'!BH195,'TABLA DE DECISION'!BH195-MIN('TABLA DE DECISION'!BH$159:BH$208)))","v":""},{"$f":"IF('TABLA DE DECISION'!BI195=\"\",\"\",IF('TABLA DE DECISION'!$A$156=1,MAX('TABLA DE DECISION'!BI$159:BI$208)-'TABLA DE DECISION'!BI195,'TABLA DE DECISION'!BI195-MIN('TABLA DE DECISION'!BI$159:BI$208)))","v":""},{"$f":"IF('TABLA DE DECISION'!BJ195=\"\",\"\",IF('TABLA DE DECISION'!$A$156=1,MAX('TABLA DE DECISION'!BJ$159:BJ$208)-'TABLA DE DECISION'!BJ195,'TABLA DE DECISION'!BJ195-MIN('TABLA DE DECISION'!BJ$159:BJ$208)))","v":""},{"$f":"IF('TABLA DE DECISION'!BK195=\"\",\"\",IF('TABLA DE DECISION'!$A$156=1,MAX('TABLA DE DECISION'!BK$159:BK$208)-'TABLA DE DECISION'!BK195,'TABLA DE DECISION'!BK195-MIN('TABLA DE DECISION'!BK$159:BK$208)))","v":""},{"$f":"IF('TABLA DE DECISION'!BL195=\"\",\"\",IF('TABLA DE DECISION'!$A$156=1,MAX('TABLA DE DECISION'!BL$159:BL$208)-'TABLA DE DECISION'!BL195,'TABLA DE DECISION'!BL195-MIN('TABLA DE DECISION'!BL$159:BL$208)))","v":""},{"$f":"IF('TABLA DE DECISION'!BM195=\"\",\"\",IF('TABLA DE DECISION'!$A$156=1,MAX('TABLA DE DECISION'!BM$159:BM$208)-'TABLA DE DECISION'!BM195,'TABLA DE DECISION'!BM195-MIN('TABLA DE DECISION'!BM$159:BM$208)))","v":""},{"$f":"IF('TABLA DE DECISION'!BN195=\"\",\"\",IF('TABLA DE DECISION'!$A$156=1,MAX('TABLA DE DECISION'!BN$159:BN$208)-'TABLA DE DECISION'!BN195,'TABLA DE DECISION'!BN195-MIN('TABLA DE DECISION'!BN$159:BN$208)))","v":""},{"$f":"IF('TABLA DE DECISION'!BO195=\"\",\"\",IF('TABLA DE DECISION'!$A$156=1,MAX('TABLA DE DECISION'!BO$159:BO$208)-'TABLA DE DECISION'!BO195,'TABLA DE DECISION'!BO195-MIN('TABLA DE DECISION'!BO$159:BO$208)))","v":""},{"$f":"IF('TABLA DE DECISION'!BP195=\"\",\"\",IF('TABLA DE DECISION'!$A$156=1,MAX('TABLA DE DECISION'!BP$159:BP$208)-'TABLA DE DECISION'!BP195,'TABLA DE DECISION'!BP195-MIN('TABLA DE DECISION'!BP$159:BP$208)))","v":""},{"$f":"IF('TABLA DE DECISION'!BQ195=\"\",\"\",IF('TABLA DE DECISION'!$A$156=1,MAX('TABLA DE DECISION'!BQ$159:BQ$208)-'TABLA DE DECISION'!BQ195,'TABLA DE DECISION'!BQ195-MIN('TABLA DE DECISION'!BQ$159:BQ$208)))","v":""},{"$f":"IF('TABLA DE DECISION'!BR195=\"\",\"\",IF('TABLA DE DECISION'!$A$156=1,MAX('TABLA DE DECISION'!BR$159:BR$208)-'TABLA DE DECISION'!BR195,'TABLA DE DECISION'!BR195-MIN('TABLA DE DECISION'!BR$159:BR$208)))","v":""},{"$f":"IF('TABLA DE DECISION'!BS195=\"\",\"\",IF('TABLA DE DECISION'!$A$156=1,MAX('TABLA DE DECISION'!BS$159:BS$208)-'TABLA DE DECISION'!BS195,'TABLA DE DECISION'!BS195-MIN('TABLA DE DECISION'!BS$159:BS$208)))","v":""},{"$f":"IF('TABLA DE DECISION'!BT195=\"\",\"\",IF('TABLA DE DECISION'!$A$156=1,MAX('TABLA DE DECISION'!BT$159:BT$208)-'TABLA DE DECISION'!BT195,'TABLA DE DECISION'!BT195-MIN('TABLA DE DECISION'!BT$159:BT$208)))","v":""},{"$f":"IF('TABLA DE DECISION'!BU195=\"\",\"\",IF('TABLA DE DECISION'!$A$156=1,MAX('TABLA DE DECISION'!BU$159:BU$208)-'TABLA DE DECISION'!BU195,'TABLA DE DECISION'!BU195-MIN('TABLA DE DECISION'!BU$159:BU$208)))","v":""},{"$f":"IF('TABLA DE DECISION'!BV195=\"\",\"\",IF('TABLA DE DECISION'!$A$156=1,MAX('TABLA DE DECISION'!BV$159:BV$208)-'TABLA DE DECISION'!BV195,'TABLA DE DECISION'!BV195-MIN('TABLA DE DECISION'!BV$159:BV$208)))","v":""},{"$f":"IF('TABLA DE DECISION'!BW195=\"\",\"\",IF('TABLA DE DECISION'!$A$156=1,MAX('TABLA DE DECISION'!BW$159:BW$208)-'TABLA DE DECISION'!BW195,'TABLA DE DECISION'!BW195-MIN('TABLA DE DECISION'!BW$159:BW$208)))","v":""},{"$f":"IF('TABLA DE DECISION'!BX195=\"\",\"\",IF('TABLA DE DECISION'!$A$156=1,MAX('TABLA DE DECISION'!BX$159:BX$208)-'TABLA DE DECISION'!BX195,'TABLA DE DECISION'!BX195-MIN('TABLA DE DECISION'!BX$159:BX$208)))","v":""},{"$f":"IF('TABLA DE DECISION'!BY195=\"\",\"\",IF('TABLA DE DECISION'!$A$156=1,MAX('TABLA DE DECISION'!BY$159:BY$208)-'TABLA DE DECISION'!BY195,'TABLA DE DECISION'!BY195-MIN('TABLA DE DECISION'!BY$159:BY$208)))","v":""},{"$f":"IF('TABLA DE DECISION'!BZ195=\"\",\"\",IF('TABLA DE DECISION'!$A$156=1,MAX('TABLA DE DECISION'!BZ$159:BZ$208)-'TABLA DE DECISION'!BZ195,'TABLA DE DECISION'!BZ195-MIN('TABLA DE DECISION'!BZ$159:BZ$208)))","v":""},{"$f":"IF('TABLA DE DECISION'!CA195=\"\",\"\",IF('TABLA DE DECISION'!$A$156=1,MAX('TABLA DE DECISION'!CA$159:CA$208)-'TABLA DE DECISION'!CA195,'TABLA DE DECISION'!CA195-MIN('TABLA DE DECISION'!CA$159:CA$208)))","v":""},{"$f":"IF('TABLA DE DECISION'!CB195=\"\",\"\",IF('TABLA DE DECISION'!$A$156=1,MAX('TABLA DE DECISION'!CB$159:CB$208)-'TABLA DE DECISION'!CB195,'TABLA DE DECISION'!CB195-MIN('TABLA DE DECISION'!CB$159:CB$208)))","v":""},{"$f":"IF('TABLA DE DECISION'!CC195=\"\",\"\",IF('TABLA DE DECISION'!$A$156=1,MAX('TABLA DE DECISION'!CC$159:CC$208)-'TABLA DE DECISION'!CC195,'TABLA DE DECISION'!CC195-MIN('TABLA DE DECISION'!CC$159:CC$208)))","v":""},{"$f":"IF('TABLA DE DECISION'!CD195=\"\",\"\",IF('TABLA DE DECISION'!$A$156=1,MAX('TABLA DE DECISION'!CD$159:CD$208)-'TABLA DE DECISION'!CD195,'TABLA DE DECISION'!CD195-MIN('TABLA DE DECISION'!CD$159:CD$208)))","v":""},{"$f":"IF('TABLA DE DECISION'!CE195=\"\",\"\",IF('TABLA DE DECISION'!$A$156=1,MAX('TABLA DE DECISION'!CE$159:CE$208)-'TABLA DE DECISION'!CE195,'TABLA DE DECISION'!CE195-MIN('TABLA DE DECISION'!CE$159:CE$208)))","v":""},{"$f":"IF('TABLA DE DECISION'!CF195=\"\",\"\",IF('TABLA DE DECISION'!$A$156=1,MAX('TABLA DE DECISION'!CF$159:CF$208)-'TABLA DE DECISION'!CF195,'TABLA DE DECISION'!CF195-MIN('TABLA DE DECISION'!CF$159:CF$208)))","v":""},{"$f":"IF('TABLA DE DECISION'!CG195=\"\",\"\",IF('TABLA DE DECISION'!$A$156=1,MAX('TABLA DE DECISION'!CG$159:CG$208)-'TABLA DE DECISION'!CG195,'TABLA DE DECISION'!CG195-MIN('TABLA DE DECISION'!CG$159:CG$208)))","v":""},{"$f":"IF('TABLA DE DECISION'!CH195=\"\",\"\",IF('TABLA DE DECISION'!$A$156=1,MAX('TABLA DE DECISION'!CH$159:CH$208)-'TABLA DE DECISION'!CH195,'TABLA DE DECISION'!CH195-MIN('TABLA DE DECISION'!CH$159:CH$208)))","v":""},{"$f":"IF('TABLA DE DECISION'!CI195=\"\",\"\",IF('TABLA DE DECISION'!$A$156=1,MAX('TABLA DE DECISION'!CI$159:CI$208)-'TABLA DE DECISION'!CI195,'TABLA DE DECISION'!CI195-MIN('TABLA DE DECISION'!CI$159:CI$208)))","v":""},{"$f":"IF('TABLA DE DECISION'!CJ195=\"\",\"\",IF('TABLA DE DECISION'!$A$156=1,MAX('TABLA DE DECISION'!CJ$159:CJ$208)-'TABLA DE DECISION'!CJ195,'TABLA DE DECISION'!CJ195-MIN('TABLA DE DECISION'!CJ$159:CJ$208)))","v":""},{"$f":"IF('TABLA DE DECISION'!CK195=\"\",\"\",IF('TABLA DE DECISION'!$A$156=1,MAX('TABLA DE DECISION'!CK$159:CK$208)-'TABLA DE DECISION'!CK195,'TABLA DE DECISION'!CK195-MIN('TABLA DE DECISION'!CK$159:CK$208)))","v":""},{"$f":"IF('TABLA DE DECISION'!CL195=\"\",\"\",IF('TABLA DE DECISION'!$A$156=1,MAX('TABLA DE DECISION'!CL$159:CL$208)-'TABLA DE DECISION'!CL195,'TABLA DE DECISION'!CL195-MIN('TABLA DE DECISION'!CL$159:CL$208)))","v":""},{"$f":"IF('TABLA DE DECISION'!CM195=\"\",\"\",IF('TABLA DE DECISION'!$A$156=1,MAX('TABLA DE DECISION'!CM$159:CM$208)-'TABLA DE DECISION'!CM195,'TABLA DE DECISION'!CM195-MIN('TABLA DE DECISION'!CM$159:CM$208)))","v":""},{"$f":"IF('TABLA DE DECISION'!CN195=\"\",\"\",IF('TABLA DE DECISION'!$A$156=1,MAX('TABLA DE DECISION'!CN$159:CN$208)-'TABLA DE DECISION'!CN195,'TABLA DE DECISION'!CN195-MIN('TABLA DE DECISION'!CN$159:CN$208)))","v":""},{"$f":"IF('TABLA DE DECISION'!CO195=\"\",\"\",IF('TABLA DE DECISION'!$A$156=1,MAX('TABLA DE DECISION'!CO$159:CO$208)-'TABLA DE DECISION'!CO195,'TABLA DE DECISION'!CO195-MIN('TABLA DE DECISION'!CO$159:CO$208)))","v":""},{"$f":"IF('TABLA DE DECISION'!CP195=\"\",\"\",IF('TABLA DE DECISION'!$A$156=1,MAX('TABLA DE DECISION'!CP$159:CP$208)-'TABLA DE DECISION'!CP195,'TABLA DE DECISION'!CP195-MIN('TABLA DE DECISION'!CP$159:CP$208)))","v":""},{"$f":"IF('TABLA DE DECISION'!CQ195=\"\",\"\",IF('TABLA DE DECISION'!$A$156=1,MAX('TABLA DE DECISION'!CQ$159:CQ$208)-'TABLA DE DECISION'!CQ195,'TABLA DE DECISION'!CQ195-MIN('TABLA DE DECISION'!CQ$159:CQ$208)))","v":""},{"$f":"IF('TABLA DE DECISION'!CR195=\"\",\"\",IF('TABLA DE DECISION'!$A$156=1,MAX('TABLA DE DECISION'!CR$159:CR$208)-'TABLA DE DECISION'!CR195,'TABLA DE DECISION'!CR195-MIN('TABLA DE DECISION'!CR$159:CR$208)))","v":""},{"$f":"IF('TABLA DE DECISION'!CS195=\"\",\"\",IF('TABLA DE DECISION'!$A$156=1,MAX('TABLA DE DECISION'!CS$159:CS$208)-'TABLA DE DECISION'!CS195,'TABLA DE DECISION'!CS195-MIN('TABLA DE DECISION'!CS$159:CS$208)))","v":""},{"$f":"IF('TABLA DE DECISION'!CT195=\"\",\"\",IF('TABLA DE DECISION'!$A$156=1,MAX('TABLA DE DECISION'!CT$159:CT$208)-'TABLA DE DECISION'!CT195,'TABLA DE DECISION'!CT195-MIN('TABLA DE DECISION'!CT$159:CT$208)))","v":""},{"$f":"IF('TABLA DE DECISION'!CU195=\"\",\"\",IF('TABLA DE DECISION'!$A$156=1,MAX('TABLA DE DECISION'!CU$159:CU$208)-'TABLA DE DECISION'!CU195,'TABLA DE DECISION'!CU195-MIN('TABLA DE DECISION'!CU$159:CU$208)))","v":""},{"$f":"IF('TABLA DE DECISION'!CV195=\"\",\"\",IF('TABLA DE DECISION'!$A$156=1,MAX('TABLA DE DECISION'!CV$159:CV$208)-'TABLA DE DECISION'!CV195,'TABLA DE DECISION'!CV195-MIN('TABLA DE DECISION'!CV$159:CV$208)))","v":""},{"$f":"IF('TABLA DE DECISION'!CW195=\"\",\"\",IF('TABLA DE DECISION'!$A$156=1,MAX('TABLA DE DECISION'!CW$159:CW$208)-'TABLA DE DECISION'!CW195,'TABLA DE DECISION'!CW195-MIN('TABLA DE DECISION'!CW$159:CW$208)))","v":""},{"$f":"IF('TABLA DE DECISION'!CX195=\"\",\"\",IF('TABLA DE DECISION'!$A$156=1,MAX('TABLA DE DECISION'!CX$159:CX$208)-'TABLA DE DECISION'!CX195,'TABLA DE DECISION'!CX195-MIN('TABLA DE DECISION'!CX$159:CX$208)))","v":""},{"$f":"IF('TABLA DE DECISION'!CY195=\"\",\"\",IF('TABLA DE DECISION'!$A$156=1,MAX('TABLA DE DECISION'!CY$159:CY$208)-'TABLA DE DECISION'!CY195,'TABLA DE DECISION'!CY195-MIN('TABLA DE DECISION'!CY$159:CY$208)))","v":""},{"$f":"IF('TABLA DE DECISION'!CZ195=\"\",\"\",IF('TABLA DE DECISION'!$A$156=1,MAX('TABLA DE DECISION'!CZ$159:CZ$208)-'TABLA DE DECISION'!CZ195,'TABLA DE DECISION'!CZ195-MIN('TABLA DE DECISION'!CZ$159:CZ$208)))","v":""},{"$f":"IF('TABLA DE DECISION'!DA195=\"\",\"\",IF('TABLA DE DECISION'!$A$156=1,MAX('TABLA DE DECISION'!DA$159:DA$208)-'TABLA DE DECISION'!DA195,'TABLA DE DECISION'!DA195-MIN('TABLA DE DECISION'!DA$159:DA$208)))","v":""},{"$f":"IF('TABLA DE DECISION'!DB195=\"\",\"\",IF('TABLA DE DECISION'!$A$156=1,MAX('TABLA DE DECISION'!DB$159:DB$208)-'TABLA DE DECISION'!DB195,'TABLA DE DECISION'!DB195-MIN('TABLA DE DECISION'!DB$159:DB$208)))","v":""},{"$f":"IF('TABLA DE DECISION'!DC195=\"\",\"\",IF('TABLA DE DECISION'!$A$156=1,MAX('TABLA DE DECISION'!DC$159:DC$208)-'TABLA DE DECISION'!DC195,'TABLA DE DECISION'!DC195-MIN('TABLA DE DECISION'!DC$159:DC$208)))","v":""},{"$f":"IF('TABLA DE DECISION'!DD195=\"\",\"\",IF('TABLA DE DECISION'!$A$156=1,MAX('TABLA DE DECISION'!DD$159:DD$208)-'TABLA DE DECISION'!DD195,'TABLA DE DECISION'!DD195-MIN('TABLA DE DECISION'!DD$159:DD$208)))","v":""},{"$f":"IF('TABLA DE DECISION'!DE195=\"\",\"\",IF('TABLA DE DECISION'!$A$156=1,MAX('TABLA DE DECISION'!DE$159:DE$208)-'TABLA DE DECISION'!DE195,'TABLA DE DECISION'!DE195-MIN('TABLA DE DECISION'!DE$159:DE$208)))","v":""},null,{"$f":"IF(C39=\"\",\"\",SUMPRODUCT(C39:AZ39,'TABLA DE DECISION'!BH$156:DE$156))","v":""}]
[{"$f":"IF('TABLA DE DECISION'!BF196=\"\",\"\",'TABLA DE DECISION'!BF196)","v":""},{"$f":"IF('TABLA DE DECISION'!BG196=\"\",\"\",'TABLA DE DECISION'!BG196)","v":"a38"},{"$f":"IF('TABLA DE DECISION'!BH196=\"\",\"\",IF('TABLA DE DECISION'!$A$156=1,MAX('TABLA DE DECISION'!BH$159:BH$208)-'TABLA DE DECISION'!BH196,'TABLA DE DECISION'!BH196-MIN('TABLA DE DECISION'!BH$159:BH$208)))","v":""},{"$f":"IF('TABLA DE DECISION'!BI196=\"\",\"\",IF('TABLA DE DECISION'!$A$156=1,MAX('TABLA DE DECISION'!BI$159:BI$208)-'TABLA DE DECISION'!BI196,'TABLA DE DECISION'!BI196-MIN('TABLA DE DECISION'!BI$159:BI$208)))","v":""},{"$f":"IF('TABLA DE DECISION'!BJ196=\"\",\"\",IF('TABLA DE DECISION'!$A$156=1,MAX('TABLA DE DECISION'!BJ$159:BJ$208)-'TABLA DE DECISION'!BJ196,'TABLA DE DECISION'!BJ196-MIN('TABLA DE DECISION'!BJ$159:BJ$208)))","v":""},{"$f":"IF('TABLA DE DECISION'!BK196=\"\",\"\",IF('TABLA DE DECISION'!$A$156=1,MAX('TABLA DE DECISION'!BK$159:BK$208)-'TABLA DE DECISION'!BK196,'TABLA DE DECISION'!BK196-MIN('TABLA DE DECISION'!BK$159:BK$208)))","v":""},{"$f":"IF('TABLA DE DECISION'!BL196=\"\",\"\",IF('TABLA DE DECISION'!$A$156=1,MAX('TABLA DE DECISION'!BL$159:BL$208)-'TABLA DE DECISION'!BL196,'TABLA DE DECISION'!BL196-MIN('TABLA DE DECISION'!BL$159:BL$208)))","v":""},{"$f":"IF('TABLA DE DECISION'!BM196=\"\",\"\",IF('TABLA DE DECISION'!$A$156=1,MAX('TABLA DE DECISION'!BM$159:BM$208)-'TABLA DE DECISION'!BM196,'TABLA DE DECISION'!BM196-MIN('TABLA DE DECISION'!BM$159:BM$208)))","v":""},{"$f":"IF('TABLA DE DECISION'!BN196=\"\",\"\",IF('TABLA DE DECISION'!$A$156=1,MAX('TABLA DE DECISION'!BN$159:BN$208)-'TABLA DE DECISION'!BN196,'TABLA DE DECISION'!BN196-MIN('TABLA DE DECISION'!BN$159:BN$208)))","v":""},{"$f":"IF('TABLA DE DECISION'!BO196=\"\",\"\",IF('TABLA DE DECISION'!$A$156=1,MAX('TABLA DE DECISION'!BO$159:BO$208)-'TABLA DE DECISION'!BO196,'TABLA DE DECISION'!BO196-MIN('TABLA DE DECISION'!BO$159:BO$208)))","v":""},{"$f":"IF('TABLA DE DECISION'!BP196=\"\",\"\",IF('TABLA DE DECISION'!$A$156=1,MAX('TABLA DE DECISION'!BP$159:BP$208)-'TABLA DE DECISION'!BP196,'TABLA DE DECISION'!BP196-MIN('TABLA DE DECISION'!BP$159:BP$208)))","v":""},{"$f":"IF('TABLA DE DECISION'!BQ196=\"\",\"\",IF('TABLA DE DECISION'!$A$156=1,MAX('TABLA DE DECISION'!BQ$159:BQ$208)-'TABLA DE DECISION'!BQ196,'TABLA DE DECISION'!BQ196-MIN('TABLA DE DECISION'!BQ$159:BQ$208)))","v":""},{"$f":"IF('TABLA DE DECISION'!BR196=\"\",\"\",IF('TABLA DE DECISION'!$A$156=1,MAX('TABLA DE DECISION'!BR$159:BR$208)-'TABLA DE DECISION'!BR196,'TABLA DE DECISION'!BR196-MIN('TABLA DE DECISION'!BR$159:BR$208)))","v":""},{"$f":"IF('TABLA DE DECISION'!BS196=\"\",\"\",IF('TABLA DE DECISION'!$A$156=1,MAX('TABLA DE DECISION'!BS$159:BS$208)-'TABLA DE DECISION'!BS196,'TABLA DE DECISION'!BS196-MIN('TABLA DE DECISION'!BS$159:BS$208)))","v":""},{"$f":"IF('TABLA DE DECISION'!BT196=\"\",\"\",IF('TABLA DE DECISION'!$A$156=1,MAX('TABLA DE DECISION'!BT$159:BT$208)-'TABLA DE DECISION'!BT196,'TABLA DE DECISION'!BT196-MIN('TABLA DE DECISION'!BT$159:BT$208)))","v":""},{"$f":"IF('TABLA DE DECISION'!BU196=\"\",\"\",IF('TABLA DE DECISION'!$A$156=1,MAX('TABLA DE DECISION'!BU$159:BU$208)-'TABLA DE DECISION'!BU196,'TABLA DE DECISION'!BU196-MIN('TABLA DE DECISION'!BU$159:BU$208)))","v":""},{"$f":"IF('TABLA DE DECISION'!BV196=\"\",\"\",IF('TABLA DE DECISION'!$A$156=1,MAX('TABLA DE DECISION'!BV$159:BV$208)-'TABLA DE DECISION'!BV196,'TABLA DE DECISION'!BV196-MIN('TABLA DE DECISION'!BV$159:BV$208)))","v":""},{"$f":"IF('TABLA DE DECISION'!BW196=\"\",\"\",IF('TABLA DE DECISION'!$A$156=1,MAX('TABLA DE DECISION'!BW$159:BW$208)-'TABLA DE DECISION'!BW196,'TABLA DE DECISION'!BW196-MIN('TABLA DE DECISION'!BW$159:BW$208)))","v":""},{"$f":"IF('TABLA DE DECISION'!BX196=\"\",\"\",IF('TABLA DE DECISION'!$A$156=1,MAX('TABLA DE DECISION'!BX$159:BX$208)-'TABLA DE DECISION'!BX196,'TABLA DE DECISION'!BX196-MIN('TABLA DE DECISION'!BX$159:BX$208)))","v":""},{"$f":"IF('TABLA DE DECISION'!BY196=\"\",\"\",IF('TABLA DE DECISION'!$A$156=1,MAX('TABLA DE DECISION'!BY$159:BY$208)-'TABLA DE DECISION'!BY196,'TABLA DE DECISION'!BY196-MIN('TABLA DE DECISION'!BY$159:BY$208)))","v":""},{"$f":"IF('TABLA DE DECISION'!BZ196=\"\",\"\",IF('TABLA DE DECISION'!$A$156=1,MAX('TABLA DE DECISION'!BZ$159:BZ$208)-'TABLA DE DECISION'!BZ196,'TABLA DE DECISION'!BZ196-MIN('TABLA DE DECISION'!BZ$159:BZ$208)))","v":""},{"$f":"IF('TABLA DE DECISION'!CA196=\"\",\"\",IF('TABLA DE DECISION'!$A$156=1,MAX('TABLA DE DECISION'!CA$159:CA$208)-'TABLA DE DECISION'!CA196,'TABLA DE DECISION'!CA196-MIN('TABLA DE DECISION'!CA$159:CA$208)))","v":""},{"$f":"IF('TABLA DE DECISION'!CB196=\"\",\"\",IF('TABLA DE DECISION'!$A$156=1,MAX('TABLA DE DECISION'!CB$159:CB$208)-'TABLA DE DECISION'!CB196,'TABLA DE DECISION'!CB196-MIN('TABLA DE DECISION'!CB$159:CB$208)))","v":""},{"$f":"IF('TABLA DE DECISION'!CC196=\"\",\"\",IF('TABLA DE DECISION'!$A$156=1,MAX('TABLA DE DECISION'!CC$159:CC$208)-'TABLA DE DECISION'!CC196,'TABLA DE DECISION'!CC196-MIN('TABLA DE DECISION'!CC$159:CC$208)))","v":""},{"$f":"IF('TABLA DE DECISION'!CD196=\"\",\"\",IF('TABLA DE DECISION'!$A$156=1,MAX('TABLA DE DECISION'!CD$159:CD$208)-'TABLA DE DECISION'!CD196,'TABLA DE DECISION'!CD196-MIN('TABLA DE DECISION'!CD$159:CD$208)))","v":""},{"$f":"IF('TABLA DE DECISION'!CE196=\"\",\"\",IF('TABLA DE DECISION'!$A$156=1,MAX('TABLA DE DECISION'!CE$159:CE$208)-'TABLA DE DECISION'!CE196,'TABLA DE DECISION'!CE196-MIN('TABLA DE DECISION'!CE$159:CE$208)))","v":""},{"$f":"IF('TABLA DE DECISION'!CF196=\"\",\"\",IF('TABLA DE DECISION'!$A$156=1,MAX('TABLA DE DECISION'!CF$159:CF$208)-'TABLA DE DECISION'!CF196,'TABLA DE DECISION'!CF196-MIN('TABLA DE DECISION'!CF$159:CF$208)))","v":""},{"$f":"IF('TABLA DE DECISION'!CG196=\"\",\"\",IF('TABLA DE DECISION'!$A$156=1,MAX('TABLA DE DECISION'!CG$159:CG$208)-'TABLA DE DECISION'!CG196,'TABLA DE DECISION'!CG196-MIN('TABLA DE DECISION'!CG$159:CG$208)))","v":""},{"$f":"IF('TABLA DE DECISION'!CH196=\"\",\"\",IF('TABLA DE DECISION'!$A$156=1,MAX('TABLA DE DECISION'!CH$159:CH$208)-'TABLA DE DECISION'!CH196,'TABLA DE DECISION'!CH196-MIN('TABLA DE DECISION'!CH$159:CH$208)))","v":""},{"$f":"IF('TABLA DE DECISION'!CI196=\"\",\"\",IF('TABLA DE DECISION'!$A$156=1,MAX('TABLA DE DECISION'!CI$159:CI$208)-'TABLA DE DECISION'!CI196,'TABLA DE DECISION'!CI196-MIN('TABLA DE DECISION'!CI$159:CI$208)))","v":""},{"$f":"IF('TABLA DE DECISION'!CJ196=\"\",\"\",IF('TABLA DE DECISION'!$A$156=1,MAX('TABLA DE DECISION'!CJ$159:CJ$208)-'TABLA DE DECISION'!CJ196,'TABLA DE DECISION'!CJ196-MIN('TABLA DE DECISION'!CJ$159:CJ$208)))","v":""},{"$f":"IF('TABLA DE DECISION'!CK196=\"\",\"\",IF('TABLA DE DECISION'!$A$156=1,MAX('TABLA DE DECISION'!CK$159:CK$208)-'TABLA DE DECISION'!CK196,'TABLA DE DECISION'!CK196-MIN('TABLA DE DECISION'!CK$159:CK$208)))","v":""},{"$f":"IF('TABLA DE DECISION'!CL196=\"\",\"\",IF('TABLA DE DECISION'!$A$156=1,MAX('TABLA DE DECISION'!CL$159:CL$208)-'TABLA DE DECISION'!CL196,'TABLA DE DECISION'!CL196-MIN('TABLA DE DECISION'!CL$159:CL$208)))","v":""},{"$f":"IF('TABLA DE DECISION'!CM196=\"\",\"\",IF('TABLA DE DECISION'!$A$156=1,MAX('TABLA DE DECISION'!CM$159:CM$208)-'TABLA DE DECISION'!CM196,'TABLA DE DECISION'!CM196-MIN('TABLA DE DECISION'!CM$159:CM$208)))","v":""},{"$f":"IF('TABLA DE DECISION'!CN196=\"\",\"\",IF('TABLA DE DECISION'!$A$156=1,MAX('TABLA DE DECISION'!CN$159:CN$208)-'TABLA DE DECISION'!CN196,'TABLA DE DECISION'!CN196-MIN('TABLA DE DECISION'!CN$159:CN$208)))","v":""},{"$f":"IF('TABLA DE DECISION'!CO196=\"\",\"\",IF('TABLA DE DECISION'!$A$156=1,MAX('TABLA DE DECISION'!CO$159:CO$208)-'TABLA DE DECISION'!CO196,'TABLA DE DECISION'!CO196-MIN('TABLA DE DECISION'!CO$159:CO$208)))","v":""},{"$f":"IF('TABLA DE DECISION'!CP196=\"\",\"\",IF('TABLA DE DECISION'!$A$156=1,MAX('TABLA DE DECISION'!CP$159:CP$208)-'TABLA DE DECISION'!CP196,'TABLA DE DECISION'!CP196-MIN('TABLA DE DECISION'!CP$159:CP$208)))","v":""},{"$f":"IF('TABLA DE DECISION'!CQ196=\"\",\"\",IF('TABLA DE DECISION'!$A$156=1,MAX('TABLA DE DECISION'!CQ$159:CQ$208)-'TABLA DE DECISION'!CQ196,'TABLA DE DECISION'!CQ196-MIN('TABLA DE DECISION'!CQ$159:CQ$208)))","v":""},{"$f":"IF('TABLA DE DECISION'!CR196=\"\",\"\",IF('TABLA DE DECISION'!$A$156=1,MAX('TABLA DE DECISION'!CR$159:CR$208)-'TABLA DE DECISION'!CR196,'TABLA DE DECISION'!CR196-MIN('TABLA DE DECISION'!CR$159:CR$208)))","v":""},{"$f":"IF('TABLA DE DECISION'!CS196=\"\",\"\",IF('TABLA DE DECISION'!$A$156=1,MAX('TABLA DE DECISION'!CS$159:CS$208)-'TABLA DE DECISION'!CS196,'TABLA DE DECISION'!CS196-MIN('TABLA DE DECISION'!CS$159:CS$208)))","v":""},{"$f":"IF('TABLA DE DECISION'!CT196=\"\",\"\",IF('TABLA DE DECISION'!$A$156=1,MAX('TABLA DE DECISION'!CT$159:CT$208)-'TABLA DE DECISION'!CT196,'TABLA DE DECISION'!CT196-MIN('TABLA DE DECISION'!CT$159:CT$208)))","v":""},{"$f":"IF('TABLA DE DECISION'!CU196=\"\",\"\",IF('TABLA DE DECISION'!$A$156=1,MAX('TABLA DE DECISION'!CU$159:CU$208)-'TABLA DE DECISION'!CU196,'TABLA DE DECISION'!CU196-MIN('TABLA DE DECISION'!CU$159:CU$208)))","v":""},{"$f":"IF('TABLA DE DECISION'!CV196=\"\",\"\",IF('TABLA DE DECISION'!$A$156=1,MAX('TABLA DE DECISION'!CV$159:CV$208)-'TABLA DE DECISION'!CV196,'TABLA DE DECISION'!CV196-MIN('TABLA DE DECISION'!CV$159:CV$208)))","v":""},{"$f":"IF('TABLA DE DECISION'!CW196=\"\",\"\",IF('TABLA DE DECISION'!$A$156=1,MAX('TABLA DE DECISION'!CW$159:CW$208)-'TABLA DE DECISION'!CW196,'TABLA DE DECISION'!CW196-MIN('TABLA DE DECISION'!CW$159:CW$208)))","v":""},{"$f":"IF('TABLA DE DECISION'!CX196=\"\",\"\",IF('TABLA DE DECISION'!$A$156=1,MAX('TABLA DE DECISION'!CX$159:CX$208)-'TABLA DE DECISION'!CX196,'TABLA DE DECISION'!CX196-MIN('TABLA DE DECISION'!CX$159:CX$208)))","v":""},{"$f":"IF('TABLA DE DECISION'!CY196=\"\",\"\",IF('TABLA DE DECISION'!$A$156=1,MAX('TABLA DE DECISION'!CY$159:CY$208)-'TABLA DE DECISION'!CY196,'TABLA DE DECISION'!CY196-MIN('TABLA DE DECISION'!CY$159:CY$208)))","v":""},{"$f":"IF('TABLA DE DECISION'!CZ196=\"\",\"\",IF('TABLA DE DECISION'!$A$156=1,MAX('TABLA DE DECISION'!CZ$159:CZ$208)-'TABLA DE DECISION'!CZ196,'TABLA DE DECISION'!CZ196-MIN('TABLA DE DECISION'!CZ$159:CZ$208)))","v":""},{"$f":"IF('TABLA DE DECISION'!DA196=\"\",\"\",IF('TABLA DE DECISION'!$A$156=1,MAX('TABLA DE DECISION'!DA$159:DA$208)-'TABLA DE DECISION'!DA196,'TABLA DE DECISION'!DA196-MIN('TABLA DE DECISION'!DA$159:DA$208)))","v":""},{"$f":"IF('TABLA DE DECISION'!DB196=\"\",\"\",IF('TABLA DE DECISION'!$A$156=1,MAX('TABLA DE DECISION'!DB$159:DB$208)-'TABLA DE DECISION'!DB196,'TABLA DE DECISION'!DB196-MIN('TABLA DE DECISION'!DB$159:DB$208)))","v":""},{"$f":"IF('TABLA DE DECISION'!DC196=\"\",\"\",IF('TABLA DE DECISION'!$A$156=1,MAX('TABLA DE DECISION'!DC$159:DC$208)-'TABLA DE DECISION'!DC196,'TABLA DE DECISION'!DC196-MIN('TABLA DE DECISION'!DC$159:DC$208)))","v":""},{"$f":"IF('TABLA DE DECISION'!DD196=\"\",\"\",IF('TABLA DE DECISION'!$A$156=1,MAX('TABLA DE DECISION'!DD$159:DD$208)-'TABLA DE DECISION'!DD196,'TABLA DE DECISION'!DD196-MIN('TABLA DE DECISION'!DD$159:DD$208)))","v":""},{"$f":"IF('TABLA DE DECISION'!DE196=\"\",\"\",IF('TABLA DE DECISION'!$A$156=1,MAX('TABLA DE DECISION'!DE$159:DE$208)-'TABLA DE DECISION'!DE196,'TABLA DE DECISION'!DE196-MIN('TABLA DE DECISION'!DE$159:DE$208)))","v":""},null,{"$f":"IF(C40=\"\",\"\",SUMPRODUCT(C40:AZ40,'TABLA DE DECISION'!BH$156:DE$156))","v":""}]
[{"$f":"IF('TABLA DE DECISION'!BF197=\"\",\"\",'TABLA DE DECISION'!BF197)","v":""},{"$f":"IF('TABLA DE DECISION'!BG197=\"\",\"\",'TABLA DE DECISION'!BG197)","v":"a39"},{"$f":"IF('TABLA DE DECISION'!BH197=\"\",\"\",IF('TABLA DE DECISION'!$A$156=1,MAX('TABLA DE DECISION'!BH$159:BH$208)-'TABLA DE DECISION'!BH197,'TABLA DE DECISION'!BH197-MIN('TABLA DE DECISION'!BH$159:BH$208)))","v":""},{"$f":"IF('TABLA DE DECISION'!BI197=\"\",\"\",IF('TABLA DE DECISION'!$A$156=1,MAX('TABLA DE DECISION'!BI$159:BI$208)-'TABLA DE DECISION'!BI197,'TABLA DE DECISION'!BI197-MIN('TABLA DE DECISION'!BI$159:BI$208)))","v":""},{"$f":"IF('TABLA DE DECISION'!BJ197=\"\",\"\",IF('TABLA DE DECISION'!$A$156=1,MAX('TABLA DE DECISION'!BJ$159:BJ$208)-'TABLA DE DECISION'!BJ197,'TABLA DE DECISION'!BJ197-MIN('TABLA DE DECISION'!BJ$159:BJ$208)))","v":""},{"$f":"IF('TABLA DE DECISION'!BK197=\"\",\"\",IF('TABLA DE DECISION'!$A$156=1,MAX('TABLA DE DECISION'!BK$159:BK$208)-'TABLA DE DECISION'!BK197,'TABLA DE DECISION'!BK197-MIN('TABLA DE DECISION'!BK$159:BK$208)))","v":""},{"$f":"IF('TABLA DE DECISION'!BL197=\"\",\"\",IF('TABLA DE DECISION'!$A$156=1,MAX('TABLA DE DECISION'!BL$159:BL$208)-'TABLA DE DECISION'!BL197,'TABLA DE DECISION'!BL197-MIN('TABLA DE DECISION'!BL$159:BL$208)))","v":""},{"$f":"IF('TABLA DE DECISION'!BM197=\"\",\"\",IF('TABLA DE DECISION'!$A$156=1,MAX('TABLA DE DECISION'!BM$159:BM$208)-'TABLA DE DECISION'!BM197,'TABLA DE DECISION'!BM197-MIN('TABLA DE DECISION'!BM$159:BM$208)))","v":""},{"$f":"IF('TABLA DE DECISION'!BN197=\"\",\"\",IF('TABLA DE DECISION'!$A$156=1,MAX('TABLA DE DECISION'!BN$159:BN$208)-'TABLA DE DECISION'!BN197,'TABLA DE DECISION'!BN197-MIN('TABLA DE DECISION'!BN$159:BN$208)))","v":""},{"$f":"IF('TABLA DE DECISION'!BO197=\"\",\"\",IF('TABLA DE DECISION'!$A$156=1,MAX('TABLA DE DECISION'!BO$159:BO$208)-'TABLA DE DECISION'!BO197,'TABLA DE DECISION'!BO197-MIN('TABLA DE DECISION'!BO$159:BO$208)))","v":""},{"$f":"IF('TABLA DE DECISION'!BP197=\"\",\"\",IF('TABLA DE DECISION'!$A$156=1,MAX('TABLA DE DECISION'!BP$159:BP$208)-'TABLA DE DECISION'!BP197,'TABLA DE DECISION'!BP197-MIN('TABLA DE DECISION'!BP$159:BP$208)))","v":""},{"$f":"IF('TABLA DE DECISION'!BQ197=\"\",\"\",IF('TABLA DE DECISION'!$A$156=1,MAX('TABLA DE DECISION'!BQ$159:BQ$208)-'TABLA DE DECISION'!BQ197,'TABLA DE DECISION'!BQ197-MIN('TABLA DE DECISION'!BQ$159:BQ$208)))","v":""},{"$f":"IF('TABLA DE DECISION'!BR197=\"\",\"\",IF('TABLA DE DECISION'!$A$156=1,MAX('TABLA DE DECISION'!BR$159:BR$208)-'TABLA DE DECISION'!BR197,'TABLA DE DECISION'!BR197-MIN('TABLA DE DECISION'!BR$159:BR$208)))","v":""},{"$f":"IF('TABLA DE DECISION'!BS197=\"\",\"\",IF('TABLA DE DECISION'!$A$156=1,MAX('TABLA DE DECISION'!BS$159:BS$208)-'TABLA DE DECISION'!BS197,'TABLA DE DECISION'!BS197-MIN('TABLA DE DECISION'!BS$159:BS$208)))","v":""},{"$f":"IF('TABLA DE DECISION'!BT197=\"\",\"\",IF('TABLA DE DECISION'!$A$156=1,MAX('TABLA DE DECISION'!BT$159:BT$208)-'TABLA DE DECISION'!BT197,'TABLA DE DECISION'!BT197-MIN('TABLA DE DECISION'!BT$159:BT$208)))","v":""},{"$f":"IF('TABLA DE DECISION'!BU197=\"\",\"\",IF('TABLA DE DECISION'!$A$156=1,MAX('TABLA DE DECISION'!BU$159:BU$208)-'TABLA DE DECISION'!BU197,'TABLA DE DECISION'!BU197-MIN('TABLA DE DECISION'!BU$159:BU$208)))","v":""},{"$f":"IF('TABLA DE DECISION'!BV197=\"\",\"\",IF('TABLA DE DECISION'!$A$156=1,MAX('TABLA DE DECISION'!BV$159:BV$208)-'TABLA DE DECISION'!BV197,'TABLA DE DECISION'!BV197-MIN('TABLA DE DECISION'!BV$159:BV$208)))","v":""},{"$f":"IF('TABLA DE DECISION'!BW197=\"\",\"\",IF('TABLA DE DECISION'!$A$156=1,MAX('TABLA DE DECISION'!BW$159:BW$208)-'TABLA DE DECISION'!BW197,'TABLA DE DECISION'!BW197-MIN('TABLA DE DECISION'!BW$159:BW$208)))","v":""},{"$f":"IF('TABLA DE DECISION'!BX197=\"\",\"\",IF('TABLA DE DECISION'!$A$156=1,MAX('TABLA DE DECISION'!BX$159:BX$208)-'TABLA DE DECISION'!BX197,'TABLA DE DECISION'!BX197-MIN('TABLA DE DECISION'!BX$159:BX$208)))","v":""},{"$f":"IF('TABLA DE DECISION'!BY197=\"\",\"\",IF('TABLA DE DECISION'!$A$156=1,MAX('TABLA DE DECISION'!BY$159:BY$208)-'TABLA DE DECISION'!BY197,'TABLA DE DECISION'!BY197-MIN('TABLA DE DECISION'!BY$159:BY$208)))","v":""},{"$f":"IF('TABLA DE DECISION'!BZ197=\"\",\"\",IF('TABLA DE DECISION'!$A$156=1,MAX('TABLA DE DECISION'!BZ$159:BZ$208)-'TABLA DE DECISION'!BZ197,'TABLA DE DECISION'!BZ197-MIN('TABLA DE DECISION'!BZ$159:BZ$208)))","v":""},{"$f":"IF('TABLA DE DECISION'!CA197=\"\",\"\",IF('TABLA DE DECISION'!$A$156=1,MAX('TABLA DE DECISION'!CA$159:CA$208)-'TABLA DE DECISION'!CA197,'TABLA DE DECISION'!CA197-MIN('TABLA DE DECISION'!CA$159:CA$208)))","v":""},{"$f":"IF('TABLA DE DECISION'!CB197=\"\",\"\",IF('TABLA DE DECISION'!$A$156=1,MAX('TABLA DE DECISION'!CB$159:CB$208)-'TABLA DE DECISION'!CB197,'TABLA DE DECISION'!CB197-MIN('TABLA DE DECISION'!CB$159:CB$208)))","v":""},{"$f":"IF('TABLA DE DECISION'!CC197=\"\",\"\",IF('TABLA DE DECISION'!$A$156=1,MAX('TABLA DE DECISION'!CC$159:CC$208)-'TABLA DE DECISION'!CC197,'TABLA DE DECISION'!CC197-MIN('TABLA DE DECISION'!CC$159:CC$208)))","v":""},{"$f":"IF('TABLA DE DECISION'!CD197=\"\",\"\",IF('TABLA DE DECISION'!$A$156=1,MAX('TABLA DE DECISION'!CD$159:CD$208)-'TABLA DE DECISION'!CD197,'TABLA DE DECISION'!CD197-MIN('TABLA DE DECISION'!CD$159:CD$208)))","v":""},{"$f":"IF('TABLA DE DECISION'!CE197=\"\",\"\",IF('TABLA DE DECISION'!$A$156=1,MAX('TABLA DE DECISION'!CE$159:CE$208)-'TABLA DE DECISION'!CE197,'TABLA DE DECISION'!CE197-MIN('TABLA DE DECISION'!CE$159:CE$208)))","v":""},{"$f":"IF('TABLA DE DECISION'!CF197=\"\",\"\",IF('TABLA DE DECISION'!$A$156=1,MAX('TABLA DE DECISION'!CF$159:CF$208)-'TABLA DE DECISION'!CF197,'TABLA DE DECISION'!CF197-MIN('TABLA DE DECISION'!CF$159:CF$208)))","v":""},{"$f":"IF('TABLA DE DECISION'!CG197=\"\",\"\",IF('TABLA DE DECISION'!$A$156=1,MAX('TABLA DE DECISION'!CG$159:CG$208)-'TABLA DE DECISION'!CG197,'TABLA DE DECISION'!CG197-MIN('TABLA DE DECISION'!CG$159:CG$208)))","v":""},{"$f":"IF('TABLA DE DECISION'!CH197=\"\",\"\",IF('TABLA DE DECISION'!$A$156=1,MAX('TABLA DE DECISION'!CH$159:CH$208)-'TABLA DE DECISION'!CH197,'TABLA DE DECISION'!CH197-MIN('TABLA DE DECISION'!CH$159:CH$208)))","v":""},{"$f":"IF('TABLA DE DECISION'!CI197=\"\",\"\",IF('TABLA DE DECISION'!$A$156=1,MAX('TABLA DE DECISION'!CI$159:CI$208)-'TABLA DE DECISION'!CI197,'TABLA DE DECISION'!CI197-MIN('TABLA DE DECISION'!CI$159:CI$208)))","v":""},{"$f":"IF('TABLA DE DECISION'!CJ197=\"\",\"\",IF('TABLA DE DECISION'!$A$156=1,MAX('TABLA DE DECISION'!CJ$159:CJ$208)-'TABLA DE DECISION'!CJ197,'TABLA DE DECISION'!CJ197-MIN('TABLA DE DECISION'!CJ$159:CJ$208)))","v":""},{"$f":"IF('TABLA DE DECISION'!CK197=\"\",\"\",IF('TABLA DE DECISION'!$A$156=1,MAX('TABLA DE DECISION'!CK$159:CK$208)-'TABLA DE DECISION'!CK197,'TABLA DE DECISION'!CK197-MIN('TABLA DE DECISION'!CK$159:CK$208)))","v":""},{"$f":"IF('TABLA DE DECISION'!CL197=\"\",\"\",IF('TABLA DE DECISION'!$A$156=1,MAX('TABLA DE DECISION'!CL$159:CL$208)-'TABLA DE DECISION'!CL197,'TABLA DE DECISION'!CL197-MIN('TABLA DE DECISION'!CL$159:CL$208)))","v":""},{"$f":"IF('TABLA DE DECISION'!CM197=\"\",\"\",IF('TABLA DE DECISION'!$A$156=1,MAX('TABLA DE DECISION'!CM$159:CM$208)-'TABLA DE DECISION'!CM197,'TABLA DE DECISION'!CM197-MIN('TABLA DE DECISION'!CM$159:CM$208)))","v":""},{"$f":"IF('TABLA DE DECISION'!CN197=\"\",\"\",IF('TABLA DE DECISION'!$A$156=1,MAX('TABLA DE DECISION'!CN$159:CN$208)-'TABLA DE DECISION'!CN197,'TABLA DE DECISION'!CN197-MIN('TABLA DE DECISION'!CN$159:CN$208)))","v":""},{"$f":"IF('TABLA DE DECISION'!CO197=\"\",\"\",IF('TABLA DE DECISION'!$A$156=1,MAX('TABLA DE DECISION'!CO$159:CO$208)-'TABLA DE DECISION'!CO197,'TABLA DE DECISION'!CO197-MIN('TABLA DE DECISION'!CO$159:CO$208)))","v":""},{"$f":"IF('TABLA DE DECISION'!CP197=\"\",\"\",IF('TABLA DE DECISION'!$A$156=1,MAX('TABLA DE DECISION'!CP$159:CP$208)-'TABLA DE DECISION'!CP197,'TABLA DE DECISION'!CP197-MIN('TABLA DE DECISION'!CP$159:CP$208)))","v":""},{"$f":"IF('TABLA DE DECISION'!CQ197=\"\",\"\",IF('TABLA DE DECISION'!$A$156=1,MAX('TABLA DE DECISION'!CQ$159:CQ$208)-'TABLA DE DECISION'!CQ197,'TABLA DE DECISION'!CQ197-MIN('TABLA DE DECISION'!CQ$159:CQ$208)))","v":""},{"$f":"IF('TABLA DE DECISION'!CR197=\"\",\"\",IF('TABLA DE DECISION'!$A$156=1,MAX('TABLA DE DECISION'!CR$159:CR$208)-'TABLA DE DECISION'!CR197,'TABLA DE DECISION'!CR197-MIN('TABLA DE DECISION'!CR$159:CR$208)))","v":""},{"$f":"IF('TABLA DE DECISION'!CS197=\"\",\"\",IF('TABLA DE DECISION'!$A$156=1,MAX('TABLA DE DECISION'!CS$159:CS$208)-'TABLA DE DECISION'!CS197,'TABLA DE DECISION'!CS197-MIN('TABLA DE DECISION'!CS$159:CS$208)))","v":""},{"$f":"IF('TABLA DE DECISION'!CT197=\"\",\"\",IF('TABLA DE DECISION'!$A$156=1,MAX('TABLA DE DECISION'!CT$159:CT$208)-'TABLA DE DECISION'!CT197,'TABLA DE DECISION'!CT197-MIN('TABLA DE DECISION'!CT$159:CT$208)))","v":""},{"$f":"IF('TABLA DE DECISION'!CU197=\"\",\"\",IF('TABLA DE DECISION'!$A$156=1,MAX('TABLA DE DECISION'!CU$159:CU$208)-'TABLA DE DECISION'!CU197,'TABLA DE DECISION'!CU197-MIN('TABLA DE DECISION'!CU$159:CU$208)))","v":""},{"$f":"IF('TABLA DE DECISION'!CV197=\"\",\"\",IF('TABLA DE DECISION'!$A$156=1,MAX('TABLA DE DECISION'!CV$159:CV$208)-'TABLA DE DECISION'!CV197,'TABLA DE DECISION'!CV197-MIN('TABLA DE DECISION'!CV$159:CV$208)))","v":""},{"$f":"IF('TABLA DE DECISION'!CW197=\"\",\"\",IF('TABLA DE DECISION'!$A$156=1,MAX('TABLA DE DECISION'!CW$159:CW$208)-'TABLA DE DECISION'!CW197,'TABLA DE DECISION'!CW197-MIN('TABLA DE DECISION'!CW$159:CW$208)))","v":""},{"$f":"IF('TABLA DE DECISION'!CX197=\"\",\"\",IF('TABLA DE DECISION'!$A$156=1,MAX('TABLA DE DECISION'!CX$159:CX$208)-'TABLA DE DECISION'!CX197,'TABLA DE DECISION'!CX197-MIN('TABLA DE DECISION'!CX$159:CX$208)))","v":""},{"$f":"IF('TABLA DE DECISION'!CY197=\"\",\"\",IF('TABLA DE DECISION'!$A$156=1,MAX('TABLA DE DECISION'!CY$159:CY$208)-'TABLA DE DECISION'!CY197,'TABLA DE DECISION'!CY197-MIN('TABLA DE DECISION'!CY$159:CY$208)))","v":""},{"$f":"IF('TABLA DE DECISION'!CZ197=\"\",\"\",IF('TABLA DE DECISION'!$A$156=1,MAX('TABLA DE DECISION'!CZ$159:CZ$208)-'TABLA DE DECISION'!CZ197,'TABLA DE DECISION'!CZ197-MIN('TABLA DE DECISION'!CZ$159:CZ$208)))","v":""},{"$f":"IF('TABLA DE DECISION'!DA197=\"\",\"\",IF('TABLA DE DECISION'!$A$156=1,MAX('TABLA DE DECISION'!DA$159:DA$208)-'TABLA DE DECISION'!DA197,'TABLA DE DECISION'!DA197-MIN('TABLA DE DECISION'!DA$159:DA$208)))","v":""},{"$f":"IF('TABLA DE DECISION'!DB197=\"\",\"\",IF('TABLA DE DECISION'!$A$156=1,MAX('TABLA DE DECISION'!DB$159:DB$208)-'TABLA DE DECISION'!DB197,'TABLA DE DECISION'!DB197-MIN('TABLA DE DECISION'!DB$159:DB$208)))","v":""},{"$f":"IF('TABLA DE DECISION'!DC197=\"\",\"\",IF('TABLA DE DECISION'!$A$156=1,MAX('TABLA DE DECISION'!DC$159:DC$208)-'TABLA DE DECISION'!DC197,'TABLA DE DECISION'!DC197-MIN('TABLA DE DECISION'!DC$159:DC$208)))","v":""},{"$f":"IF('TABLA DE DECISION'!DD197=\"\",\"\",IF('TABLA DE DECISION'!$A$156=1,MAX('TABLA DE DECISION'!DD$159:DD$208)-'TABLA DE DECISION'!DD197,'TABLA DE DECISION'!DD197-MIN('TABLA DE DECISION'!DD$159:DD$208)))","v":""},{"$f":"IF('TABLA DE DECISION'!DE197=\"\",\"\",IF('TABLA DE DECISION'!$A$156=1,MAX('TABLA DE DECISION'!DE$159:DE$208)-'TABLA DE DECISION'!DE197,'TABLA DE DECISION'!DE197-MIN('TABLA DE DECISION'!DE$159:DE$208)))","v":""},null,{"$f":"IF(C41=\"\",\"\",SUMPRODUCT(C41:AZ41,'TABLA DE DECISION'!BH$156:DE$156))","v":""}]
[{"$f":"IF('TABLA DE DECISION'!BF198=\"\",\"\",'TABLA DE DECISION'!BF198)","v":""},{"$f":"IF('TABLA DE DECISION'!BG198=\"\",\"\",'TABLA DE DECISION'!BG198)","v":"a40"},{"$f":"IF('TABLA DE DECISION'!BH198=\"\",\"\",IF('TABLA DE DECISION'!$A$156=1,MAX('TABLA DE DECISION'!BH$159:BH$208)-'TABLA DE DECISION'!BH198,'TABLA DE DECISION'!BH198-MIN('TABLA DE DECISION'!BH$159:BH$208)))","v":""},{"$f":"IF('TABLA DE DECISION'!BI198=\"\",\"\",IF('TABLA DE DECISION'!$A$156=1,MAX('TABLA DE DECISION'!BI$159:BI$208)-'TABLA DE DECISION'!BI198,'TABLA DE DECISION'!BI198-MIN('TABLA DE DECISION'!BI$159:BI$208)))","v":""},{"$f":"IF('TABLA DE DECISION'!BJ198=\"\",\"\",IF('TABLA DE DECISION'!$A$156=1,MAX('TABLA DE DECISION'!BJ$159:BJ$208)-'TABLA DE DECISION'!BJ198,'TABLA DE DECISION'!BJ198-MIN('TABLA DE DECISION'!BJ$159:BJ$208)))","v":""},{"$f":"IF('TABLA DE DECISION'!BK198=\"\",\"\",IF('TABLA DE DECISION'!$A$156=1,MAX('TABLA DE DECISION'!BK$159:BK$208)-'TABLA DE DECISION'!BK198,'TABLA DE DECISION'!BK198-MIN('TABLA DE DECISION'!BK$159:BK$208)))","v":""},{"$f":"IF('TABLA DE DECISION'!BL198=\"\",\"\",IF('TABLA DE DECISION'!$A$156=1,MAX('TABLA DE DECISION'!BL$159:BL$208)-'TABLA DE DECISION'!BL198,'TABLA DE DECISION'!BL198-MIN('TABLA DE DECISION'!BL$159:BL$208)))","v":""},{"$f":"IF('TABLA DE DECISION'!BM198=\"\",\"\",IF('TABLA DE DECISION'!$A$156=1,MAX('TABLA DE DECISION'!BM$159:BM$208)-'TABLA DE DECISION'!BM198,'TABLA DE DECISION'!BM198-MIN('TABLA DE DECISION'!BM$159:BM$208)))","v":""},{"$f":"IF('TABLA DE DECISION'!BN198=\"\",\"\",IF('TABLA DE DECISION'!$A$156=1,MAX('TABLA DE DECISION'!BN$159:BN$208)-'TABLA DE DECISION'!BN198,'TABLA DE DECISION'!BN198-MIN('TABLA DE DECISION'!BN$159:BN$208)))","v":""},{"$f":"IF('TABLA DE DECISION'!BO198=\"\",\"\",IF('TABLA DE DECISION'!$A$156=1,MAX('TABLA DE DECISION'!BO$159:BO$208)-'TABLA DE DECISION'!BO198,'TABLA DE DECISION'!BO198-MIN('TABLA DE DECISION'!BO$159:BO$208)))","v":""},{"$f":"IF('TABLA DE DECISION'!BP198=\"\",\"\",IF('TABLA DE DECISION'!$A$156=1,MAX('TABLA DE DECISION'!BP$159:BP$208)-'TABLA DE DECISION'!BP198,'TABLA DE DECISION'!BP198-MIN('TABLA DE DECISION'!BP$159:BP$208)))","v":""},{"$f":"IF('TABLA DE DECISION'!BQ198=\"\",\"\",IF('TABLA DE DECISION'!$A$156=1,MAX('TABLA DE DECISION'!BQ$159:BQ$208)-'TABLA DE DECISION'!BQ198,'TABLA DE DECISION'!BQ198-MIN('TABLA DE DECISION'!BQ$159:BQ$208)))","v":""},{"$f":"IF('TABLA DE DECISION'!BR198=\"\",\"\",IF('TABLA DE DECISION'!$A$156=1,MAX('TABLA DE DECISION'!BR$159:BR$208)-'TABLA DE DECISION'!BR198,'TABLA DE DECISION'!BR198-MIN('TABLA DE DECISION'!BR$159:BR$208)))","v":""},{"$f":"IF('TABLA DE DECISION'!BS198=\"\",\"\",IF('TABLA DE DECISION'!$A$156=1,MAX('TABLA DE DECISION'!BS$159:BS$208)-'TABLA DE DECISION'!BS198,'TABLA DE DECISION'!BS198-MIN('TABLA DE DECISION'!BS$159:BS$208)))","v":""},{"$f":"IF('TABLA DE DECISION'!BT198=\"\",\"\",IF('TABLA DE DECISION'!$A$156=1,MAX('TABLA DE DECISION'!BT$159:BT$208)-'TABLA DE DECISION'!BT198,'TABLA DE DECISION'!BT198-MIN('TABLA DE DECISION'!BT$159:BT$208)))","v":""},{"$f":"IF('TABLA DE DECISION'!BU198=\"\",\"\",IF('TABLA DE DECISION'!$A$156=1,MAX('TABLA DE DECISION'!BU$159:BU$208)-'TABLA DE DECISION'!BU198,'TABLA DE DECISION'!BU198-MIN('TABLA DE DECISION'!BU$159:BU$208)))","v":""},{"$f":"IF('TABLA DE DECISION'!BV198=\"\",\"\",IF('TABLA DE DECISION'!$A$156=1,MAX('TABLA DE DECISION'!BV$159:BV$208)-'TABLA DE DECISION'!BV198,'TABLA DE DECISION'!BV198-MIN('TABLA DE DECISION'!BV$159:BV$208)))","v":""},{"$f":"IF('TABLA DE DECISION'!BW198=\"\",\"\",IF('TABLA DE DECISION'!$A$156=1,MAX('TABLA DE DECISION'!BW$159:BW$208)-'TABLA DE DECISION'!BW198,'TABLA DE DECISION'!BW198-MIN('TABLA DE DECISION'!BW$159:BW$208)))","v":""},{"$f":"IF('TABLA DE DECISION'!BX198=\"\",\"\",IF('TABLA DE DECISION'!$A$156=1,MAX('TABLA DE DECISION'!BX$159:BX$208)-'TABLA DE DECISION'!BX198,'TABLA DE DECISION'!BX198-MIN('TABLA DE DECISION'!BX$159:BX$208)))","v":""},{"$f":"IF('TABLA DE DECISION'!BY198=\"\",\"\",IF('TABLA DE DECISION'!$A$156=1,MAX('TABLA DE DECISION'!BY$159:BY$208)-'TABLA DE DECISION'!BY198,'TABLA DE DECISION'!BY198-MIN('TABLA DE DECISION'!BY$159:BY$208)))","v":""},{"$f":"IF('TABLA DE DECISION'!BZ198=\"\",\"\",IF('TABLA DE DECISION'!$A$156=1,MAX('TABLA DE DECISION'!BZ$159:BZ$208)-'TABLA DE DECISION'!BZ198,'TABLA DE DECISION'!BZ198-MIN('TABLA DE DECISION'!BZ$159:BZ$208)))","v":""},{"$f":"IF('TABLA DE DECISION'!CA198=\"\",\"\",IF('TABLA DE DECISION'!$A$156=1,MAX('TABLA DE DECISION'!CA$159:CA$208)-'TABLA DE DECISION'!CA198,'TABLA DE DECISION'!CA198-MIN('TABLA DE DECISION'!CA$159:CA$208)))","v":""},{"$f":"IF('TABLA DE DECISION'!CB198=\"\",\"\",IF('TABLA DE DECISION'!$A$156=1,MAX('TABLA DE DECISION'!CB$159:CB$208)-'TABLA DE DECISION'!CB198,'TABLA DE DECISION'!CB198-MIN('TABLA DE DECISION'!CB$159:CB$208)))","v":""},{"$f":"IF('TABLA DE DECISION'!CC198=\"\",\"\",IF('TABLA DE DECISION'!$A$156=1,MAX('TABLA DE DECISION'!CC$159:CC$208)-'TABLA DE DECISION'!CC198,'TABLA DE DECISION'!CC198-MIN('TABLA DE DECISION'!CC$159:CC$208)))","v":""},{"$f":"IF('TABLA DE DECISION'!CD198=\"\",\"\",IF('TABLA DE DECISION'!$A$156=1,MAX('TABLA DE DECISION'!CD$159:CD$208)-'TABLA DE DECISION'!CD198,'TABLA DE DECISION'!CD198-MIN('TABLA DE DECISION'!CD$159:CD$208)))","v":""},{"$f":"IF('TABLA DE DECISION'!CE198=\"\",\"\",IF('TABLA DE DECISION'!$A$156=1,MAX('TABLA DE DECISION'!CE$159:CE$208)-'TABLA DE DECISION'!CE198,'TABLA DE DECISION'!CE198-MIN('TABLA DE DECISION'!CE$159:CE$208)))","v":""},{"$f":"IF('TABLA DE DECISION'!CF198=\"\",\"\",IF('TABLA DE DECISION'!$A$156=1,MAX('TABLA DE DECISION'!CF$159:CF$208)-'TABLA DE DECISION'!CF198,'TABLA DE DECISION'!CF198-MIN('TABLA DE DECISION'!CF$159:CF$208)))","v":""},{"$f":"IF('TABLA DE DECISION'!CG198=\"\",\"\",IF('TABLA DE DECISION'!$A$156=1,MAX('TABLA DE DECISION'!CG$159:CG$208)-'TABLA DE DECISION'!CG198,'TABLA DE DECISION'!CG198-MIN('TABLA DE DECISION'!CG$159:CG$208)))","v":""},{"$f":"IF('TABLA DE DECISION'!CH198=\"\",\"\",IF('TABLA DE DECISION'!$A$156=1,MAX('TABLA DE DECISION'!CH$159:CH$208)-'TABLA DE DECISION'!CH198,'TABLA DE DECISION'!CH198-MIN('TABLA DE DECISION'!CH$159:CH$208)))","v":""},{"$f":"IF('TABLA DE DECISION'!CI198=\"\",\"\",IF('TABLA DE DECISION'!$A$156=1,MAX('TABLA DE DECISION'!CI$159:CI$208)-'TABLA DE DECISION'!CI198,'TABLA DE DECISION'!CI198-MIN('TABLA DE DECISION'!CI$159:CI$208)))","v":""},{"$f":"IF('TABLA DE DECISION'!CJ198=\"\",\"\",IF('TABLA DE DECISION'!$A$156=1,MAX('TABLA DE DECISION'!CJ$159:CJ$208)-'TABLA DE DECISION'!CJ198,'TABLA DE DECISION'!CJ198-MIN('TABLA DE DECISION'!CJ$159:CJ$208)))","v":""},{"$f":"IF('TABLA DE DECISION'!CK198=\"\",\"\",IF('TABLA DE DECISION'!$A$156=1,MAX('TABLA DE DECISION'!CK$159:CK$208)-'TABLA DE DECISION'!CK198,'TABLA DE DECISION'!CK198-MIN('TABLA DE DECISION'!CK$159:CK$208)))","v":""},{"$f":"IF('TABLA DE DECISION'!CL198=\"\",\"\",IF('TABLA DE DECISION'!$A$156=1,MAX('TABLA DE DECISION'!CL$159:CL$208)-'TABLA DE DECISION'!CL198,'TABLA DE DECISION'!CL198-MIN('TABLA DE DECISION'!CL$159:CL$208)))","v":""},{"$f":"IF('TABLA DE DECISION'!CM198=\"\",\"\",IF('TABLA DE DECISION'!$A$156=1,MAX('TABLA DE DECISION'!CM$159:CM$208)-'TABLA DE DECISION'!CM198,'TABLA DE DECISION'!CM198-MIN('TABLA DE DECISION'!CM$159:CM$208)))","v":""},{"$f":"IF('TABLA DE DECISION'!CN198=\"\",\"\",IF('TABLA DE DECISION'!$A$156=1,MAX('TABLA DE DECISION'!CN$159:CN$208)-'TABLA DE DECISION'!CN198,'TABLA DE DECISION'!CN198-MIN('TABLA DE DECISION'!CN$159:CN$208)))","v":""},{"$f":"IF('TABLA DE DECISION'!CO198=\"\",\"\",IF('TABLA DE DECISION'!$A$156=1,MAX('TABLA DE DECISION'!CO$159:CO$208)-'TABLA DE DECISION'!CO198,'TABLA DE DECISION'!CO198-MIN('TABLA DE DECISION'!CO$159:CO$208)))","v":""},{"$f":"IF('TABLA DE DECISION'!CP198=\"\",\"\",IF('TABLA DE DECISION'!$A$156=1,MAX('TABLA DE DECISION'!CP$159:CP$208)-'TABLA DE DECISION'!CP198,'TABLA DE DECISION'!CP198-MIN('TABLA DE DECISION'!CP$159:CP$208)))","v":""},{"$f":"IF('TABLA DE DECISION'!CQ198=\"\",\"\",IF('TABLA DE DECISION'!$A$156=1,MAX('TABLA DE DECISION'!CQ$159:CQ$208)-'TABLA DE DECISION'!CQ198,'TABLA DE DECISION'!CQ198-MIN('TABLA DE DECISION'!CQ$159:CQ$208)))","v":""},{"$f":"IF('TABLA DE DECISION'!CR198=\"\",\"\",IF('TABLA DE DECISION'!$A$156=1,MAX('TABLA DE DECISION'!CR$159:CR$208)-'TABLA DE DECISION'!CR198,'TABLA DE DECISION'!CR198-MIN('TABLA DE DECISION'!CR$159:CR$208)))","v":""},{"$f":"IF('TABLA DE DECISION'!CS198=\"\",\"\",IF('TABLA DE DECISION'!$A$156=1,MAX('TABLA DE DECISION'!CS$159:CS$208)-'TABLA DE DECISION'!CS198,'TABLA DE DECISION'!CS198-MIN('TABLA DE DECISION'!CS$159:CS$208)))","v":""},{"$f":"IF('TABLA DE DECISION'!CT198=\"\",\"\",IF('TABLA DE DECISION'!$A$156=1,MAX('TABLA DE DECISION'!CT$159:CT$208)-'TABLA DE DECISION'!CT198,'TABLA DE DECISION'!CT198-MIN('TABLA DE DECISION'!CT$159:CT$208)))","v":""},{"$f":"IF('TABLA DE DECISION'!CU198=\"\",\"\",IF('TABLA DE DECISION'!$A$156=1,MAX('TABLA DE DECISION'!CU$159:CU$208)-'TABLA DE DECISION'!CU198,'TABLA DE DECISION'!CU198-MIN('TABLA DE DECISION'!CU$159:CU$208)))","v":""},{"$f":"IF('TABLA DE DECISION'!CV198=\"\",\"\",IF('TABLA DE DECISION'!$A$156=1,MAX('TABLA DE DECISION'!CV$159:CV$208)-'TABLA DE DECISION'!CV198,'TABLA DE DECISION'!CV198-MIN('TABLA DE DECISION'!CV$159:CV$208)))","v":""},{"$f":"IF('TABLA DE DECISION'!CW198=\"\",\"\",IF('TABLA DE DECISION'!$A$156=1,MAX('TABLA DE DECISION'!CW$159:CW$208)-'TABLA DE DECISION'!CW198,'TABLA DE DECISION'!CW198-MIN('TABLA DE DECISION'!CW$159:CW$208)))","v":""},{"$f":"IF('TABLA DE DECISION'!CX198=\"\",\"\",IF('TABLA DE DECISION'!$A$156=1,MAX('TABLA DE DECISION'!CX$159:CX$208)-'TABLA DE DECISION'!CX198,'TABLA DE DECISION'!CX198-MIN('TABLA DE DECISION'!CX$159:CX$208)))","v":""},{"$f":"IF('TABLA DE DECISION'!CY198=\"\",\"\",IF('TABLA DE DECISION'!$A$156=1,MAX('TABLA DE DECISION'!CY$159:CY$208)-'TABLA DE DECISION'!CY198,'TABLA DE DECISION'!CY198-MIN('TABLA DE DECISION'!CY$159:CY$208)))","v":""},{"$f":"IF('TABLA DE DECISION'!CZ198=\"\",\"\",IF('TABLA DE DECISION'!$A$156=1,MAX('TABLA DE DECISION'!CZ$159:CZ$208)-'TABLA DE DECISION'!CZ198,'TABLA DE DECISION'!CZ198-MIN('TABLA DE DECISION'!CZ$159:CZ$208)))","v":""},{"$f":"IF('TABLA DE DECISION'!DA198=\"\",\"\",IF('TABLA DE DECISION'!$A$156=1,MAX('TABLA DE DECISION'!DA$159:DA$208)-'TABLA DE DECISION'!DA198,'TABLA DE DECISION'!DA198-MIN('TABLA DE DECISION'!DA$159:DA$208)))","v":""},{"$f":"IF('TABLA DE DECISION'!DB198=\"\",\"\",IF('TABLA DE DECISION'!$A$156=1,MAX('TABLA DE DECISION'!DB$159:DB$208)-'TABLA DE DECISION'!DB198,'TABLA DE DECISION'!DB198-MIN('TABLA DE DECISION'!DB$159:DB$208)))","v":""},{"$f":"IF('TABLA DE DECISION'!DC198=\"\",\"\",IF('TABLA DE DECISION'!$A$156=1,MAX('TABLA DE DECISION'!DC$159:DC$208)-'TABLA DE DECISION'!DC198,'TABLA DE DECISION'!DC198-MIN('TABLA DE DECISION'!DC$159:DC$208)))","v":""},{"$f":"IF('TABLA DE DECISION'!DD198=\"\",\"\",IF('TABLA DE DECISION'!$A$156=1,MAX('TABLA DE DECISION'!DD$159:DD$208)-'TABLA DE DECISION'!DD198,'TABLA DE DECISION'!DD198-MIN('TABLA DE DECISION'!DD$159:DD$208)))","v":""},{"$f":"IF('TABLA DE DECISION'!DE198=\"\",\"\",IF('TABLA DE DECISION'!$A$156=1,MAX('TABLA DE DECISION'!DE$159:DE$208)-'TABLA DE DECISION'!DE198,'TABLA DE DECISION'!DE198-MIN('TABLA DE DECISION'!DE$159:DE$208)))","v":""},null,{"$f":"IF(C42=\"\",\"\",SUMPRODUCT(C42:AZ42,'TABLA DE DECISION'!BH$156:DE$156))","v":""}]
[{"$f":"IF('TABLA DE DECISION'!BF199=\"\",\"\",'TABLA DE DECISION'!BF199)","v":""},{"$f":"IF('TABLA DE DECISION'!BG199=\"\",\"\",'TABLA DE DECISION'!BG199)","v":"a41"},{"$f":"IF('TABLA DE DECISION'!BH199=\"\",\"\",IF('TABLA DE DECISION'!$A$156=1,MAX('TABLA DE DECISION'!BH$159:BH$208)-'TABLA DE DECISION'!BH199,'TABLA DE DECISION'!BH199-MIN('TABLA DE DECISION'!BH$159:BH$208)))","v":""},{"$f":"IF('TABLA DE DECISION'!BI199=\"\",\"\",IF('TABLA DE DECISION'!$A$156=1,MAX('TABLA DE DECISION'!BI$159:BI$208)-'TABLA DE DECISION'!BI199,'TABLA DE DECISION'!BI199-MIN('TABLA DE DECISION'!BI$159:BI$208)))","v":""},{"$f":"IF('TABLA DE DECISION'!BJ199=\"\",\"\",IF('TABLA DE DECISION'!$A$156=1,MAX('TABLA DE DECISION'!BJ$159:BJ$208)-'TABLA DE DECISION'!BJ199,'TABLA DE DECISION'!BJ199-MIN('TABLA DE DECISION'!BJ$159:BJ$208)))","v":""},{"$f":"IF('TABLA DE DECISION'!BK199=\"\",\"\",IF('TABLA DE DECISION'!$A$156=1,MAX('TABLA DE DECISION'!BK$159:BK$208)-'TABLA DE DECISION'!BK199,'TABLA DE DECISION'!BK199-MIN('TABLA DE DECISION'!BK$159:BK$208)))","v":""},{"$f":"IF('TABLA DE DECISION'!BL199=\"\",\"\",IF('TABLA DE DECISION'!$A$156=1,MAX('TABLA DE DECISION'!BL$159:BL$208)-'TABLA DE DECISION'!BL199,'TABLA DE DECISION'!BL199-MIN('TABLA DE DECISION'!BL$159:BL$208)))","v":""},{"$f":"IF('TABLA DE DECISION'!BM199=\"\",\"\",IF('TABLA DE DECISION'!$A$156=1,MAX('TABLA DE DECISION'!BM$159:BM$208)-'TABLA DE DECISION'!BM199,'TABLA DE DECISION'!BM199-MIN('TABLA DE DECISION'!BM$159:BM$208)))","v":""},{"$f":"IF('TABLA DE DECISION'!BN199=\"\",\"\",IF('TABLA DE DECISION'!$A$156=1,MAX('TABLA DE DECISION'!BN$159:BN$208)-'TABLA DE DECISION'!BN199,'TABLA DE DECISION'!BN199-MIN('TABLA DE DECISION'!BN$159:BN$208)))","v":""},{"$f":"IF('TABLA DE DECISION'!BO199=\"\",\"\",IF('TABLA DE DECISION'!$A$156=1,MAX('TABLA DE DECISION'!BO$159:BO$208)-'TABLA DE DECISION'!BO199,'TABLA DE DECISION'!BO199-MIN('TABLA DE DECISION'!BO$159:BO$208)))","v":""},{"$f":"IF('TABLA DE DECISION'!BP199=\"\",\"\",IF('TABLA DE DECISION'!$A$156=1,MAX('TABLA DE DECISION'!BP$159:BP$208)-'TABLA DE DECISION'!BP199,'TABLA DE DECISION'!BP199-MIN('TABLA DE DECISION'!BP$159:BP$208)))","v":""},{"$f":"IF('TABLA DE DECISION'!BQ199=\"\",\"\",IF('TABLA DE DECISION'!$A$156=1,MAX('TABLA DE DECISION'!BQ$159:BQ$208)-'TABLA DE DECISION'!BQ199,'TABLA DE DECISION'!BQ199-MIN('TABLA DE DECISION'!BQ$159:BQ$208)))","v":""},{"$f":"IF('TABLA DE DECISION'!BR199=\"\",\"\",IF('TABLA DE DECISION'!$A$156=1,MAX('TABLA DE DECISION'!BR$159:BR$208)-'TABLA DE DECISION'!BR199,'TABLA DE DECISION'!BR199-MIN('TABLA DE DECISION'!BR$159:BR$208)))","v":""},{"$f":"IF('TABLA DE DECISION'!BS199=\"\",\"\",IF('TABLA DE DECISION'!$A$156=1,MAX('TABLA DE DECISION'!BS$159:BS$208)-'TABLA DE DECISION'!BS199,'TABLA DE DECISION'!BS199-MIN('TABLA DE DECISION'!BS$159:BS$208)))","v":""},{"$f":"IF('TABLA DE DECISION'!BT199=\"\",\"\",IF('TABLA DE DECISION'!$A$156=1,MAX('TABLA DE DECISION'!BT$159:BT$208)-'TABLA DE DECISION'!BT199,'TABLA DE DECISION'!BT199-MIN('TABLA DE DECISION'!BT$159:BT$208)))","v":""},{"$f":"IF('TABLA DE DECISION'!BU199=\"\",\"\",IF('TABLA DE DECISION'!$A$156=1,MAX('TABLA DE DECISION'!BU$159:BU$208)-'TABLA DE DECISION'!BU199,'TABLA DE DECISION'!BU199-MIN('TABLA DE DECISION'!BU$159:BU$208)))","v":""},{"$f":"IF('TABLA DE DECISION'!BV199=\"\",\"\",IF('TABLA DE DECISION'!$A$156=1,MAX('TABLA DE DECISION'!BV$159:BV$208)-'TABLA DE DECISION'!BV199,'TABLA DE DECISION'!BV199-MIN('TABLA DE DECISION'!BV$159:BV$208)))","v":""},{"$f":"IF('TABLA DE DECISION'!BW199=\"\",\"\",IF('TABLA DE DECISION'!$A$156=1,MAX('TABLA DE DECISION'!BW$159:BW$208)-'TABLA DE DECISION'!BW199,'TABLA DE DECISION'!BW199-MIN('TABLA DE DECISION'!BW$159:BW$208)))","v":""},{"$f":"IF('TABLA DE DECISION'!BX199=\"\",\"\",IF('TABLA DE DECISION'!$A$156=1,MAX('TABLA DE DECISION'!BX$159:BX$208)-'TABLA DE DECISION'!BX199,'TABLA DE DECISION'!BX199-MIN('TABLA DE DECISION'!BX$159:BX$208)))","v":""},{"$f":"IF('TABLA DE DECISION'!BY199=\"\",\"\",IF('TABLA DE DECISION'!$A$156=1,MAX('TABLA DE DECISION'!BY$159:BY$208)-'TABLA DE DECISION'!BY199,'TABLA DE DECISION'!BY199-MIN('TABLA DE DECISION'!BY$159:BY$208)))","v":""},{"$f":"IF('TABLA DE DECISION'!BZ199=\"\",\"\",IF('TABLA DE DECISION'!$A$156=1,MAX('TABLA DE DECISION'!BZ$159:BZ$208)-'TABLA DE DECISION'!BZ199,'TABLA DE DECISION'!BZ199-MIN('TABLA DE DECISION'!BZ$159:BZ$208)))","v":""},{"$f":"IF('TABLA DE DECISION'!CA199=\"\",\"\",IF('TABLA DE DECISION'!$A$156=1,MAX('TABLA DE DECISION'!CA$159:CA$208)-'TABLA DE DECISION'!CA199,'TABLA DE DECISION'!CA199-MIN('TABLA DE DECISION'!CA$159:CA$208)))","v":""},{"$f":"IF('TABLA DE DECISION'!CB199=\"\",\"\",IF('TABLA DE DECISION'!$A$156=1,MAX('TABLA DE DECISION'!CB$159:CB$208)-'TABLA DE DECISION'!CB199,'TABLA DE DECISION'!CB199-MIN('TABLA DE DECISION'!CB$159:CB$208)))","v":""},{"$f":"IF('TABLA DE DECISION'!CC199=\"\",\"\",IF('TABLA DE DECISION'!$A$156=1,MAX('TABLA DE DECISION'!CC$159:CC$208)-'TABLA DE DECISION'!CC199,'TABLA DE DECISION'!CC199-MIN('TABLA DE DECISION'!CC$159:CC$208)))","v":""},{"$f":"IF('TABLA DE DECISION'!CD199=\"\",\"\",IF('TABLA DE DECISION'!$A$156=1,MAX('TABLA DE DECISION'!CD$159:CD$208)-'TABLA DE DECISION'!CD199,'TABLA DE DECISION'!CD199-MIN('TABLA DE DECISION'!CD$159:CD$208)))","v":""},{"$f":"IF('TABLA DE DECISION'!CE199=\"\",\"\",IF('TABLA DE DECISION'!$A$156=1,MAX('TABLA DE DECISION'!CE$159:CE$208)-'TABLA DE DECISION'!CE199,'TABLA DE DECISION'!CE199-MIN('TABLA DE DECISION'!CE$159:CE$208)))","v":""},{"$f":"IF('TABLA DE DECISION'!CF199=\"\",\"\",IF('TABLA DE DECISION'!$A$156=1,MAX('TABLA DE DECISION'!CF$159:CF$208)-'TABLA DE DECISION'!CF199,'TABLA DE DECISION'!CF199-MIN('TABLA DE DECISION'!CF$159:CF$208)))","v":""},{"$f":"IF('TABLA DE DECISION'!CG199=\"\",\"\",IF('TABLA DE DECISION'!$A$156=1,MAX('TABLA DE DECISION'!CG$159:CG$208)-'TABLA DE DECISION'!CG199,'TABLA DE DECISION'!CG199-MIN('TABLA DE DECISION'!CG$159:CG$208)))","v":""},{"$f":"IF('TABLA DE DECISION'!CH199=\"\",\"\",IF('TABLA DE DECISION'!$A$156=1,MAX('TABLA DE DECISION'!CH$159:CH$208)-'TABLA DE DECISION'!CH199,'TABLA DE DECISION'!CH199-MIN('TABLA DE DECISION'!CH$159:CH$208)))","v":""},{"$f":"IF('TABLA DE DECISION'!CI199=\"\",\"\",IF('TABLA DE DECISION'!$A$156=1,MAX('TABLA DE DECISION'!CI$159:CI$208)-'TABLA DE DECISION'!CI199,'TABLA DE DECISION'!CI199-MIN('TABLA DE DECISION'!CI$159:CI$208)))","v":""},{"$f":"IF('TABLA DE DECISION'!CJ199=\"\",\"\",IF('TABLA DE DECISION'!$A$156=1,MAX('TABLA DE DECISION'!CJ$159:CJ$208)-'TABLA DE DECISION'!CJ199,'TABLA DE DECISION'!CJ199-MIN('TABLA DE DECISION'!CJ$159:CJ$208)))","v":""},{"$f":"IF('TABLA DE DECISION'!CK199=\"\",\"\",IF('TABLA DE DECISION'!$A$156=1,MAX('TABLA DE DECISION'!CK$159:CK$208)-'TABLA DE DECISION'!CK199,'TABLA DE DECISION'!CK199-MIN('TABLA DE DECISION'!CK$159:CK$208)))","v":""},{"$f":"IF('TABLA DE DECISION'!CL199=\"\",\"\",IF('TABLA DE DECISION'!$A$156=1,MAX('TABLA DE DECISION'!CL$159:CL$208)-'TABLA DE DECISION'!CL199,'TABLA DE DECISION'!CL199-MIN('TABLA DE DECISION'!CL$159:CL$208)))","v":""},{"$f":"IF('TABLA DE DECISION'!CM199=\"\",\"\",IF('TABLA DE DECISION'!$A$156=1,MAX('TABLA DE DECISION'!CM$159:CM$208)-'TABLA DE DECISION'!CM199,'TABLA DE DECISION'!CM199-MIN('TABLA DE DECISION'!CM$159:CM$208)))","v":""},{"$f":"IF('TABLA DE DECISION'!CN199=\"\",\"\",IF('TABLA DE DECISION'!$A$156=1,MAX('TABLA DE DECISION'!CN$159:CN$208)-'TABLA DE DECISION'!CN199,'TABLA DE DECISION'!CN199-MIN('TABLA DE DECISION'!CN$159:CN$208)))","v":""},{"$f":"IF('TABLA DE DECISION'!CO199=\"\",\"\",IF('TABLA DE DECISION'!$A$156=1,MAX('TABLA DE DECISION'!CO$159:CO$208)-'TABLA DE DECISION'!CO199,'TABLA DE DECISION'!CO199-MIN('TABLA DE DECISION'!CO$159:CO$208)))","v":""},{"$f":"IF('TABLA DE DECISION'!CP199=\"\",\"\",IF('TABLA DE DECISION'!$A$156=1,MAX('TABLA DE DECISION'!CP$159:CP$208)-'TABLA DE DECISION'!CP199,'TABLA DE DECISION'!CP199-MIN('TABLA DE DECISION'!CP$159:CP$208)))","v":""},{"$f":"IF('TABLA DE DECISION'!CQ199=\"\",\"\",IF('TABLA DE DECISION'!$A$156=1,MAX('TABLA DE DECISION'!CQ$159:CQ$208)-'TABLA DE DECISION'!CQ199,'TABLA DE DECISION'!CQ199-MIN('TABLA DE DECISION'!CQ$159:CQ$208)))","v":""},{"$f":"IF('TABLA DE DECISION'!CR199=\"\",\"\",IF('TABLA DE DECISION'!$A$156=1,MAX('TABLA DE DECISION'!CR$159:CR$208)-'TABLA DE DECISION'!CR199,'TABLA DE DECISION'!CR199-MIN('TABLA DE DECISION'!CR$159:CR$208)))","v":""},{"$f":"IF('TABLA DE DECISION'!CS199=\"\",\"\",IF('TABLA DE DECISION'!$A$156=1,MAX('TABLA DE DECISION'!CS$159:CS$208)-'TABLA DE DECISION'!CS199,'TABLA DE DECISION'!CS199-MIN('TABLA DE DECISION'!CS$159:CS$208)))","v":""},{"$f":"IF('TABLA DE DECISION'!CT199=\"\",\"\",IF('TABLA DE DECISION'!$A$156=1,MAX('TABLA DE DECISION'!CT$159:CT$208)-'TABLA DE DECISION'!CT199,'TABLA DE DECISION'!CT199-MIN('TABLA DE DECISION'!CT$159:CT$208)))","v":""},{"$f":"IF('TABLA DE DECISION'!CU199=\"\",\"\",IF('TABLA DE DECISION'!$A$156=1,MAX('TABLA DE DECISION'!CU$159:CU$208)-'TABLA DE DECISION'!CU199,'TABLA DE DECISION'!CU199-MIN('TABLA DE DECISION'!CU$159:CU$208)))","v":""},{"$f":"IF('TABLA DE DECISION'!CV199=\"\",\"\",IF('TABLA DE DECISION'!$A$156=1,MAX('TABLA DE DECISION'!CV$159:CV$208)-'TABLA DE DECISION'!CV199,'TABLA DE DECISION'!CV199-MIN('TABLA DE DECISION'!CV$159:CV$208)))","v":""},{"$f":"IF('TABLA DE DECISION'!CW199=\"\",\"\",IF('TABLA DE DECISION'!$A$156=1,MAX('TABLA DE DECISION'!CW$159:CW$208)-'TABLA DE DECISION'!CW199,'TABLA DE DECISION'!CW199-MIN('TABLA DE DECISION'!CW$159:CW$208)))","v":""},{"$f":"IF('TABLA DE DECISION'!CX199=\"\",\"\",IF('TABLA DE DECISION'!$A$156=1,MAX('TABLA DE DECISION'!CX$159:CX$208)-'TABLA DE DECISION'!CX199,'TABLA DE DECISION'!CX199-MIN('TABLA DE DECISION'!CX$159:CX$208)))","v":""},{"$f":"IF('TABLA DE DECISION'!CY199=\"\",\"\",IF('TABLA DE DECISION'!$A$156=1,MAX('TABLA DE DECISION'!CY$159:CY$208)-'TABLA DE DECISION'!CY199,'TABLA DE DECISION'!CY199-MIN('TABLA DE DECISION'!CY$159:CY$208)))","v":""},{"$f":"IF('TABLA DE DECISION'!CZ199=\"\",\"\",IF('TABLA DE DECISION'!$A$156=1,MAX('TABLA DE DECISION'!CZ$159:CZ$208)-'TABLA DE DECISION'!CZ199,'TABLA DE DECISION'!CZ199-MIN('TABLA DE DECISION'!CZ$159:CZ$208)))","v":""},{"$f":"IF('TABLA DE DECISION'!DA199=\"\",\"\",IF('TABLA DE DECISION'!$A$156=1,MAX('TABLA DE DECISION'!DA$159:DA$208)-'TABLA DE DECISION'!DA199,'TABLA DE DECISION'!DA199-MIN('TABLA DE DECISION'!DA$159:DA$208)))","v":""},{"$f":"IF('TABLA DE DECISION'!DB199=\"\",\"\",IF('TABLA DE DECISION'!$A$156=1,MAX('TABLA DE DECISION'!DB$159:DB$208)-'TABLA DE DECISION'!DB199,'TABLA DE DECISION'!DB199-MIN('TABLA DE DECISION'!DB$159:DB$208)))","v":""},{"$f":"IF('TABLA DE DECISION'!DC199=\"\",\"\",IF('TABLA DE DECISION'!$A$156=1,MAX('TABLA DE DECISION'!DC$159:DC$208)-'TABLA DE DECISION'!DC199,'TABLA DE DECISION'!DC199-MIN('TABLA DE DECISION'!DC$159:DC$208)))","v":""},{"$f":"IF('TABLA DE DECISION'!DD199=\"\",\"\",IF('TABLA DE DECISION'!$A$156=1,MAX('TABLA DE DECISION'!DD$159:DD$208)-'TABLA DE DECISION'!DD199,'TABLA DE DECISION'!DD199-MIN('TABLA DE DECISION'!DD$159:DD$208)))","v":""},{"$f":"IF('TABLA DE DECISION'!DE199=\"\",\"\",IF('TABLA DE DECISION'!$A$156=1,MAX('TABLA DE DECISION'!DE$159:DE$208)-'TABLA DE DECISION'!DE199,'TABLA DE DECISION'!DE199-MIN('TABLA DE DECISION'!DE$159:DE$208)))","v":""},null,{"$f":"IF(C43=\"\",\"\",SUMPRODUCT(C43:AZ43,'TABLA DE DECISION'!BH$156:DE$156))","v":""}]
[{"$f":"IF('TABLA DE DECISION'!BF200=\"\",\"\",'TABLA DE DECISION'!BF200)","v":""},{"$f":"IF('TABLA DE DECISION'!BG200=\"\",\"\",'TABLA DE DECISION'!BG200)","v":"a42"},{"$f":"IF('TABLA DE DECISION'!BH200=\"\",\"\",IF('TABLA DE DECISION'!$A$156=1,MAX('TABLA DE DECISION'!BH$159:BH$208)-'TABLA DE DECISION'!BH200,'TABLA DE DECISION'!BH200-MIN('TABLA DE DECISION'!BH$159:BH$208)))","v":""},{"$f":"IF('TABLA DE DECISION'!BI200=\"\",\"\",IF('TABLA DE DECISION'!$A$156=1,MAX('TABLA DE DECISION'!BI$159:BI$208)-'TABLA DE DECISION'!BI200,'TABLA DE DECISION'!BI200-MIN('TABLA DE DECISION'!BI$159:BI$208)))","v":""},{"$f":"IF('TABLA DE DECISION'!BJ200=\"\",\"\",IF('TABLA DE DECISION'!$A$156=1,MAX('TABLA DE DECISION'!BJ$159:BJ$208)-'TABLA DE DECISION'!BJ200,'TABLA DE DECISION'!BJ200-MIN('TABLA DE DECISION'!BJ$159:BJ$208)))","v":""},{"$f":"IF('TABLA DE DECISION'!BK200=\"\",\"\",IF('TABLA DE DECISION'!$A$156=1,MAX('TABLA DE DECISION'!BK$159:BK$208)-'TABLA DE DECISION'!BK200,'TABLA DE DECISION'!BK200-MIN('TABLA DE DECISION'!BK$159:BK$208)))","v":""},{"$f":"IF('TABLA DE DECISION'!BL200=\"\",\"\",IF('TABLA DE DECISION'!$A$156=1,MAX('TABLA DE DECISION'!BL$159:BL$208)-'TABLA DE DECISION'!BL200,'TABLA DE DECISION'!BL200-MIN('TABLA DE DECISION'!BL$159:BL$208)))","v":""},{"$f":"IF('TABLA DE DECISION'!BM200=\"\",\"\",IF('TABLA DE DECISION'!$A$156=1,MAX('TABLA DE DECISION'!BM$159:BM$208)-'TABLA DE DECISION'!BM200,'TABLA DE DECISION'!BM200-MIN('TABLA DE DECISION'!BM$159:BM$208)))","v":""},{"$f":"IF('TABLA DE DECISION'!BN200=\"\",\"\",IF('TABLA DE DECISION'!$A$156=1,MAX('TABLA DE DECISION'!BN$159:BN$208)-'TABLA DE DECISION'!BN200,'TABLA DE DECISION'!BN200-MIN('TABLA DE DECISION'!BN$159:BN$208)))","v":""},{"$f":"IF('TABLA DE DECISION'!BO200=\"\",\"\",IF('TABLA DE DECISION'!$A$156=1,MAX('TABLA DE DECISION'!BO$159:BO$208)-'TABLA DE DECISION'!BO200,'TABLA DE DECISION'!BO200-MIN('TABLA DE DECISION'!BO$159:BO$208)))","v":""},{"$f":"IF('TABLA DE DECISION'!BP200=\"\",\"\",IF('TABLA DE DECISION'!$A$156=1,MAX('TABLA DE DECISION'!BP$159:BP$208)-'TABLA DE DECISION'!BP200,'TABLA DE DECISION'!BP200-MIN('TABLA DE DECISION'!BP$159:BP$208)))","v":""},{"$f":"IF('TABLA DE DECISION'!BQ200=\"\",\"\",IF('TABLA DE DECISION'!$A$156=1,MAX('TABLA DE DECISION'!BQ$159:BQ$208)-'TABLA DE DECISION'!BQ200,'TABLA DE DECISION'!BQ200-MIN('TABLA DE DECISION'!BQ$159:BQ$208)))","v":""},{"$f":"IF('TABLA DE DECISION'!BR200=\"\",\"\",IF('TABLA DE DECISION'!$A$156=1,MAX('TABLA DE DECISION'!BR$159:BR$208)-'TABLA DE DECISION'!BR200,'TABLA DE DECISION'!BR200-MIN('TABLA DE DECISION'!BR$159:BR$208)))","v":""},{"$f":"IF('TABLA DE DECISION'!BS200=\"\",\"\",IF('TABLA DE DECISION'!$A$156=1,MAX('TABLA DE DECISION'!BS$159:BS$208)-'TABLA DE DECISION'!BS200,'TABLA DE DECISION'!BS200-MIN('TABLA DE DECISION'!BS$159:BS$208)))","v":""},{"$f":"IF('TABLA DE DECISION'!BT200=\"\",\"\",IF('TABLA DE DECISION'!$A$156=1,MAX('TABLA DE DECISION'!BT$159:BT$208)-'TABLA DE DECISION'!BT200,'TABLA DE DECISION'!BT200-MIN('TABLA DE DECISION'!BT$159:BT$208)))","v":""},{"$f":"IF('TABLA DE DECISION'!BU200=\"\",\"\",IF('TABLA DE DECISION'!$A$156=1,MAX('TABLA DE DECISION'!BU$159:BU$208)-'TABLA DE DECISION'!BU200,'TABLA DE DECISION'!BU200-MIN('TABLA DE DECISION'!BU$159:BU$208)))","v":""},{"$f":"IF('TABLA DE DECISION'!BV200=\"\",\"\",IF('TABLA DE DECISION'!$A$156=1,MAX('TABLA DE DECISION'!BV$159:BV$208)-'TABLA DE DECISION'!BV200,'TABLA DE DECISION'!BV200-MIN('TABLA DE DECISION'!BV$159:BV$208)))","v":""},{"$f":"IF('TABLA DE DECISION'!BW200=\"\",\"\",IF('TABLA DE DECISION'!$A$156=1,MAX('TABLA DE DECISION'!BW$159:BW$208)-'TABLA DE DECISION'!BW200,'TABLA DE DECISION'!BW200-MIN('TABLA DE DECISION'!BW$159:BW$208)))","v":""},{"$f":"IF('TABLA DE DECISION'!BX200=\"\",\"\",IF('TABLA DE DECISION'!$A$156=1,MAX('TABLA DE DECISION'!BX$159:BX$208)-'TABLA DE DECISION'!BX200,'TABLA DE DECISION'!BX200-MIN('TABLA DE DECISION'!BX$159:BX$208)))","v":""},{"$f":"IF('TABLA DE DECISION'!BY200=\"\",\"\",IF('TABLA DE DECISION'!$A$156=1,MAX('TABLA DE DECISION'!BY$159:BY$208)-'TABLA DE DECISION'!BY200,'TABLA DE DECISION'!BY200-MIN('TABLA DE DECISION'!BY$159:BY$208)))","v":""},{"$f":"IF('TABLA DE DECISION'!BZ200=\"\",\"\",IF('TABLA DE DECISION'!$A$156=1,MAX('TABLA DE DECISION'!BZ$159:BZ$208)-'TABLA DE DECISION'!BZ200,'TABLA DE DECISION'!BZ200-MIN('TABLA DE DECISION'!BZ$159:BZ$208)))","v":""},{"$f":"IF('TABLA DE DECISION'!CA200=\"\",\"\",IF('TABLA DE DECISION'!$A$156=1,MAX('TABLA DE DECISION'!CA$159:CA$208)-'TABLA DE DECISION'!CA200,'TABLA DE DECISION'!CA200-MIN('TABLA DE DECISION'!CA$159:CA$208)))","v":""},{"$f":"IF('TABLA DE DECISION'!CB200=\"\",\"\",IF('TABLA DE DECISION'!$A$156=1,MAX('TABLA DE DECISION'!CB$159:CB$208)-'TABLA DE DECISION'!CB200,'TABLA DE DECISION'!CB200-MIN('TABLA DE DECISION'!CB$159:CB$208)))","v":""},{"$f":"IF('TABLA DE DECISION'!CC200=\"\",\"\",IF('TABLA DE DECISION'!$A$156=1,MAX('TABLA DE DECISION'!CC$159:CC$208)-'TABLA DE DECISION'!CC200,'TABLA DE DECISION'!CC200-MIN('TABLA DE DECISION'!CC$159:CC$208)))","v":""},{"$f":"IF('TABLA DE DECISION'!CD200=\"\",\"\",IF('TABLA DE DECISION'!$A$156=1,MAX('TABLA DE DECISION'!CD$159:CD$208)-'TABLA DE DECISION'!CD200,'TABLA DE DECISION'!CD200-MIN('TABLA DE DECISION'!CD$159:CD$208)))","v":""},{"$f":"IF('TABLA DE DECISION'!CE200=\"\",\"\",IF('TABLA DE DECISION'!$A$156=1,MAX('TABLA DE DECISION'!CE$159:CE$208)-'TABLA DE DECISION'!CE200,'TABLA DE DECISION'!CE200-MIN('TABLA DE DECISION'!CE$159:CE$208)))","v":""},{"$f":"IF('TABLA DE DECISION'!CF200=\"\",\"\",IF('TABLA DE DECISION'!$A$156=1,MAX('TABLA DE DECISION'!CF$159:CF$208)-'TABLA DE DECISION'!CF200,'TABLA DE DECISION'!CF200-MIN('TABLA DE DECISION'!CF$159:CF$208)))","v":""},{"$f":"IF('TABLA DE DECISION'!CG200=\"\",\"\",IF('TABLA DE DECISION'!$A$156=1,MAX('TABLA DE DECISION'!CG$159:CG$208)-'TABLA DE DECISION'!CG200,'TABLA DE DECISION'!CG200-MIN('TABLA DE DECISION'!CG$159:CG$208)))","v":""},{"$f":"IF('TABLA DE DECISION'!CH200=\"\",\"\",IF('TABLA DE DECISION'!$A$156=1,MAX('TABLA DE DECISION'!CH$159:CH$208)-'TABLA DE DECISION'!CH200,'TABLA DE DECISION'!CH200-MIN('TABLA DE DECISION'!CH$159:CH$208)))","v":""},{"$f":"IF('TABLA DE DECISION'!CI200=\"\",\"\",IF('TABLA DE DECISION'!$A$156=1,MAX('TABLA DE DECISION'!CI$159:CI$208)-'TABLA DE DECISION'!CI200,'TABLA DE DECISION'!CI200-MIN('TABLA DE DECISION'!CI$159:CI$208)))","v":""},{"$f":"IF('TABLA DE DECISION'!CJ200=\"\",\"\",IF('TABLA DE DECISION'!$A$156=1,MAX('TABLA DE DECISION'!CJ$159:CJ$208)-'TABLA DE DECISION'!CJ200,'TABLA DE DECISION'!CJ200-MIN('TABLA DE DECISION'!CJ$159:CJ$208)))","v":""},{"$f":"IF('TABLA DE DECISION'!CK200=\"\",\"\",IF('TABLA DE DECISION'!$A$156=1,MAX('TABLA DE DECISION'!CK$159:CK$208)-'TABLA DE DECISION'!CK200,'TABLA DE DECISION'!CK200-MIN('TABLA DE DECISION'!CK$159:CK$208)))","v":""},{"$f":"IF('TABLA DE DECISION'!CL200=\"\",\"\",IF('TABLA DE DECISION'!$A$156=1,MAX('TABLA DE DECISION'!CL$159:CL$208)-'TABLA DE DECISION'!CL200,'TABLA DE DECISION'!CL200-MIN('TABLA DE DECISION'!CL$159:CL$208)))","v":""},{"$f":"IF('TABLA DE DECISION'!CM200=\"\",\"\",IF('TABLA DE DECISION'!$A$156=1,MAX('TABLA DE DECISION'!CM$159:CM$208)-'TABLA DE DECISION'!CM200,'TABLA DE DECISION'!CM200-MIN('TABLA DE DECISION'!CM$159:CM$208)))","v":""},{"$f":"IF('TABLA DE DECISION'!CN200=\"\",\"\",IF('TABLA DE DECISION'!$A$156=1,MAX('TABLA DE DECISION'!CN$159:CN$208)-'TABLA DE DECISION'!CN200,'TABLA DE DECISION'!CN200-MIN('TABLA DE DECISION'!CN$159:CN$208)))","v":""},{"$f":"IF('TABLA DE DECISION'!CO200=\"\",\"\",IF('TABLA DE DECISION'!$A$156=1,MAX('TABLA DE DECISION'!CO$159:CO$208)-'TABLA DE DECISION'!CO200,'TABLA DE DECISION'!CO200-MIN('TABLA DE DECISION'!CO$159:CO$208)))","v":""},{"$f":"IF('TABLA DE DECISION'!CP200=\"\",\"\",IF('TABLA DE DECISION'!$A$156=1,MAX('TABLA DE DECISION'!CP$159:CP$208)-'TABLA DE DECISION'!CP200,'TABLA DE DECISION'!CP200-MIN('TABLA DE DECISION'!CP$159:CP$208)))","v":""},{"$f":"IF('TABLA DE DECISION'!CQ200=\"\",\"\",IF('TABLA DE DECISION'!$A$156=1,MAX('TABLA DE DECISION'!CQ$159:CQ$208)-'TABLA DE DECISION'!CQ200,'TABLA DE DECISION'!CQ200-MIN('TABLA DE DECISION'!CQ$159:CQ$208)))","v":""},{"$f":"IF('TABLA DE DECISION'!CR200=\"\",\"\",IF('TABLA DE DECISION'!$A$156=1,MAX('TABLA DE DECISION'!CR$159:CR$208)-'TABLA DE DECISION'!CR200,'TABLA DE DECISION'!CR200-MIN('TABLA DE DECISION'!CR$159:CR$208)))","v":""},{"$f":"IF('TABLA DE DECISION'!CS200=\"\",\"\",IF('TABLA DE DECISION'!$A$156=1,MAX('TABLA DE DECISION'!CS$159:CS$208)-'TABLA DE DECISION'!CS200,'TABLA DE DECISION'!CS200-MIN('TABLA DE DECISION'!CS$159:CS$208)))","v":""},{"$f":"IF('TABLA DE DECISION'!CT200=\"\",\"\",IF('TABLA DE DECISION'!$A$156=1,MAX('TABLA DE DECISION'!CT$159:CT$208)-'TABLA DE DECISION'!CT200,'TABLA DE DECISION'!CT200-MIN('TABLA DE DECISION'!CT$159:CT$208)))","v":""},{"$f":"IF('TABLA DE DECISION'!CU200=\"\",\"\",IF('TABLA DE DECISION'!$A$156=1,MAX('TABLA DE DECISION'!CU$159:CU$208)-'TABLA DE DECISION'!CU200,'TABLA DE DECISION'!CU200-MIN('TABLA DE DECISION'!CU$159:CU$208)))","v":""},{"$f":"IF('TABLA DE DECISION'!CV200=\"\",\"\",IF('TABLA DE DECISION'!$A$156=1,MAX('TABLA DE DECISION'!CV$159:CV$208)-'TABLA DE DECISION'!CV200,'TABLA DE DECISION'!CV200-MIN('TABLA DE DECISION'!CV$159:CV$208)))","v":""},{"$f":"IF('TABLA DE DECISION'!CW200=\"\",\"\",IF('TABLA DE DECISION'!$A$156=1,MAX('TABLA DE DECISION'!CW$159:CW$208)-'TABLA DE DECISION'!CW200,'TABLA DE DECISION'!CW200-MIN('TABLA DE DECISION'!CW$159:CW$208)))","v":""},{"$f":"IF('TABLA DE DECISION'!CX200=\"\",\"\",IF('TABLA DE DECISION'!$A$156=1,MAX('TABLA DE DECISION'!CX$159:CX$208)-'TABLA DE DECISION'!CX200,'TABLA DE DECISION'!CX200-MIN('TABLA DE DECISION'!CX$159:CX$208)))","v":""},{"$f":"IF('TABLA DE DECISION'!CY200=\"\",\"\",IF('TABLA DE DECISION'!$A$156=1,MAX('TABLA DE DECISION'!CY$159:CY$208)-'TABLA DE DECISION'!CY200,'TABLA DE DECISION'!CY200-MIN('TABLA DE DECISION'!CY$159:CY$208)))","v":""},{"$f":"IF('TABLA DE DECISION'!CZ200=\"\",\"\",IF('TABLA DE DECISION'!$A$156=1,MAX('TABLA DE DECISION'!CZ$159:CZ$208)-'TABLA DE DECISION'!CZ200,'TABLA DE DECISION'!CZ200-MIN('TABLA DE DECISION'!CZ$159:CZ$208)))","v":""},{"$f":"IF('TABLA DE DECISION'!DA200=\"\",\"\",IF('TABLA DE DECISION'!$A$156=1,MAX('TABLA DE DECISION'!DA$159:DA$208)-'TABLA DE DECISION'!DA200,'TABLA DE DECISION'!DA200-MIN('TABLA DE DECISION'!DA$159:DA$208)))","v":""},{"$f":"IF('TABLA DE DECISION'!DB200=\"\",\"\",IF('TABLA DE DECISION'!$A$156=1,MAX('TABLA DE DECISION'!DB$159:DB$208)-'TABLA DE DECISION'!DB200,'TABLA DE DECISION'!DB200-MIN('TABLA DE DECISION'!DB$159:DB$208)))","v":""},{"$f":"IF('TABLA DE DECISION'!DC200=\"\",\"\",IF('TABLA DE DECISION'!$A$156=1,MAX('TABLA DE DECISION'!DC$159:DC$208)-'TABLA DE DECISION'!DC200,'TABLA DE DECISION'!DC200-MIN('TABLA DE DECISION'!DC$159:DC$208)))","v":""},{"$f":"IF('TABLA DE DECISION'!DD200=\"\",\"\",IF('TABLA DE DECISION'!$A$156=1,MAX('TABLA DE DECISION'!DD$159:DD$208)-'TABLA DE DECISION'!DD200,'TABLA DE DECISION'!DD200-MIN('TABLA DE DECISION'!DD$159:DD$208)))","v":""},{"$f":"IF('TABLA DE DECISION'!DE200=\"\",\"\",IF('TABLA DE DECISION'!$A$156=1,MAX('TABLA DE DECISION'!DE$159:DE$208)-'TABLA DE DECISION'!DE200,'TABLA DE DECISION'!DE200-MIN('TABLA DE DECISION'!DE$159:DE$208)))","v":""},null,{"$f":"IF(C44=\"\",\"\",SUMPRODUCT(C44:AZ44,'TABLA DE DECISION'!BH$156:DE$156))","v":""}]
[{"$f":"IF('TABLA DE DECISION'!BF201=\"\",\"\",'TABLA DE DECISION'!BF201)","v":""},{"$f":"IF('TABLA DE DECISION'!BG201=\"\",\"\",'TABLA DE DECISION'!BG201)","v":"a43"},{"$f":"IF('TABLA DE DECISION'!BH201=\"\",\"\",IF('TABLA DE DECISION'!$A$156=1,MAX('TABLA DE DECISION'!BH$159:BH$208)-'TABLA DE DECISION'!BH201,'TABLA DE DECISION'!BH201-MIN('TABLA DE DECISION'!BH$159:BH$208)))","v":""},{"$f":"IF('TABLA DE DECISION'!BI201=\"\",\"\",IF('TABLA DE DECISION'!$A$156=1,MAX('TABLA DE DECISION'!BI$159:BI$208)-'TABLA DE DECISION'!BI201,'TABLA DE DECISION'!BI201-MIN('TABLA DE DECISION'!BI$159:BI$208)))","v":""},{"$f":"IF('TABLA DE DECISION'!BJ201=\"\",\"\",IF('TABLA DE DECISION'!$A$156=1,MAX('TABLA DE DECISION'!BJ$159:BJ$208)-'TABLA DE DECISION'!BJ201,'TABLA DE DECISION'!BJ201-MIN('TABLA DE DECISION'!BJ$159:BJ$208)))","v":""},{"$f":"IF('TABLA DE DECISION'!BK201=\"\",\"\",IF('TABLA DE DECISION'!$A$156=1,MAX('TABLA DE DECISION'!BK$159:BK$208)-'TABLA DE DECISION'!BK201,'TABLA DE DECISION'!BK201-MIN('TABLA DE DECISION'!BK$159:BK$208)))","v":""},{"$f":"IF('TABLA DE DECISION'!BL201=\"\",\"\",IF('TABLA DE DECISION'!$A$156=1,MAX('TABLA DE DECISION'!BL$159:BL$208)-'TABLA DE DECISION'!BL201,'TABLA DE DECISION'!BL201-MIN('TABLA DE DECISION'!BL$159:BL$208)))","v":""},{"$f":"IF('TABLA DE DECISION'!BM201=\"\",\"\",IF('TABLA DE DECISION'!$A$156=1,MAX('TABLA DE DECISION'!BM$159:BM$208)-'TABLA DE DECISION'!BM201,'TABLA DE DECISION'!BM201-MIN('TABLA DE DECISION'!BM$159:BM$208)))","v":""},{"$f":"IF('TABLA DE DECISION'!BN201=\"\",\"\",IF('TABLA DE DECISION'!$A$156=1,MAX('TABLA DE DECISION'!BN$159:BN$208)-'TABLA DE DECISION'!BN201,'TABLA DE DECISION'!BN201-MIN('TABLA DE DECISION'!BN$159:BN$208)))","v":""},{"$f":"IF('TABLA DE DECISION'!BO201=\"\",\"\",IF('TABLA DE DECISION'!$A$156=1,MAX('TABLA DE DECISION'!BO$159:BO$208)-'TABLA DE DECISION'!BO201,'TABLA DE DECISION'!BO201-MIN('TABLA DE DECISION'!BO$159:BO$208)))","v":""},{"$f":"IF('TABLA DE DECISION'!BP201=\"\",\"\",IF('TABLA DE DECISION'!$A$156=1,MAX('TABLA DE DECISION'!BP$159:BP$208)-'TABLA DE DECISION'!BP201,'TABLA DE DECISION'!BP201-MIN('TABLA DE DECISION'!BP$159:BP$208)))","v":""},{"$f":"IF('TABLA DE DECISION'!BQ201=\"\",\"\",IF('TABLA DE DECISION'!$A$156=1,MAX('TABLA DE DECISION'!BQ$159:BQ$208)-'TABLA DE DECISION'!BQ201,'TABLA DE DECISION'!BQ201-MIN('TABLA DE DECISION'!BQ$159:BQ$208)))","v":""},{"$f":"IF('TABLA DE DECISION'!BR201=\"\",\"\",IF('TABLA DE DECISION'!$A$156=1,MAX('TABLA DE DECISION'!BR$159:BR$208)-'TABLA DE DECISION'!BR201,'TABLA DE DECISION'!BR201-MIN('TABLA DE DECISION'!BR$159:BR$208)))","v":""},{"$f":"IF('TABLA DE DECISION'!BS201=\"\",\"\",IF('TABLA DE DECISION'!$A$156=1,MAX('TABLA DE DECISION'!BS$159:BS$208)-'TABLA DE DECISION'!BS201,'TABLA DE DECISION'!BS201-MIN('TABLA DE DECISION'!BS$159:BS$208)))","v":""},{"$f":"IF('TABLA DE DECISION'!BT201=\"\",\"\",IF('TABLA DE DECISION'!$A$156=1,MAX('TABLA DE DECISION'!BT$159:BT$208)-'TABLA DE DECISION'!BT201,'TABLA DE DECISION'!BT201-MIN('TABLA DE DECISION'!BT$159:BT$208)))","v":""},{"$f":"IF('TABLA DE DECISION'!BU201=\"\",\"\",IF('TABLA DE DECISION'!$A$156=1,MAX('TABLA DE DECISION'!BU$159:BU$208)-'TABLA DE DECISION'!BU201,'TABLA DE DECISION'!BU201-MIN('TABLA DE DECISION'!BU$159:BU$208)))","v":""},{"$f":"IF('TABLA DE DECISION'!BV201=\"\",\"\",IF('TABLA DE DECISION'!$A$156=1,MAX('TABLA DE DECISION'!BV$159:BV$208)-'TABLA DE DECISION'!BV201,'TABLA DE DECISION'!BV201-MIN('TABLA DE DECISION'!BV$159:BV$208)))","v":""},{"$f":"IF('TABLA DE DECISION'!BW201=\"\",\"\",IF('TABLA DE DECISION'!$A$156=1,MAX('TABLA DE DECISION'!BW$159:BW$208)-'TABLA DE DECISION'!BW201,'TABLA DE DECISION'!BW201-MIN('TABLA DE DECISION'!BW$159:BW$208)))","v":""},{"$f":"IF('TABLA DE DECISION'!BX201=\"\",\"\",IF('TABLA DE DECISION'!$A$156=1,MAX('TABLA DE DECISION'!BX$159:BX$208)-'TABLA DE DECISION'!BX201,'TABLA DE DECISION'!BX201-MIN('TABLA DE DECISION'!BX$159:BX$208)))","v":""},{"$f":"IF('TABLA DE DECISION'!BY201=\"\",\"\",IF('TABLA DE DECISION'!$A$156=1,MAX('TABLA DE DECISION'!BY$159:BY$208)-'TABLA DE DECISION'!BY201,'TABLA DE DECISION'!BY201-MIN('TABLA DE DECISION'!BY$159:BY$208)))","v":""},{"$f":"IF('TABLA DE DECISION'!BZ201=\"\",\"\",IF('TABLA DE DECISION'!$A$156=1,MAX('TABLA DE DECISION'!BZ$159:BZ$208)-'TABLA DE DECISION'!BZ201,'TABLA DE DECISION'!BZ201-MIN('TABLA DE DECISION'!BZ$159:BZ$208)))","v":""},{"$f":"IF('TABLA DE DECISION'!CA201=\"\",\"\",IF('TABLA DE DECISION'!$A$156=1,MAX('TABLA DE DECISION'!CA$159:CA$208)-'TABLA DE DECISION'!CA201,'TABLA DE DECISION'!CA201-MIN('TABLA DE DECISION'!CA$159:CA$208)))","v":""},{"$f":"IF('TABLA DE DECISION'!CB201=\"\",\"\",IF('TABLA DE DECISION'!$A$156=1,MAX('TABLA DE DECISION'!CB$159:CB$208)-'TABLA DE DECISION'!CB201,'TABLA DE DECISION'!CB201-MIN('TABLA DE DECISION'!CB$159:CB$208)))","v":""},{"$f":"IF('TABLA DE DECISION'!CC201=\"\",\"\",IF('TABLA DE DECISION'!$A$156=1,MAX('TABLA DE DECISION'!CC$159:CC$208)-'TABLA DE DECISION'!CC201,'TABLA DE DECISION'!CC201-MIN('TABLA DE DECISION'!CC$159:CC$208)))","v":""},{"$f":"IF('TABLA DE DECISION'!CD201=\"\",\"\",IF('TABLA DE DECISION'!$A$156=1,MAX('TABLA DE DECISION'!CD$159:CD$208)-'TABLA DE DECISION'!CD201,'TABLA DE DECISION'!CD201-MIN('TABLA DE DECISION'!CD$159:CD$208)))","v":""},{"$f":"IF('TABLA DE DECISION'!CE201=\"\",\"\",IF('TABLA DE DECISION'!$A$156=1,MAX('TABLA DE DECISION'!CE$159:CE$208)-'TABLA DE DECISION'!CE201,'TABLA DE DECISION'!CE201-MIN('TABLA DE DECISION'!CE$159:CE$208)))","v":""},{"$f":"IF('TABLA DE DECISION'!CF201=\"\",\"\",IF('TABLA DE DECISION'!$A$156=1,MAX('TABLA DE DECISION'!CF$159:CF$208)-'TABLA DE DECISION'!CF201,'TABLA DE DECISION'!CF201-MIN('TABLA DE DECISION'!CF$159:CF$208)))","v":""},{"$f":"IF('TABLA DE DECISION'!CG201=\"\",\"\",IF('TABLA DE DECISION'!$A$156=1,MAX('TABLA DE DECISION'!CG$159:CG$208)-'TABLA DE DECISION'!CG201,'TABLA DE DECISION'!CG201-MIN('TABLA DE DECISION'!CG$159:CG$208)))","v":""},{"$f":"IF('TABLA DE DECISION'!CH201=\"\",\"\",IF('TABLA DE DECISION'!$A$156=1,MAX('TABLA DE DECISION'!CH$159:CH$208)-'TABLA DE DECISION'!CH201,'TABLA DE DECISION'!CH201-MIN('TABLA DE DECISION'!CH$159:CH$208)))","v":""},{"$f":"IF('TABLA DE DECISION'!CI201=\"\",\"\",IF('TABLA DE DECISION'!$A$156=1,MAX('TABLA DE DECISION'!CI$159:CI$208)-'TABLA DE DECISION'!CI201,'TABLA DE DECISION'!CI201-MIN('TABLA DE DECISION'!CI$159:CI$208)))","v":""},{"$f":"IF('TABLA DE DECISION'!CJ201=\"\",\"\",IF('TABLA DE DECISION'!$A$156=1,MAX('TABLA DE DECISION'!CJ$159:CJ$208)-'TABLA DE DECISION'!CJ201,'TABLA DE DECISION'!CJ201-MIN('TABLA DE DECISION'!CJ$159:CJ$208)))","v":""},{"$f":"IF('TABLA DE DECISION'!CK201=\"\",\"\",IF('TABLA DE DECISION'!$A$156=1,MAX('TABLA DE DECISION'!CK$159:CK$208)-'TABLA DE DECISION'!CK201,'TABLA DE DECISION'!CK201-MIN('TABLA DE DECISION'!CK$159:CK$208)))","v":""},{"$f":"IF('TABLA DE DECISION'!CL201=\"\",\"\",IF('TABLA DE DECISION'!$A$156=1,MAX('TABLA DE DECISION'!CL$159:CL$208)-'TABLA DE DECISION'!CL201,'TABLA DE DECISION'!CL201-MIN('TABLA DE DECISION'!CL$159:CL$208)))","v":""},{"$f":"IF('TABLA DE DECISION'!CM201=\"\",\"\",IF('TABLA DE DECISION'!$A$156=1,MAX('TABLA DE DECISION'!CM$159:CM$208)-'TABLA DE DECISION'!CM201,'TABLA DE DECISION'!CM201-MIN('TABLA DE DECISION'!CM$159:CM$208)))","v":""},{"$f":"IF('TABLA DE DECISION'!CN201=\"\",\"\",IF('TABLA DE DECISION'!$A$156=1,MAX('TABLA DE DECISION'!CN$159:CN$208)-'TABLA DE DECISION'!CN201,'TABLA DE DECISION'!CN201-MIN('TABLA DE DECISION'!CN$159:CN$208)))","v":""},{"$f":"IF('TABLA DE DECISION'!CO201=\"\",\"\",IF('TABLA DE DECISION'!$A$156=1,MAX('TABLA DE DECISION'!CO$159:CO$208)-'TABLA DE DECISION'!CO201,'TABLA DE DECISION'!CO201-MIN('TABLA DE DECISION'!CO$159:CO$208)))","v":""},{"$f":"IF('TABLA DE DECISION'!CP201=\"\",\"\",IF('TABLA DE DECISION'!$A$156=1,MAX('TABLA DE DECISION'!CP$159:CP$208)-'TABLA DE DECISION'!CP201,'TABLA DE DECISION'!CP201-MIN('TABLA DE DECISION'!CP$159:CP$208)))","v":""},{"$f":"IF('TABLA DE DECISION'!CQ201=\"\",\"\",IF('TABLA DE DECISION'!$A$156=1,MAX('TABLA DE DECISION'!CQ$159:CQ$208)-'TABLA DE DECISION'!CQ201,'TABLA DE DECISION'!CQ201-MIN('TABLA DE DECISION'!CQ$159:CQ$208)))","v":""},{"$f":"IF('TABLA DE DECISION'!CR201=\"\",\"\",IF('TABLA DE DECISION'!$A$156=1,MAX('TABLA DE DECISION'!CR$159:CR$208)-'TABLA DE DECISION'!CR201,'TABLA DE DECISION'!CR201-MIN('TABLA DE DECISION'!CR$159:CR$208)))","v":""},{"$f":"IF('TABLA DE DECISION'!CS201=\"\",\"\",IF('TABLA DE DECISION'!$A$156=1,MAX('TABLA DE DECISION'!CS$159:CS$208)-'TABLA DE DECISION'!CS201,'TABLA DE DECISION'!CS201-MIN('TABLA DE DECISION'!CS$159:CS$208)))","v":""},{"$f":"IF('TABLA DE DECISION'!CT201=\"\",\"\",IF('TABLA DE DECISION'!$A$156=1,MAX('TABLA DE DECISION'!CT$159:CT$208)-'TABLA DE DECISION'!CT201,'TABLA DE DECISION'!CT201-MIN('TABLA DE DECISION'!CT$159:CT$208)))","v":""},{"$f":"IF('TABLA DE DECISION'!CU201=\"\",\"\",IF('TABLA DE DECISION'!$A$156=1,MAX('TABLA DE DECISION'!CU$159:CU$208)-'TABLA DE DECISION'!CU201,'TABLA DE DECISION'!CU201-MIN('TABLA DE DECISION'!CU$159:CU$208)))","v":""},{"$f":"IF('TABLA DE DECISION'!CV201=\"\",\"\",IF('TABLA DE DECISION'!$A$156=1,MAX('TABLA DE DECISION'!CV$159:CV$208)-'TABLA DE DECISION'!CV201,'TABLA DE DECISION'!CV201-MIN('TABLA DE DECISION'!CV$159:CV$208)))","v":""},{"$f":"IF('TABLA DE DECISION'!CW201=\"\",\"\",IF('TABLA DE DECISION'!$A$156=1,MAX('TABLA DE DECISION'!CW$159:CW$208)-'TABLA DE DECISION'!CW201,'TABLA DE DECISION'!CW201-MIN('TABLA DE DECISION'!CW$159:CW$208)))","v":""},{"$f":"IF('TABLA DE DECISION'!CX201=\"\",\"\",IF('TABLA DE DECISION'!$A$156=1,MAX('TABLA DE DECISION'!CX$159:CX$208)-'TABLA DE DECISION'!CX201,'TABLA DE DECISION'!CX201-MIN('TABLA DE DECISION'!CX$159:CX$208)))","v":""},{"$f":"IF('TABLA DE DECISION'!CY201=\"\",\"\",IF('TABLA DE DECISION'!$A$156=1,MAX('TABLA DE DECISION'!CY$159:CY$208)-'TABLA DE DECISION'!CY201,'TABLA DE DECISION'!CY201-MIN('TABLA DE DECISION'!CY$159:CY$208)))","v":""},{"$f":"IF('TABLA DE DECISION'!CZ201=\"\",\"\",IF('TABLA DE DECISION'!$A$156=1,MAX('TABLA DE DECISION'!CZ$159:CZ$208)-'TABLA DE DECISION'!CZ201,'TABLA DE DECISION'!CZ201-MIN('TABLA DE DECISION'!CZ$159:CZ$208)))","v":""},{"$f":"IF('TABLA DE DECISION'!DA201=\"\",\"\",IF('TABLA DE DECISION'!$A$156=1,MAX('TABLA DE DECISION'!DA$159:DA$208)-'TABLA DE DECISION'!DA201,'TABLA DE DECISION'!DA201-MIN('TABLA DE DECISION'!DA$159:DA$208)))","v":""},{"$f":"IF('TABLA DE DECISION'!DB201=\"\",\"\",IF('TABLA DE DECISION'!$A$156=1,MAX('TABLA DE DECISION'!DB$159:DB$208)-'TABLA DE DECISION'!DB201,'TABLA DE DECISION'!DB201-MIN('TABLA DE DECISION'!DB$159:DB$208)))","v":""},{"$f":"IF('TABLA DE DECISION'!DC201=\"\",\"\",IF('TABLA DE DECISION'!$A$156=1,MAX('TABLA DE DECISION'!DC$159:DC$208)-'TABLA DE DECISION'!DC201,'TABLA DE DECISION'!DC201-MIN('TABLA DE DECISION'!DC$159:DC$208)))","v":""},{"$f":"IF('TABLA DE DECISION'!DD201=\"\",\"\",IF('TABLA DE DECISION'!$A$156=1,MAX('TABLA DE DECISION'!DD$159:DD$208)-'TABLA DE DECISION'!DD201,'TABLA DE DECISION'!DD201-MIN('TABLA DE DECISION'!DD$159:DD$208)))","v":""},{"$f":"IF('TABLA DE DECISION'!DE201=\"\",\"\",IF('TABLA DE DECISION'!$A$156=1,MAX('TABLA DE DECISION'!DE$159:DE$208)-'TABLA DE DECISION'!DE201,'TABLA DE DECISION'!DE201-MIN('TABLA DE DECISION'!DE$159:DE$208)))","v":""},null,{"$f":"IF(C45=\"\",\"\",SUMPRODUCT(C45:AZ45,'TABLA DE DECISION'!BH$156:DE$156))","v":""}]
[{"$f":"IF('TABLA DE DECISION'!BF202=\"\",\"\",'TABLA DE DECISION'!BF202)","v":""},{"$f":"IF('TABLA DE DECISION'!BG202=\"\",\"\",'TABLA DE DECISION'!BG202)","v":"a44"},{"$f":"IF('TABLA DE DECISION'!BH202=\"\",\"\",IF('TABLA DE DECISION'!$A$156=1,MAX('TABLA DE DECISION'!BH$159:BH$208)-'TABLA DE DECISION'!BH202,'TABLA DE DECISION'!BH202-MIN('TABLA DE DECISION'!BH$159:BH$208)))","v":""},{"$f":"IF('TABLA DE DECISION'!BI202=\"\",\"\",IF('TABLA DE DECISION'!$A$156=1,MAX('TABLA DE DECISION'!BI$159:BI$208)-'TABLA DE DECISION'!BI202,'TABLA DE DECISION'!BI202-MIN('TABLA DE DECISION'!BI$159:BI$208)))","v":""},{"$f":"IF('TABLA DE DECISION'!BJ202=\"\",\"\",IF('TABLA DE DECISION'!$A$156=1,MAX('TABLA DE DECISION'!BJ$159:BJ$208)-'TABLA DE DECISION'!BJ202,'TABLA DE DECISION'!BJ202-MIN('TABLA DE DECISION'!BJ$159:BJ$208)))","v":""},{"$f":"IF('TABLA DE DECISION'!BK202=\"\",\"\",IF('TABLA DE DECISION'!$A$156=1,MAX('TABLA DE DECISION'!BK$159:BK$208)-'TABLA DE DECISION'!BK202,'TABLA DE DECISION'!BK202-MIN('TABLA DE DECISION'!BK$159:BK$208)))","v":""},{"$f":"IF('TABLA DE DECISION'!BL202=\"\",\"\",IF('TABLA DE DECISION'!$A$156=1,MAX('TABLA DE DECISION'!BL$159:BL$208)-'TABLA DE DECISION'!BL202,'TABLA DE DECISION'!BL202-MIN('TABLA DE DECISION'!BL$159:BL$208)))","v":""},{"$f":"IF('TABLA DE DECISION'!BM202=\"\",\"\",IF('TABLA DE DECISION'!$A$156=1,MAX('TABLA DE DECISION'!BM$159:BM$208)-'TABLA DE DECISION'!BM202,'TABLA DE DECISION'!BM202-MIN('TABLA DE DECISION'!BM$159:BM$208)))","v":""},{"$f":"IF('TABLA DE DECISION'!BN202=\"\",\"\",IF('TABLA DE DECISION'!$A$156=1,MAX('TABLA DE DECISION'!BN$159:BN$208)-'TABLA DE DECISION'!BN202,'TABLA DE DECISION'!BN202-MIN('TABLA DE DECISION'!BN$159:BN$208)))","v":""},{"$f":"IF('TABLA DE DECISION'!BO202=\"\",\"\",IF('TABLA DE DECISION'!$A$156=1,MAX('TABLA DE DECISION'!BO$159:BO$208)-'TABLA DE DECISION'!BO202,'TABLA DE DECISION'!BO202-MIN('TABLA DE DECISION'!BO$159:BO$208)))","v":""},{"$f":"IF('TABLA DE DECISION'!BP202=\"\",\"\",IF('TABLA DE DECISION'!$A$156=1,MAX('TABLA DE DECISION'!BP$159:BP$208)-'TABLA DE DECISION'!BP202,'TABLA DE DECISION'!BP202-MIN('TABLA DE DECISION'!BP$159:BP$208)))","v":""},{"$f":"IF('TABLA DE DECISION'!BQ202=\"\",\"\",IF('TABLA DE DECISION'!$A$156=1,MAX('TABLA DE DECISION'!BQ$159:BQ$208)-'TABLA DE DECISION'!BQ202,'TABLA DE DECISION'!BQ202-MIN('TABLA DE DECISION'!BQ$159:BQ$208)))","v":""},{"$f":"IF('TABLA DE DECISION'!BR202=\"\",\"\",IF('TABLA DE DECISION'!$A$156=1,MAX('TABLA DE DECISION'!BR$159:BR$208)-'TABLA DE DECISION'!BR202,'TABLA DE DECISION'!BR202-MIN('TABLA DE DECISION'!BR$159:BR$208)))","v":""},{"$f":"IF('TABLA DE DECISION'!BS202=\"\",\"\",IF('TABLA DE DECISION'!$A$156=1,MAX('TABLA DE DECISION'!BS$159:BS$208)-'TABLA DE DECISION'!BS202,'TABLA DE DECISION'!BS202-MIN('TABLA DE DECISION'!BS$159:BS$208)))","v":""},{"$f":"IF('TABLA DE DECISION'!BT202=\"\",\"\",IF('TABLA DE DECISION'!$A$156=1,MAX('TABLA DE DECISION'!BT$159:BT$208)-'TABLA DE DECISION'!BT202,'TABLA DE DECISION'!BT202-MIN('TABLA DE DECISION'!BT$159:BT$208)))","v":""},{"$f":"IF('TABLA DE DECISION'!BU202=\"\",\"\",IF('TABLA DE DECISION'!$A$156=1,MAX('TABLA DE DECISION'!BU$159:BU$208)-'TABLA DE DECISION'!BU202,'TABLA DE DECISION'!BU202-MIN('TABLA DE DECISION'!BU$159:BU$208)))","v":""},{"$f":"IF('TABLA DE DECISION'!BV202=\"\",\"\",IF('TABLA DE DECISION'!$A$156=1,MAX('TABLA DE DECISION'!BV$159:BV$208)-'TABLA DE DECISION'!BV202,'TABLA DE DECISION'!BV202-MIN('TABLA DE DECISION'!BV$159:BV$208)))","v":""},{"$f":"IF('TABLA DE DECISION'!BW202=\"\",\"\",IF('TABLA DE DECISION'!$A$156=1,MAX('TABLA DE DECISION'!BW$159:BW$208)-'TABLA DE DECISION'!BW202,'TABLA DE DECISION'!BW202-MIN('TABLA DE DECISION'!BW$159:BW$208)))","v":""},{"$f":"IF('TABLA DE DECISION'!BX202=\"\",\"\",IF('TABLA DE DECISION'!$A$156=1,MAX('TABLA DE DECISION'!BX$159:BX$208)-'TABLA DE DECISION'!BX202,'TABLA DE DECISION'!BX202-MIN('TABLA DE DECISION'!BX$159:BX$208)))","v":""},{"$f":"IF('TABLA DE DECISION'!BY202=\"\",\"\",IF('TABLA DE DECISION'!$A$156=1,MAX('TABLA DE DECISION'!BY$159:BY$208)-'TABLA DE DECISION'!BY202,'TABLA DE DECISION'!BY202-MIN('TABLA DE DECISION'!BY$159:BY$208)))","v":""},{"$f":"IF('TABLA DE DECISION'!BZ202=\"\",\"\",IF('TABLA DE DECISION'!$A$156=1,MAX('TABLA DE DECISION'!BZ$159:BZ$208)-'TABLA DE DECISION'!BZ202,'TABLA DE DECISION'!BZ202-MIN('TABLA DE DECISION'!BZ$159:BZ$208)))","v":""},{"$f":"IF('TABLA DE DECISION'!CA202=\"\",\"\",IF('TABLA DE DECISION'!$A$156=1,MAX('TABLA DE DECISION'!CA$159:CA$208)-'TABLA DE DECISION'!CA202,'TABLA DE DECISION'!CA202-MIN('TABLA DE DECISION'!CA$159:CA$208)))","v":""},{"$f":"IF('TABLA DE DECISION'!CB202=\"\",\"\",IF('TABLA DE DECISION'!$A$156=1,MAX('TABLA DE DECISION'!CB$159:CB$208)-'TABLA DE DECISION'!CB202,'TABLA DE DECISION'!CB202-MIN('TABLA DE DECISION'!CB$159:CB$208)))","v":""},{"$f":"IF('TABLA DE DECISION'!CC202=\"\",\"\",IF('TABLA DE DECISION'!$A$156=1,MAX('TABLA DE DECISION'!CC$159:CC$208)-'TABLA DE DECISION'!CC202,'TABLA DE DECISION'!CC202-MIN('TABLA DE DECISION'!CC$159:CC$208)))","v":""},{"$f":"IF('TABLA DE DECISION'!CD202=\"\",\"\",IF('TABLA DE DECISION'!$A$156=1,MAX('TABLA DE DECISION'!CD$159:CD$208)-'TABLA DE DECISION'!CD202,'TABLA DE DECISION'!CD202-MIN('TABLA DE DECISION'!CD$159:CD$208)))","v":""},{"$f":"IF('TABLA DE DECISION'!CE202=\"\",\"\",IF('TABLA DE DECISION'!$A$156=1,MAX('TABLA DE DECISION'!CE$159:CE$208)-'TABLA DE DECISION'!CE202,'TABLA DE DECISION'!CE202-MIN('TABLA DE DECISION'!CE$159:CE$208)))","v":""},{"$f":"IF('TABLA DE DECISION'!CF202=\"\",\"\",IF('TABLA DE DECISION'!$A$156=1,MAX('TABLA DE DECISION'!CF$159:CF$208)-'TABLA DE DECISION'!CF202,'TABLA DE DECISION'!CF202-MIN('TABLA DE DECISION'!CF$159:CF$208)))","v":""},{"$f":"IF('TABLA DE DECISION'!CG202=\"\",\"\",IF('TABLA DE DECISION'!$A$156=1,MAX('TABLA DE DECISION'!CG$159:CG$208)-'TABLA DE DECISION'!CG202,'TABLA DE DECISION'!CG202-MIN('TABLA DE DECISION'!CG$159:CG$208)))","v":""},{"$f":"IF('TABLA DE DECISION'!CH202=\"\",\"\",IF('TABLA DE DECISION'!$A$156=1,MAX('TABLA DE DECISION'!CH$159:CH$208)-'TABLA DE DECISION'!CH202,'TABLA DE DECISION'!CH202-MIN('TABLA DE DECISION'!CH$159:CH$208)))","v":""},{"$f":"IF('TABLA DE DECISION'!CI202=\"\",\"\",IF('TABLA DE DECISION'!$A$156=1,MAX('TABLA DE DECISION'!CI$159:CI$208)-'TABLA DE DECISION'!CI202,'TABLA DE DECISION'!CI202-MIN('TABLA DE DECISION'!CI$159:CI$208)))","v":""},{"$f":"IF('TABLA DE DECISION'!CJ202=\"\",\"\",IF('TABLA DE DECISION'!$A$156=1,MAX('TABLA DE DECISION'!CJ$159:CJ$208)-'TABLA DE DECISION'!CJ202,'TABLA DE DECISION'!CJ202-MIN('TABLA DE DECISION'!CJ$159:CJ$208)))","v":""},{"$f":"IF('TABLA DE DECISION'!CK202=\"\",\"\",IF('TABLA DE DECISION'!$A$156=1,MAX('TABLA DE DECISION'!CK$159:CK$208)-'TABLA DE DECISION'!CK202,'TABLA DE DECISION'!CK202-MIN('TABLA DE DECISION'!CK$159:CK$208)))","v":""},{"$f":"IF('TABLA DE DECISION'!CL202=\"\",\"\",IF('TABLA DE DECISION'!$A$156=1,MAX('TABLA DE DECISION'!CL$159:CL$208)-'TABLA DE DECISION'!CL202,'TABLA DE DECISION'!CL202-MIN('TABLA DE DECISION'!CL$159:CL$208)))","v":""},{"$f":"IF('TABLA DE DECISION'!CM202=\"\",\"\",IF('TABLA DE DECISION'!$A$156=1,MAX('TABLA DE DECISION'!CM$159:CM$208)-'TABLA DE DECISION'!CM202,'TABLA DE DECISION'!CM202-MIN('TABLA DE DECISION'!CM$159:CM$208)))","v":""},{"$f":"IF('TABLA DE DECISION'!CN202=\"\",\"\",IF('TABLA DE DECISION'!$A$156=1,MAX('TABLA DE DECISION'!CN$159:CN$208)-'TABLA DE DECISION'!CN202,'TABLA DE DECISION'!CN202-MIN('TABLA DE DECISION'!CN$159:CN$208)))","v":""},{"$f":"IF('TABLA DE DECISION'!CO202=\"\",\"\",IF('TABLA DE DECISION'!$A$156=1,MAX('TABLA DE DECISION'!CO$159:CO$208)-'TABLA DE DECISION'!CO202,'TABLA DE DECISION'!CO202-MIN('TABLA DE DECISION'!CO$159:CO$208)))","v":""},{"$f":"IF('TABLA DE DECISION'!CP202=\"\",\"\",IF('TABLA DE DECISION'!$A$156=1,MAX('TABLA DE DECISION'!CP$159:CP$208)-'TABLA DE DECISION'!CP202,'TABLA DE DECISION'!CP202-MIN('TABLA DE DECISION'!CP$159:CP$208)))","v":""},{"$f":"IF('TABLA DE DECISION'!CQ202=\"\",\"\",IF('TABLA DE DECISION'!$A$156=1,MAX('TABLA DE DECISION'!CQ$159:CQ$208)-'TABLA DE DECISION'!CQ202,'TABLA DE DECISION'!CQ202-MIN('TABLA DE DECISION'!CQ$159:CQ$208)))","v":""},{"$f":"IF('TABLA DE DECISION'!CR202=\"\",\"\",IF('TABLA DE DECISION'!$A$156=1,MAX('TABLA DE DECISION'!CR$159:CR$208)-'TABLA DE DECISION'!CR202,'TABLA DE DECISION'!CR202-MIN('TABLA DE DECISION'!CR$159:CR$208)))","v":""},{"$f":"IF('TABLA DE DECISION'!CS202=\"\",\"\",IF('TABLA DE DECISION'!$A$156=1,MAX('TABLA DE DECISION'!CS$159:CS$208)-'TABLA DE DECISION'!CS202,'TABLA DE DECISION'!CS202-MIN('TABLA DE DECISION'!CS$159:CS$208)))","v":""},{"$f":"IF('TABLA DE DECISION'!CT202=\"\",\"\",IF('TABLA DE DECISION'!$A$156=1,MAX('TABLA DE DECISION'!CT$159:CT$208)-'TABLA DE DECISION'!CT202,'TABLA DE DECISION'!CT202-MIN('TABLA DE DECISION'!CT$159:CT$208)))","v":""},{"$f":"IF('TABLA DE DECISION'!CU202=\"\",\"\",IF('TABLA DE DECISION'!$A$156=1,MAX('TABLA DE DECISION'!CU$159:CU$208)-'TABLA DE DECISION'!CU202,'TABLA DE DECISION'!CU202-MIN('TABLA DE DECISION'!CU$159:CU$208)))","v":""},{"$f":"IF('TABLA DE DECISION'!CV202=\"\",\"\",IF('TABLA DE DECISION'!$A$156=1,MAX('TABLA DE DECISION'!CV$159:CV$208)-'TABLA DE DECISION'!CV202,'TABLA DE DECISION'!CV202-MIN('TABLA DE DECISION'!CV$159:CV$208)))","v":""},{"$f":"IF('TABLA DE DECISION'!CW202=\"\",\"\",IF('TABLA DE DECISION'!$A$156=1,MAX('TABLA DE DECISION'!CW$159:CW$208)-'TABLA DE DECISION'!CW202,'TABLA DE DECISION'!CW202-MIN('TABLA DE DECISION'!CW$159:CW$208)))","v":""},{"$f":"IF('TABLA DE DECISION'!CX202=\"\",\"\",IF('TABLA DE DECISION'!$A$156=1,MAX('TABLA DE DECISION'!CX$159:CX$208)-'TABLA DE DECISION'!CX202,'TABLA DE DECISION'!CX202-MIN('TABLA DE DECISION'!CX$159:CX$208)))","v":""},{"$f":"IF('TABLA DE DECISION'!CY202=\"\",\"\",IF('TABLA DE DECISION'!$A$156=1,MAX('TABLA DE DECISION'!CY$159:CY$208)-'TABLA DE DECISION'!CY202,'TABLA DE DECISION'!CY202-MIN('TABLA DE DECISION'!CY$159:CY$208)))","v":""},{"$f":"IF('TABLA DE DECISION'!CZ202=\"\",\"\",IF('TABLA DE DECISION'!$A$156=1,MAX('TABLA DE DECISION'!CZ$159:CZ$208)-'TABLA DE DECISION'!CZ202,'TABLA DE DECISION'!CZ202-MIN('TABLA DE DECISION'!CZ$159:CZ$208)))","v":""},{"$f":"IF('TABLA DE DECISION'!DA202=\"\",\"\",IF('TABLA DE DECISION'!$A$156=1,MAX('TABLA DE DECISION'!DA$159:DA$208)-'TABLA DE DECISION'!DA202,'TABLA DE DECISION'!DA202-MIN('TABLA DE DECISION'!DA$159:DA$208)))","v":""},{"$f":"IF('TABLA DE DECISION'!DB202=\"\",\"\",IF('TABLA DE DECISION'!$A$156=1,MAX('TABLA DE DECISION'!DB$159:DB$208)-'TABLA DE DECISION'!DB202,'TABLA DE DECISION'!DB202-MIN('TABLA DE DECISION'!DB$159:DB$208)))","v":""},{"$f":"IF('TABLA DE DECISION'!DC202=\"\",\"\",IF('TABLA DE DECISION'!$A$156=1,MAX('TABLA DE DECISION'!DC$159:DC$208)-'TABLA DE DECISION'!DC202,'TABLA DE DECISION'!DC202-MIN('TABLA DE DECISION'!DC$159:DC$208)))","v":""},{"$f":"IF('TABLA DE DECISION'!DD202=\"\",\"\",IF('TABLA DE DECISION'!$A$156=1,MAX('TABLA DE DECISION'!DD$159:DD$208)-'TABLA DE DECISION'!DD202,'TABLA DE DECISION'!DD202-MIN('TABLA DE DECISION'!DD$159:DD$208)))","v":""},{"$f":"IF('TABLA DE DECISION'!DE202=\"\",\"\",IF('TABLA DE DECISION'!$A$156=1,MAX('TABLA DE DECISION'!DE$159:DE$208)-'TABLA DE DECISION'!DE202,'TABLA DE DECISION'!DE202-MIN('TABLA DE DECISION'!DE$159:DE$208)))","v":""},null,{"$f":"IF(C46=\"\",\"\",SUMPRODUCT(C46:AZ46,'TABLA DE DECISION'!BH$156:DE$156))","v":""}]
[{"$f":"IF('TABLA DE DECISION'!BF203=\"\",\"\",'TABLA DE DECISION'!BF203)","v":""},{"$f":"IF('TABLA DE DECISION'!BG203=\"\",\"\",'TABLA DE DECISION'!BG203)","v":"a45"},{"$f":"IF('TABLA DE DECISION'!BH203=\"\",\"\",IF('TABLA DE DECISION'!$A$156=1,MAX('TABLA DE DECISION'!BH$159:BH$208)-'TABLA DE DECISION'!BH203,'TABLA DE DECISION'!BH203-MIN('TABLA DE DECISION'!BH$159:BH$208)))","v":""},{"$f":"IF('TABLA DE DECISION'!BI203=\"\",\"\",IF('TABLA DE DECISION'!$A$156=1,MAX('TABLA DE DECISION'!BI$159:BI$208)-'TABLA DE DECISION'!BI203,'TABLA DE DECISION'!BI203-MIN('TABLA DE DECISION'!BI$159:BI$208)))","v":""},{"$f":"IF('TABLA DE DECISION'!BJ203=\"\",\"\",IF('TABLA DE DECISION'!$A$156=1,MAX('TABLA DE DECISION'!BJ$159:BJ$208)-'TABLA DE DECISION'!BJ203,'TABLA DE DECISION'!BJ203-MIN('TABLA DE DECISION'!BJ$159:BJ$208)))","v":""},{"$f":"IF('TABLA DE DECISION'!BK203=\"\",\"\",IF('TABLA DE DECISION'!$A$156=1,MAX('TABLA DE DECISION'!BK$159:BK$208)-'TABLA DE DECISION'!BK203,'TABLA DE DECISION'!BK203-MIN('TABLA DE DECISION'!BK$159:BK$208)))","v":""},{"$f":"IF('TABLA DE DECISION'!BL203=\"\",\"\",IF('TABLA DE DECISION'!$A$156=1,MAX('TABLA DE DECISION'!BL$159:BL$208)-'TABLA DE DECISION'!BL203,'TABLA DE DECISION'!BL203-MIN('TABLA DE DECISION'!BL$159:BL$208)))","v":""},{"$f":"IF('TABLA DE DECISION'!BM203=\"\",\"\",IF('TABLA DE DECISION'!$A$156=1,MAX('TABLA DE DECISION'!BM$159:BM$208)-'TABLA DE DECISION'!BM203,'TABLA DE DECISION'!BM203-MIN('TABLA DE DECISION'!BM$159:BM$208)))","v":""},{"$f":"IF('TABLA DE DECISION'!BN203=\"\",\"\",IF('TABLA DE DECISION'!$A$156=1,MAX('TABLA DE DECISION'!BN$159:BN$208)-'TABLA DE DECISION'!BN203,'TABLA DE DECISION'!BN203-MIN('TABLA DE DECISION'!BN$159:BN$208)))","v":""},{"$f":"IF('TABLA DE DECISION'!BO203=\"\",\"\",IF('TABLA DE DECISION'!$A$156=1,MAX('TABLA DE DECISION'!BO$159:BO$208)-'TABLA DE DECISION'!BO203,'TABLA DE DECISION'!BO203-MIN('TABLA DE DECISION'!BO$159:BO$208)))","v":""},{"$f":"IF('TABLA DE DECISION'!BP203=\"\",\"\",IF('TABLA DE DECISION'!$A$156=1,MAX('TABLA DE DECISION'!BP$159:BP$208)-'TABLA DE DECISION'!BP203,'TABLA DE DECISION'!BP203-MIN('TABLA DE DECISION'!BP$159:BP$208)))","v":""},{"$f":"IF('TABLA DE DECISION'!BQ203=\"\",\"\",IF('TABLA DE DECISION'!$A$156=1,MAX('TABLA DE DECISION'!BQ$159:BQ$208)-'TABLA DE DECISION'!BQ203,'TABLA DE DECISION'!BQ203-MIN('TABLA DE DECISION'!BQ$159:BQ$208)))","v":""},{"$f":"IF('TABLA DE DECISION'!BR203=\"\",\"\",IF('TABLA DE DECISION'!$A$156=1,MAX('TABLA DE DECISION'!BR$159:BR$208)-'TABLA DE DECISION'!BR203,'TABLA DE DECISION'!BR203-MIN('TABLA DE DECISION'!BR$159:BR$208)))","v":""},{"$f":"IF('TABLA DE DECISION'!BS203=\"\",\"\",IF('TABLA DE DECISION'!$A$156=1,MAX('TABLA DE DECISION'!BS$159:BS$208)-'TABLA DE DECISION'!BS203,'TABLA DE DECISION'!BS203-MIN('TABLA DE DECISION'!BS$159:BS$208)))","v":""},{"$f":"IF('TABLA DE DECISION'!BT203=\"\",\"\",IF('TABLA DE DECISION'!$A$156=1,MAX('TABLA DE DECISION'!BT$159:BT$208)-'TABLA DE DECISION'!BT203,'TABLA DE DECISION'!BT203-MIN('TABLA DE DECISION'!BT$159:BT$208)))","v":""},{"$f":"IF('TABLA DE DECISION'!BU203=\"\",\"\",IF('TABLA DE DECISION'!$A$156=1,MAX('TABLA DE DECISION'!BU$159:BU$208)-'TABLA DE DECISION'!BU203,'TABLA DE DECISION'!BU203-MIN('TABLA DE DECISION'!BU$159:BU$208)))","v":""},{"$f":"IF('TABLA DE DECISION'!BV203=\"\",\"\",IF('TABLA DE DECISION'!$A$156=1,MAX('TABLA DE DECISION'!BV$159:BV$208)-'TABLA DE DECISION'!BV203,'TABLA DE DECISION'!BV203-MIN('TABLA DE DECISION'!BV$159:BV$208)))","v":""},{"$f":"IF('TABLA DE DECISION'!BW203=\"\",\"\",IF('TABLA DE DECISION'!$A$156=1,MAX('TABLA DE DECISION'!BW$159:BW$208)-'TABLA DE DECISION'!BW203,'TABLA DE DECISION'!BW203-MIN('TABLA DE DECISION'!BW$159:BW$208)))","v":""},{"$f":"IF('TABLA DE DECISION'!BX203=\"\",\"\",IF('TABLA DE DECISION'!$A$156=1,MAX('TABLA DE DECISION'!BX$159:BX$208)-'TABLA DE DECISION'!BX203,'TABLA DE DECISION'!BX203-MIN('TABLA DE DECISION'!BX$159:BX$208)))","v":""},{"$f":"IF('TABLA DE DECISION'!BY203=\"\",\"\",IF('TABLA DE DECISION'!$A$156=1,MAX('TABLA DE DECISION'!BY$159:BY$208)-'TABLA DE DECISION'!BY203,'TABLA DE DECISION'!BY203-MIN('TABLA DE DECISION'!BY$159:BY$208)))","v":""},{"$f":"IF('TABLA DE DECISION'!BZ203=\"\",\"\",IF('TABLA DE DECISION'!$A$156=1,MAX('TABLA DE DECISION'!BZ$159:BZ$208)-'TABLA DE DECISION'!BZ203,'TABLA DE DECISION'!BZ203-MIN('TABLA DE DECISION'!BZ$159:BZ$208)))","v":""},{"$f":"IF('TABLA DE DECISION'!CA203=\"\",\"\",IF('TABLA DE DECISION'!$A$156=1,MAX('TABLA DE DECISION'!CA$159:CA$208)-'TABLA DE DECISION'!CA203,'TABLA DE DECISION'!CA203-MIN('TABLA DE DECISION'!CA$159:CA$208)))","v":""},{"$f":"IF('TABLA DE DECISION'!CB203=\"\",\"\",IF('TABLA DE DECISION'!$A$156=1,MAX('TABLA DE DECISION'!CB$159:CB$208)-'TABLA DE DECISION'!CB203,'TABLA DE DECISION'!CB203-MIN('TABLA DE DECISION'!CB$159:CB$208)))","v":""},{"$f":"IF('TABLA DE DECISION'!CC203=\"\",\"\",IF('TABLA DE DECISION'!$A$156=1,MAX('TABLA DE DECISION'!CC$159:CC$208)-'TABLA DE DECISION'!CC203,'TABLA DE DECISION'!CC203-MIN('TABLA DE DECISION'!CC$159:CC$208)))","v":""},{"$f":"IF('TABLA DE DECISION'!CD203=\"\",\"\",IF('TABLA DE DECISION'!$A$156=1,MAX('TABLA DE DECISION'!CD$159:CD$208)-'TABLA DE DECISION'!CD203,'TABLA DE DECISION'!CD203-MIN('TABLA DE DECISION'!CD$159:CD$208)))","v":""},{"$f":"IF('TABLA DE DECISION'!CE203=\"\",\"\",IF('TABLA DE DECISION'!$A$156=1,MAX('TABLA DE DECISION'!CE$159:CE$208)-'TABLA DE DECISION'!CE203,'TABLA DE DECISION'!CE203-MIN('TABLA DE DECISION'!CE$159:CE$208)))","v":""},{"$f":"IF('TABLA DE DECISION'!CF203=\"\",\"\",IF('TABLA DE DECISION'!$A$156=1,MAX('TABLA DE DECISION'!CF$159:CF$208)-'TABLA DE DECISION'!CF203,'TABLA DE DECISION'!CF203-MIN('TABLA DE DECISION'!CF$159:CF$208)))","v":""},{"$f":"IF('TABLA DE DECISION'!CG203=\"\",\"\",IF('TABLA DE DECISION'!$A$156=1,MAX('TABLA DE DECISION'!CG$159:CG$208)-'TABLA DE DECISION'!CG203,'TABLA DE DECISION'!CG203-MIN('TABLA DE DECISION'!CG$159:CG$208)))","v":""},{"$f":"IF('TABLA DE DECISION'!CH203=\"\",\"\",IF('TABLA DE DECISION'!$A$156=1,MAX('TABLA DE DECISION'!CH$159:CH$208)-'TABLA DE DECISION'!CH203,'TABLA DE DECISION'!CH203-MIN('TABLA DE DECISION'!CH$159:CH$208)))","v":""},{"$f":"IF('TABLA DE DECISION'!CI203=\"\",\"\",IF('TABLA DE DECISION'!$A$156=1,MAX('TABLA DE DECISION'!CI$159:CI$208)-'TABLA DE DECISION'!CI203,'TABLA DE DECISION'!CI203-MIN('TABLA DE DECISION'!CI$159:CI$208)))","v":""},{"$f":"IF('TABLA DE DECISION'!CJ203=\"\",\"\",IF('TABLA DE DECISION'!$A$156=1,MAX('TABLA DE DECISION'!CJ$159:CJ$208)-'TABLA DE DECISION'!CJ203,'TABLA DE DECISION'!CJ203-MIN('TABLA DE DECISION'!CJ$159:CJ$208)))","v":""},{"$f":"IF('TABLA DE DECISION'!CK203=\"\",\"\",IF('TABLA DE DECISION'!$A$156=1,MAX('TABLA DE DECISION'!CK$159:CK$208)-'TABLA DE DECISION'!CK203,'TABLA DE DECISION'!CK203-MIN('TABLA DE DECISION'!CK$159:CK$208)))","v":""},{"$f":"IF('TABLA DE DECISION'!CL203=\"\",\"\",IF('TABLA DE DECISION'!$A$156=1,MAX('TABLA DE DECISION'!CL$159:CL$208)-'TABLA DE DECISION'!CL203,'TABLA DE DECISION'!CL203-MIN('TABLA DE DECISION'!CL$159:CL$208)))","v":""},{"$f":"IF('TABLA DE DECISION'!CM203=\"\",\"\",IF('TABLA DE DECISION'!$A$156=1,MAX('TABLA DE DECISION'!CM$159:CM$208)-'TABLA DE DECISION'!CM203,'TABLA DE DECISION'!CM203-MIN('TABLA DE DECISION'!CM$159:CM$208)))","v":""},{"$f":"IF('TABLA DE DECISION'!CN203=\"\",\"\",IF('TABLA DE DECISION'!$A$156=1,MAX('TABLA DE DECISION'!CN$159:CN$208)-'TABLA DE DECISION'!CN203,'TABLA DE DECISION'!CN203-MIN('TABLA DE DECISION'!CN$159:CN$208)))","v":""},{"$f":"IF('TABLA DE DECISION'!CO203=\"\",\"\",IF('TABLA DE DECISION'!$A$156=1,MAX('TABLA DE DECISION'!CO$159:CO$208)-'TABLA DE DECISION'!CO203,'TABLA DE DECISION'!CO203-MIN('TABLA DE DECISION'!CO$159:CO$208)))","v":""},{"$f":"IF('TABLA DE DECISION'!CP203=\"\",\"\",IF('TABLA DE DECISION'!$A$156=1,MAX('TABLA DE DECISION'!CP$159:CP$208)-'TABLA DE DECISION'!CP203,'TABLA DE DECISION'!CP203-MIN('TABLA DE DECISION'!CP$159:CP$208)))","v":""},{"$f":"IF('TABLA DE DECISION'!CQ203=\"\",\"\",IF('TABLA DE DECISION'!$A$156=1,MAX('TABLA DE DECISION'!CQ$159:CQ$208)-'TABLA DE DECISION'!CQ203,'TABLA DE DECISION'!CQ203-MIN('TABLA DE DECISION'!CQ$159:CQ$208)))","v":""},{"$f":"IF('TABLA DE DECISION'!CR203=\"\",\"\",IF('TABLA DE DECISION'!$A$156=1,MAX('TABLA DE DECISION'!CR$159:CR$208)-'TABLA DE DECISION'!CR203,'TABLA DE DECISION'!CR203-MIN('TABLA DE DECISION'!CR$159:CR$208)))","v":""},{"$f":"IF('TABLA DE DECISION'!CS203=\"\",\"\",IF('TABLA DE DECISION'!$A$156=1,MAX('TABLA DE DECISION'!CS$159:CS$208)-'TABLA DE DECISION'!CS203,'TABLA DE DECISION'!CS203-MIN('TABLA DE DECISION'!CS$159:CS$208)))","v":""},{"$f":"IF('TABLA DE DECISION'!CT203=\"\",\"\",IF('TABLA DE DECISION'!$A$156=1,MAX('TABLA DE DECISION'!CT$159:CT$208)-'TABLA DE DECISION'!CT203,'TABLA DE DECISION'!CT203-MIN('TABLA DE DECISION'!CT$159:CT$208)))","v":""},{"$f":"IF('TABLA DE DECISION'!CU203=\"\",\"\",IF('TABLA DE DECISION'!$A$156=1,MAX('TABLA DE DECISION'!CU$159:CU$208)-'TABLA DE DECISION'!CU203,'TABLA DE DECISION'!CU203-MIN('TABLA DE DECISION'!CU$159:CU$208)))","v":""},{"$f":"IF('TABLA DE DECISION'!CV203=\"\",\"\",IF('TABLA DE DECISION'!$A$156=1,MAX('TABLA DE DECISION'!CV$159:CV$208)-'TABLA DE DECISION'!CV203,'TABLA DE DECISION'!CV203-MIN('TABLA DE DECISION'!CV$159:CV$208)))","v":""},{"$f":"IF('TABLA DE DECISION'!CW203=\"\",\"\",IF('TABLA DE DECISION'!$A$156=1,MAX('TABLA DE DECISION'!CW$159:CW$208)-'TABLA DE DECISION'!CW203,'TABLA DE DECISION'!CW203-MIN('TABLA DE DECISION'!CW$159:CW$208)))","v":""},{"$f":"IF('TABLA DE DECISION'!CX203=\"\",\"\",IF('TABLA DE DECISION'!$A$156=1,MAX('TABLA DE DECISION'!CX$159:CX$208)-'TABLA DE DECISION'!CX203,'TABLA DE DECISION'!CX203-MIN('TABLA DE DECISION'!CX$159:CX$208)))","v":""},{"$f":"IF('TABLA DE DECISION'!CY203=\"\",\"\",IF('TABLA DE DECISION'!$A$156=1,MAX('TABLA DE DECISION'!CY$159:CY$208)-'TABLA DE DECISION'!CY203,'TABLA DE DECISION'!CY203-MIN('TABLA DE DECISION'!CY$159:CY$208)))","v":""},{"$f":"IF('TABLA DE DECISION'!CZ203=\"\",\"\",IF('TABLA DE DECISION'!$A$156=1,MAX('TABLA DE DECISION'!CZ$159:CZ$208)-'TABLA DE DECISION'!CZ203,'TABLA DE DECISION'!CZ203-MIN('TABLA DE DECISION'!CZ$159:CZ$208)))","v":""},{"$f":"IF('TABLA DE DECISION'!DA203=\"\",\"\",IF('TABLA DE DECISION'!$A$156=1,MAX('TABLA DE DECISION'!DA$159:DA$208)-'TABLA DE DECISION'!DA203,'TABLA DE DECISION'!DA203-MIN('TABLA DE DECISION'!DA$159:DA$208)))","v":""},{"$f":"IF('TABLA DE DECISION'!DB203=\"\",\"\",IF('TABLA DE DECISION'!$A$156=1,MAX('TABLA DE DECISION'!DB$159:DB$208)-'TABLA DE DECISION'!DB203,'TABLA DE DECISION'!DB203-MIN('TABLA DE DECISION'!DB$159:DB$208)))","v":""},{"$f":"IF('TABLA DE DECISION'!DC203=\"\",\"\",IF('TABLA DE DECISION'!$A$156=1,MAX('TABLA DE DECISION'!DC$159:DC$208)-'TABLA DE DECISION'!DC203,'TABLA DE DECISION'!DC203-MIN('TABLA DE DECISION'!DC$159:DC$208)))","v":""},{"$f":"IF('TABLA DE DECISION'!DD203=\"\",\"\",IF('TABLA DE DECISION'!$A$156=1,MAX('TABLA DE DECISION'!DD$159:DD$208)-'TABLA DE DECISION'!DD203,'TABLA DE DECISION'!DD203-MIN('TABLA DE DECISION'!DD$159:DD$208)))","v":""},{"$f":"IF('TABLA DE DECISION'!DE203=\"\",\"\",IF('TABLA DE DECISION'!$A$156=1,MAX('TABLA DE DECISION'!DE$159:DE$208)-'TABLA DE DECISION'!DE203,'TABLA DE DECISION'!DE203-MIN('TABLA DE DECISION'!DE$159:DE$208)))","v":""},null,{"$f":"IF(C47=\"\",\"\",SUMPRODUCT(C47:AZ47,'TABLA DE DECISION'!BH$156:DE$156))","v":""}]
[{"$f":"IF('TABLA DE DECISION'!BF204=\"\",\"\",'TABLA DE DECISION'!BF204)","v":""},{"$f":"IF('TABLA DE DECISION'!BG204=\"\",\"\",'TABLA DE DECISION'!BG204)","v":"a46"},{"$f":"IF('TABLA DE DECISION'!BH204=\"\",\"\",IF('TABLA DE DECISION'!$A$156=1,MAX('TABLA DE DECISION'!BH$159:BH$208)-'TABLA DE DECISION'!BH204,'TABLA DE DECISION'!BH204-MIN('TABLA DE DECISION'!BH$159:BH$208)))","v":""},{"$f":"IF('TABLA DE DECISION'!BI204=\"\",\"\",IF('TABLA DE DECISION'!$A$156=1,MAX('TABLA DE DECISION'!BI$159:BI$208)-'TABLA DE DECISION'!BI204,'TABLA DE DECISION'!BI204-MIN('TABLA DE DECISION'!BI$159:BI$208)))","v":""},{"$f":"IF('TABLA DE DECISION'!BJ204=\"\",\"\",IF('TABLA DE DECISION'!$A$156=1,MAX('TABLA DE DECISION'!BJ$159:BJ$208)-'TABLA DE DECISION'!BJ204,'TABLA DE DECISION'!BJ204-MIN('TABLA DE DECISION'!BJ$159:BJ$208)))","v":""},{"$f":"IF('TABLA DE DECISION'!BK204=\"\",\"\",IF('TABLA DE DECISION'!$A$156=1,MAX('TABLA DE DECISION'!BK$159:BK$208)-'TABLA DE DECISION'!BK204,'TABLA DE DECISION'!BK204-MIN('TABLA DE DECISION'!BK$159:BK$208)))","v":""},{"$f":"IF('TABLA DE DECISION'!BL204=\"\",\"\",IF('TABLA DE DECISION'!$A$156=1,MAX('TABLA DE DECISION'!BL$159:BL$208)-'TABLA DE DECISION'!BL204,'TABLA DE DECISION'!BL204-MIN('TABLA DE DECISION'!BL$159:BL$208)))","v":""},{"$f":"IF('TABLA DE DECISION'!BM204=\"\",\"\",IF('TABLA DE DECISION'!$A$156=1,MAX('TABLA DE DECISION'!BM$159:BM$208)-'TABLA DE DECISION'!BM204,'TABLA DE DECISION'!BM204-MIN('TABLA DE DECISION'!BM$159:BM$208)))","v":""},{"$f":"IF('TABLA DE DECISION'!BN204=\"\",\"\",IF('TABLA DE DECISION'!$A$156=1,MAX('TABLA DE DECISION'!BN$159:BN$208)-'TABLA DE DECISION'!BN204,'TABLA DE DECISION'!BN204-MIN('TABLA DE DECISION'!BN$159:BN$208)))","v":""},{"$f":"IF('TABLA DE DECISION'!BO204=\"\",\"\",IF('TABLA DE DECISION'!$A$156=1,MAX('TABLA DE DECISION'!BO$159:BO$208)-'TABLA DE DECISION'!BO204,'TABLA DE DECISION'!BO204-MIN('TABLA DE DECISION'!BO$159:BO$208)))","v":""},{"$f":"IF('TABLA DE DECISION'!BP204=\"\",\"\",IF('TABLA DE DECISION'!$A$156=1,MAX('TABLA DE DECISION'!BP$159:BP$208)-'TABLA DE DECISION'!BP204,'TABLA DE DECISION'!BP204-MIN('TABLA DE DECISION'!BP$159:BP$208)))","v":""},{"$f":"IF('TABLA DE DECISION'!BQ204=\"\",\"\",IF('TABLA DE DECISION'!$A$156=1,MAX('TABLA DE DECISION'!BQ$159:BQ$208)-'TABLA DE DECISION'!BQ204,'TABLA DE DECISION'!BQ204-MIN('TABLA DE DECISION'!BQ$159:BQ$208)))","v":""},{"$f":"IF('TABLA DE DECISION'!BR204=\"\",\"\",IF('TABLA DE DECISION'!$A$156=1,MAX('TABLA DE DECISION'!BR$159:BR$208)-'TABLA DE DECISION'!BR204,'TABLA DE DECISION'!BR204-MIN('TABLA DE DECISION'!BR$159:BR$208)))","v":""},{"$f":"IF('TABLA DE DECISION'!BS204=\"\",\"\",IF('TABLA DE DECISION'!$A$156=1,MAX('TABLA DE DECISION'!BS$159:BS$208)-'TABLA DE DECISION'!BS204,'TABLA DE DECISION'!BS204-MIN('TABLA DE DECISION'!BS$159:BS$208)))","v":""},{"$f":"IF('TABLA DE DECISION'!BT204=\"\",\"\",IF('TABLA DE DECISION'!$A$156=1,MAX('TABLA DE DECISION'!BT$159:BT$208)-'TABLA DE DECISION'!BT204,'TABLA DE DECISION'!BT204-MIN('TABLA DE DECISION'!BT$159:BT$208)))","v":""},{"$f":"IF('TABLA DE DECISION'!BU204=\"\",\"\",IF('TABLA DE DECISION'!$A$156=1,MAX('TABLA DE DECISION'!BU$159:BU$208)-'TABLA DE DECISION'!BU204,'TABLA DE DECISION'!BU204-MIN('TABLA DE DECISION'!BU$159:BU$208)))","v":""},{"$f":"IF('TABLA DE DECISION'!BV204=\"\",\"\",IF('TABLA DE DECISION'!$A$156=1,MAX('TABLA DE DECISION'!BV$159:BV$208)-'TABLA DE DECISION'!BV204,'TABLA DE DECISION'!BV204-MIN('TABLA DE DECISION'!BV$159:BV$208)))","v":""},{"$f":"IF('TABLA DE DECISION'!BW204=\"\",\"\",IF('TABLA DE DECISION'!$A$156=1,MAX('TABLA DE DECISION'!BW$159:BW$208)-'TABLA DE DECISION'!BW204,'TABLA DE DECISION'!BW204-MIN('TABLA DE DECISION'!BW$159:BW$208)))","v":""},{"$f":"IF('TABLA DE DECISION'!BX204=\"\",\"\",IF('TABLA DE DECISION'!$A$156=1,MAX('TABLA DE DECISION'!BX$159:BX$208)-'TABLA DE DECISION'!BX204,'TABLA DE DECISION'!BX204-MIN('TABLA DE DECISION'!BX$159:BX$208)))","v":""},{"$f":"IF('TABLA DE DECISION'!BY204=\"\",\"\",IF('TABLA DE DECISION'!$A$156=1,MAX('TABLA DE DECISION'!BY$159:BY$208)-'TABLA DE DECISION'!BY204,'TABLA DE DECISION'!BY204-MIN('TABLA DE DECISION'!BY$159:BY$208)))","v":""},{"$f":"IF('TABLA DE DECISION'!BZ204=\"\",\"\",IF('TABLA DE DECISION'!$A$156=1,MAX('TABLA DE DECISION'!BZ$159:BZ$208)-'TABLA DE DECISION'!BZ204,'TABLA DE DECISION'!BZ204-MIN('TABLA DE DECISION'!BZ$159:BZ$208)))","v":""},{"$f":"IF('TABLA DE DECISION'!CA204=\"\",\"\",IF('TABLA DE DECISION'!$A$156=1,MAX('TABLA DE DECISION'!CA$159:CA$208)-'TABLA DE DECISION'!CA204,'TABLA DE DECISION'!CA204-MIN('TABLA DE DECISION'!CA$159:CA$208)))","v":""},{"$f":"IF('TABLA DE DECISION'!CB204=\"\",\"\",IF('TABLA DE DECISION'!$A$156=1,MAX('TABLA DE DECISION'!CB$159:CB$208)-'TABLA DE DECISION'!CB204,'TABLA DE DECISION'!CB204-MIN('TABLA DE DECISION'!CB$159:CB$208)))","v":""},{"$f":"IF('TABLA DE DECISION'!CC204=\"\",\"\",IF('TABLA DE DECISION'!$A$156=1,MAX('TABLA DE DECISION'!CC$159:CC$208)-'TABLA DE DECISION'!CC204,'TABLA DE DECISION'!CC204-MIN('TABLA DE DECISION'!CC$159:CC$208)))","v":""},{"$f":"IF('TABLA DE DECISION'!CD204=\"\",\"\",IF('TABLA DE DECISION'!$A$156=1,MAX('TABLA DE DECISION'!CD$159:CD$208)-'TABLA DE DECISION'!CD204,'TABLA DE DECISION'!CD204-MIN('TABLA DE DECISION'!CD$159:CD$208)))","v":""},{"$f":"IF('TABLA DE DECISION'!CE204=\"\",\"\",IF('TABLA DE DECISION'!$A$156=1,MAX('TABLA DE DECISION'!CE$159:CE$208)-'TABLA DE DECISION'!CE204,'TABLA DE DECISION'!CE204-MIN('TABLA DE DECISION'!CE$159:CE$208)))","v":""},{"$f":"IF('TABLA DE DECISION'!CF204=\"\",\"\",IF('TABLA DE DECISION'!$A$156=1,MAX('TABLA DE DECISION'!CF$159:CF$208)-'TABLA DE DECISION'!CF204,'TABLA DE DECISION'!CF204-MIN('TABLA DE DECISION'!CF$159:CF$208)))","v":""},{"$f":"IF('TABLA DE DECISION'!CG204=\"\",\"\",IF('TABLA DE DECISION'!$A$156=1,MAX('TABLA DE DECISION'!CG$159:CG$208)-'TABLA DE DECISION'!CG204,'TABLA DE DECISION'!CG204-MIN('TABLA DE DECISION'!CG$159:CG$208)))","v":""},{"$f":"IF('TABLA DE DECISION'!CH204=\"\",\"\",IF('TABLA DE DECISION'!$A$156=1,MAX('TABLA DE DECISION'!CH$159:CH$208)-'TABLA DE DECISION'!CH204,'TABLA DE DECISION'!CH204-MIN('TABLA DE DECISION'!CH$159:CH$208)))","v":""},{"$f":"IF('TABLA DE DECISION'!CI204=\"\",\"\",IF('TABLA DE DECISION'!$A$156=1,MAX('TABLA DE DECISION'!CI$159:CI$208)-'TABLA DE DECISION'!CI204,'TABLA DE DECISION'!CI204-MIN('TABLA DE DECISION'!CI$159:CI$208)))","v":""},{"$f":"IF('TABLA DE DECISION'!CJ204=\"\",\"\",IF('TABLA DE DECISION'!$A$156=1,MAX('TABLA DE DECISION'!CJ$159:CJ$208)-'TABLA DE DECISION'!CJ204,'TABLA DE DECISION'!CJ204-MIN('TABLA DE DECISION'!CJ$159:CJ$208)))","v":""},{"$f":"IF('TABLA DE DECISION'!CK204=\"\",\"\",IF('TABLA DE DECISION'!$A$156=1,MAX('TABLA DE DECISION'!CK$159:CK$208)-'TABLA DE DECISION'!CK204,'TABLA DE DECISION'!CK204-MIN('TABLA DE DECISION'!CK$159:CK$208)))","v":""},{"$f":"IF('TABLA DE DECISION'!CL204=\"\",\"\",IF('TABLA DE DECISION'!$A$156=1,MAX('TABLA DE DECISION'!CL$159:CL$208)-'TABLA DE DECISION'!CL204,'TABLA DE DECISION'!CL204-MIN('TABLA DE DECISION'!CL$159:CL$208)))","v":""},{"$f":"IF('TABLA DE DECISION'!CM204=\"\",\"\",IF('TABLA DE DECISION'!$A$156=1,MAX('TABLA DE DECISION'!CM$159:CM$208)-'TABLA DE DECISION'!CM204,'TABLA DE DECISION'!CM204-MIN('TABLA DE DECISION'!CM$159:CM$208)))","v":""},{"$f":"IF('TABLA DE DECISION'!CN204=\"\",\"\",IF('TABLA DE DECISION'!$A$156=1,MAX('TABLA DE DECISION'!CN$159:CN$208)-'TABLA DE DECISION'!CN204,'TABLA DE DECISION'!CN204-MIN('TABLA DE DECISION'!CN$159:CN$208)))","v":""},{"$f":"IF('TABLA DE DECISION'!CO204=\"\",\"\",IF('TABLA DE DECISION'!$A$156=1,MAX('TABLA DE DECISION'!CO$159:CO$208)-'TABLA DE DECISION'!CO204,'TABLA DE DECISION'!CO204-MIN('TABLA DE DECISION'!CO$159:CO$208)))","v":""},{"$f":"IF('TABLA DE DECISION'!CP204=\"\",\"\",IF('TABLA DE DECISION'!$A$156=1,MAX('TABLA DE DECISION'!CP$159:CP$208)-'TABLA DE DECISION'!CP204,'TABLA DE DECISION'!CP204-MIN('TABLA DE DECISION'!CP$159:CP$208)))","v":""},{"$f":"IF('TABLA DE DECISION'!CQ204=\"\",\"\",IF('TABLA DE DECISION'!$A$156=1,MAX('TABLA DE DECISION'!CQ$159:CQ$208)-'TABLA DE DECISION'!CQ204,'TABLA DE DECISION'!CQ204-MIN('TABLA DE DECISION'!CQ$159:CQ$208)))","v":""},{"$f":"IF('TABLA DE DECISION'!CR204=\"\",\"\",IF('TABLA DE DECISION'!$A$156=1,MAX('TABLA DE DECISION'!CR$159:CR$208)-'TABLA DE DECISION'!CR204,'TABLA DE DECISION'!CR204-MIN('TABLA DE DECISION'!CR$159:CR$208)))","v":""},{"$f":"IF('TABLA DE DECISION'!CS204=\"\",\"\",IF('TABLA DE DECISION'!$A$156=1,MAX('TABLA DE DECISION'!CS$159:CS$208)-'TABLA DE DECISION'!CS204,'TABLA DE DECISION'!CS204-MIN('TABLA DE DECISION'!CS$159:CS$208)))","v":""},{"$f":"IF('TABLA DE DECISION'!CT204=\"\",\"\",IF('TABLA DE DECISION'!$A$156=1,MAX('TABLA DE DECISION'!CT$159:CT$208)-'TABLA DE DECISION'!CT204,'TABLA DE DECISION'!CT204-MIN('TABLA DE DECISION'!CT$159:CT$208)))","v":""},{"$f":"IF('TABLA DE DECISION'!CU204=\"\",\"\",IF('TABLA DE DECISION'!$A$156=1,MAX('TABLA DE DECISION'!CU$159:CU$208)-'TABLA DE DECISION'!CU204,'TABLA DE DECISION'!CU204-MIN('TABLA DE DECISION'!CU$159:CU$208)))","v":""},{"$f":"IF('TABLA DE DECISION'!CV204=\"\",\"\",IF('TABLA DE DECISION'!$A$156=1,MAX('TABLA DE DECISION'!CV$159:CV$208)-'TABLA DE DECISION'!CV204,'TABLA DE DECISION'!CV204-MIN('TABLA DE DECISION'!CV$159:CV$208)))","v":""},{"$f":"IF('TABLA DE DECISION'!CW204=\"\",\"\",IF('TABLA DE DECISION'!$A$156=1,MAX('TABLA DE DECISION'!CW$159:CW$208)-'TABLA DE DECISION'!CW204,'TABLA DE DECISION'!CW204-MIN('TABLA DE DECISION'!CW$159:CW$208)))","v":""},{"$f":"IF('TABLA DE DECISION'!CX204=\"\",\"\",IF('TABLA DE DECISION'!$A$156=1,MAX('TABLA DE DECISION'!CX$159:CX$208)-'TABLA DE DECISION'!CX204,'TABLA DE DECISION'!CX204-MIN('TABLA DE DECISION'!CX$159:CX$208)))","v":""},{"$f":"IF('TABLA DE DECISION'!CY204=\"\",\"\",IF('TABLA DE DECISION'!$A$156=1,MAX('TABLA DE DECISION'!CY$159:CY$208)-'TABLA DE DECISION'!CY204,'TABLA DE DECISION'!CY204-MIN('TABLA DE DECISION'!CY$159:CY$208)))","v":""},{"$f":"IF('TABLA DE DECISION'!CZ204=\"\",\"\",IF('TABLA DE DECISION'!$A$156=1,MAX('TABLA DE DECISION'!CZ$159:CZ$208)-'TABLA DE DECISION'!CZ204,'TABLA DE DECISION'!CZ204-MIN('TABLA DE DECISION'!CZ$159:CZ$208)))","v":""},{"$f":"IF('TABLA DE DECISION'!DA204=\"\",\"\",IF('TABLA DE DECISION'!$A$156=1,MAX('TABLA DE DECISION'!DA$159:DA$208)-'TABLA DE DECISION'!DA204,'TABLA DE DECISION'!DA204-MIN('TABLA DE DECISION'!DA$159:DA$208)))","v":""},{"$f":"IF('TABLA DE DECISION'!DB204=\"\",\"\",IF('TABLA DE DECISION'!$A$156=1,MAX('TABLA DE DECISION'!DB$159:DB$208)-'TABLA DE DECISION'!DB204,'TABLA DE DECISION'!DB204-MIN('TABLA DE DECISION'!DB$159:DB$208)))","v":""},{"$f":"IF('TABLA DE DECISION'!DC204=\"\",\"\",IF('TABLA DE DECISION'!$A$156=1,MAX('TABLA DE DECISION'!DC$159:DC$208)-'TABLA DE DECISION'!DC204,'TABLA DE DECISION'!DC204-MIN('TABLA DE DECISION'!DC$159:DC$208)))","v":""},{"$f":"IF('TABLA DE DECISION'!DD204=\"\",\"\",IF('TABLA DE DECISION'!$A$156=1,MAX('TABLA DE DECISION'!DD$159:DD$208)-'TABLA DE DECISION'!DD204,'TABLA DE DECISION'!DD204-MIN('TABLA DE DECISION'!DD$159:DD$208)))","v":""},{"$f":"IF('TABLA DE DECISION'!DE204=\"\",\"\",IF('TABLA DE DECISION'!$A$156=1,MAX('TABLA DE DECISION'!DE$159:DE$208)-'TABLA DE DECISION'!DE204,'TABLA DE DECISION'!DE204-MIN('TABLA DE DECISION'!DE$159:DE$208)))","v":""},null,{"$f":"IF(C48=\"\",\"\",SUMPRODUCT(C48:AZ48,'TABLA DE DECISION'!BH$156:DE$156))","v":""}]
[{"$f":"IF('TABLA DE DECISION'!BF205=\"\",\"\",'TABLA DE DECISION'!BF205)","v":""},{"$f":"IF('TABLA DE DECISION'!BG205=\"\",\"\",'TABLA DE DECISION'!BG205)","v":"a47"},{"$f":"IF('TABLA DE DECISION'!BH205=\"\",\"\",IF('TABLA DE DECISION'!$A$156=1,MAX('TABLA DE DECISION'!BH$159:BH$208)-'TABLA DE DECISION'!BH205,'TABLA DE DECISION'!BH205-MIN('TABLA DE DECISION'!BH$159:BH$208)))","v":""},{"$f":"IF('TABLA DE DECISION'!BI205=\"\",\"\",IF('TABLA DE DECISION'!$A$156=1,MAX('TABLA DE DECISION'!BI$159:BI$208)-'TABLA DE DECISION'!BI205,'TABLA DE DECISION'!BI205-MIN('TABLA DE DECISION'!BI$159:BI$208)))","v":""},{"$f":"IF('TABLA DE DECISION'!BJ205=\"\",\"\",IF('TABLA DE DECISION'!$A$156=1,MAX('TABLA DE DECISION'!BJ$159:BJ$208)-'TABLA DE DECISION'!BJ205,'TABLA DE DECISION'!BJ205-MIN('TABLA DE DECISION'!BJ$159:BJ$208)))","v":""},{"$f":"IF('TABLA DE DECISION'!BK205=\"\",\"\",IF('TABLA DE DECISION'!$A$156=1,MAX('TABLA DE DECISION'!BK$159:BK$208)-'TABLA DE DECISION'!BK205,'TABLA DE DECISION'!BK205-MIN('TABLA DE DECISION'!BK$159:BK$208)))","v":""},{"$f":"IF('TABLA DE DECISION'!BL205=\"\",\"\",IF('TABLA DE DECISION'!$A$156=1,MAX('TABLA DE DECISION'!BL$159:BL$208)-'TABLA DE DECISION'!BL205,'TABLA DE DECISION'!BL205-MIN('TABLA DE DECISION'!BL$159:BL$208)))","v":""},{"$f":"IF('TABLA DE DECISION'!BM205=\"\",\"\",IF('TABLA DE DECISION'!$A$156=1,MAX('TABLA DE DECISION'!BM$159:BM$208)-'TABLA DE DECISION'!BM205,'TABLA DE DECISION'!BM205-MIN('TABLA DE DECISION'!BM$159:BM$208)))","v":""},{"$f":"IF('TABLA DE DECISION'!BN205=\"\",\"\",IF('TABLA DE DECISION'!$A$156=1,MAX('TABLA DE DECISION'!BN$159:BN$208)-'TABLA DE DECISION'!BN205,'TABLA DE DECISION'!BN205-MIN('TABLA DE DECISION'!BN$159:BN$208)))","v":""},{"$f":"IF('TABLA DE DECISION'!BO205=\"\",\"\",IF('TABLA DE DECISION'!$A$156=1,MAX('TABLA DE DECISION'!BO$159:BO$208)-'TABLA DE DECISION'!BO205,'TABLA DE DECISION'!BO205-MIN('TABLA DE DECISION'!BO$159:BO$208)))","v":""},{"$f":"IF('TABLA DE DECISION'!BP205=\"\",\"\",IF('TABLA DE DECISION'!$A$156=1,MAX('TABLA DE DECISION'!BP$159:BP$208)-'TABLA DE DECISION'!BP205,'TABLA DE DECISION'!BP205-MIN('TABLA DE DECISION'!BP$159:BP$208)))","v":""},{"$f":"IF('TABLA DE DECISION'!BQ205=\"\",\"\",IF('TABLA DE DECISION'!$A$156=1,MAX('TABLA DE DECISION'!BQ$159:BQ$208)-'TABLA DE DECISION'!BQ205,'TABLA DE DECISION'!BQ205-MIN('TABLA DE DECISION'!BQ$159:BQ$208)))","v":""},{"$f":"IF('TABLA DE DECISION'!BR205=\"\",\"\",IF('TABLA DE DECISION'!$A$156=1,MAX('TABLA DE DECISION'!BR$159:BR$208)-'TABLA DE DECISION'!BR205,'TABLA DE DECISION'!BR205-MIN('TABLA DE DECISION'!BR$159:BR$208)))","v":""},{"$f":"IF('TABLA DE DECISION'!BS205=\"\",\"\",IF('TABLA DE DECISION'!$A$156=1,MAX('TABLA DE DECISION'!BS$159:BS$208)-'TABLA DE DECISION'!BS205,'TABLA DE DECISION'!BS205-MIN('TABLA DE DECISION'!BS$159:BS$208)))","v":""},{"$f":"IF('TABLA DE DECISION'!BT205=\"\",\"\",IF('TABLA DE DECISION'!$A$156=1,MAX('TABLA DE DECISION'!BT$159:BT$208)-'TABLA DE DECISION'!BT205,'TABLA DE DECISION'!BT205-MIN('TABLA DE DECISION'!BT$159:BT$208)))","v":""},{"$f":"IF('TABLA DE DECISION'!BU205=\"\",\"\",IF('TABLA DE DECISION'!$A$156=1,MAX('TABLA DE DECISION'!BU$159:BU$208)-'TABLA DE DECISION'!BU205,'TABLA DE DECISION'!BU205-MIN('TABLA DE DECISION'!BU$159:BU$208)))","v":""},{"$f":"IF('TABLA DE DECISION'!BV205=\"\",\"\",IF('TABLA DE DECISION'!$A$156=1,MAX('TABLA DE DECISION'!BV$159:BV$208)-'TABLA DE DECISION'!BV205,'TABLA DE DECISION'!BV205-MIN('TABLA DE DECISION'!BV$159:BV$208)))","v":""},{"$f":"IF('TABLA DE DECISION'!BW205=\"\",\"\",IF('TABLA DE DECISION'!$A$156=1,MAX('TABLA DE DECISION'!BW$159:BW$208)-'TABLA DE DECISION'!BW205,'TABLA DE DECISION'!BW205-MIN('TABLA DE DECISION'!BW$159:BW$208)))","v":""},{"$f":"IF('TABLA DE DECISION'!BX205=\"\",\"\",IF('TABLA DE DECISION'!$A$156=1,MAX('TABLA DE DECISION'!BX$159:BX$208)-'TABLA DE DECISION'!BX205,'TABLA DE DECISION'!BX205-MIN('TABLA DE DECISION'!BX$159:BX$208)))","v":""},{"$f":"IF('TABLA DE DECISION'!BY205=\"\",\"\",IF('TABLA DE DECISION'!$A$156=1,MAX('TABLA DE DECISION'!BY$159:BY$208)-'TABLA DE DECISION'!BY205,'TABLA DE DECISION'!BY205-MIN('TABLA DE DECISION'!BY$159:BY$208)))","v":""},{"$f":"IF('TABLA DE DECISION'!BZ205=\"\",\"\",IF('TABLA DE DECISION'!$A$156=1,MAX('TABLA DE DECISION'!BZ$159:BZ$208)-'TABLA DE DECISION'!BZ205,'TABLA DE DECISION'!BZ205-MIN('TABLA DE DECISION'!BZ$159:BZ$208)))","v":""},{"$f":"IF('TABLA DE DECISION'!CA205=\"\",\"\",IF('TABLA DE DECISION'!$A$156=1,MAX('TABLA DE DECISION'!CA$159:CA$208)-'TABLA DE DECISION'!CA205,'TABLA DE DECISION'!CA205-MIN('TABLA DE DECISION'!CA$159:CA$208)))","v":""},{"$f":"IF('TABLA DE DECISION'!CB205=\"\",\"\",IF('TABLA DE DECISION'!$A$156=1,MAX('TABLA DE DECISION'!CB$159:CB$208)-'TABLA DE DECISION'!CB205,'TABLA DE DECISION'!CB205-MIN('TABLA DE DECISION'!CB$159:CB$208)))","v":""},{"$f":"IF('TABLA DE DECISION'!CC205=\"\",\"\",IF('TABLA DE DECISION'!$A$156=1,MAX('TABLA DE DECISION'!CC$159:CC$208)-'TABLA DE DECISION'!CC205,'TABLA DE DECISION'!CC205-MIN('TABLA DE DECISION'!CC$159:CC$208)))","v":""},{"$f":"IF('TABLA DE DECISION'!CD205=\"\",\"\",IF('TABLA DE DECISION'!$A$156=1,MAX('TABLA DE DECISION'!CD$159:CD$208)-'TABLA DE DECISION'!CD205,'TABLA DE DECISION'!CD205-MIN('TABLA DE DECISION'!CD$159:CD$208)))","v":""},{"$f":"IF('TABLA DE DECISION'!CE205=\"\",\"\",IF('TABLA DE DECISION'!$A$156=1,MAX('TABLA DE DECISION'!CE$159:CE$208)-'TABLA DE DECISION'!CE205,'TABLA DE DECISION'!CE205-MIN('TABLA DE DECISION'!CE$159:CE$208)))","v":""},{"$f":"IF('TABLA DE DECISION'!CF205=\"\",\"\",IF('TABLA DE DECISION'!$A$156=1,MAX('TABLA DE DECISION'!CF$159:CF$208)-'TABLA DE DECISION'!CF205,'TABLA DE DECISION'!CF205-MIN('TABLA DE DECISION'!CF$159:CF$208)))","v":""},{"$f":"IF('TABLA DE DECISION'!CG205=\"\",\"\",IF('TABLA DE DECISION'!$A$156=1,MAX('TABLA DE DECISION'!CG$159:CG$208)-'TABLA DE DECISION'!CG205,'TABLA DE DECISION'!CG205-MIN('TABLA DE DECISION'!CG$159:CG$208)))","v":""},{"$f":"IF('TABLA DE DECISION'!CH205=\"\",\"\",IF('TABLA DE DECISION'!$A$156=1,MAX('TABLA DE DECISION'!CH$159:CH$208)-'TABLA DE DECISION'!CH205,'TABLA DE DECISION'!CH205-MIN('TABLA DE DECISION'!CH$159:CH$208)))","v":""},{"$f":"IF('TABLA DE DECISION'!CI205=\"\",\"\",IF('TABLA DE DECISION'!$A$156=1,MAX('TABLA DE DECISION'!CI$159:CI$208)-'TABLA DE DECISION'!CI205,'TABLA DE DECISION'!CI205-MIN('TABLA DE DECISION'!CI$159:CI$208)))","v":""},{"$f":"IF('TABLA DE DECISION'!CJ205=\"\",\"\",IF('TABLA DE DECISION'!$A$156=1,MAX('TABLA DE DECISION'!CJ$159:CJ$208)-'TABLA DE DECISION'!CJ205,'TABLA DE DECISION'!CJ205-MIN('TABLA DE DECISION'!CJ$159:CJ$208)))","v":""},{"$f":"IF('TABLA DE DECISION'!CK205=\"\",\"\",IF('TABLA DE DECISION'!$A$156=1,MAX('TABLA DE DECISION'!CK$159:CK$208)-'TABLA DE DECISION'!CK205,'TABLA DE DECISION'!CK205-MIN('TABLA DE DECISION'!CK$159:CK$208)))","v":""},{"$f":"IF('TABLA DE DECISION'!CL205=\"\",\"\",IF('TABLA DE DECISION'!$A$156=1,MAX('TABLA DE DECISION'!CL$159:CL$208)-'TABLA DE DECISION'!CL205,'TABLA DE DECISION'!CL205-MIN('TABLA DE DECISION'!CL$159:CL$208)))","v":""},{"$f":"IF('TABLA DE DECISION'!CM205=\"\",\"\",IF('TABLA DE DECISION'!$A$156=1,MAX('TABLA DE DECISION'!CM$159:CM$208)-'TABLA DE DECISION'!CM205,'TABLA DE DECISION'!CM205-MIN('TABLA DE DECISION'!CM$159:CM$208)))","v":""},{"$f":"IF('TABLA DE DECISION'!CN205=\"\",\"\",IF('TABLA DE DECISION'!$A$156=1,MAX('TABLA DE DECISION'!CN$159:CN$208)-'TABLA DE DECISION'!CN205,'TABLA DE DECISION'!CN205-MIN('TABLA DE DECISION'!CN$159:CN$208)))","v":""},{"$f":"IF('TABLA DE DECISION'!CO205=\"\",\"\",IF('TABLA DE DECISION'!$A$156=1,MAX('TABLA DE DECISION'!CO$159:CO$208)-'TABLA DE DECISION'!CO205,'TABLA DE DECISION'!CO205-MIN('TABLA DE DECISION'!CO$159:CO$208)))","v":""},{"$f":"IF('TABLA DE DECISION'!CP205=\"\",\"\",IF('TABLA DE DECISION'!$A$156=1,MAX('TABLA DE DECISION'!CP$159:CP$208)-'TABLA DE DECISION'!CP205,'TABLA DE DECISION'!CP205-MIN('TABLA DE DECISION'!CP$159:CP$208)))","v":""},{"$f":"IF('TABLA DE DECISION'!CQ205=\"\",\"\",IF('TABLA DE DECISION'!$A$156=1,MAX('TABLA DE DECISION'!CQ$159:CQ$208)-'TABLA DE DECISION'!CQ205,'TABLA DE DECISION'!CQ205-MIN('TABLA DE DECISION'!CQ$159:CQ$208)))","v":""},{"$f":"IF('TABLA DE DECISION'!CR205=\"\",\"\",IF('TABLA DE DECISION'!$A$156=1,MAX('TABLA DE DECISION'!CR$159:CR$208)-'TABLA DE DECISION'!CR205,'TABLA DE DECISION'!CR205-MIN('TABLA DE DECISION'!CR$159:CR$208)))","v":""},{"$f":"IF('TABLA DE DECISION'!CS205=\"\",\"\",IF('TABLA DE DECISION'!$A$156=1,MAX('TABLA DE DECISION'!CS$159:CS$208)-'TABLA DE DECISION'!CS205,'TABLA DE DECISION'!CS205-MIN('TABLA DE DECISION'!CS$159:CS$208)))","v":""},{"$f":"IF('TABLA DE DECISION'!CT205=\"\",\"\",IF('TABLA DE DECISION'!$A$156=1,MAX('TABLA DE DECISION'!CT$159:CT$208)-'TABLA DE DECISION'!CT205,'TABLA DE DECISION'!CT205-MIN('TABLA DE DECISION'!CT$159:CT$208)))","v":""},{"$f":"IF('TABLA DE DECISION'!CU205=\"\",\"\",IF('TABLA DE DECISION'!$A$156=1,MAX('TABLA DE DECISION'!CU$159:CU$208)-'TABLA DE DECISION'!CU205,'TABLA DE DECISION'!CU205-MIN('TABLA DE DECISION'!CU$159:CU$208)))","v":""},{"$f":"IF('TABLA DE DECISION'!CV205=\"\",\"\",IF('TABLA DE DECISION'!$A$156=1,MAX('TABLA DE DECISION'!CV$159:CV$208)-'TABLA DE DECISION'!CV205,'TABLA DE DECISION'!CV205-MIN('TABLA DE DECISION'!CV$159:CV$208)))","v":""},{"$f":"IF('TABLA DE DECISION'!CW205=\"\",\"\",IF('TABLA DE DECISION'!$A$156=1,MAX('TABLA DE DECISION'!CW$159:CW$208)-'TABLA DE DECISION'!CW205,'TABLA DE DECISION'!CW205-MIN('TABLA DE DECISION'!CW$159:CW$208)))","v":""},{"$f":"IF('TABLA DE DECISION'!CX205=\"\",\"\",IF('TABLA DE DECISION'!$A$156=1,MAX('TABLA DE DECISION'!CX$159:CX$208)-'TABLA DE DECISION'!CX205,'TABLA DE DECISION'!CX205-MIN('TABLA DE DECISION'!CX$159:CX$208)))","v":""},{"$f":"IF('TABLA DE DECISION'!CY205=\"\",\"\",IF('TABLA DE DECISION'!$A$156=1,MAX('TABLA DE DECISION'!CY$159:CY$208)-'TABLA DE DECISION'!CY205,'TABLA DE DECISION'!CY205-MIN('TABLA DE DECISION'!CY$159:CY$208)))","v":""},{"$f":"IF('TABLA DE DECISION'!CZ205=\"\",\"\",IF('TABLA DE DECISION'!$A$156=1,MAX('TABLA DE DECISION'!CZ$159:CZ$208)-'TABLA DE DECISION'!CZ205,'TABLA DE DECISION'!CZ205-MIN('TABLA DE DECISION'!CZ$159:CZ$208)))","v":""},{"$f":"IF('TABLA DE DECISION'!DA205=\"\",\"\",IF('TABLA DE DECISION'!$A$156=1,MAX('TABLA DE DECISION'!DA$159:DA$208)-'TABLA DE DECISION'!DA205,'TABLA DE DECISION'!DA205-MIN('TABLA DE DECISION'!DA$159:DA$208)))","v":""},{"$f":"IF('TABLA DE DECISION'!DB205=\"\",\"\",IF('TABLA DE DECISION'!$A$156=1,MAX('TABLA DE DECISION'!DB$159:DB$208)-'TABLA DE DECISION'!DB205,'TABLA DE DECISION'!DB205-MIN('TABLA DE DECISION'!DB$159:DB$208)))","v":""},{"$f":"IF('TABLA DE DECISION'!DC205=\"\",\"\",IF('TABLA DE DECISION'!$A$156=1,MAX('TABLA DE DECISION'!DC$159:DC$208)-'TABLA DE DECISION'!DC205,'TABLA DE DECISION'!DC205-MIN('TABLA DE DECISION'!DC$159:DC$208)))","v":""},{"$f":"IF('TABLA DE DECISION'!DD205=\"\",\"\",IF('TABLA DE DECISION'!$A$156=1,MAX('TABLA DE DECISION'!DD$159:DD$208)-'TABLA DE DECISION'!DD205,'TABLA DE DECISION'!DD205-MIN('TABLA DE DECISION'!DD$159:DD$208)))","v":""},{"$f":"IF('TABLA DE DECISION'!DE205=\"\",\"\",IF('TABLA DE DECISION'!$A$156=1,MAX('TABLA DE DECISION'!DE$159:DE$208)-'TABLA DE DECISION'!DE205,'TABLA DE DECISION'!DE205-MIN('TABLA DE DECISION'!DE$159:DE$208)))","v":""},null,{"$f":"IF(C49=\"\",\"\",SUMPRODUCT(C49:AZ49,'TABLA DE DECISION'!BH$156:DE$156))","v":""}]
[{"$f":"IF('TABLA DE DECISION'!BF206=\"\",\"\",'TABLA DE DECISION'!BF206)","v":""},{"$f":"IF('TABLA DE DECISION'!BG206=\"\",\"\",'TABLA DE DECISION'!BG206)","v":"a48"},{"$f":"IF('TABLA DE DECISION'!BH206=\"\",\"\",IF('TABLA DE DECISION'!$A$156=1,MAX('TABLA DE DECISION'!BH$159:BH$208)-'TABLA DE DECISION'!BH206,'TABLA DE DECISION'!BH206-MIN('TABLA DE DECISION'!BH$159:BH$208)))","v":""},{"$f":"IF('TABLA DE DECISION'!BI206=\"\",\"\",IF('TABLA DE DECISION'!$A$156=1,MAX('TABLA DE DECISION'!BI$159:BI$208)-'TABLA DE DECISION'!BI206,'TABLA DE DECISION'!BI206-MIN('TABLA DE DECISION'!BI$159:BI$208)))","v":""},{"$f":"IF('TABLA DE DECISION'!BJ206=\"\",\"\",IF('TABLA DE DECISION'!$A$156=1,MAX('TABLA DE DECISION'!BJ$159:BJ$208)-'TABLA DE DECISION'!BJ206,'TABLA DE DECISION'!BJ206-MIN('TABLA DE DECISION'!BJ$159:BJ$208)))","v":""},{"$f":"IF('TABLA DE DECISION'!BK206=\"\",\"\",IF('TABLA DE DECISION'!$A$156=1,MAX('TABLA DE DECISION'!BK$159:BK$208)-'TABLA DE DECISION'!BK206,'TABLA DE DECISION'!BK206-MIN('TABLA DE DECISION'!BK$159:BK$208)))","v":""},{"$f":"IF('TABLA DE DECISION'!BL206=\"\",\"\",IF('TABLA DE DECISION'!$A$156=1,MAX('TABLA DE DECISION'!BL$159:BL$208)-'TABLA DE DECISION'!BL206,'TABLA DE DECISION'!BL206-MIN('TABLA DE DECISION'!BL$159:BL$208)))","v":""},{"$f":"IF('TABLA DE DECISION'!BM206=\"\",\"\",IF('TABLA DE DECISION'!$A$156=1,MAX('TABLA DE DECISION'!BM$159:BM$208)-'TABLA DE DECISION'!BM206,'TABLA DE DECISION'!BM206-MIN('TABLA DE DECISION'!BM$159:BM$208)))","v":""},{"$f":"IF('TABLA DE DECISION'!BN206=\"\",\"\",IF('TABLA DE DECISION'!$A$156=1,MAX('TABLA DE DECISION'!BN$159:BN$208)-'TABLA DE DECISION'!BN206,'TABLA DE DECISION'!BN206-MIN('TABLA DE DECISION'!BN$159:BN$208)))","v":""},{"$f":"IF('TABLA DE DECISION'!BO206=\"\",\"\",IF('TABLA DE DECISION'!$A$156=1,MAX('TABLA DE DECISION'!BO$159:BO$208)-'TABLA DE DECISION'!BO206,'TABLA DE DECISION'!BO206-MIN('TABLA DE DECISION'!BO$159:BO$208)))","v":""},{"$f":"IF('TABLA DE DECISION'!BP206=\"\",\"\",IF('TABLA DE DECISION'!$A$156=1,MAX('TABLA DE DECISION'!BP$159:BP$208)-'TABLA DE DECISION'!BP206,'TABLA DE DECISION'!BP206-MIN('TABLA DE DECISION'!BP$159:BP$208)))","v":""},{"$f":"IF('TABLA DE DECISION'!BQ206=\"\",\"\",IF('TABLA DE DECISION'!$A$156=1,MAX('TABLA DE DECISION'!BQ$159:BQ$208)-'TABLA DE DECISION'!BQ206,'TABLA DE DECISION'!BQ206-MIN('TABLA DE DECISION'!BQ$159:BQ$208)))","v":""},{"$f":"IF('TABLA DE DECISION'!BR206=\"\",\"\",IF('TABLA DE DECISION'!$A$156=1,MAX('TABLA DE DECISION'!BR$159:BR$208)-'TABLA DE DECISION'!BR206,'TABLA DE DECISION'!BR206-MIN('TABLA DE DECISION'!BR$159:BR$208)))","v":""},{"$f":"IF('TABLA DE DECISION'!BS206=\"\",\"\",IF('TABLA DE DECISION'!$A$156=1,MAX('TABLA DE DECISION'!BS$159:BS$208)-'TABLA DE DECISION'!BS206,'TABLA DE DECISION'!BS206-MIN('TABLA DE DECISION'!BS$159:BS$208)))","v":""},{"$f":"IF('TABLA DE DECISION'!BT206=\"\",\"\",IF('TABLA DE DECISION'!$A$156=1,MAX('TABLA DE DECISION'!BT$159:BT$208)-'TABLA DE DECISION'!BT206,'TABLA DE DECISION'!BT206-MIN('TABLA DE DECISION'!BT$159:BT$208)))","v":""},{"$f":"IF('TABLA DE DECISION'!BU206=\"\",\"\",IF('TABLA DE DECISION'!$A$156=1,MAX('TABLA DE DECISION'!BU$159:BU$208)-'TABLA DE DECISION'!BU206,'TABLA DE DECISION'!BU206-MIN('TABLA DE DECISION'!BU$159:BU$208)))","v":""},{"$f":"IF('TABLA DE DECISION'!BV206=\"\",\"\",IF('TABLA DE DECISION'!$A$156=1,MAX('TABLA DE DECISION'!BV$159:BV$208)-'TABLA DE DECISION'!BV206,'TABLA DE DECISION'!BV206-MIN('TABLA DE DECISION'!BV$159:BV$208)))","v":""},{"$f":"IF('TABLA DE DECISION'!BW206=\"\",\"\",IF('TABLA DE DECISION'!$A$156=1,MAX('TABLA DE DECISION'!BW$159:BW$208)-'TABLA DE DECISION'!BW206,'TABLA DE DECISION'!BW206-MIN('TABLA DE DECISION'!BW$159:BW$208)))","v":""},{"$f":"IF('TABLA DE DECISION'!BX206=\"\",\"\",IF('TABLA DE DECISION'!$A$156=1,MAX('TABLA DE DECISION'!BX$159:BX$208)-'TABLA DE DECISION'!BX206,'TABLA DE DECISION'!BX206-MIN('TABLA DE DECISION'!BX$159:BX$208)))","v":""},{"$f":"IF('TABLA DE DECISION'!BY206=\"\",\"\",IF('TABLA DE DECISION'!$A$156=1,MAX('TABLA DE DECISION'!BY$159:BY$208)-'TABLA DE DECISION'!BY206,'TABLA DE DECISION'!BY206-MIN('TABLA DE DECISION'!BY$159:BY$208)))","v":""},{"$f":"IF('TABLA DE DECISION'!BZ206=\"\",\"\",IF('TABLA DE DECISION'!$A$156=1,MAX('TABLA DE DECISION'!BZ$159:BZ$208)-'TABLA DE DECISION'!BZ206,'TABLA DE DECISION'!BZ206-MIN('TABLA DE DECISION'!BZ$159:BZ$208)))","v":""},{"$f":"IF('TABLA DE DECISION'!CA206=\"\",\"\",IF('TABLA DE DECISION'!$A$156=1,MAX('TABLA DE DECISION'!CA$159:CA$208)-'TABLA DE DECISION'!CA206,'TABLA DE DECISION'!CA206-MIN('TABLA DE DECISION'!CA$159:CA$208)))","v":""},{"$f":"IF('TABLA DE DECISION'!CB206=\"\",\"\",IF('TABLA DE DECISION'!$A$156=1,MAX('TABLA DE DECISION'!CB$159:CB$208)-'TABLA DE DECISION'!CB206,'TABLA DE DECISION'!CB206-MIN('TABLA DE DECISION'!CB$159:CB$208)))","v":""},{"$f":"IF('TABLA DE DECISION'!CC206=\"\",\"\",IF('TABLA DE DECISION'!$A$156=1,MAX('TABLA DE DECISION'!CC$159:CC$208)-'TABLA DE DECISION'!CC206,'TABLA DE DECISION'!CC206-MIN('TABLA DE DECISION'!CC$159:CC$208)))","v":""},{"$f":"IF('TABLA DE DECISION'!CD206=\"\",\"\",IF('TABLA DE DECISION'!$A$156=1,MAX('TABLA DE DECISION'!CD$159:CD$208)-'TABLA DE DECISION'!CD206,'TABLA DE DECISION'!CD206-MIN('TABLA DE DECISION'!CD$159:CD$208)))","v":""},{"$f":"IF('TABLA DE DECISION'!CE206=\"\",\"\",IF('TABLA DE DECISION'!$A$156=1,MAX('TABLA DE DECISION'!CE$159:CE$208)-'TABLA DE DECISION'!CE206,'TABLA DE DECISION'!CE206-MIN('TABLA DE DECISION'!CE$159:CE$208)))","v":""},{"$f":"IF('TABLA DE DECISION'!CF206=\"\",\"\",IF('TABLA DE DECISION'!$A$156=1,MAX('TABLA DE DECISION'!CF$159:CF$208)-'TABLA DE DECISION'!CF206,'TABLA DE DECISION'!CF206-MIN('TABLA DE DECISION'!CF$159:CF$208)))","v":""},{"$f":"IF('TABLA DE DECISION'!CG206=\"\",\"\",IF('TABLA DE DECISION'!$A$156=1,MAX('TABLA DE DECISION'!CG$159:CG$208)-'TABLA DE DECISION'!CG206,'TABLA DE DECISION'!CG206-MIN('TABLA DE DECISION'!CG$159:CG$208)))","v":""},{"$f":"IF('TABLA DE DECISION'!CH206=\"\",\"\",IF('TABLA DE DECISION'!$A$156=1,MAX('TABLA DE DECISION'!CH$159:CH$208)-'TABLA DE DECISION'!CH206,'TABLA DE DECISION'!CH206-MIN('TABLA DE DECISION'!CH$159:CH$208)))","v":""},{"$f":"IF('TABLA DE DECISION'!CI206=\"\",\"\",IF('TABLA DE DECISION'!$A$156=1,MAX('TABLA DE DECISION'!CI$159:CI$208)-'TABLA DE DECISION'!CI206,'TABLA DE DECISION'!CI206-MIN('TABLA DE DECISION'!CI$159:CI$208)))","v":""},{"$f":"IF('TABLA DE DECISION'!CJ206=\"\",\"\",IF('TABLA DE DECISION'!$A$156=1,MAX('TABLA DE DECISION'!CJ$159:CJ$208)-'TABLA DE DECISION'!CJ206,'TABLA DE DECISION'!CJ206-MIN('TABLA DE DECISION'!CJ$159:CJ$208)))","v":""},{"$f":"IF('TABLA DE DECISION'!CK206=\"\",\"\",IF('TABLA DE DECISION'!$A$156=1,MAX('TABLA DE DECISION'!CK$159:CK$208)-'TABLA DE DECISION'!CK206,'TABLA DE DECISION'!CK206-MIN('TABLA DE DECISION'!CK$159:CK$208)))","v":""},{"$f":"IF('TABLA DE DECISION'!CL206=\"\",\"\",IF('TABLA DE DECISION'!$A$156=1,MAX('TABLA DE DECISION'!CL$159:CL$208)-'TABLA DE DECISION'!CL206,'TABLA DE DECISION'!CL206-MIN('TABLA DE DECISION'!CL$159:CL$208)))","v":""},{"$f":"IF('TABLA DE DECISION'!CM206=\"\",\"\",IF('TABLA DE DECISION'!$A$156=1,MAX('TABLA DE DECISION'!CM$159:CM$208)-'TABLA DE DECISION'!CM206,'TABLA DE DECISION'!CM206-MIN('TABLA DE DECISION'!CM$159:CM$208)))","v":""},{"$f":"IF('TABLA DE DECISION'!CN206=\"\",\"\",IF('TABLA DE DECISION'!$A$156=1,MAX('TABLA DE DECISION'!CN$159:CN$208)-'TABLA DE DECISION'!CN206,'TABLA DE DECISION'!CN206-MIN('TABLA DE DECISION'!CN$159:CN$208)))","v":""},{"$f":"IF('TABLA DE DECISION'!CO206=\"\",\"\",IF('TABLA DE DECISION'!$A$156=1,MAX('TABLA DE DECISION'!CO$159:CO$208)-'TABLA DE DECISION'!CO206,'TABLA DE DECISION'!CO206-MIN('TABLA DE DECISION'!CO$159:CO$208)))","v":""},{"$f":"IF('TABLA DE DECISION'!CP206=\"\",\"\",IF('TABLA DE DECISION'!$A$156=1,MAX('TABLA DE DECISION'!CP$159:CP$208)-'TABLA DE DECISION'!CP206,'TABLA DE DECISION'!CP206-MIN('TABLA DE DECISION'!CP$159:CP$208)))","v":""},{"$f":"IF('TABLA DE DECISION'!CQ206=\"\",\"\",IF('TABLA DE DECISION'!$A$156=1,MAX('TABLA DE DECISION'!CQ$159:CQ$208)-'TABLA DE DECISION'!CQ206,'TABLA DE DECISION'!CQ206-MIN('TABLA DE DECISION'!CQ$159:CQ$208)))","v":""},{"$f":"IF('TABLA DE DECISION'!CR206=\"\",\"\",IF('TABLA DE DECISION'!$A$156=1,MAX('TABLA DE DECISION'!CR$159:CR$208)-'TABLA DE DECISION'!CR206,'TABLA DE DECISION'!CR206-MIN('TABLA DE DECISION'!CR$159:CR$208)))","v":""},{"$f":"IF('TABLA DE DECISION'!CS206=\"\",\"\",IF('TABLA DE DECISION'!$A$156=1,MAX('TABLA DE DECISION'!CS$159:CS$208)-'TABLA DE DECISION'!CS206,'TABLA DE DECISION'!CS206-MIN('TABLA DE DECISION'!CS$159:CS$208)))","v":""},{"$f":"IF('TABLA DE DECISION'!CT206=\"\",\"\",IF('TABLA DE DECISION'!$A$156=1,MAX('TABLA DE DECISION'!CT$159:CT$208)-'TABLA DE DECISION'!CT206,'TABLA DE DECISION'!CT206-MIN('TABLA DE DECISION'!CT$159:CT$208)))","v":""},{"$f":"IF('TABLA DE DECISION'!CU206=\"\",\"\",IF('TABLA DE DECISION'!$A$156=1,MAX('TABLA DE DECISION'!CU$159:CU$208)-'TABLA DE DECISION'!CU206,'TABLA DE DECISION'!CU206-MIN('TABLA DE DECISION'!CU$159:CU$208)))","v":""},{"$f":"IF('TABLA DE DECISION'!CV206=\"\",\"\",IF('TABLA DE DECISION'!$A$156=1,MAX('TABLA DE DECISION'!CV$159:CV$208)-'TABLA DE DECISION'!CV206,'TABLA DE DECISION'!CV206-MIN('TABLA DE DECISION'!CV$159:CV$208)))","v":""},{"$f":"IF('TABLA DE DECISION'!CW206=\"\",\"\",IF('TABLA DE DECISION'!$A$156=1,MAX('TABLA DE DECISION'!CW$159:CW$208)-'TABLA DE DECISION'!CW206,'TABLA DE DECISION'!CW206-MIN('TABLA DE DECISION'!CW$159:CW$208)))","v":""},{"$f":"IF('TABLA DE DECISION'!CX206=\"\",\"\",IF('TABLA DE DECISION'!$A$156=1,MAX('TABLA DE DECISION'!CX$159:CX$208)-'TABLA DE DECISION'!CX206,'TABLA DE DECISION'!CX206-MIN('TABLA DE DECISION'!CX$159:CX$208)))","v":""},{"$f":"IF('TABLA DE DECISION'!CY206=\"\",\"\",IF('TABLA DE DECISION'!$A$156=1,MAX('TABLA DE DECISION'!CY$159:CY$208)-'TABLA DE DECISION'!CY206,'TABLA DE DECISION'!CY206-MIN('TABLA DE DECISION'!CY$159:CY$208)))","v":""},{"$f":"IF('TABLA DE DECISION'!CZ206=\"\",\"\",IF('TABLA DE DECISION'!$A$156=1,MAX('TABLA DE DECISION'!CZ$159:CZ$208)-'TABLA DE DECISION'!CZ206,'TABLA DE DECISION'!CZ206-MIN('TABLA DE DECISION'!CZ$159:CZ$208)))","v":""},{"$f":"IF('TABLA DE DECISION'!DA206=\"\",\"\",IF('TABLA DE DECISION'!$A$156=1,MAX('TABLA DE DECISION'!DA$159:DA$208)-'TABLA DE DECISION'!DA206,'TABLA DE DECISION'!DA206-MIN('TABLA DE DECISION'!DA$159:DA$208)))","v":""},{"$f":"IF('TABLA DE DECISION'!DB206=\"\",\"\",IF('TABLA DE DECISION'!$A$156=1,MAX('TABLA DE DECISION'!DB$159:DB$208)-'TABLA DE DECISION'!DB206,'TABLA DE DECISION'!DB206-MIN('TABLA DE DECISION'!DB$159:DB$208)))","v":""},{"$f":"IF('TABLA DE DECISION'!DC206=\"\",\"\",IF('TABLA DE DECISION'!$A$156=1,MAX('TABLA DE DECISION'!DC$159:DC$208)-'TABLA DE DECISION'!DC206,'TABLA DE DECISION'!DC206-MIN('TABLA DE DECISION'!DC$159:DC$208)))","v":""},{"$f":"IF('TABLA DE DECISION'!DD206=\"\",\"\",IF('TABLA DE DECISION'!$A$156=1,MAX('TABLA DE DECISION'!DD$159:DD$208)-'TABLA DE DECISION'!DD206,'TABLA DE DECISION'!DD206-MIN('TABLA DE DECISION'!DD$159:DD$208)))","v":""},{"$f":"IF('TABLA DE DECISION'!DE206=\"\",\"\",IF('TABLA DE DECISION'!$A$156=1,MAX('TABLA DE DECISION'!DE$159:DE$208)-'TABLA DE DECISION'!DE206,'TABLA DE DECISION'!DE206-MIN('TABLA DE DECISION'!DE$159:DE$208)))","v":""},null,{"$f":"IF(C50=\"\",\"\",SUMPRODUCT(C50:AZ50,'TABLA DE DECISION'!BH$156:DE$156))","v":""}]
[{"$f":"IF('TABLA DE DECISION'!BF207=\"\",\"\",'TABLA DE DECISION'!BF207)","v":""},{"$f":"IF('TABLA DE DECISION'!BG207=\"\",\"\",'TABLA DE DECISION'!BG207)","v":"a49"},{"$f":"IF('TABLA DE DECISION'!BH207=\"\",\"\",IF('TABLA DE DECISION'!$A$156=1,MAX('TABLA DE DECISION'!BH$159:BH$208)-'TABLA DE DECISION'!BH207,'TABLA DE DECISION'!BH207-MIN('TABLA DE DECISION'!BH$159:BH$208)))","v":""},{"$f":"IF('TABLA DE DECISION'!BI207=\"\",\"\",IF('TABLA DE DECISION'!$A$156=1,MAX('TABLA DE DECISION'!BI$159:BI$208)-'TABLA DE DECISION'!BI207,'TABLA DE DECISION'!BI207-MIN('TABLA DE DECISION'!BI$159:BI$208)))","v":""},{"$f":"IF('TABLA DE DECISION'!BJ207=\"\",\"\",IF('TABLA DE DECISION'!$A$156=1,MAX('TABLA DE DECISION'!BJ$159:BJ$208)-'TABLA DE DECISION'!BJ207,'TABLA DE DECISION'!BJ207-MIN('TABLA DE DECISION'!BJ$159:BJ$208)))","v":""},{"$f":"IF('TABLA DE DECISION'!BK207=\"\",\"\",IF('TABLA DE DECISION'!$A$156=1,MAX('TABLA DE DECISION'!BK$159:BK$208)-'TABLA DE DECISION'!BK207,'TABLA DE DECISION'!BK207-MIN('TABLA DE DECISION'!BK$159:BK$208)))","v":""},{"$f":"IF('TABLA DE DECISION'!BL207=\"\",\"\",IF('TABLA DE DECISION'!$A$156=1,MAX('TABLA DE DECISION'!BL$159:BL$208)-'TABLA DE DECISION'!BL207,'TABLA DE DECISION'!BL207-MIN('TABLA DE DECISION'!BL$159:BL$208)))","v":""},{"$f":"IF('TABLA DE DECISION'!BM207=\"\",\"\",IF('TABLA DE DECISION'!$A$156=1,MAX('TABLA DE DECISION'!BM$159:BM$208)-'TABLA DE DECISION'!BM207,'TABLA DE DECISION'!BM207-MIN('TABLA DE DECISION'!BM$159:BM$208)))","v":""},{"$f":"IF('TABLA DE DECISION'!BN207=\"\",\"\",IF('TABLA DE DECISION'!$A$156=1,MAX('TABLA DE DECISION'!BN$159:BN$208)-'TABLA DE DECISION'!BN207,'TABLA DE DECISION'!BN207-MIN('TABLA DE DECISION'!BN$159:BN$208)))","v":""},{"$f":"IF('TABLA DE DECISION'!BO207=\"\",\"\",IF('TABLA DE DECISION'!$A$156=1,MAX('TABLA DE DECISION'!BO$159:BO$208)-'TABLA DE DECISION'!BO207,'TABLA DE DECISION'!BO207-MIN('TABLA DE DECISION'!BO$159:BO$208)))","v":""},{"$f":"IF('TABLA DE DECISION'!BP207=\"\",\"\",IF('TABLA DE DECISION'!$A$156=1,MAX('TABLA DE DECISION'!BP$159:BP$208)-'TABLA DE DECISION'!BP207,'TABLA DE DECISION'!BP207-MIN('TABLA DE DECISION'!BP$159:BP$208)))","v":""},{"$f":"IF('TABLA DE DECISION'!BQ207=\"\",\"\",IF('TABLA DE DECISION'!$A$156=1,MAX('TABLA DE DECISION'!BQ$159:BQ$208)-'TABLA DE DECISION'!BQ207,'TABLA DE DECISION'!BQ207-MIN('TABLA DE DECISION'!BQ$159:BQ$208)))","v":""},{"$f":"IF('TABLA DE DECISION'!BR207=\"\",\"\",IF('TABLA DE DECISION'!$A$156=1,MAX('TABLA DE DECISION'!BR$159:BR$208)-'TABLA DE DECISION'!BR207,'TABLA DE DECISION'!BR207-MIN('TABLA DE DECISION'!BR$159:BR$208)))","v":""},{"$f":"IF('TABLA DE DECISION'!BS207=\"\",\"\",IF('TABLA DE DECISION'!$A$156=1,MAX('TABLA DE DECISION'!BS$159:BS$208)-'TABLA DE DECISION'!BS207,'TABLA DE DECISION'!BS207-MIN('TABLA DE DECISION'!BS$159:BS$208)))","v":""},{"$f":"IF('TABLA DE DECISION'!BT207=\"\",\"\",IF('TABLA DE DECISION'!$A$156=1,MAX('TABLA DE DECISION'!BT$159:BT$208)-'TABLA DE DECISION'!BT207,'TABLA DE DECISION'!BT207-MIN('TABLA DE DECISION'!BT$159:BT$208)))","v":""},{"$f":"IF('TABLA DE DECISION'!BU207=\"\",\"\",IF('TABLA DE DECISION'!$A$156=1,MAX('TABLA DE DECISION'!BU$159:BU$208)-'TABLA DE DECISION'!BU207,'TABLA DE DECISION'!BU207-MIN('TABLA DE DECISION'!BU$159:BU$208)))","v":""},{"$f":"IF('TABLA DE DECISION'!BV207=\"\",\"\",IF('TABLA DE DECISION'!$A$156=1,MAX('TABLA DE DECISION'!BV$159:BV$208)-'TABLA DE DECISION'!BV207,'TABLA DE DECISION'!BV207-MIN('TABLA DE DECISION'!BV$159:BV$208)))","v":""},{"$f":"IF('TABLA DE DECISION'!BW207=\"\",\"\",IF('TABLA DE DECISION'!$A$156=1,MAX('TABLA DE DECISION'!BW$159:BW$208)-'TABLA DE DECISION'!BW207,'TABLA DE DECISION'!BW207-MIN('TABLA DE DECISION'!BW$159:BW$208)))","v":""},{"$f":"IF('TABLA DE DECISION'!BX207=\"\",\"\",IF('TABLA DE DECISION'!$A$156=1,MAX('TABLA DE DECISION'!BX$159:BX$208)-'TABLA DE DECISION'!BX207,'TABLA DE DECISION'!BX207-MIN('TABLA DE DECISION'!BX$159:BX$208)))","v":""},{"$f":"IF('TABLA DE DECISION'!BY207=\"\",\"\",IF('TABLA DE DECISION'!$A$156=1,MAX('TABLA DE DECISION'!BY$159:BY$208)-'TABLA DE DECISION'!BY207,'TABLA DE DECISION'!BY207-MIN('TABLA DE DECISION'!BY$159:BY$208)))","v":""},{"$f":"IF('TABLA DE DECISION'!BZ207=\"\",\"\",IF('TABLA DE DECISION'!$A$156=1,MAX('TABLA DE DECISION'!BZ$159:BZ$208)-'TABLA DE DECISION'!BZ207,'TABLA DE DECISION'!BZ207-MIN('TABLA DE DECISION'!BZ$159:BZ$208)))","v":""},{"$f":"IF('TABLA DE DECISION'!CA207=\"\",\"\",IF('TABLA DE DECISION'!$A$156=1,MAX('TABLA DE DECISION'!CA$159:CA$208)-'TABLA DE DECISION'!CA207,'TABLA DE DECISION'!CA207-MIN('TABLA DE DECISION'!CA$159:CA$208)))","v":""},{"$f":"IF('TABLA DE DECISION'!CB207=\"\",\"\",IF('TABLA DE DECISION'!$A$156=1,MAX('TABLA DE DECISION'!CB$159:CB$208)-'TABLA DE DECISION'!CB207,'TABLA DE DECISION'!CB207-MIN('TABLA DE DECISION'!CB$159:CB$208)))","v":""},{"$f":"IF('TABLA DE DECISION'!CC207=\"\",\"\",IF('TABLA DE DECISION'!$A$156=1,MAX('TABLA DE DECISION'!CC$159:CC$208)-'TABLA DE DECISION'!CC207,'TABLA DE DECISION'!CC207-MIN('TABLA DE DECISION'!CC$159:CC$208)))","v":""},{"$f":"IF('TABLA DE DECISION'!CD207=\"\",\"\",IF('TABLA DE DECISION'!$A$156=1,MAX('TABLA DE DECISION'!CD$159:CD$208)-'TABLA DE DECISION'!CD207,'TABLA DE DECISION'!CD207-MIN('TABLA DE DECISION'!CD$159:CD$208)))","v":""},{"$f":"IF('TABLA DE DECISION'!CE207=\"\",\"\",IF('TABLA DE DECISION'!$A$156=1,MAX('TABLA DE DECISION'!CE$159:CE$208)-'TABLA DE DECISION'!CE207,'TABLA DE DECISION'!CE207-MIN('TABLA DE DECISION'!CE$159:CE$208)))","v":""},{"$f":"IF('TABLA DE DECISION'!CF207=\"\",\"\",IF('TABLA DE DECISION'!$A$156=1,MAX('TABLA DE DECISION'!CF$159:CF$208)-'TABLA DE DECISION'!CF207,'TABLA DE DECISION'!CF207-MIN('TABLA DE DECISION'!CF$159:CF$208)))","v":""},{"$f":"IF('TABLA DE DECISION'!CG207=\"\",\"\",IF('TABLA DE DECISION'!$A$156=1,MAX('TABLA DE DECISION'!CG$159:CG$208)-'TABLA DE DECISION'!CG207,'TABLA DE DECISION'!CG207-MIN('TABLA DE DECISION'!CG$159:CG$208)))","v":""},{"$f":"IF('TABLA DE DECISION'!CH207=\"\",\"\",IF('TABLA DE DECISION'!$A$156=1,MAX('TABLA DE DECISION'!CH$159:CH$208)-'TABLA DE DECISION'!CH207,'TABLA DE DECISION'!CH207-MIN('TABLA DE DECISION'!CH$159:CH$208)))","v":""},{"$f":"IF('TABLA DE DECISION'!CI207=\"\",\"\",IF('TABLA DE DECISION'!$A$156=1,MAX('TABLA DE DECISION'!CI$159:CI$208)-'TABLA DE DECISION'!CI207,'TABLA DE DECISION'!CI207-MIN('TABLA DE DECISION'!CI$159:CI$208)))","v":""},{"$f":"IF('TABLA DE DECISION'!CJ207=\"\",\"\",IF('TABLA DE DECISION'!$A$156=1,MAX('TABLA DE DECISION'!CJ$159:CJ$208)-'TABLA DE DECISION'!CJ207,'TABLA DE DECISION'!CJ207-MIN('TABLA DE DECISION'!CJ$159:CJ$208)))","v":""},{"$f":"IF('TABLA DE DECISION'!CK207=\"\",\"\",IF('TABLA DE DECISION'!$A$156=1,MAX('TABLA DE DECISION'!CK$159:CK$208)-'TABLA DE DECISION'!CK207,'TABLA DE DECISION'!CK207-MIN('TABLA DE DECISION'!CK$159:CK$208)))","v":""},{"$f":"IF('TABLA DE DECISION'!CL207=\"\",\"\",IF('TABLA DE DECISION'!$A$156=1,MAX('TABLA DE DECISION'!CL$159:CL$208)-'TABLA DE DECISION'!CL207,'TABLA DE DECISION'!CL207-MIN('TABLA DE DECISION'!CL$159:CL$208)))","v":""},{"$f":"IF('TABLA DE DECISION'!CM207=\"\",\"\",IF('TABLA DE DECISION'!$A$156=1,MAX('TABLA DE DECISION'!CM$159:CM$208)-'TABLA DE DECISION'!CM207,'TABLA DE DECISION'!CM207-MIN('TABLA DE DECISION'!CM$159:CM$208)))","v":""},{"$f":"IF('TABLA DE DECISION'!CN207=\"\",\"\",IF('TABLA DE DECISION'!$A$156=1,MAX('TABLA DE DECISION'!CN$159:CN$208)-'TABLA DE DECISION'!CN207,'TABLA DE DECISION'!CN207-MIN('TABLA DE DECISION'!CN$159:CN$208)))","v":""},{"$f":"IF('TABLA DE DECISION'!CO207=\"\",\"\",IF('TABLA DE DECISION'!$A$156=1,MAX('TABLA DE DECISION'!CO$159:CO$208)-'TABLA DE DECISION'!CO207,'TABLA DE DECISION'!CO207-MIN('TABLA DE DECISION'!CO$159:CO$208)))","v":""},{"$f":"IF('TABLA DE DECISION'!CP207=\"\",\"\",IF('TABLA DE DECISION'!$A$156=1,MAX('TABLA DE DECISION'!CP$159:CP$208)-'TABLA DE DECISION'!CP207,'TABLA DE DECISION'!CP207-MIN('TABLA DE DECISION'!CP$159:CP$208)))","v":""},{"$f":"IF('TABLA DE DECISION'!CQ207=\"\",\"\",IF('TABLA DE DECISION'!$A$156=1,MAX('TABLA DE DECISION'!CQ$159:CQ$208)-'TABLA DE DECISION'!CQ207,'TABLA DE DECISION'!CQ207-MIN('TABLA DE DECISION'!CQ$159:CQ$208)))","v":""},{"$f":"IF('TABLA DE DECISION'!CR207=\"\",\"\",IF('TABLA DE DECISION'!$A$156=1,MAX('TABLA DE DECISION'!CR$159:CR$208)-'TABLA DE DECISION'!CR207,'TABLA DE DECISION'!CR207-MIN('TABLA DE DECISION'!CR$159:CR$208)))","v":""},{"$f":"IF('TABLA DE DECISION'!CS207=\"\",\"\",IF('TABLA DE DECISION'!$A$156=1,MAX('TABLA DE DECISION'!CS$159:CS$208)-'TABLA DE DECISION'!CS207,'TABLA DE DECISION'!CS207-MIN('TABLA DE DECISION'!CS$159:CS$208)))","v":""},{"$f":"IF('TABLA DE DECISION'!CT207=\"\",\"\",IF('TABLA DE DECISION'!$A$156=1,MAX('TABLA DE DECISION'!CT$159:CT$208)-'TABLA DE DECISION'!CT207,'TABLA DE DECISION'!CT207-MIN('TABLA DE DECISION'!CT$159:CT$208)))","v":""},{"$f":"IF('TABLA DE DECISION'!CU207=\"\",\"\",IF('TABLA DE DECISION'!$A$156=1,MAX('TABLA DE DECISION'!CU$159:CU$208)-'TABLA DE DECISION'!CU207,'TABLA DE DECISION'!CU207-MIN('TABLA DE DECISION'!CU$159:CU$208)))","v":""},{"$f":"IF('TABLA DE DECISION'!CV207=\"\",\"\",IF('TABLA DE DECISION'!$A$156=1,MAX('TABLA DE DECISION'!CV$159:CV$208)-'TABLA DE DECISION'!CV207,'TABLA DE DECISION'!CV207-MIN('TABLA DE DECISION'!CV$159:CV$208)))","v":""},{"$f":"IF('TABLA DE DECISION'!CW207=\"\",\"\",IF('TABLA DE DECISION'!$A$156=1,MAX('TABLA DE DECISION'!CW$159:CW$208)-'TABLA DE DECISION'!CW207,'TABLA DE DECISION'!CW207-MIN('TABLA DE DECISION'!CW$159:CW$208)))","v":""},{"$f":"IF('TABLA DE DECISION'!CX207=\"\",\"\",IF('TABLA DE DECISION'!$A$156=1,MAX('TABLA DE DECISION'!CX$159:CX$208)-'TABLA DE DECISION'!CX207,'TABLA DE DECISION'!CX207-MIN('TABLA DE DECISION'!CX$159:CX$208)))","v":""},{"$f":"IF('TABLA DE DECISION'!CY207=\"\",\"\",IF('TABLA DE DECISION'!$A$156=1,MAX('TABLA DE DECISION'!CY$159:CY$208)-'TABLA DE DECISION'!CY207,'TABLA DE DECISION'!CY207-MIN('TABLA DE DECISION'!CY$159:CY$208)))","v":""},{"$f":"IF('TABLA DE DECISION'!CZ207=\"\",\"\",IF('TABLA DE DECISION'!$A$156=1,MAX('TABLA DE DECISION'!CZ$159:CZ$208)-'TABLA DE DECISION'!CZ207,'TABLA DE DECISION'!CZ207-MIN('TABLA DE DECISION'!CZ$159:CZ$208)))","v":""},{"$f":"IF('TABLA DE DECISION'!DA207=\"\",\"\",IF('TABLA DE DECISION'!$A$156=1,MAX('TABLA DE DECISION'!DA$159:DA$208)-'TABLA DE DECISION'!DA207,'TABLA DE DECISION'!DA207-MIN('TABLA DE DECISION'!DA$159:DA$208)))","v":""},{"$f":"IF('TABLA DE DECISION'!DB207=\"\",\"\",IF('TABLA DE DECISION'!$A$156=1,MAX('TABLA DE DECISION'!DB$159:DB$208)-'TABLA DE DECISION'!DB207,'TABLA DE DECISION'!DB207-MIN('TABLA DE DECISION'!DB$159:DB$208)))","v":""},{"$f":"IF('TABLA DE DECISION'!DC207=\"\",\"\",IF('TABLA DE DECISION'!$A$156=1,MAX('TABLA DE DECISION'!DC$159:DC$208)-'TABLA DE DECISION'!DC207,'TABLA DE DECISION'!DC207-MIN('TABLA DE DECISION'!DC$159:DC$208)))","v":""},{"$f":"IF('TABLA DE DECISION'!DD207=\"\",\"\",IF('TABLA DE DECISION'!$A$156=1,MAX('TABLA DE DECISION'!DD$159:DD$208)-'TABLA DE DECISION'!DD207,'TABLA DE DECISION'!DD207-MIN('TABLA DE DECISION'!DD$159:DD$208)))","v":""},{"$f":"IF('TABLA DE DECISION'!DE207=\"\",\"\",IF('TABLA DE DECISION'!$A$156=1,MAX('TABLA DE DECISION'!DE$159:DE$208)-'TABLA DE DECISION'!DE207,'TABLA DE DECISION'!DE207-MIN('TABLA DE DECISION'!DE$159:DE$208)))","v":""},null,{"$f":"IF(C51=\"\",\"\",SUMPRODUCT(C51:AZ51,'TABLA DE DECISION'!BH$156:DE$156))","v":""}]
[{"$f":"IF('TABLA DE DECISION'!BF208=\"\",\"\",'TABLA DE DECISION'!BF208)","v":""},{"$f":"IF('TABLA DE DECISION'!BG208=\"\",\"\",'TABLA DE DECISION'!BG208)","v":"a50"},{"$f":"IF('TABLA DE DECISION'!BH208=\"\",\"\",IF('TABLA DE DECISION'!$A$156=1,MAX('TABLA DE DECISION'!BH$159:BH$208)-'TABLA DE DECISION'!BH208,'TABLA DE DECISION'!BH208-MIN('TABLA DE DECISION'!BH$159:BH$208)))","v":""},{"$f":"IF('TABLA DE DECISION'!BI208=\"\",\"\",IF('TABLA DE DECISION'!$A$156=1,MAX('TABLA DE DECISION'!BI$159:BI$208)-'TABLA DE DECISION'!BI208,'TABLA DE DECISION'!BI208-MIN('TABLA DE DECISION'!BI$159:BI$208)))","v":""},{"$f":"IF('TABLA DE DECISION'!BJ208=\"\",\"\",IF('TABLA DE DECISION'!$A$156=1,MAX('TABLA DE DECISION'!BJ$159:BJ$208)-'TABLA DE DECISION'!BJ208,'TABLA DE DECISION'!BJ208-MIN('TABLA DE DECISION'!BJ$159:BJ$208)))","v":""},{"$f":"IF('TABLA DE DECISION'!BK208=\"\",\"\",IF('TABLA DE DECISION'!$A$156=1,MAX('TABLA DE DECISION'!BK$159:BK$208)-'TABLA DE DECISION'!BK208,'TABLA DE DECISION'!BK208-MIN('TABLA DE DECISION'!BK$159:BK$208)))","v":""},{"$f":"IF('TABLA DE DECISION'!BL208=\"\",\"\",IF('TABLA DE DECISION'!$A$156=1,MAX('TABLA DE DECISION'!BL$159:BL$208)-'TABLA DE DECISION'!BL208,'TABLA DE DECISION'!BL208-MIN('TABLA DE DECISION'!BL$159:BL$208)))","v":""},{"$f":"IF('TABLA DE DECISION'!BM208=\"\",\"\",IF('TABLA DE DECISION'!$A$156=1,MAX('TABLA DE DECISION'!BM$159:BM$208)-'TABLA DE DECISION'!BM208,'TABLA DE DECISION'!BM208-MIN('TABLA DE DECISION'!BM$159:BM$208)))","v":""},{"$f":"IF('TABLA DE DECISION'!BN208=\"\",\"\",IF('TABLA DE DECISION'!$A$156=1,MAX('TABLA DE DECISION'!BN$159:BN$208)-'TABLA DE DECISION'!BN208,'TABLA DE DECISION'!BN208-MIN('TABLA DE DECISION'!BN$159:BN$208)))","v":""},{"$f":"IF('TABLA DE DECISION'!BO208=\"\",\"\",IF('TABLA DE DECISION'!$A$156=1,MAX('TABLA DE DECISION'!BO$159:BO$208)-'TABLA DE DECISION'!BO208,'TABLA DE DECISION'!BO208-MIN('TABLA DE DECISION'!BO$159:BO$208)))","v":""},{"$f":"IF('TABLA DE DECISION'!BP208=\"\",\"\",IF('TABLA DE DECISION'!$A$156=1,MAX('TABLA DE DECISION'!BP$159:BP$208)-'TABLA DE DECISION'!BP208,'TABLA DE DECISION'!BP208-MIN('TABLA DE DECISION'!BP$159:BP$208)))","v":""},{"$f":"IF('TABLA DE DECISION'!BQ208=\"\",\"\",IF('TABLA DE DECISION'!$A$156=1,MAX('TABLA DE DECISION'!BQ$159:BQ$208)-'TABLA DE DECISION'!BQ208,'TABLA DE DECISION'!BQ208-MIN('TABLA DE DECISION'!BQ$159:BQ$208)))","v":""},{"$f":"IF('TABLA DE DECISION'!BR208=\"\",\"\",IF('TABLA DE DECISION'!$A$156=1,MAX('TABLA DE DECISION'!BR$159:BR$208)-'TABLA DE DECISION'!BR208,'TABLA DE DECISION'!BR208-MIN('TABLA DE DECISION'!BR$159:BR$208)))","v":""},{"$f":"IF('TABLA DE DECISION'!BS208=\"\",\"\",IF('TABLA DE DECISION'!$A$156=1,MAX('TABLA DE DECISION'!BS$159:BS$208)-'TABLA DE DECISION'!BS208,'TABLA DE DECISION'!BS208-MIN('TABLA DE DECISION'!BS$159:BS$208)))","v":""},{"$f":"IF('TABLA DE DECISION'!BT208=\"\",\"\",IF('TABLA DE DECISION'!$A$156=1,MAX('TABLA DE DECISION'!BT$159:BT$208)-'TABLA DE DECISION'!BT208,'TABLA DE DECISION'!BT208-MIN('TABLA DE DECISION'!BT$159:BT$208)))","v":""},{"$f":"IF('TABLA DE DECISION'!BU208=\"\",\"\",IF('TABLA DE DECISION'!$A$156=1,MAX('TABLA DE DECISION'!BU$159:BU$208)-'TABLA DE DECISION'!BU208,'TABLA DE DECISION'!BU208-MIN('TABLA DE DECISION'!BU$159:BU$208)))","v":""},{"$f":"IF('TABLA DE DECISION'!BV208=\"\",\"\",IF('TABLA DE DECISION'!$A$156=1,MAX('TABLA DE DECISION'!BV$159:BV$208)-'TABLA DE DECISION'!BV208,'TABLA DE DECISION'!BV208-MIN('TABLA DE DECISION'!BV$159:BV$208)))","v":""},{"$f":"IF('TABLA DE DECISION'!BW208=\"\",\"\",IF('TABLA DE DECISION'!$A$156=1,MAX('TABLA DE DECISION'!BW$159:BW$208)-'TABLA DE DECISION'!BW208,'TABLA DE DECISION'!BW208-MIN('TABLA DE DECISION'!BW$159:BW$208)))","v":""},{"$f":"IF('TABLA DE DECISION'!BX208=\"\",\"\",IF('TABLA DE DECISION'!$A$156=1,MAX('TABLA DE DECISION'!BX$159:BX$208)-'TABLA DE DECISION'!BX208,'TABLA DE DECISION'!BX208-MIN('TABLA DE DECISION'!BX$159:BX$208)))","v":""},{"$f":"IF('TABLA DE DECISION'!BY208=\"\",\"\",IF('TABLA DE DECISION'!$A$156=1,MAX('TABLA DE DECISION'!BY$159:BY$208)-'TABLA DE DECISION'!BY208,'TABLA DE DECISION'!BY208-MIN('TABLA DE DECISION'!BY$159:BY$208)))","v":""},{"$f":"IF('TABLA DE DECISION'!BZ208=\"\",\"\",IF('TABLA DE DECISION'!$A$156=1,MAX('TABLA DE DECISION'!BZ$159:BZ$208)-'TABLA DE DECISION'!BZ208,'TABLA DE DECISION'!BZ208-MIN('TABLA DE DECISION'!BZ$159:BZ$208)))","v":""},{"$f":"IF('TABLA DE DECISION'!CA208=\"\",\"\",IF('TABLA DE DECISION'!$A$156=1,MAX('TABLA DE DECISION'!CA$159:CA$208)-'TABLA DE DECISION'!CA208,'TABLA DE DECISION'!CA208-MIN('TABLA DE DECISION'!CA$159:CA$208)))","v":""},{"$f":"IF('TABLA DE DECISION'!CB208=\"\",\"\",IF('TABLA DE DECISION'!$A$156=1,MAX('TABLA DE DECISION'!CB$159:CB$208)-'TABLA DE DECISION'!CB208,'TABLA DE DECISION'!CB208-MIN('TABLA DE DECISION'!CB$159:CB$208)))","v":""},{"$f":"IF('TABLA DE DECISION'!CC208=\"\",\"\",IF('TABLA DE DECISION'!$A$156=1,MAX('TABLA DE DECISION'!CC$159:CC$208)-'TABLA DE DECISION'!CC208,'TABLA DE DECISION'!CC208-MIN('TABLA DE DECISION'!CC$159:CC$208)))","v":""},{"$f":"IF('TABLA DE DECISION'!CD208=\"\",\"\",IF('TABLA DE DECISION'!$A$156=1,MAX('TABLA DE DECISION'!CD$159:CD$208)-'TABLA DE DECISION'!CD208,'TABLA DE DECISION'!CD208-MIN('TABLA DE DECISION'!CD$159:CD$208)))","v":""},{"$f":"IF('TABLA DE DECISION'!CE208=\"\",\"\",IF('TABLA DE DECISION'!$A$156=1,MAX('TABLA DE DECISION'!CE$159:CE$208)-'TABLA DE DECISION'!CE208,'TABLA DE DECISION'!CE208-MIN('TABLA DE DECISION'!CE$159:CE$208)))","v":""},{"$f":"IF('TABLA DE DECISION'!CF208=\"\",\"\",IF('TABLA DE DECISION'!$A$156=1,MAX('TABLA DE DECISION'!CF$159:CF$208)-'TABLA DE DECISION'!CF208,'TABLA DE DECISION'!CF208-MIN('TABLA DE DECISION'!CF$159:CF$208)))","v":""},{"$f":"IF('TABLA DE DECISION'!CG208=\"\",\"\",IF('TABLA DE DECISION'!$A$156=1,MAX('TABLA DE DECISION'!CG$159:CG$208)-'TABLA DE DECISION'!CG208,'TABLA DE DECISION'!CG208-MIN('TABLA DE DECISION'!CG$159:CG$208)))","v":""},{"$f":"IF('TABLA DE DECISION'!CH208=\"\",\"\",IF('TABLA DE DECISION'!$A$156=1,MAX('TABLA DE DECISION'!CH$159:CH$208)-'TABLA DE DECISION'!CH208,'TABLA DE DECISION'!CH208-MIN('TABLA DE DECISION'!CH$159:CH$208)))","v":""},{"$f":"IF('TABLA DE DECISION'!CI208=\"\",\"\",IF('TABLA DE DECISION'!$A$156=1,MAX('TABLA DE DECISION'!CI$159:CI$208)-'TABLA DE DECISION'!CI208,'TABLA DE DECISION'!CI208-MIN('TABLA DE DECISION'!CI$159:CI$208)))","v":""},{"$f":"IF('TABLA DE DECISION'!CJ208=\"\",\"\",IF('TABLA DE DECISION'!$A$156=1,MAX('TABLA DE DECISION'!CJ$159:CJ$208)-'TABLA DE DECISION'!CJ208,'TABLA DE DECISION'!CJ208-MIN('TABLA DE DECISION'!CJ$159:CJ$208)))","v":""},{"$f":"IF('TABLA DE DECISION'!CK208=\"\",\"\",IF('TABLA DE DECISION'!$A$156=1,MAX('TABLA DE DECISION'!CK$159:CK$208)-'TABLA DE DECISION'!CK208,'TABLA DE DECISION'!CK208-MIN('TABLA DE DECISION'!CK$159:CK$208)))","v":""},{"$f":"IF('TABLA DE DECISION'!CL208=\"\",\"\",IF('TABLA DE DECISION'!$A$156=1,MAX('TABLA DE DECISION'!CL$159:CL$208)-'TABLA DE DECISION'!CL208,'TABLA DE DECISION'!CL208-MIN('TABLA DE DECISION'!CL$159:CL$208)))","v":""},{"$f":"IF('TABLA DE DECISION'!CM208=\"\",\"\",IF('TABLA DE DECISION'!$A$156=1,MAX('TABLA DE DECISION'!CM$159:CM$208)-'TABLA DE DECISION'!CM208,'TABLA DE DECISION'!CM208-MIN('TABLA DE DECISION'!CM$159:CM$208)))","v":""},{"$f":"IF('TABLA DE DECISION'!CN208=\"\",\"\",IF('TABLA DE DECISION'!$A$156=1,MAX('TABLA DE DECISION'!CN$159:CN$208)-'TABLA DE DECISION'!CN208,'TABLA DE DECISION'!CN208-MIN('TABLA DE DECISION'!CN$159:CN$208)))","v":""},{"$f":"IF('TABLA DE DECISION'!CO208=\"\",\"\",IF('TABLA DE DECISION'!$A$156=1,MAX('TABLA DE DECISION'!CO$159:CO$208)-'TABLA DE DECISION'!CO208,'TABLA DE DECISION'!CO208-MIN('TABLA DE DECISION'!CO$159:CO$208)))","v":""},{"$f":"IF('TABLA DE DECISION'!CP208=\"\",\"\",IF('TABLA DE DECISION'!$A$156=1,MAX('TABLA DE DECISION'!CP$159:CP$208)-'TABLA DE DECISION'!CP208,'TABLA DE DECISION'!CP208-MIN('TABLA DE DECISION'!CP$159:CP$208)))","v":""},{"$f":"IF('TABLA DE DECISION'!CQ208=\"\",\"\",IF('TABLA DE DECISION'!$A$156=1,MAX('TABLA DE DECISION'!CQ$159:CQ$208)-'TABLA DE DECISION'!CQ208,'TABLA DE DECISION'!CQ208-MIN('TABLA DE DECISION'!CQ$159:CQ$208)))","v":""},{"$f":"IF('TABLA DE DECISION'!CR208=\"\",\"\",IF('TABLA DE DECISION'!$A$156=1,MAX('TABLA DE DECISION'!CR$159:CR$208)-'TABLA DE DECISION'!CR208,'TABLA DE DECISION'!CR208-MIN('TABLA DE DECISION'!CR$159:CR$208)))","v":""},{"$f":"IF('TABLA DE DECISION'!CS208=\"\",\"\",IF('TABLA DE DECISION'!$A$156=1,MAX('TABLA DE DECISION'!CS$159:CS$208)-'TABLA DE DECISION'!CS208,'TABLA DE DECISION'!CS208-MIN('TABLA DE DECISION'!CS$159:CS$208)))","v":""},{"$f":"IF('TABLA DE DECISION'!CT208=\"\",\"\",IF('TABLA DE DECISION'!$A$156=1,MAX('TABLA DE DECISION'!CT$159:CT$208)-'TABLA DE DECISION'!CT208,'TABLA DE DECISION'!CT208-MIN('TABLA DE DECISION'!CT$159:CT$208)))","v":""},{"$f":"IF('TABLA DE DECISION'!CU208=\"\",\"\",IF('TABLA DE DECISION'!$A$156=1,MAX('TABLA DE DECISION'!CU$159:CU$208)-'TABLA DE DECISION'!CU208,'TABLA DE DECISION'!CU208-MIN('TABLA DE DECISION'!CU$159:CU$208)))","v":""},{"$f":"IF('TABLA DE DECISION'!CV208=\"\",\"\",IF('TABLA DE DECISION'!$A$156=1,MAX('TABLA DE DECISION'!CV$159:CV$208)-'TABLA DE DECISION'!CV208,'TABLA DE DECISION'!CV208-MIN('TABLA DE DECISION'!CV$159:CV$208)))","v":""},{"$f":"IF('TABLA DE DECISION'!CW208=\"\",\"\",IF('TABLA DE DECISION'!$A$156=1,MAX('TABLA DE DECISION'!CW$159:CW$208)-'TABLA DE DECISION'!CW208,'TABLA DE DECISION'!CW208-MIN('TABLA DE DECISION'!CW$159:CW$208)))","v":""},{"$f":"IF('TABLA DE DECISION'!CX208=\"\",\"\",IF('TABLA DE DECISION'!$A$156=1,MAX('TABLA DE DECISION'!CX$159:CX$208)-'TABLA DE DECISION'!CX208,'TABLA DE DECISION'!CX208-MIN('TABLA DE DECISION'!CX$159:CX$208)))","v":""},{"$f":"IF('TABLA DE DECISION'!CY208=\"\",\"\",IF('TABLA DE DECISION'!$A$156=1,MAX('TABLA DE DECISION'!CY$159:CY$208)-'TABLA DE DECISION'!CY208,'TABLA DE DECISION'!CY208-MIN('TABLA DE DECISION'!CY$159:CY$208)))","v":""},{"$f":"IF('TABLA DE DECISION'!CZ208=\"\",\"\",IF('TABLA DE DECISION'!$A$156=1,MAX('TABLA DE DECISION'!CZ$159:CZ$208)-'TABLA DE DECISION'!CZ208,'TABLA DE DECISION'!CZ208-MIN('TABLA DE DECISION'!CZ$159:CZ$208)))","v":""},{"$f":"IF('TABLA DE DECISION'!DA208=\"\",\"\",IF('TABLA DE DECISION'!$A$156=1,MAX('TABLA DE DECISION'!DA$159:DA$208)-'TABLA DE DECISION'!DA208,'TABLA DE DECISION'!DA208-MIN('TABLA DE DECISION'!DA$159:DA$208)))","v":""},{"$f":"IF('TABLA DE DECISION'!DB208=\"\",\"\",IF('TABLA DE DECISION'!$A$156=1,MAX('TABLA DE DECISION'!DB$159:DB$208)-'TABLA DE DECISION'!DB208,'TABLA DE DECISION'!DB208-MIN('TABLA DE DECISION'!DB$159:DB$208)))","v":""},{"$f":"IF('TABLA DE DECISION'!DC208=\"\",\"\",IF('TABLA DE DECISION'!$A$156=1,MAX('TABLA DE DECISION'!DC$159:DC$208)-'TABLA DE DECISION'!DC208,'TABLA DE DECISION'!DC208-MIN('TABLA DE DECISION'!DC$159:DC$208)))","v":""},{"$f":"IF('TABLA DE DECISION'!DD208=\"\",\"\",IF('TABLA DE DECISION'!$A$156=1,MAX('TABLA DE DECISION'!DD$159:DD$208)-'TABLA DE DECISION'!DD208,'TABLA DE DECISION'!DD208-MIN('TABLA DE DECISION'!DD$159:DD$208)))","v":""},{"$f":"IF('TABLA DE DECISION'!DE208=\"\",\"\",IF('TABLA DE DECISION'!$A$156=1,MAX('TABLA DE DECISION'!DE$159:DE$208)-'TABLA DE DECISION'!DE208,'TABLA DE DECISION'!DE208-MIN('TABLA DE DECISION'!DE$159:DE$208)))","v":""},null,{"$f":"IF(C52=\"\",\"\",SUMPRODUCT(C52:AZ52,'TABLA DE DECISION'!BH$156:DE$156))","v":""}]

{"sheet":"DECISIÓN ÓPTIMA","index":4,"n_rows":54,"n_cols":58,"rows_kept":54,"cut":false,"hidden":false,"merged":[[0,0,0,1]]}
["Alternativa Óptima (Resultado)",null,null,null,"Índice de Optimismo (0≤α≤1)",null,"VIP=",{"$f":"'TABLA DE DECISION'!F155","v":1750},"VII=",{"$f":"'TABLA DE DECISION'!H155","v":1150}]
[null,null,null,"     α=",0.5,null,"VMEIP=",{"$f":"'TABLA DE DECISION'!F156","v":4250},"VMEII=",{"$f":"'TABLA DE DECISION'!H156","v":4850}]
[]
[null,null,"LAPLACE","WALD","HURWICZ   (α)","SAVAGE ","VME","POE","VME/c1","VME/c2","VME/c3","VME/c4","VME/c5","VME/c6","VME/c7","VME/c8","VME/c9","VME/c10","VME/c11","VME/c12","VME/c13","VME/c14","VME/c15","VME/c16","VME/c17","VME/c18","VME/c19","VME/c20","VME/c21","VME/c22","VME/c23","VME/c24","VME/c25","VME/c26","VME/c27","VME/c28","VME/c29","VME/c30","VME/c31","VME/c32","VME/c33","VME/c34","VME/c35","VME/c36","VME/c37","VME/c38","VME/c39","VME/c40","VME/c41","VME/c42","VME/c43","VME/c44","VME/c45","VME/c46","VME/c47","VME/c48","VME/c49","VME/c50"]
[{"$f":"IF('TABLA DE DECISION'!BF159=\"\",\"\",'TABLA DE DECISION'!BF159)","v":""},{"$f":"'TABLA DE DECISION'!BG159","v":"a1"},{"$f":"IF('TABLA DE DECISION'!A159='TABLA DE DECISION'!A$157,CONCATENATE($B5,\"(\",'TABLA DE DECISION'!A$157,\")\"),'TABLA DE DECISION'!A159)","v":7500},{"$f":"IF('TABLA DE DECISION'!B159='TABLA DE DECISION'!B$157,CONCATENATE($B5,\"(\",'TABLA DE DECISION'!B$157,\")\"),'TABLA DE DECISION'!B159)","v":12500},{"$f":"IF('TABLA DE DECISION'!C159='TABLA DE DECISION'!C$157,CONCATENATE($B5,\"(\",'TABLA DE DECISION'!C$157,\")\"),'TABLA DE DECISION'!C159)","v":"a1(7500)"},{"$f":"IF('TABLA DE DECISION'!D159='TABLA DE DECISION'!D$157,CONCATENATE($B5,\"(\",'TABLA DE DECISION'!D$157,\")\"),'TABLA DE DECISION'!D159)","v":5000},{"$f":"IF('TABLA DE DECISION'!E159='TABLA DE DECISION'!E$157,CONCATENATE($B5,\"(\",'TABLA DE DECISION'!E$157,\")\"),'TABLA DE DECISION'!E159)","v":"a1(6000)"},{"$f":"IF('MATRIZ-PÉRDIDA OPORTUNIDAD'!BB3='MATRIZ-PÉRDIDA OPORTUNIDAD'!BB$2,CONCATENATE($B5,\"(\",'MATRIZ-PÉRDIDA OPORTUNIDAD'!BB$2,\")\"),'MATRIZ-PÉRDIDA OPORTUNIDAD'!BB3)","v":"a1(1750)"},{"$f":"IF('TABLA DE DECISION'!G159='TABLA DE DECISION'!G$157,CONCATENATE($B5,\"(\",'TABLA DE DECISION'!G$157,\")\"),'TABLA DE DECISION'!G159)","v":"a1(3152,17391304348)"},{"$f":"IF('TABLA DE DECISION'!H159='TABLA DE DECISION'!H$157,CONCATENATE($B5,\"(\",'TABLA DE DECISION'!H$157,\")\"),'TABLA DE DECISION'!H159)","v":6538.4615384615372},{"$f":"IF('TABLA DE DECISION'!I159='TABLA DE DECISION'!I$157,CONCATENATE($B5,\"(\",'TABLA DE DECISION'!I$157,\")\"),'TABLA DE DECISION'!I159)","v":10178.571428571429},{"$f":"IF('TABLA DE DECISION'!J159='TABLA DE DECISION'!J$157,CONCATENATE($B5,\"(\",'TABLA DE DECISION'!J$157,\")\"),'TABLA DE DECISION'!J159)","v":"a1(0)"},{"$f":"IF('TABLA DE DECISION'!K159='TABLA DE DECISION'!K$157,CONCATENATE($B5,\"(\",'TABLA DE DECISION'!K$157,\")\"),'TABLA DE DECISION'!K159)","v":"a1(0)"},{"$f":"IF('TABLA DE DECISION'!L159='TABLA DE DECISION'!L$157,CONCATENATE($B5,\"(\",'TABLA DE DECISION'!L$157,\")\"),'TABLA DE DECISION'!L159)","v":"a1(0)"},{"$f":"IF('TABLA DE DECISION'!M159='TABLA DE DECISION'!M$157,CONCATENATE($B5,\"(\",'TABLA DE DECISION'!M$157,\")\"),'TABLA DE DECISION'!M159)","v":"a1(0)"},{"$f":"IF('TABLA DE DECISION'!N159='TABLA DE DECISION'!N$157,CONCATENATE($B5,\"(\",'TABLA DE DECISION'!N$157,\")\"),'TABLA DE DECISION'!N159)","v":"a1(0)"},{"$f":"IF('TABLA DE DECISION'!O159='TABLA DE DECISION'!O$157,CONCATENATE($B5,\"(\",'TABLA DE DECISION'!O$157,\")\"),'TABLA DE DECISION'!O159)","v":"a1(0)"},{"$f":"IF('TABLA DE DECISION'!P159='TABLA DE DECISION'!P$157,CONCATENATE($B5,\"(\",'TABLA DE DECISION'!P$157,\")\"),'TABLA DE DECISION'!P159)","v":"a1(0)"},{"$f":"IF('TABLA DE DECISION'!Q159='TABLA DE DECISION'!Q$157,CONCATENATE($B5,\"(\",'TABLA DE DECISION'!Q$157,\")\"),'TABLA DE DECISION'!Q159)","v":"a1(0)"},{"$f":"IF('TABLA DE DECISION'!R159='TABLA DE DECISION'!R$157,CONCATENATE($B5,\"(\",'TABLA DE DECISION'!R$157,\")\"),'TABLA DE DECISION'!R159)","v":"a1(0)"},{"$f":"IF('TABLA DE DECISION'!S159='TABLA DE DECISION'!S$157,CONCATENATE($B5,\"(\",'TABLA DE DECISION'!S$157,\")\"),'TABLA DE DECISION'!S159)","v":"a1(0)"},{"$f":"IF('TABLA DE DECISION'!T159='TABLA DE DECISION'!T$157,CONCATENATE($B5,\"(\",'TABLA DE DECISION'!T$157,\")\"),'TABLA DE DECISION'!T159)","v":"a1(0)"},{"$f":"IF('TABLA DE DECISION'!U159='TABLA DE DECISION'!U$157,CONCATENATE($B5,\"(\",'TABLA DE DECISION'!U$157,\")\"),'TABLA DE DECISION'!U159)","v":"a1(0)"},{"$f":"IF('TABLA DE DECISION'!V159='TABLA DE DECISION'!V$157,CONCATENATE($B5,\"(\",'TABLA DE DECISION'!V$157,\")\"),'TABLA DE DECISION'!V159)","v":"a1(0)"},{"$f":"IF('TABLA DE DECISION'!W159='TABLA DE DECISION'!W$157,CONCATENATE($B5,\"(\",'TABLA DE DECISION'!W$157,\")\"),'TABLA DE DECISION'!W159)","v":"a1(0)"},{"$f":"IF('TABLA DE DECISION'!X159='TABLA DE DECISION'!X$157,CONCATENATE($B5,\"(\",'TABLA DE DECISION'!X$157,\")\"),'TABLA DE DECISION'!X159)","v":"a1(0)"},{"$f":"IF('TABLA DE DECISION'!Y159='TABLA DE DECISION'!Y$157,CONCATENATE($B5,\"(\",'TABLA DE DECISION'!Y$157,\")\"),'TABLA DE DECISION'!Y159)","v":"a1(0)"},{"$f":"IF('TABLA DE DECISION'!Z159='TABLA DE DECISION'!Z$157,CONCATENATE($B5,\"(\",'TABLA DE DECISION'!Z$157,\")\"),'TABLA DE DECISION'!Z159)","v":"a1(0)"},{"$f":"IF('TABLA DE DECISION'!AA159='TABLA DE DECISION'!AA$157,CONCATENATE($B5,\"(\",'TABLA DE DECISION'!AA$157,\")\"),'TABLA DE DECISION'!AA159)","v":"a1(0)"},{"$f":"IF('TABLA DE DECISION'!AB159='TABLA DE DECISION'!AB$157,CONCATENATE($B5,\"(\",'TABLA DE DECISION'!AB$157,\")\"),'TABLA DE DECISION'!AB159)","v":"a1(0)"},{"$f":"IF('TABLA DE DECISION'!AC159='TABLA DE DECISION'!AC$157,CONCATENATE($B5,\"(\",'TABLA DE DECISION'!AC$157,\")\"),'TABLA DE DECISION'!AC159)","v":"a1(0)"},{"$f":"IF('TABLA DE DECISION'!AD159='TABLA DE DECISION'!AD$157,CONCATENATE($B5,\"(\",'TABLA DE DECISION'!AD$157,\")\"),'TABLA DE DECISION'!AD159)","v":"a1(0)"},{"$f":"IF('TABLA DE DECISION'!AE159='TABLA DE DECISION'!AE$157,CONCATENATE($B5,\"(\",'TABLA DE DECISION'!AE$157,\")\"),'TABLA DE DECISION'!AE159)","v":"a1(0)"},{"$f":"IF('TABLA DE DECISION'!AF159='TABLA DE DECISION'!AF$157,CONCATENATE($B5,\"(\",'TABLA DE DECISION'!AF$157,\")\"),'TABLA DE DECISION'!AF159)","v":"a1(0)"},{"$f":"IF('TABLA DE DECISION'!AG159='TABLA DE DECISION'!AG$157,CONCATENATE($B5,\"(\",'TABLA DE DECISION'!AG$157,\")\"),'TABLA DE DECISION'!AG159)","v":"a1(0)"},{"$f":"IF('TABLA DE DECISION'!AH159='TABLA DE DECISION'!AH$157,CONCATENATE($B5,\"(\",'TABLA DE DECISION'!AH$157,\")\"),'TABLA DE DECISION'!AH159)","v":"a1(0)"},{"$f":"IF('TABLA DE DECISION'!AI159='TABLA DE DECISION'!AI$157,CONCATENATE($B5,\"(\",'TABLA DE DECISION'!AI$157,\")\"),'TABLA DE DECISION'!AI159)","v":"a1(0)"},{"$f":"IF('TABLA DE DECISION'!AJ159='TABLA DE DECISION'!AJ$157,CONCATENATE($B5,\"(\",'TABLA DE DECISION'!AJ$157,\")\"),'TABLA DE DECISION'!AJ159)","v":"a1(0)"},{"$f":"IF('TABLA DE DECISION'!AK159='TABLA DE DECISION'!AK$157,CONCATENATE($B5,\"(\",'TABLA DE DECISION'!AK$157,\")\"),'TABLA DE DECISION'!AK159)","v":"a1(0)"},{"$f":"IF('TABLA DE DECISION'!AL159='TABLA DE DECISION'!AL$157,CONCATENATE($B5,\"(\",'TABLA DE DECISION'!AL$157,\")\"),'TABLA DE DECISION'!AL159)","v":"a1(0)"},{"$f":"IF('TABLA DE DECISION'!AM159='TABLA DE DECISION'!AM$157,CONCATENATE($B5,\"(\",'TABLA DE DECISION'!AM$157,\")\"),'TABLA DE DECISION'!AM159)","v":"a1(0)"},{"$f":"IF('TABLA DE DECISION'!AN159='TABLA DE DECISION'!AN$157,CONCATENATE($B5,\"(\",'TABLA DE DECISION'!AN$157,\")\"),'TABLA DE DECISION'!AN159)","v":"a1(0)"},{"$f":"IF('TABLA DE DECISION'!AO159='TABLA DE DECISION'!AO$157,CONCATENATE($B5,\"(\",'TABLA DE DECISION'!AO$157,\")\"),'TABLA DE DECISION'!AO159)","v":"a1(0)"},{"$f":"IF('TABLA DE DECISION'!AP159='TABLA DE DECISION'!AP$157,CONCATENATE($B5,\"(\",'TABLA DE DECISION'!AP$157,\")\"),'TABLA DE DECISION'!AP159)","v":"a1(0)"},{"$f":"IF('TABLA DE DECISION'!AQ159='TABLA DE DECISION'!AQ$157,CONCATENATE($B5,\"(\",'TABLA DE DECISION'!AQ$157,\")\"),'TABLA DE DECISION'!AQ159)","v":"a1(0)"},{"$f":"IF('TABLA DE DECISION'!AR159='TABLA DE DECISION'!AR$157,CONCATENATE($B5,\"(\",'TABLA DE DECISION'!AR$157,\")\"),'TABLA DE DECISION'!AR159)","v":"a1(0)"},{"$f":"IF('TABLA DE DECISION'!AS159='TABLA DE DECISION'!AS$157,CONCATENATE($B5,\"(\",'TABLA DE DECISION'!AS$157,\")\"),'TABLA DE DECISION'!AS159)","v":"a1(0)"},{"$f":"IF('TABLA DE DECISION'!AT159='TABLA DE DECISION'!AT$157,CONCATENATE($B5,\"(\",'TABLA DE DECISION'!AT$157,\")\"),'TABLA DE DECISION'!AT159)","v":"a1(0)"},{"$f":"IF('TABLA DE DECISION'!AU159='TABLA DE DECISION'!AU$157,CONCATENATE($B5,\"(\",'TABLA DE DECISION'!AU$157,\")\"),'TABLA DE DECISION'!AU159)","v":"a1(0)"},{"$f":"IF('TABLA DE DECISION'!AV159='TABLA DE DECISION'!AV$157,CONCATENATE($B5,\"(\",'TABLA DE DECISION'!AV$157,\")\"),'TABLA DE DECISION'!AV159)","v":"a1(0)"},{"$f":"IF('TABLA DE DECISION'!AW159='TABLA DE DECISION'!AW$157,CONCATENATE($B5,\"(\",'TABLA DE DECISION'!AW$157,\")\"),'TABLA DE DECISION'!AW159)","v":"a1(0)"},{"$f":"IF('TABLA DE DECISION'!AX159='TABLA DE DECISION'!AX$157,CONCATENATE($B5,\"(\",'TABLA DE DECISION'!AX$157,\")\"),'TABLA DE DECISION'!AX159)","v":"a1(0)"},{"$f":"IF('TABLA DE DECISION'!AY159='TABLA DE DECISION'!AY$157,CONCATENATE($B5,\"(\",'TABLA DE DECISION'!AY$157,\")\"),'TABLA DE DECISION'!AY159)","v":"a1(0)"},{"$f":"IF('TABLA DE DECISION'!AZ159='TABLA DE DECISION'!AZ$157,CONCATENATE($B5,\"(\",'TABLA DE DECISION'!AZ$157,\")\"),'TABLA DE DECISION'!AZ159)","v":"a1(0)"},{"$f":"IF('TABLA DE DECISION'!BA159='TABLA DE DECISION'!BA$157,CONCATENATE($B5,\"(\",'TABLA DE DECISION'!BA$157,\")\"),'TABLA DE DECISION'!BA159)","v":"a1(0)"},{"$f":"IF('TABLA DE DECISION'!BB159='TABLA DE DECISION'!BB$157,CONCATENATE($B5,\"(\",'TABLA DE DECISION'!BB$157,\")\"),'TABLA DE DECISION'!BB159)","v":"a1(0)"},{"$f":"IF('TABLA DE DECISION'!BC159='TABLA DE DECISION'!BC$157,CONCATENATE($B5,\"(\",'TABLA DE DECISION'!BC$157,\")\"),'TABLA DE DECISION'!BC159)","v":"a1(0)"},{"$f":"IF('TABLA DE DECISION'!BD159='TABLA DE DECISION'!BD$157,CONCATENATE($B5,\"(\",'TABLA DE DECISION'!BD$157,\")\"),'TABLA DE DECISION'!BD159)","v":"a1(0)"}]
[{"$f":"IF('TABLA DE DECISION'!BF160=\"\",\"\",'TABLA DE DECISION'!BF160)","v":""},{"$f":"'TABLA DE DECISION'!BG160","v":"a2"},{"$f":"IF('TABLA DE DECISION'!A160='TABLA DE DECISION'!A$157,CONCATENATE($B6,\"(\",'TABLA DE DECISION'!A$157,\")\"),'TABLA DE DECISION'!A160)","v":"a2(6666,66666666667)"},{"$f":"IF('TABLA DE DECISION'!B160='TABLA DE DECISION'!B$157,CONCATENATE($B6,\"(\",'TABLA DE DECISION'!B$157,\")\"),'TABLA DE DECISION'!B160)","v":10000},{"$f":"IF('TABLA DE DECISION'!C160='TABLA DE DECISION'!C$157,CONCATENATE($B6,\"(\",'TABLA DE DECISION'!C$157,\")\"),'TABLA DE DECISION'!C160)","v":"a2(7500)"},{"$f":"IF('TABLA DE DECISION'!D160='TABLA DE DECISION'!D$157,CONCATENATE($B6,\"(\",'TABLA DE DECISION'!D$157,\")\"),'TABLA DE DECISION'!D160)","v":"a2(2500)"},{"$f":"IF('TABLA DE DECISION'!E160='TABLA DE DECISION'!E$157,CONCATENATE($B6,\"(\",'TABLA DE DECISION'!E$157,\")\"),'TABLA DE DECISION'!E160)","v":"a2(6000)"},{"$f":"IF('MATRIZ-PÉRDIDA OPORTUNIDAD'!BB4='MATRIZ-PÉRDIDA OPORTUNIDAD'!BB$2,CONCATENATE($B6,\"(\",'MATRIZ-PÉRDIDA OPORTUNIDAD'!BB$2,\")\"),'MATRIZ-PÉRDIDA OPORTUNIDAD'!BB4)","v":"a2(1750)"},{"$f":"IF('TABLA DE DECISION'!G160='TABLA DE DECISION'!G$157,CONCATENATE($B6,\"(\",'TABLA DE DECISION'!G$157,\")\"),'TABLA DE DECISION'!G160)","v":5000},{"$f":"IF('TABLA DE DECISION'!H160='TABLA DE DECISION'!H$157,CONCATENATE($B6,\"(\",'TABLA DE DECISION'!H$157,\")\"),'TABLA DE DECISION'!H160)","v":"a2(5000)"},{"$f":"IF('TABLA DE DECISION'!I160='TABLA DE DECISION'!I$157,CONCATENATE($B6,\"(\",'TABLA DE DECISION'!I$157,\")\"),'TABLA DE DECISION'!I160)","v":8571.4285714285725},{"$f":"IF('TABLA DE DECISION'!J160='TABLA DE DECISION'!J$157,CONCATENATE($B6,\"(\",'TABLA DE DECISION'!J$157,\")\"),'TABLA DE DECISION'!J160)","v":"a2(0)"},{"$f":"IF('TABLA DE DECISION'!K160='TABLA DE DECISION'!K$157,CONCATENATE($B6,\"(\",'TABLA DE DECISION'!K$157,\")\"),'TABLA DE DECISION'!K160)","v":"a2(0)"},{"$f":"IF('TABLA DE DECISION'!L160='TABLA DE DECISION'!L$157,CONCATENATE($B6,\"(\",'TABLA DE DECISION'!L$157,\")\"),'TABLA DE DECISION'!L160)","v":"a2(0)"},{"$f":"IF('TABLA DE DECISION'!M160='TABLA DE DECISION'!M$157,CONCATENATE($B6,\"(\",'TABLA DE DECISION'!M$157,\")\"),'TABLA DE DECISION'!M160)","v":"a2(0)"},{"$f":"IF('TABLA DE DECISION'!N160='TABLA DE DECISION'!N$157,CONCATENATE($B6,\"(\",'TABLA DE DECISION'!N$157,\")\"),'TABLA DE DECISION'!N160)","v":"a2(0)"},{"$f":"IF('TABLA DE DECISION'!O160='TABLA DE DECISION'!O$157,CONCATENATE($B6,\"(\",'TABLA DE DECISION'!O$157,\")\"),'TABLA DE DECISION'!O160)","v":"a2(0)"},{"$f":"IF('TABLA DE DECISION'!P160='TABLA DE DECISION'!P$157,CONCATENATE($B6,\"(\",'TABLA DE DECISION'!P$157,\")\"),'TABLA DE DECISION'!P160)","v":"a2(0)"},{"$f":"IF('TABLA DE DECISION'!Q160='TABLA DE DECISION'!Q$157,CONCATENATE($B6,\"(\",'TABLA DE DECISION'!Q$157,\")\"),'TABLA DE DECISION'!Q160)","v":"a2(0)"},{"$f":"IF('TABLA DE DECISION'!R160='TABLA DE DECISION'!R$157,CONCATENATE($B6,\"(\",'TABLA DE DECISION'!R$157,\")\"),'TABLA DE DECISION'!R160)","v":"a2(0)"},{"$f":"IF('TABLA DE DECISION'!S160='TABLA DE DECISION'!S$157,CONCATENATE($B6,\"(\",'TABLA DE DECISION'!S$157,\")\"),'TABLA DE DECISION'!S160)","v":"a2(0)"},{"$f":"IF('TABLA DE DECISION'!T160='TABLA DE DECISION'!T$157,CONCATENATE($B6,\"(\",'TABLA DE DECISION'!T$157,\")\"),'TABLA DE DECISION'!T160)","v":"a2(0)"},{"$f":"IF('TABLA DE DECISION'!U160='TABLA DE DECISION'!U$157,CONCATENATE($B6,\"(\",'TABLA DE DECISION'!U$157,\")\"),'TABLA DE DECISION'!U160)","v":"a2(0)"},{"$f":"IF('TABLA DE DECISION'!V160='TABLA DE DECISION'!V$157,CONCATENATE($B6,\"(\",'TABLA DE DECISION'!V$157,\")\"),'TABLA DE DECISION'!V160)","v":"a2(0)"},{"$f":"IF('TABLA DE DECISION'!W160='TABLA DE DECISION'!W$157,CONCATENATE($B6,\"(\",'TABLA DE DECISION'!W$157,\")\"),'TABLA DE DECISION'!W160)","v":"a2(0)"},{"$f":"IF('TABLA DE DECISION'!X160='TABLA DE DECISION'!X$157,CONCATENATE($B6,\"(\",'TABLA DE DECISION'!X$157,\")\"),'TABLA DE DECISION'!X160)","v":"a2(0)"},{"$f":"IF('TABLA DE DECISION'!Y160='TABLA DE DECISION'!Y$157,CONCATENATE($B6,\"(\",'TABLA DE DECISION'!Y$157,\")\"),'TABLA DE DECISION'!Y160)","v":"a2(0)"},{"$f":"IF('TABLA DE DECISION'!Z160='TABLA DE DECISION'!Z$157,CONCATENATE($B6,\"(\",'TABLA DE DECISION'!Z$157,\")\"),'TABLA DE DECISION'!Z160)","v":"a2(0)"},{"$f":"IF('TABLA DE DECISION'!AA160='TABLA DE DECISION'!AA$157,CONCATENATE($B6,\"(\",'TABLA DE DECISION'!AA$157,\")\"),'TABLA DE DECISION'!AA160)","v":"a2(0)"},{"$f":"IF('TABLA DE DECISION'!AB160='TABLA DE DECISION'!AB$157,CONCATENATE($B6,\"(\",'TABLA DE DECISION'!AB$157,\")\"),'TABLA DE DECISION'!AB160)","v":"a2(0)"},{"$f":"IF('TABLA DE DECISION'!AC160='TABLA DE DECISION'!AC$157,CONCATENATE($B6,\"(\",'TABLA DE DECISION'!AC$157,\")\"),'TABLA DE DECISION'!AC160)","v":"a2(0)"},{"$f":"IF('TABLA DE DECISION'!AD160='TABLA DE DECISION'!AD$157,CONCATENATE($B6,\"(\",'TABLA DE DECISION'!AD$157,\")\"),'TABLA DE DECISION'!AD160)","v":"a2(0)"},{"$f":"IF('TABLA DE DECISION'!AE160='TABLA DE DECISION'!AE$157,CONCATENATE($B6,\"(\",'TABLA DE DECISION'!AE$157,\")\"),'TABLA DE DECISION'!AE160)","v":"a2(0)"},{"$f":"IF('TABLA DE DECISION'!AF160='TABLA DE DECISION'!AF$157,CONCATENATE($B6,\"(\",'TABLA DE DECISION'!AF$157,\")\"),'TABLA DE DECISION'!AF160)","v":"a2(0)"},{"$f":"IF('TABLA DE DECISION'!AG160='TABLA DE DECISION'!AG$157,CONCATENATE($B6,\"(\",'TABLA DE DECISION'!AG$157,\")\"),'TABLA DE DECISION'!AG160)","v":"a2(0)"},{"$f":"IF('TABLA DE DECISION'!AH160='TABLA DE DECISION'!AH$157,CONCATENATE($B6,\"(\",'TABLA DE DECISION'!AH$157,\")\"),'TABLA DE DECISION'!AH160)","v":"a2(0)"},{"$f":"IF('TABLA DE DECISION'!AI160='TABLA DE DECISION'!AI$157,CONCATENATE($B6,\"(\",'TABLA DE DECISION'!AI$157,\")\"),'TABLA DE DECISION'!AI160)","v":"a2(0)"},{"$f":"IF('TABLA DE DECISION'!AJ160='TABLA DE DECISION'!AJ$157,CONCATENATE($B6,\"(\",'TABLA DE DECISION'!AJ$157,\")\"),'TABLA DE DECISION'!AJ160)","v":"a2(0)"},{"$f":"IF('TABLA DE DECISION'!AK160='TABLA DE DECISION'!AK$157,CONCATENATE($B6,\"(\",'TABLA DE DECISION'!AK$157,\")\"),'TABLA DE DECISION'!AK160)","v":"a2(0)"},{"$f":"IF('TABLA DE DECISION'!AL160='TABLA DE DECISION'!AL$157,CONCATENATE($B6,\"(\",'TABLA DE DECISION'!AL$157,\")\"),'TABLA DE DECISION'!AL160)","v":"a2(0)"},{"$f":"IF('TABLA DE DECISION'!AM160='TABLA DE DECISION'!AM$157,CONCATENATE($B6,\"(\",'TABLA DE DECISION'!AM$157,\")\"),'TABLA DE DECISION'!AM160)","v":"a2(0)"},{"$f":"IF('TABLA DE DECISION'!AN160='TABLA DE DECISION'!AN$157,CONCATENATE($B6,\"(\",'TABLA DE DECISION'!AN$157,\")\"),'TABLA DE DECISION'!AN160)","v":"a2(0)"},{"$f":"IF('TABLA DE DECISION'!AO160='TABLA DE DECISION'!AO$157,CONCATENATE($B6,\"(\",'TABLA DE DECISION'!AO$157,\")\"),'TABLA DE DECISION'!AO160)","v":"a2(0)"},{"$f":"IF('TABLA DE DECISION'!AP160='TABLA DE DECISION'!AP$157,CONCATENATE($B6,\"(\",'TABLA DE DECISION'!AP$157,\")\"),'TABLA DE DECISION'!AP160)","v":"a2(0)"},{"$f":"IF('TABLA DE DECISION'!AQ160='TABLA DE DECISION'!AQ$157,CONCATENATE($B6,\"(\",'TABLA DE DECISION'!AQ$157,\")\"),'TABLA DE DECISION'!AQ160)","v":"a2(0)"},{"$f":"IF('TABLA DE DECISION'!AR160='TABLA DE DECISION'!AR$157,CONCATENATE($B6,\"(\",'TABLA DE DECISION'!AR$157,\")\"),'TABLA DE DECISION'!AR160)","v":"a2(0)"},{"$f":"IF('TABLA DE DECISION'!AS160='TABLA DE DECISION'!AS$157,CONCATENATE($B6,\"(\",'TABLA DE DECISION'!AS$157,\")\"),'TABLA DE DECISION'!AS160)","v":"a2(0)"},{"$f":"IF('TABLA DE DECISION'!AT160='TABLA DE DECISION'!AT$157,CONCATENATE($B6,\"(\",'TABLA DE DECISION'!AT$157,\")\"),'TABLA DE DECISION'!AT160)","v":"a2(0)"},{"$f":"IF('TABLA DE DECISION'!AU160='TABLA DE DECISION'!AU$157,CONCATENATE($B6,\"(\",'TABLA DE DECISION'!AU$157,\")\"),'TABLA DE DECISION'!AU160)","v":"a2(0)"},{"$f":"IF('TABLA DE DECISION'!AV160='TABLA DE DECISION'!AV$157,CONCATENATE($B6,\"(\",'TABLA DE DECISION'!AV$157,\")\"),'TABLA DE DECISION'!AV160)","v":"a2(0)"},{"$f":"IF('TABLA DE DECISION'!AW160='TABLA DE DECISION'!AW$157,CONCATENATE($B6,\"(\",'TABLA DE DECISION'!AW$157,\")\"),'TABLA DE DECISION'!AW160)","v":"a2(0)"},{"$f":"IF('TABLA DE DECISION'!AX160='TABLA DE DECISION'!AX$157,CONCATENATE($B6,\"(\",'TABLA DE DECISION'!AX$157,\")\"),'TABLA DE DECISION'!AX160)","v":"a2(0)"},{"$f":"IF('TABLA DE DECISION'!AY160='TABLA DE DECISION'!AY$157,CONCATENATE($B6,\"(\",'TABLA DE DECISION'!AY$157,\")\"),'TABLA DE DECISION'!AY160)","v":"a2(0)"},{"$f":"IF('TABLA DE DECISION'!AZ160='TABLA DE DECISION'!AZ$157,CONCATENATE($B6,\"(\",'TABLA DE DECISION'!AZ$157,\")\"),'TABLA DE DECISION'!AZ160)","v":"a2(0)"},{"$f":"IF('TABLA DE DECISION'!BA160='TABLA DE DECISION'!BA$157,CONCATENATE($B6,\"(\",'TABLA DE DECISION'!BA$157,\")\"),'TABLA DE DECISION'!BA160)","v":"a2(0)"},{"$f":"IF('TABLA DE DECISION'!BB160='TABLA DE DECISION'!BB$157,CONCATENATE($B6,\"(\",'TABLA DE DECISION'!BB$157,\")\"),'TABLA DE DECISION'!BB160)","v":"a2(0)"},{"$f":"IF('TABLA DE DECISION'!BC160='TABLA DE DECISION'!BC$157,CONCATENATE($B6,\"(\",'TABLA DE DECISION'!BC$157,\")\"),'TABLA DE DECISION'!BC160)","v":"a2(0)"},{"$f":"IF('TABLA DE DECISION'!BD160='TABLA DE DECISION'!BD$157,CONCATENATE($B6,\"(\",'TABLA DE DECISION'!BD$157,\")\"),'TABLA DE DECISION'!BD160)","v":"a2(0)"}]
[{"$f":"IF('TABLA DE DECISION'!BF161=\"\",\"\",'TABLA DE DECISION'!BF161)","v":""},{"$f":"'TABLA DE DECISION'!BG161","v":"a3"},{"$f":"IF('TABLA DE DECISION'!A161='TABLA DE DECISION'!A$157,CONCATENATE($B7,\"(\",'TABLA DE DECISION'!A$157,\")\"),'TABLA DE DECISION'!A161)","v":7500},{"$f":"IF('TABLA DE DECISION'!B161='TABLA DE DECISION'!B$157,CONCATENATE($B7,\"(\",'TABLA DE DECISION'!B$157,\")\"),'TABLA DE DECISION'!B161)","v":"a3(7500)"},{"$f":"IF('TABLA DE DECISION'!C161='TABLA DE DECISION'!C$157,CONCATENATE($B7,\"(\",'TABLA DE DECISION'!C$157,\")\"),'TABLA DE DECISION'!C161)","v":"a3(7500)"},{"$f":"IF('TABLA DE DECISION'!D161='TABLA DE DECISION'!D$157,CONCATENATE($B7,\"(\",'TABLA DE DECISION'!D$157,\")\"),'TABLA DE DECISION'!D161)","v":5000},{"$f":"IF('TABLA DE DECISION'!E161='TABLA DE DECISION'!E$157,CONCATENATE($B7,\"(\",'TABLA DE DECISION'!E$157,\")\"),'TABLA DE DECISION'!E161)","v":7500},{"$f":"IF('MATRIZ-PÉRDIDA OPORTUNIDAD'!BB5='MATRIZ-PÉRDIDA OPORTUNIDAD'!BB$2,CONCATENATE($B7,\"(\",'MATRIZ-PÉRDIDA OPORTUNIDAD'!BB$2,\")\"),'MATRIZ-PÉRDIDA OPORTUNIDAD'!BB5)","v":3250},{"$f":"IF('TABLA DE DECISION'!G161='TABLA DE DECISION'!G$157,CONCATENATE($B7,\"(\",'TABLA DE DECISION'!G$157,\")\"),'TABLA DE DECISION'!G161)","v":7499.9999999999991},{"$f":"IF('TABLA DE DECISION'!H161='TABLA DE DECISION'!H$157,CONCATENATE($B7,\"(\",'TABLA DE DECISION'!H$157,\")\"),'TABLA DE DECISION'!H161)","v":7499.9999999999991},{"$f":"IF('TABLA DE DECISION'!I161='TABLA DE DECISION'!I$157,CONCATENATE($B7,\"(\",'TABLA DE DECISION'!I$157,\")\"),'TABLA DE DECISION'!I161)","v":"a3(7500)"},{"$f":"IF('TABLA DE DECISION'!J161='TABLA DE DECISION'!J$157,CONCATENATE($B7,\"(\",'TABLA DE DECISION'!J$157,\")\"),'TABLA DE DECISION'!J161)","v":"a3(0)"},{"$f":"IF('TABLA DE DECISION'!K161='TABLA DE DECISION'!K$157,CONCATENATE($B7,\"(\",'TABLA DE DECISION'!K$157,\")\"),'TABLA DE DECISION'!K161)","v":"a3(0)"},{"$f":"IF('TABLA DE DECISION'!L161='TABLA DE DECISION'!L$157,CONCATENATE($B7,\"(\",'TABLA DE DECISION'!L$157,\")\"),'TABLA DE DECISION'!L161)","v":"a3(0)"},{"$f":"IF('TABLA DE DECISION'!M161='TABLA DE DECISION'!M$157,CONCATENATE($B7,\"(\",'TABLA DE DECISION'!M$157,\")\"),'TABLA DE DECISION'!M161)","v":"a3(0)"},{"$f":"IF('TABLA DE DECISION'!N161='TABLA DE DECISION'!N$157,CONCATENATE($B7,\"(\",'TABLA DE DECISION'!N$157,\")\"),'TABLA DE DECISION'!N161)","v":"a3(0)"},{"$f":"IF('TABLA DE DECISION'!O161='TABLA DE DECISION'!O$157,CONCATENATE($B7,\"(\",'TABLA DE DECISION'!O$157,\")\"),'TABLA DE DECISION'!O161)","v":"a3(0)"},{"$f":"IF('TABLA DE DECISION'!P161='TABLA DE DECISION'!P$157,CONCATENATE($B7,\"(\",'TABLA DE DECISION'!P$157,\")\"),'TABLA DE DECISION'!P161)","v":"a3(0)"},{"$f":"IF('TABLA DE DECISION'!Q161='TABLA DE DECISION'!Q$157,CONCATENATE($B7,\"(\",'TABLA DE DECISION'!Q$157,\")\"),'TABLA DE DECISION'!Q161)","v":"a3(0)"},{"$f":"IF('TABLA DE DECISION'!R161='TABLA DE DECISION'!R$157,CONCATENATE($B7,\"(\",'TABLA DE DECISION'!R$157,\")\"),'TABLA DE DECISION'!R161)","v":"a3(0)"},{"$f":"IF('TABLA DE DECISION'!S161='TABLA DE DECISION'!S$157,CONCATENATE($B7,\"(\",'TABLA DE DECISION'!S$157,\")\"),'TABLA DE DECISION'!S161)","v":"a3(0)"},{"$f":"IF('TABLA DE DECISION'!T161='TABLA DE DECISION'!T$157,CONCATENATE($B7,\"(\",'TABLA DE DECISION'!T$157,\")\"),'TABLA DE DECISION'!T161)","v":"a3(0)"},{"$f":"IF('TABLA DE DECISION'!U161='TABLA DE DECISION'!U$157,CONCATENATE($B7,\"(\",'TABLA DE DECISION'!U$157,\")\"),'TABLA DE DECISION'!U161)","v":"a3(0)"},{"$f":"IF('TABLA DE DECISION'!V161='TABLA DE DECISION'!V$157,CONCATENATE($B7,\"(\",'TABLA DE DECISION'!V$157,\")\"),'TABLA DE DECISION'!V161)","v":"a3(0)"},{"$f":"IF('TABLA DE DECISION'!W161='TABLA DE DECISION'!W$157,CONCATENATE($B7,\"(\",'TABLA DE DECISION'!W$157,\")\"),'TABLA DE DECISION'!W161)","v":"a3(0)"},{"$f":"IF('TABLA DE DECISION'!X161='TABLA DE DECISION'!X$157,CONCATENATE($B7,\"(\",'TABLA DE DECISION'!X$157,\")\"),'TABLA DE DECISION'!X161)","v":"a3(0)"},{"$f":"IF('TABLA DE DECISION'!Y161='TABLA DE DECISION'!Y$157,CONCATENATE($B7,\"(\",'TABLA DE DECISION'!Y$157,\")\"),'TABLA DE DECISION'!Y161)","v":"a3(0)"},{"$f":"IF('TABLA DE DECISION'!Z161='TABLA DE DECISION'!Z$157,CONCATENATE($B7,\"(\",'TABLA DE DECISION'!Z$157,\")\"),'TABLA DE DECISION'!Z161)","v":"a3(0)"},{"$f":"IF('TABLA DE DECISION'!AA161='TABLA DE DECISION'!AA$157,CONCATENATE($B7,\"(\",'TABLA DE DECISION'!AA$157,\")\"),'TABLA DE DECISION'!AA161)","v":"a3(0)"},{"$f":"IF('TABLA DE DECISION'!AB161='TABLA DE DECISION'!AB$157,CONCATENATE($B7,\"(\",'TABLA DE DECISION'!AB$157,\")\"),'TABLA DE DECISION'!AB161)","v":"a3(0)"},{"$f":"IF('TABLA DE DECISION'!AC161='TABLA DE DECISION'!AC$157,CONCATENATE($B7,\"(\",'TABLA DE DECISION'!AC$157,\")\"),'TABLA DE DECISION'!AC161)","v":"a3(0)"},{"$f":"IF('TABLA DE DECISION'!AD161='TABLA DE DECISION'!AD$157,CONCATENATE($B7,\"(\",'TABLA DE DECISION'!AD$157,\")\"),'TABLA DE DECISION'!AD161)","v":"a3(0)"},{"$f":"IF('TABLA DE DECISION'!AE161='TABLA DE DECISION'!AE$157,CONCATENATE($B7,\"(\",'TABLA DE DECISION'!AE$157,\")\"),'TABLA DE DECISION'!AE161)","v":"a3(0)"},{"$f":"IF('TABLA DE DECISION'!AF161='TABLA DE DECISION'!AF$157,CONCATENATE($B7,\"(\",'TABLA DE DECISION'!AF$157,\")\"),'TABLA DE DECISION'!AF161)","v":"a3(0)"},{"$f":"IF('TABLA DE DECISION'!AG161='TABLA DE DECISION'!AG$157,CONCATENATE($B7,\"(\",'TABLA DE DECISION'!AG$157,\")\"),'TABLA DE DECISION'!AG161)","v":"a3(0)"},{"$f":"IF('TABLA DE DECISION'!AH161='TABLA DE DECISION'!AH$157,CONCATENATE($B7,\"(\",'TABLA DE DECISION'!AH$157,\")\"),'TABLA DE DECISION'!AH161)","v":"a3(0)"},{"$f":"IF('TABLA DE DECISION'!AI161='TABLA DE DECISION'!AI$157,CONCATENATE($B7,\"(\",'TABLA DE DECISION'!AI$157,\")\"),'TABLA DE DECISION'!AI161)","v":"a3(0)"},{"$f":"IF('TABLA DE DECISION'!AJ161='TABLA DE DECISION'!AJ$157,CONCATENATE($B7,\"(\",'TABLA DE DECISION'!AJ$157,\")\"),'TABLA DE DECISION'!AJ161)","v":"a3(0)"},{"$f":"IF('TABLA DE DECISION'!AK161='TABLA DE DECISION'!AK$157,CONCATENATE($B7,\"(\",'TABLA DE DECISION'!AK$157,\")\"),'TABLA DE DECISION'!AK161)","v":"a3(0)"},{"$f":"IF('TABLA DE DECISION'!AL161='TABLA DE DECISION'!AL$157,CONCATENATE($B7,\"(\",'TABLA DE DECISION'!AL$157,\")\"),'TABLA DE DECISION'!AL161)","v":"a3(0)"},{"$f":"IF('TABLA DE DECISION'!AM161='TABLA DE DECISION'!AM$157,CONCATENATE($B7,\"(\",'TABLA DE DECISION'!AM$157,\")\"),'TABLA DE DECISION'!AM161)","v":"a3(0)"},{"$f":"IF('TABLA DE DECISION'!AN161='TABLA DE DECISION'!AN$157,CONCATENATE($B7,\"(\",'TABLA DE DECISION'!AN$157,\")\"),'TABLA DE DECISION'!AN161)","v":"a3(0)"},{"$f":"IF('TABLA DE DECISION'!AO161='TABLA DE DECISION'!AO$157,CONCATENATE($B7,\"(\",'TABLA DE DECISION'!AO$157,\")\"),'TABLA DE DECISION'!AO161)","v":"a3(0)"},{"$f":"IF('TABLA DE DECISION'!AP161='TABLA DE DECISION'!AP$157,CONCATENATE($B7,\"(\",'TABLA DE DECISION'!AP$157,\")\"),'TABLA DE DECISION'!AP161)","v":"a3(0)"},{"$f":"IF('TABLA DE DECISION'!AQ161='TABLA DE DECISION'!AQ$157,CONCATENATE($B7,\"(\",'TABLA DE DECISION'!AQ$157,\")\"),'TABLA DE DECISION'!AQ161)","v":"a3(0)"},{"$f":"IF('TABLA DE DECISION'!AR161='TABLA DE DECISION'!AR$157,CONCATENATE($B7,\"(\",'TABLA DE DECISION'!AR$157,\")\"),'TABLA DE DECISION'!AR161)","v":"a3(0)"},{"$f":"IF('TABLA DE DECISION'!AS161='TABLA DE DECISION'!AS$157,CONCATENATE($B7,\"(\",'TABLA DE DECISION'!AS$157,\")\"),'TABLA DE DECISION'!AS161)","v":"a3(0)"},{"$f":"IF('TABLA DE DECISION'!AT161='TABLA DE DECISION'!AT$157,CONCATENATE($B7,\"(\",'TABLA DE DECISION'!AT$157,\")\"),'TABLA DE DECISION'!AT161)","v":"a3(0)"},{"$f":"IF('TABLA DE DECISION'!AU161='TABLA DE DECISION'!AU$157,CONCATENATE($B7,\"(\",'TABLA DE DECISION'!AU$157,\")\"),'TABLA DE DECISION'!AU161)","v":"a3(0)"},{"$f":"IF('TABLA DE DECISION'!AV161='TABLA DE DECISION'!AV$157,CONCATENATE($B7,\"(\",'TABLA DE DECISION'!AV$157,\")\"),'TABLA DE DECISION'!AV161)","v":"a3(0)"},{"$f":"IF('TABLA DE DECISION'!AW161='TABLA DE DECISION'!AW$157,CONCATENATE($B7,\"(\",'TABLA DE DECISION'!AW$157,\")\"),'TABLA DE DECISION'!AW161)","v":"a3(0)"},{"$f":"IF('TABLA DE DECISION'!AX161='TABLA DE DECISION'!AX$157,CONCATENATE($B7,\"(\",'TABLA DE DECISION'!AX$157,\")\"),'TABLA DE DECISION'!AX161)","v":"a3(0)"},{"$f":"IF('TABLA DE DECISION'!AY161='TABLA DE DECISION'!AY$157,CONCATENATE($B7,\"(\",'TABLA DE DECISION'!AY$157,\")\"),'TABLA DE DECISION'!AY161)","v":"a3(0)"},{"$f":"IF('TABLA DE DECISION'!AZ161='TABLA DE DECISION'!AZ$157,CONCATENATE($B7,\"(\",'TABLA DE DECISION'!AZ$157,\")\"),'TABLA DE DECISION'!AZ161)","v":"a3(0)"},{"$f":"IF('TABLA DE DECISION'!BA161='TABLA DE DECISION'!BA$157,CONCATENATE($B7,\"(\",'TABLA DE DECISION'!BA$157,\")\"),'TABLA DE DECISION'!BA161)","v":"a3(0)"},{"$f":"IF('TABLA DE DECISION'!BB161='TABLA DE DECISION'!BB$157,CONCATENATE($B7,\"(\",'TABLA DE DECISION'!BB$157,\")\"),'TABLA DE DECISION'!BB161)","v":"a3(0)"},{"$f":"IF('TABLA DE DECISION'!BC161='TABLA DE DECISION'!BC$157,CONCATENATE($B7,\"(\",'TABLA DE DECISION'!BC$157,\")\"),'TABLA DE DECISION'!BC161)","v":"a3(0)"},{"$f":"IF('TABLA DE DECISION'!BD161='TABLA DE DECISION'!BD$157,CONCATENATE($B7,\"(\",'TABLA DE DECISION'!BD$157,\")\"),'TABLA DE DECISION'!BD161)","v":"a3(0)"}]
[{"$f":"IF('TABLA DE DECISION'!BF162=\"\",\"\",'TABLA DE DECISION'!BF162)","v":""},{"$f":"'TABLA DE DECISION'!BG162","v":"a4"},{"$f":"IF('TABLA DE DECISION'!A162='TABLA DE DECISION'!A$157,CONCATENATE($B8,\"(\",'TABLA DE DECISION'!A$157,\")\"),'TABLA DE DECISION'!A162)","v":""},{"$f":"IF('TABLA DE DECISION'!B162='TABLA DE DECISION'!B$157,CONCATENATE($B8,\"(\",'TABLA DE DECISION'!B$157,\")\"),'TABLA DE DECISION'!B162)","v":""},{"$f":"IF('TABLA DE DECISION'!C162='TABLA DE DECISION'!C$157,CONCATENATE($B8,\"(\",'TABLA DE DECISION'!C$157,\")\"),'TABLA DE DECISION'!C162)","v":""},{"$f":"IF('TABLA DE DECISION'!D162='TABLA DE DECISION'!D$157,CONCATENATE($B8,\"(\",'TABLA DE DECISION'!D$157,\")\"),'TABLA DE DECISION'!D162)","v":""},{"$f":"IF('TABLA DE DECISION'!E162='TABLA DE DECISION'!E$157,CONCATENATE($B8,\"(\",'TABLA DE DECISION'!E$157,\")\"),'TABLA DE DECISION'!E162)","v":""},{"$f":"IF('MATRIZ-PÉRDIDA OPORTUNIDAD'!BB6='MATRIZ-PÉRDIDA OPORTUNIDAD'!BB$2,CONCATENATE($B8,\"(\",'MATRIZ-PÉRDIDA OPORTUNIDAD'!BB$2,\")\"),'MATRIZ-PÉRDIDA OPORTUNIDAD'!BB6)","v":""},{"$f":"IF('TABLA DE DECISION'!G162='TABLA DE DECISION'!G$157,CONCATENATE($B8,\"(\",'TABLA DE DECISION'!G$157,\")\"),'TABLA DE DECISION'!G162)","v":""},{"$f":"IF('TABLA DE DECISION'!H162='TABLA DE DECISION'!H$157,CONCATENATE($B8,\"(\",'TABLA DE DECISION'!H$157,\")\"),'TABLA DE DECISION'!H162)","v":""},{"$f":"IF('TABLA DE DECISION'!I162='TABLA DE DECISION'!I$157,CONCATENATE($B8,\"(\",'TABLA DE DECISION'!I$157,\")\"),'TABLA DE DECISION'!I162)","v":""},{"$f":"IF('TABLA DE DECISION'!J162='TABLA DE DECISION'!J$157,CONCATENATE($B8,\"(\",'TABLA DE DECISION'!J$157,\")\"),'TABLA DE DECISION'!J162)","v":""},{"$f":"IF('TABLA DE DECISION'!K162='TABLA DE DECISION'!K$157,CONCATENATE($B8,\"(\",'TABLA DE DECISION'!K$157,\")\"),'TABLA DE DECISION'!K162)","v":""},{"$f":"IF('TABLA DE DECISION'!L162='TABLA DE DECISION'!L$157,CONCATENATE($B8,\"(\",'TABLA DE DECISION'!L$157,\")\"),'TABLA DE DECISION'!L162)","v":""},{"$f":"IF('TABLA DE DECISION'!M162='TABLA DE DECISION'!M$157,CONCATENATE($B8,\"(\",'TABLA DE DECISION'!M$157,\")\"),'TABLA DE DECISION'!M162)","v":""},{"$f":"IF('TABLA DE DECISION'!N162='TABLA DE DECISION'!N$157,CONCATENATE($B8,\"(\",'TABLA DE DECISION'!N$157,\")\"),'TABLA DE DECISION'!N162)","v":""},{"$f":"IF('TABLA DE DECISION'!O162='TABLA DE DECISION'!O$157,CONCATENATE($B8,\"(\",'TABLA DE DECISION'!O$157,\")\"),'TABLA DE DECISION'!O162)","v":""},{"$f":"IF('TABLA DE DECISION'!P162='TABLA DE DECISION'!P$157,CONCATENATE($B8,\"(\",'TABLA DE DECISION'!P$157,\")\"),'TABLA DE DECISION'!P162)","v":""},{"$f":"IF('TABLA DE DECISION'!Q162='TABLA DE DECISION'!Q$157,CONCATENATE($B8,\"(\",'TABLA DE DECISION'!Q$157,\")\"),'TABLA DE DECISION'!Q162)","v":""},{"$f":"IF('TABLA DE DECISION'!R162='TABLA DE DECISION'!R$157,CONCATENATE($B8,\"(\",'TABLA DE DECISION'!R$157,\")\"),'TABLA DE DECISION'!R162)","v":""},{"$f":"IF('TABLA DE DECISION'!S162='TABLA DE DECISION'!S$157,CONCATENATE($B8,\"(\",'TABLA DE DECISION'!S$157,\")\"),'TABLA DE DECISION'!S162)","v":""},{"$f":"IF('TABLA DE DECISION'!T162='TABLA DE DECISION'!T$157,CONCATENATE($B8,\"(\",'TABLA DE DECISION'!T$157,\")\"),'TABLA DE DECISION'!T162)","v":""},{"$f":"IF('TABLA DE DECISION'!U162='TABLA DE DECISION'!U$157,CONCATENATE($B8,\"(\",'TABLA DE DECISION'!U$157,\")\"),'TABLA DE DECISION'!U162)","v":""},{"$f":"IF('TABLA DE DECISION'!V162='TABLA DE DECISION'!V$157,CONCATENATE($B8,\"(\",'TABLA DE DECISION'!V$157,\")\"),'TABLA DE DECISION'!V162)","v":""},{"$f":"IF('TABLA DE DECISION'!W162='TABLA DE DECISION'!W$157,CONCATENATE($B8,\"(\",'TABLA DE DECISION'!W$157,\")\"),'TABLA DE DECISION'!W162)","v":""},{"$f":"IF('TABLA DE DECISION'!X162='TABLA DE DECISION'!X$157,CONCATENATE($B8,\"(\",'TABLA DE DECISION'!X$157,\")\"),'TABLA DE DECISION'!X162)","v":""},{"$f":"IF('TABLA DE DECISION'!Y162='TABLA DE DECISION'!Y$157,CONCATENATE($B8,\"(\",'TABLA DE DECISION'!Y$157,\")\"),'TABLA DE DECISION'!Y162)","v":""},{"$f":"IF('TABLA DE DECISION'!Z162='TABLA DE DECISION'!Z$157,CONCATENATE($B8,\"(\",'TABLA DE DECISION'!Z$157,\")\"),'TABLA DE DECISION'!Z162)","v":""},{"$f":"IF('TABLA DE DECISION'!AA162='TABLA DE DECISION'!AA$157,CONCATENATE($B8,\"(\",'TABLA DE DECISION'!AA$157,\")\"),'TABLA DE DECISION'!AA162)","v":""},{"$f":"IF('TABLA DE DECISION'!AB162='TABLA DE DECISION'!AB$157,CONCATENATE($B8,\"(\",'TABLA DE DECISION'!AB$157,\")\"),'TABLA DE DECISION'!AB162)","v":""},{"$f":"IF('TABLA DE DECISION'!AC162='TABLA DE DECISION'!AC$157,CONCATENATE($B8,\"(\",'TABLA DE DECISION'!AC$157,\")\"),'TABLA DE DECISION'!AC162)","v":""},{"$f":"IF('TABLA DE DECISION'!AD162='TABLA DE DECISION'!AD$157,CONCATENATE($B8,\"(\",'TABLA DE DECISION'!AD$157,\")\"),'TABLA DE DECISION'!AD162)","v":""},{"$f":"IF('TABLA DE DECISION'!AE162='TABLA DE DECISION'!AE$157,CONCATENATE($B8,\"(\",'TABLA DE DECISION'!AE$157,\")\"),'TABLA DE DECISION'!AE162)","v":""},{"$f":"IF('TABLA DE DECISION'!AF162='TABLA DE DECISION'!AF$157,CONCATENATE($B8,\"(\",'TABLA DE DECISION'!AF$157,\")\"),'TABLA DE DECISION'!AF162)","v":""},{"$f":"IF('TABLA DE DECISION'!AG162='TABLA DE DECISION'!AG$157,CONCATENATE($B8,\"(\",'TABLA DE DECISION'!AG$157,\")\"),'TABLA DE DECISION'!AG162)","v":""},{"$f":"IF('TABLA DE DECISION'!AH162='TABLA DE DECISION'!AH$157,CONCATENATE($B8,\"(\",'TABLA DE DECISION'!AH$157,\")\"),'TABLA DE DECISION'!AH162)","v":""},{"$f":"IF('TABLA DE DECISION'!AI162='TABLA DE DECISION'!AI$157,CONCATENATE($B8,\"(\",'TABLA DE DECISION'!AI$157,\")\"),'TABLA DE DECISION'!AI162)","v":""},{"$f":"IF('TABLA DE DECISION'!AJ162='TABLA DE DECISION'!AJ$157,CONCATENATE($B8,\"(\",'TABLA DE DECISION'!AJ$157,\")\"),'TABLA DE DECISION'!AJ162)","v":""},{"$f":"IF('TABLA DE DECISION'!AK162='TABLA DE DECISION'!AK$157,CONCATENATE($B8,\"(\",'TABLA DE DECISION'!AK$157,\")\"),'TABLA DE DECISION'!AK162)","v":""},{"$f":"IF('TABLA DE DECISION'!AL162='TABLA DE DECISION'!AL$157,CONCATENATE($B8,\"(\",'TABLA DE DECISION'!AL$157,\")\"),'TABLA DE DECISION'!AL162)","v":""},{"$f":"IF('TABLA DE DECISION'!AM162='TABLA DE DECISION'!AM$157,CONCATENATE($B8,\"(\",'TABLA DE DECISION'!AM$157,\")\"),'TABLA DE DECISION'!AM162)","v":""},{"$f":"IF('TABLA DE DECISION'!AN162='TABLA DE DECISION'!AN$157,CONCATENATE($B8,\"(\",'TABLA DE DECISION'!AN$157,\")\"),'TABLA DE DECISION'!AN162)","v":""},{"$f":"IF('TABLA DE DECISION'!AO162='TABLA DE DECISION'!AO$157,CONCATENATE($B8,\"(\",'TABLA DE DECISION'!AO$157,\")\"),'TABLA DE DECISION'!AO162)","v":""},{"$f":"IF('TABLA DE DECISION'!AP162='TABLA DE DECISION'!AP$157,CONCATENATE($B8,\"(\",'TABLA DE DECISION'!AP$157,\")\"),'TABLA DE DECISION'!AP162)","v":""},{"$f":"IF('TABLA DE DECISION'!AQ162='TABLA DE DECISION'!AQ$157,CONCATENATE($B8,\"(\",'TABLA DE DECISION'!AQ$157,\")\"),'TABLA DE DECISION'!AQ162)","v":""},{"$f":"IF('TABLA DE DECISION'!AR162='TABLA DE DECISION'!AR$157,CONCATENATE($B8,\"(\",'TABLA DE DECISION'!AR$157,\")\"),'TABLA DE DECISION'!AR162)","v":""},{"$f":"IF('TABLA DE DECISION'!AS162='TABLA DE DECISION'!AS$157,CONCATENATE($B8,\"(\",'TABLA DE DECISION'!AS$157,\")\"),'TABLA DE DECISION'!AS162)","v":""},{"$f":"IF('TABLA DE DECISION'!AT162='TABLA DE DECISION'!AT$157,CONCATENATE($B8,\"(\",'TABLA DE DECISION'!AT$157,\")\"),'TABLA DE DECISION'!AT162)","v":""},{"$f":"IF('TABLA DE DECISION'!AU162='TABLA DE DECISION'!AU$157,CONCATENATE($B8,\"(\",'TABLA DE DECISION'!AU$157,\")\"),'TABLA DE DECISION'!AU162)","v":""},{"$f":"IF('TABLA DE DECISION'!AV162='TABLA DE DECISION'!AV$157,CONCATENATE($B8,\"(\",'TABLA DE DECISION'!AV$157,\")\"),'TABLA DE DECISION'!AV162)","v":""},{"$f":"IF('TABLA DE DECISION'!AW162='TABLA DE DECISION'!AW$157,CONCATENATE($B8,\"(\",'TABLA DE DECISION'!AW$157,\")\"),'TABLA DE DECISION'!AW162)","v":""},{"$f":"IF('TABLA DE DECISION'!AX162='TABLA DE DECISION'!AX$157,CONCATENATE($B8,\"(\",'TABLA DE DECISION'!AX$157,\")\"),'TABLA DE DECISION'!AX162)","v":""},{"$f":"IF('TABLA DE DECISION'!AY162='TABLA DE DECISION'!AY$157,CONCATENATE($B8,\"(\",'TABLA DE DECISION'!AY$157,\")\"),'TABLA DE DECISION'!AY162)","v":""},{"$f":"IF('TABLA DE DECISION'!AZ162='TABLA DE DECISION'!AZ$157,CONCATENATE($B8,\"(\",'TABLA DE DECISION'!AZ$157,\")\"),'TABLA DE DECISION'!AZ162)","v":""},{"$f":"IF('TABLA DE DECISION'!BA162='TABLA DE DECISION'!BA$157,CONCATENATE($B8,\"(\",'TABLA DE DECISION'!BA$157,\")\"),'TABLA DE DECISION'!BA162)","v":""},{"$f":"IF('TABLA DE DECISION'!BB162='TABLA DE DECISION'!BB$157,CONCATENATE($B8,\"(\",'TABLA DE DECISION'!BB$157,\")\"),'TABLA DE DECISION'!BB162)","v":""},{"$f":"IF('TABLA DE DECISION'!BC162='TABLA DE DECISION'!BC$157,CONCATENATE($B8,\"(\",'TABLA DE DECISION'!BC$157,\")\"),'TABLA DE DECISION'!BC162)","v":""},{"$f":"IF('TABLA DE DECISION'!BD162='TABLA DE DECISION'!BD$157,CONCATENATE($B8,\"(\",'TABLA DE DECISION'!BD$157,\")\"),'TABLA DE DECISION'!BD162)","v":""}]
[{"$f":"IF('TABLA DE DECISION'!BF163=\"\",\"\",'TABLA DE DECISION'!BF163)","v":""},{"$f":"'TABLA DE DECISION'!BG163","v":"a5"},{"$f":"IF('TABLA DE DECISION'!A163='TABLA DE DECISION'!A$157,CONCATENATE($B9,\"(\",'TABLA DE DECISION'!A$157,\")\"),'TABLA DE DECISION'!A163)","v":""},{"$f":"IF('TABLA DE DECISION'!B163='TABLA DE DECISION'!B$157,CONCATENATE($B9,\"(\",'TABLA DE DECISION'!B$157,\")\"),'TABLA DE DECISION'!B163)","v":""},{"$f":"IF('TABLA DE DECISION'!C163='TABLA DE DECISION'!C$157,CONCATENATE($B9,\"(\",'TABLA DE DECISION'!C$157,\")\"),'TABLA DE DECISION'!C163)","v":""},{"$f":"IF('TABLA DE DECISION'!D163='TABLA DE DECISION'!D$157,CONCATENATE($B9,\"(\",'TABLA DE DECISION'!D$157,\")\"),'TABLA DE DECISION'!D163)","v":""},{"$f":"IF('TABLA DE DECISION'!E163='TABLA DE DECISION'!E$157,CONCATENATE($B9,\"(\",'TABLA DE DECISION'!E$157,\")\"),'TABLA DE DECISION'!E163)","v":""},{"$f":"IF('MATRIZ-PÉRDIDA OPORTUNIDAD'!BB7='MATRIZ-PÉRDIDA OPORTUNIDAD'!BB$2,CONCATENATE($B9,\"(\",'MATRIZ-PÉRDIDA OPORTUNIDAD'!BB$2,\")\"),'MATRIZ-PÉRDIDA OPORTUNIDAD'!BB7)","v":""},{"$f":"IF('TABLA DE DECISION'!G163='TABLA DE DECISION'!G$157,CONCATENATE($B9,\"(\",'TABLA DE DECISION'!G$157,\")\"),'TABLA DE DECISION'!G163)","v":""},{"$f":"IF('TABLA DE DECISION'!H163='TABLA DE DECISION'!H$157,CONCATENATE($B9,\"(\",'TABLA DE DECISION'!H$157,\")\"),'TABLA DE DECISION'!H163)","v":""},{"$f":"IF('TABLA DE DECISION'!I163='TABLA DE DECISION'!I$157,CONCATENATE($B9,\"(\",'TABLA DE DECISION'!I$157,\")\"),'TABLA DE DECISION'!I163)","v":""},{"$f":"IF('TABLA DE DECISION'!J163='TABLA DE DECISION'!J$157,CONCATENATE($B9,\"(\",'TABLA DE DECISION'!J$157,\")\"),'TABLA DE DECISION'!J163)","v":""},{"$f":"IF('TABLA DE DECISION'!K163='TABLA DE DECISION'!K$157,CONCATENATE($B9,\"(\",'TABLA DE DECISION'!K$157,\")\"),'TABLA DE DECISION'!K163)","v":""},{"$f":"IF('TABLA DE DECISION'!L163='TABLA DE DECISION'!L$157,CONCATENATE($B9,\"(\",'TABLA DE DECISION'!L$157,\")\"),'TABLA DE DECISION'!L163)","v":""},{"$f":"IF('TABLA DE DECISION'!M163='TABLA DE DECISION'!M$157,CONCATENATE($B9,\"(\",'TABLA DE DECISION'!M$157,\")\"),'TABLA DE DECISION'!M163)","v":""},{"$f":"IF('TABLA DE DECISION'!N163='TABLA DE DECISION'!N$157,CONCATENATE($B9,\"(\",'TABLA DE DECISION'!N$157,\")\"),'TABLA DE DECISION'!N163)","v":""},{"$f":"IF('TABLA DE DECISION'!O163='TABLA DE DECISION'!O$157,CONCATENATE($B9,\"(\",'TABLA DE DECISION'!O$157,\")\"),'TABLA DE DECISION'!O163)","v":""},{"$f":"IF('TABLA DE DECISION'!P163='TABLA DE DECISION'!P$157,CONCATENATE($B9,\"(\",'TABLA DE DECISION'!P$157,\")\"),'TABLA DE DECISION'!P163)","v":""},{"$f":"IF('TABLA DE DECISION'!Q163='TABLA DE DECISION'!Q$157,CONCATENATE($B9,\"(\",'TABLA DE DECISION'!Q$157,\")\"),'TABLA DE DECISION'!Q163)","v":""},{"$f":"IF('TABLA DE DECISION'!R163='TABLA DE DECISION'!R$157,CONCATENATE($B9,\"(\",'TABLA DE DECISION'!R$157,\")\"),'TABLA DE DECISION'!R163)","v":""},{"$f":"IF('TABLA DE DECISION'!S163='TABLA DE DECISION'!S$157,CONCATENATE($B9,\"(\",'TABLA DE DECISION'!S$157,\")\"),'TABLA DE DECISION'!S163)","v":""},{"$f":"IF('TABLA DE DECISION'!T163='TABLA DE DECISION'!T$157,CONCATENATE($B9,\"(\",'TABLA DE DECISION'!T$157,\")\"),'TABLA DE DECISION'!T163)","v":""},{"$f":"IF('TABLA DE DECISION'!U163='TABLA DE DECISION'!U$157,CONCATENATE($B9,\"(\",'TABLA DE DECISION'!U$157,\")\"),'TABLA DE DECISION'!U163)","v":""},{"$f":"IF('TABLA DE DECISION'!V163='TABLA DE DECISION'!V$157,CONCATENATE($B9,\"(\",'TABLA DE DECISION'!V$157,\")\"),'TABLA DE DECISION'!V163)","v":""},{"$f":"IF('TABLA DE DECISION'!W163='TABLA DE DECISION'!W$157,CONCATENATE($B9,\"(\",'TABLA DE DECISION'!W$157,\")\"),'TABLA DE DECISION'!W163)","v":""},{"$f":"IF('TABLA DE DECISION'!X163='TABLA DE DECISION'!X$157,CONCATENATE($B9,\"(\",'TABLA DE DECISION'!X$157,\")\"),'TABLA DE DECISION'!X163)","v":""},{"$f":"IF('TABLA DE DECISION'!Y163='TABLA DE DECISION'!Y$157,CONCATENATE($B9,\"(\",'TABLA DE DECISION'!Y$157,\")\"),'TABLA DE DECISION'!Y163)","v":""},{"$f":"IF('TABLA DE DECISION'!Z163='TABLA DE DECISION'!Z$157,CONCATENATE($B9,\"(\",'TABLA DE DECISION'!Z$157,\")\"),'TABLA DE DECISION'!Z163)","v":""},{"$f":"IF('TABLA DE DECISION'!AA163='TABLA DE DECISION'!AA$157,CONCATENATE($B9,\"(\",'TABLA DE DECISION'!AA$157,\")\"),'TABLA DE DECISION'!AA163)","v":""},{"$f":"IF('TABLA DE DECISION'!AB163='TABLA DE DECISION'!AB$157,CONCATENATE($B9,\"(\",'TABLA DE DECISION'!AB$157,\")\"),'TABLA DE DECISION'!AB163)","v":""},{"$f":"IF('TABLA DE DECISION'!AC163='TABLA DE DECISION'!AC$157,CONCATENATE($B9,\"(\",'TABLA DE DECISION'!AC$157,\")\"),'TABLA DE DECISION'!AC163)","v":""},{"$f":"IF('TABLA DE DECISION'!AD163='TABLA DE DECISION'!AD$157,CONCATENATE($B9,\"(\",'TABLA DE DECISION'!AD$157,\")\"),'TABLA DE DECISION'!AD163)","v":""},{"$f":"IF('TABLA DE DECISION'!AE163='TABLA DE DECISION'!AE$157,CONCATENATE($B9,\"(\",'TABLA DE DECISION'!AE$157,\")\"),'TABLA DE DECISION'!AE163)","v":""},{"$f":"IF('TABLA DE DECISION'!AF163='TABLA DE DECISION'!AF$157,CONCATENATE($B9,\"(\",'TABLA DE DECISION'!AF$157,\")\"),'TABLA DE DECISION'!AF163)","v":""},{"$f":"IF('TABLA DE DECISION'!AG163='TABLA DE DECISION'!AG$157,CONCATENATE($B9,\"(\",'TABLA DE DECISION'!AG$157,\")\"),'TABLA DE DECISION'!AG163)","v":""},{"$f":"IF('TABLA DE DECISION'!AH163='TABLA DE DECISION'!AH$157,CONCATENATE($B9,\"(\",'TABLA DE DECISION'!AH$157,\")\"),'TABLA DE DECISION'!AH163)","v":""},{"$f":"IF('TABLA DE DECISION'!AI163='TABLA DE DECISION'!AI$157,CONCATENATE($B9,\"(\",'TABLA DE DECISION'!AI$157,\")\"),'TABLA DE DECISION'!AI163)","v":""},{"$f":"IF('TABLA DE DECISION'!AJ163='TABLA DE DECISION'!AJ$157,CONCATENATE($B9,\"(\",'TABLA DE DECISION'!AJ$157,\")\"),'TABLA DE DECISION'!AJ163)","v":""},{"$f":"IF('TABLA DE DECISION'!AK163='TABLA DE DECISION'!AK$157,CONCATENATE($B9,\"(\",'TABLA DE DECISION'!AK$157,\")\"),'TABLA DE DECISION'!AK163)","v":""},{"$f":"IF('TABLA DE DECISION'!AL163='TABLA DE DECISION'!AL$157,CONCATENATE($B9,\"(\",'TABLA DE DECISION'!AL$157,\")\"),'TABLA DE DECISION'!AL163)","v":""},{"$f":"IF('TABLA DE DECISION'!AM163='TABLA DE DECISION'!AM$157,CONCATENATE($B9,\"(\",'TABLA DE DECISION'!AM$157,\")\"),'TABLA DE DECISION'!AM163)","v":""},{"$f":"IF('TABLA DE DECISION'!AN163='TABLA DE DECISION'!AN$157,CONCATENATE($B9,\"(\",'TABLA DE DECISION'!AN$157,\")\"),'TABLA DE DECISION'!AN163)","v":""},{"$f":"IF('TABLA DE DECISION'!AO163='TABLA DE DECISION'!AO$157,CONCATENATE($B9,\"(\",'TABLA DE DECISION'!AO$157,\")\"),'TABLA DE DECISION'!AO163)","v":""},{"$f":"IF('TABLA DE DECISION'!AP163='TABLA DE DECISION'!AP$157,CONCATENATE($B9,\"(\",'TABLA DE DECISION'!AP$157,\")\"),'TABLA DE DECISION'!AP163)","v":""},{"$f":"IF('TABLA DE DECISION'!AQ163='TABLA DE DECISION'!AQ$157,CONCATENATE($B9,\"(\",'TABLA DE DECISION'!AQ$157,\")\"),'TABLA DE DECISION'!AQ163)","v":""},{"$f":"IF('TABLA DE DECISION'!AR163='TABLA DE DECISION'!AR$157,CONCATENATE($B9,\"(\",'TABLA DE DECISION'!AR$157,\")\"),'TABLA DE DECISION'!AR163)","v":""},{"$f":"IF('TABLA DE DECISION'!AS163='TABLA DE DECISION'!AS$157,CONCATENATE($B9,\"(\",'TABLA DE DECISION'!AS$157,\")\"),'TABLA DE DECISION'!AS163)","v":""},{"$f":"IF('TABLA DE DECISION'!AT163='TABLA DE DECISION'!AT$157,CONCATENATE($B9,\"(\",'TABLA DE DECISION'!AT$157,\")\"),'TABLA DE DECISION'!AT163)","v":""},{"$f":"IF('TABLA DE DECISION'!AU163='TABLA DE DECISION'!AU$157,CONCATENATE($B9,\"(\",'TABLA DE DECISION'!AU$157,\")\"),'TABLA DE DECISION'!AU163)","v":""},{"$f":"IF('TABLA DE DECISION'!AV163='TABLA DE DECISION'!AV$157,CONCATENATE($B9,\"(\",'TABLA DE DECISION'!AV$157,\")\"),'TABLA DE DECISION'!AV163)","v":""},{"$f":"IF('TABLA DE DECISION'!AW163='TABLA DE DECISION'!AW$157,CONCATENATE($B9,\"(\",'TABLA DE DECISION'!AW$157,\")\"),'TABLA DE DECISION'!AW163)","v":""},{"$f":"IF('TABLA DE DECISION'!AX163='TABLA DE DECISION'!AX$157,CONCATENATE($B9,\"(\",'TABLA DE DECISION'!AX$157,\")\"),'TABLA DE DECISION'!AX163)","v":""},{"$f":"IF('TABLA DE DECISION'!AY163='TABLA DE DECISION'!AY$157,CONCATENATE($B9,\"(\",'TABLA DE DECISION'!AY$157,\")\"),'TABLA DE DECISION'!AY163)","v":""},{"$f":"IF('TABLA DE DECISION'!AZ163='TABLA DE DECISION'!AZ$157,CONCATENATE($B9,\"(\",'TABLA DE DECISION'!AZ$157,\")\"),'TABLA DE DECISION'!AZ163)","v":""},{"$f":"IF('TABLA DE DECISION'!BA163='TABLA DE DECISION'!BA$157,CONCATENATE($B9,\"(\",'TABLA DE DECISION'!BA$157,\")\"),'TABLA DE DECISION'!BA163)","v":""},{"$f":"IF('TABLA DE DECISION'!BB163='TABLA DE DECISION'!BB$157,CONCATENATE($B9,\"(\",'TABLA DE DECISION'!BB$157,\")\"),'TABLA DE DECISION'!BB163)","v":""},{"$f":"IF('TABLA DE DECISION'!BC163='TABLA DE DECISION'!BC$157,CONCATENATE($B9,\"(\",'TABLA DE DECISION'!BC$157,\")\"),'TABLA DE DECISION'!BC163)","v":""},{"$f":"IF('TABLA DE DECISION'!BD163='TABLA DE DECISION'!BD$157,CONCATENATE($B9,\"(\",'TABLA DE DECISION'!BD$157,\")\"),'TABLA DE DECISION'!BD163)","v":""}]
[{"$f":"IF('TABLA DE DECISION'!BF164=\"\",\"\",'TABLA DE DECISION'!BF164)","v":""},{"$f":"'TABLA DE DECISION'!BG164","v":"a6"},{"$f":"IF('TABLA DE DECISION'!A164='TABLA DE DECISION'!A$157,CONCATENATE($B10,\"(\",'TABLA DE DECISION'!A$157,\")\"),'TABLA DE DECISION'!A164)","v":""},{"$f":"IF('TABLA DE DECISION'!B164='TABLA DE DECISION'!B$157,CONCATENATE($B10,\"(\",'TABLA DE DECISION'!B$157,\")\"),'TABLA DE DECISION'!B164)","v":""},{"$f":"IF('TABLA DE DECISION'!C164='TABLA DE DECISION'!C$157,CONCATENATE($B10,\"(\",'TABLA DE DECISION'!C$157,\")\"),'TABLA DE DECISION'!C164)","v":""},{"$f":"IF('TABLA DE DECISION'!D164='TABLA DE DECISION'!D$157,CONCATENATE($B10,\"(\",'TABLA DE DECISION'!D$157,\")\"),'TABLA DE DECISION'!D164)","v":""},{"$f":"IF('TABLA DE DECISION'!E164='TABLA DE DECISION'!E$157,CONCATENATE($B10,\"(\",'TABLA DE DECISION'!E$157,\")\"),'TABLA DE DECISION'!E164)","v":""},{"$f":"IF('MATRIZ-PÉRDIDA OPORTUNIDAD'!BB8='MATRIZ-PÉRDIDA OPORTUNIDAD'!BB$2,CONCATENATE($B10,\"(\",'MATRIZ-PÉRDIDA OPORTUNIDAD'!BB$2,\")\"),'MATRIZ-PÉRDIDA OPORTUNIDAD'!BB8)","v":""},{"$f":"IF('TABLA DE DECISION'!G164='TABLA DE DECISION'!G$157,CONCATENATE($B10,\"(\",'TABLA DE DECISION'!G$157,\")\"),'TABLA DE DECISION'!G164)","v":""},{"$f":"IF('TABLA DE DECISION'!H164='TABLA DE DECISION'!H$157,CONCATENATE($B10,\"(\",'TABLA DE DECISION'!H$157,\")\"),'TABLA DE DECISION'!H164)","v":""},{"$f":"IF('TABLA DE DECISION'!I164='TABLA DE DECISION'!I$157,CONCATENATE($B10,\"(\",'TABLA DE DECISION'!I$157,\")\"),'TABLA DE DECISION'!I164)","v":""},{"$f":"IF('TABLA DE DECISION'!J164='TABLA DE DECISION'!J$157,CONCATENATE($B10,\"(\",'TABLA DE DECISION'!J$157,\")\"),'TABLA DE DECISION'!J164)","v":""},{"$f":"IF('TABLA DE DECISION'!K164='TABLA DE DECISION'!K$157,CONCATENATE($B10,\"(\",'TABLA DE DECISION'!K$157,\")\"),'TABLA DE DECISION'!K164)","v":""},{"$f":"IF('TABLA DE DECISION'!L164='TABLA DE DECISION'!L$157,CONCATENATE($B10,\"(\",'TABLA DE DECISION'!L$157,\")\"),'TABLA DE DECISION'!L164)","v":""},{"$f":"IF('TABLA DE DECISION'!M164='TABLA DE DECISION'!M$157,CONCATENATE($B10,\"(\",'TABLA DE DECISION'!M$157,\")\"),'TABLA DE DECISION'!M164)","v":""},{"$f":"IF('TABLA DE DECISION'!N164='TABLA DE DECISION'!N$157,CONCATENATE($B10,\"(\",'TABLA DE DECISION'!N$157,\")\"),'TABLA DE DECISION'!N164)","v":""},{"$f":"IF('TABLA DE DECISION'!O164='TABLA DE DECISION'!O$157,CONCATENATE($B10,\"(\",'TABLA DE DECISION'!O$157,\")\"),'TABLA DE DECISION'!O164)","v":""},{"$f":"IF('TABLA DE DECISION'!P164='TABLA DE DECISION'!P$157,CONCATENATE($B10,\"(\",'TABLA DE DECISION'!P$157,\")\"),'TABLA DE DECISION'!P164)","v":""},{"$f":"IF('TABLA DE DECISION'!Q164='TABLA DE DECISION'!Q$157,CONCATENATE($B10,\"(\",'TABLA DE DECISION'!Q$157,\")\"),'TABLA DE DECISION'!Q164)","v":""},{"$f":"IF('TABLA DE DECISION'!R164='TABLA DE DECISION'!R$157,CONCATENATE($B10,\"(\",'TABLA DE DECISION'!R$157,\")\"),'TABLA DE DECISION'!R164)","v":""},{"$f":"IF('TABLA DE DECISION'!S164='TABLA DE DECISION'!S$157,CONCATENATE($B10,\"(\",'TABLA DE DECISION'!S$157,\")\"),'TABLA DE DECISION'!S164)","v":""},{"$f":"IF('TABLA DE DECISION'!T164='TABLA DE DECISION'!T$157,CONCATENATE($B10,\"(\",'TABLA DE DECISION'!T$157,\")\"),'TABLA DE DECISION'!T164)","v":""},{"$f":"IF('TABLA DE DECISION'!U164='TABLA DE DECISION'!U$157,CONCATENATE($B10,\"(\",'TABLA DE DECISION'!U$157,\")\"),'TABLA DE DECISION'!U164)","v":""},{"$f":"IF('TABLA DE DECISION'!V164='TABLA DE DECISION'!V$157,CONCATENATE($B10,\"(\",'TABLA DE DECISION'!V$157,\")\"),'TABLA DE DECISION'!V164)","v":""},{"$f":"IF('TABLA DE DECISION'!W164='TABLA DE DECISION'!W$157,CONCATENATE($B10,\"(\",'TABLA DE DECISION'!W$157,\")\"),'TABLA DE DECISION'!W164)","v":""},{"$f":"IF('TABLA DE DECISION'!X164='TABLA DE DECISION'!X$157,CONCATENATE($B10,\"(\",'TABLA DE DECISION'!X$157,\")\"),'TABLA DE DECISION'!X164)","v":""},{"$f":"IF('TABLA DE DECISION'!Y164='TABLA DE DECISION'!Y$157,CONCATENATE($B10,\"(\",'TABLA DE DECISION'!Y$157,\")\"),'TABLA DE DECISION'!Y164)","v":""},{"$f":"IF('TABLA DE DECISION'!Z164='TABLA DE DECISION'!Z$157,CONCATENATE($B10,\"(\",'TABLA DE DECISION'!Z$157,\")\"),'TABLA DE DECISION'!Z164)","v":""},{"$f":"IF('TABLA DE DECISION'!AA164='TABLA DE DECISION'!AA$157,CONCATENATE($B10,\"(\",'TABLA DE DECISION'!AA$157,\")\"),'TABLA DE DECISION'!AA164)","v":""},{"$f":"IF('TABLA DE DECISION'!AB164='TABLA DE DECISION'!AB$157,CONCATENATE($B10,\"(\",'TABLA DE DECISION'!AB$157,\")\"),'TABLA DE DECISION'!AB164)","v":""},{"$f":"IF('TABLA DE DECISION'!AC164='TABLA DE DECISION'!AC$157,CONCATENATE($B10,\"(\",'TABLA DE DECISION'!AC$157,\")\"),'TABLA DE DECISION'!AC164)","v":""},{"$f":"IF('TABLA DE DECISION'!AD164='TABLA DE DECISION'!AD$157,CONCATENATE($B10,\"(\",'TABLA DE DECISION'!AD$157,\")\"),'TABLA DE DECISION'!AD164)","v":""},{"$f":"IF('TABLA DE DECISION'!AE164='TABLA DE DECISION'!AE$157,CONCATENATE($B10,\"(\",'TABLA DE DECISION'!AE$157,\")\"),'TABLA DE DECISION'!AE164)","v":""},{"$f":"IF('TABLA DE DECISION'!AF164='TABLA DE DECISION'!AF$157,CONCATENATE($B10,\"(\",'TABLA DE DECISION'!AF$157,\")\"),'TABLA DE DECISION'!AF164)","v":""},{"$f":"IF('TABLA DE DECISION'!AG164='TABLA DE DECISION'!AG$157,CONCATENATE($B10,\"(\",'TABLA DE DECISION'!AG$157,\")\"),'TABLA DE DECISION'!AG164)","v":""},{"$f":"IF('TABLA DE DECISION'!AH164='TABLA DE DECISION'!AH$157,CONCATENATE($B10,\"(\",'TABLA DE DECISION'!AH$157,\")\"),'TABLA DE DECISION'!AH164)","v":""},{"$f":"IF('TABLA DE DECISION'!AI164='TABLA DE DECISION'!AI$157,CONCATENATE($B10,\"(\",'TABLA DE DECISION'!AI$157,\")\"),'TABLA DE DECISION'!AI164)","v":""},{"$f":"IF('TABLA DE DECISION'!AJ164='TABLA DE DECISION'!AJ$157,CONCATENATE($B10,\"(\",'TABLA DE DECISION'!AJ$157,\")\"),'TABLA DE DECISION'!AJ164)","v":""},{"$f":"IF('TABLA DE DECISION'!AK164='TABLA DE DECISION'!AK$157,CONCATENATE($B10,\"(\",'TABLA DE DECISION'!AK$157,\")\"),'TABLA DE DECISION'!AK164)","v":""},{"$f":"IF('TABLA DE DECISION'!AL164='TABLA DE DECISION'!AL$157,CONCATENATE($B10,\"(\",'TABLA DE DECISION'!AL$157,\")\"),'TABLA DE DECISION'!AL164)","v":""},{"$f":"IF('TABLA DE DECISION'!AM164='TABLA DE DECISION'!AM$157,CONCATENATE($B10,\"(\",'TABLA DE DECISION'!AM$157,\")\"),'TABLA DE DECISION'!AM164)","v":""},{"$f":"IF('TABLA DE DECISION'!AN164='TABLA DE DECISION'!AN$157,CONCATENATE($B10,\"(\",'TABLA DE DECISION'!AN$157,\")\"),'TABLA DE DECISION'!AN164)","v":""},{"$f":"IF('TABLA DE DECISION'!AO164='TABLA DE DECISION'!AO$157,CONCATENATE($B10,\"(\",'TABLA DE DECISION'!AO$157,\")\"),'TABLA DE DECISION'!AO164)","v":""},{"$f":"IF('TABLA DE DECISION'!AP164='TABLA DE DECISION'!AP$157,CONCATENATE($B10,\"(\",'TABLA DE DECISION'!AP$157,\")\"),'TABLA DE DECISION'!AP164)","v":""},{"$f":"IF('TABLA DE DECISION'!AQ164='TABLA DE DECISION'!AQ$157,CONCATENATE($B10,\"(\",'TABLA DE DECISION'!AQ$157,\")\"),'TABLA DE DECISION'!AQ164)","v":""},{"$f":"IF('TABLA DE DECISION'!AR164='TABLA DE DECISION'!AR$157,CONCATENATE($B10,\"(\",'TABLA DE DECISION'!AR$157,\")\"),'TABLA DE DECISION'!AR164)","v":""},{"$f":"IF('TABLA DE DECISION'!AS164='TABLA DE DECISION'!AS$157,CONCATENATE($B10,\"(\",'TABLA DE DECISION'!AS$157,\")\"),'TABLA DE DECISION'!AS164)","v":""},{"$f":"IF('TABLA DE DECISION'!AT164='TABLA DE DECISION'!AT$157,CONCATENATE($B10,\"(\",'TABLA DE DECISION'!AT$157,\")\"),'TABLA DE DECISION'!AT164)","v":""},{"$f":"IF('TABLA DE DECISION'!AU164='TABLA DE DECISION'!AU$157,CONCATENATE($B10,\"(\",'TABLA DE DECISION'!AU$157,\")\"),'TABLA DE DECISION'!AU164)","v":""},{"$f":"IF('TABLA DE DECISION'!AV164='TABLA DE DECISION'!AV$157,CONCATENATE($B10,\"(\",'TABLA DE DECISION'!AV$157,\")\"),'TABLA DE DECISION'!AV164)","v":""},{"$f":"IF('TABLA DE DECISION'!AW164='TABLA DE DECISION'!AW$157,CONCATENATE($B10,\"(\",'TABLA DE DECISION'!AW$157,\")\"),'TABLA DE DECISION'!AW164)","v":""},{"$f":"IF('TABLA DE DECISION'!AX164='TABLA DE DECISION'!AX$157,CONCATENATE($B10,\"(\",'TABLA DE DECISION'!AX$157,\")\"),'TABLA DE DECISION'!AX164)","v":""},{"$f":"IF('TABLA DE DECISION'!AY164='TABLA DE DECISION'!AY$157,CONCATENATE($B10,\"(\",'TABLA DE DECISION'!AY$157,\")\"),'TABLA DE DECISION'!AY164)","v":""},{"$f":"IF('TABLA DE DECISION'!AZ164='TABLA DE DECISION'!AZ$157,CONCATENATE($B10,\"(\",'TABLA DE DECISION'!AZ$157,\")\"),'TABLA DE DECISION'!AZ164)","v":""},{"$f":"IF('TABLA DE DECISION'!BA164='TABLA DE DECISION'!BA$157,CONCATENATE($B10,\"(\",'TABLA DE DECISION'!BA$157,\")\"),'TABLA DE DECISION'!BA164)","v":""},{"$f":"IF('TABLA DE DECISION'!BB164='TABLA DE DECISION'!BB$157,CONCATENATE($B10,\"(\",'TABLA DE DECISION'!BB$157,\")\"),'TABLA DE DECISION'!BB164)","v":""},{"$f":"IF('TABLA DE DECISION'!BC164='TABLA DE DECISION'!BC$157,CONCATENATE($B10,\"(\",'TABLA DE DECISION'!BC$157,\")\"),'TABLA DE DECISION'!BC164)","v":""},{"$f":"IF('TABLA DE DECISION'!BD164='TABLA DE DECISION'!BD$157,CONCATENATE($B10,\"(\",'TABLA DE DECISION'!BD$157,\")\"),'TABLA DE DECISION'!BD164)","v":""}]
[{"$f":"IF('TABLA DE DECISION'!BF165=\"\",\"\",'TABLA DE DECISION'!BF165)","v":""},{"$f":"'TABLA DE DECISION'!BG165","v":"a7"},{"$f":"IF('TABLA DE DECISION'!A165='TABLA DE DECISION'!A$157,CONCATENATE($B11,\"(\",'TABLA DE DECISION'!A$157,\")\"),'TABLA DE DECISION'!A165)","v":""},{"$f":"IF('TABLA DE DECISION'!B165='TABLA DE DECISION'!B$157,CONCATENATE($B11,\"(\",'TABLA DE DECISION'!B$157,\")\"),'TABLA DE DECISION'!B165)","v":""},{"$f":"IF('TABLA DE DECISION'!C165='TABLA DE DECISION'!C$157,CONCATENATE($B11,\"(\",'TABLA DE DECISION'!C$157,\")\"),'TABLA DE DECISION'!C165)","v":""},{"$f":"IF('TABLA DE DECISION'!D165='TABLA DE DECISION'!D$157,CONCATENATE($B11,\"(\",'TABLA DE DECISION'!D$157,\")\"),'TABLA DE DECISION'!D165)","v":""},{"$f":"IF('TABLA DE DECISION'!E165='TABLA DE DECISION'!E$157,CONCATENATE($B11,\"(\",'TABLA DE DECISION'!E$157,\")\"),'TABLA DE DECISION'!E165)","v":""},{"$f":"IF('MATRIZ-PÉRDIDA OPORTUNIDAD'!BB9='MATRIZ-PÉRDIDA OPORTUNIDAD'!BB$2,CONCATENATE($B11,\"(\",'MATRIZ-PÉRDIDA OPORTUNIDAD'!BB$2,\")\"),'MATRIZ-PÉRDIDA OPORTUNIDAD'!BB9)","v":""},{"$f":"IF('TABLA DE DECISION'!G165='TABLA DE DECISION'!G$157,CONCATENATE($B11,\"(\",'TABLA DE DECISION'!G$157,\")\"),'TABLA DE DECISION'!G165)","v":""},{"$f":"IF('TABLA DE DECISION'!H165='TABLA DE DECISION'!H$157,CONCATENATE($B11,\"(\",'TABLA DE DECISION'!H$157,\")\"),'TABLA DE DECISION'!H165)","v":""},{"$f":"IF('TABLA DE DECISION'!I165='TABLA DE DECISION'!I$157,CONCATENATE($B11,\"(\",'TABLA DE DECISION'!I$157,\")\"),'TABLA DE DECISION'!I165)","v":""},{"$f":"IF('TABLA DE DECISION'!J165='TABLA DE DECISION'!J$157,CONCATENATE($B11,\"(\",'TABLA DE DECISION'!J$157,\")\"),'TABLA DE DECISION'!J165)","v":""},{"$f":"IF('TABLA DE DECISION'!K165='TABLA DE DECISION'!K$157,CONCATENATE($B11,\"(\",'TABLA DE DECISION'!K$157,\")\"),'TABLA DE DECISION'!K165)","v":""},{"$f":"IF('TABLA DE DECISION'!L165='TABLA DE DECISION'!L$157,CONCATENATE($B11,\"(\",'TABLA DE DECISION'!L$157,\")\"),'TABLA DE DECISION'!L165)","v":""},{"$f":"IF('TABLA DE DECISION'!M165='TABLA DE DECISION'!M$157,CONCATENATE($B11,\"(\",'TABLA DE DECISION'!M$157,\")\"),'TABLA DE DECISION'!M165)","v":""},{"$f":"IF('TABLA DE DECISION'!N165='TABLA DE DECISION'!N$157,CONCATENATE($B11,\"(\",'TABLA DE DECISION'!N$157,\")\"),'TABLA DE DECISION'!N165)","v":""},{"$f":"IF('TABLA DE DECISION'!O165='TABLA DE DECISION'!O$157,CONCATENATE($B11,\"(\",'TABLA DE DECISION'!O$157,\")\"),'TABLA DE DECISION'!O165)","v":""},{"$f":"IF('TABLA DE DECISION'!P165='TABLA DE DECISION'!P$157,CONCATENATE($B11,\"(\",'TABLA DE DECISION'!P$157,\")\"),'TABLA DE DECISION'!P165)","v":""},{"$f":"IF('TABLA DE DECISION'!Q165='TABLA DE DECISION'!Q$157,CONCATENATE($B11,\"(\",'TABLA DE DECISION'!Q$157,\")\"),'TABLA DE DECISION'!Q165)","v":""},{"$f":"IF('TABLA DE DECISION'!R165='TABLA DE DECISION'!R$157,CONCATENATE($B11,\"(\",'TABLA DE DECISION'!R$157,\")\"),'TABLA DE DECISION'!R165)","v":""},{"$f":"IF('TABLA DE DECISION'!S165='TABLA DE DECISION'!S$157,CONCATENATE($B11,\"(\",'TABLA DE DECISION'!S$157,\")\"),'TABLA DE DECISION'!S165)","v":""},{"$f":"IF('TABLA DE DECISION'!T165='TABLA DE DECISION'!T$157,CONCATENATE($B11,\"(\",'TABLA DE DECISION'!T$157,\")\"),'TABLA DE DECISION'!T165)","v":""},{"$f":"IF('TABLA DE DECISION'!U165='TABLA DE DECISION'!U$157,CONCATENATE($B11,\"(\",'TABLA DE DECISION'!U$157,\")\"),'TABLA DE DECISION'!U165)","v":""},{"$f":"IF('TABLA DE DECISION'!V165='TABLA DE DECISION'!V$157,CONCATENATE($B11,\"(\",'TABLA DE DECISION'!V$157,\")\"),'TABLA DE DECISION'!V165)","v":""},{"$f":"IF('TABLA DE DECISION'!W165='TABLA DE DECISION'!W$157,CONCATENATE($B11,\"(\",'TABLA DE DECISION'!W$157,\")\"),'TABLA DE DECISION'!W165)","v":""},{"$f":"IF('TABLA DE DECISION'!X165='TABLA DE DECISION'!X$157,CONCATENATE($B11,\"(\",'TABLA DE DECISION'!X$157,\")\"),'TABLA DE DECISION'!X165)","v":""},{"$f":"IF('TABLA DE DECISION'!Y165='TABLA DE DECISION'!Y$157,CONCATENATE($B11,\"(\",'TABLA DE DECISION'!Y$157,\")\"),'TABLA DE DECISION'!Y165)","v":""},{"$f":"IF('TABLA DE DECISION'!Z165='TABLA DE DECISION'!Z$157,CONCATENATE($B11,\"(\",'TABLA DE DECISION'!Z$157,\")\"),'TABLA DE DECISION'!Z165)","v":""},{"$f":"IF('TABLA DE DECISION'!AA165='TABLA DE DECISION'!AA$157,CONCATENATE($B11,\"(\",'TABLA DE DECISION'!AA$157,\")\"),'TABLA DE DECISION'!AA165)","v":""},{"$f":"IF('TABLA DE DECISION'!AB165='TABLA DE DECISION'!AB$157,CONCATENATE($B11,\"(\",'TABLA DE DECISION'!AB$157,\")\"),'TABLA DE DECISION'!AB165)","v":""},{"$f":"IF('TABLA DE DECISION'!AC165='TABLA DE DECISION'!AC$157,CONCATENATE($B11,\"(\",'TABLA DE DECISION'!AC$157,\")\"),'TABLA DE DECISION'!AC165)","v":""},{"$f":"IF('TABLA DE DECISION'!AD165='TABLA DE DECISION'!AD$157,CONCATENATE($B11,\"(\",'TABLA DE DECISION'!AD$157,\")\"),'TABLA DE DECISION'!AD165)","v":""},{"$f":"IF('TABLA DE DECISION'!AE165='TABLA DE DECISION'!AE$157,CONCATENATE($B11,\"(\",'TABLA DE DECISION'!AE$157,\")\"),'TABLA DE DECISION'!AE165)","v":""},{"$f":"IF('TABLA DE DECISION'!AF165='TABLA DE DECISION'!AF$157,CONCATENATE($B11,\"(\",'TABLA DE DECISION'!AF$157,\")\"),'TABLA DE DECISION'!AF165)","v":""},{"$f":"IF('TABLA DE DECISION'!AG165='TABLA DE DECISION'!AG$157,CONCATENATE($B11,\"(\",'TABLA DE DECISION'!AG$157,\")\"),'TABLA DE DECISION'!AG165)","v":""},{"$f":"IF('TABLA DE DECISION'!AH165='TABLA DE DECISION'!AH$157,CONCATENATE($B11,\"(\",'TABLA DE DECISION'!AH$157,\")\"),'TABLA DE DECISION'!AH165)","v":""},{"$f":"IF('TABLA DE DECISION'!AI165='TABLA DE DECISION'!AI$157,CONCATENATE($B11,\"(\",'TABLA DE DECISION'!AI$157,\")\"),'TABLA DE DECISION'!AI165)","v":""},{"$f":"IF('TABLA DE DECISION'!AJ165='TABLA DE DECISION'!AJ$157,CONCATENATE($B11,\"(\",'TABLA DE DECISION'!AJ$157,\")\"),'TABLA DE DECISION'!AJ165)","v":""},{"$f":"IF('TABLA DE DECISION'!AK165='TABLA DE DECISION'!AK$157,CONCATENATE($B11,\"(\",'TABLA DE DECISION'!AK$157,\")\"),'TABLA DE DECISION'!AK165)","v":""},{"$f":"IF('TABLA DE DECISION'!AL165='TABLA DE DECISION'!AL$157,CONCATENATE($B11,\"(\",'TABLA DE DECISION'!AL$157,\")\"),'TABLA DE DECISION'!AL165)","v":""},{"$f":"IF('TABLA DE DECISION'!AM165='TABLA DE DECISION'!AM$157,CONCATENATE($B11,\"(\",'TABLA DE DECISION'!AM$157,\")\"),'TABLA DE DECISION'!AM165)","v":""},{"$f":"IF('TABLA DE DECISION'!AN165='TABLA DE DECISION'!AN$157,CONCATENATE($B11,\"(\",'TABLA DE DECISION'!AN$157,\")\"),'TABLA DE DECISION'!AN165)","v":""},{"$f":"IF('TABLA DE DECISION'!AO165='TABLA DE DECISION'!AO$157,CONCATENATE($B11,\"(\",'TABLA DE DECISION'!AO$157,\")\"),'TABLA DE DECISION'!AO165)","v":""},{"$f":"IF('TABLA DE DECISION'!AP165='TABLA DE DECISION'!AP$157,CONCATENATE($B11,\"(\",'TABLA DE DECISION'!AP$157,\")\"),'TABLA DE DECISION'!AP165)","v":""},{"$f":"IF('TABLA DE DECISION'!AQ165='TABLA DE DECISION'!AQ$157,CONCATENATE($B11,\"(\",'TABLA DE DECISION'!AQ$157,\")\"),'TABLA DE DECISION'!AQ165)","v":""},{"$f":"IF('TABLA DE DECISION'!AR165='TABLA DE DECISION'!AR$157,CONCATENATE($B11,\"(\",'TABLA DE DECISION'!AR$157,\")\"),'TABLA DE DECISION'!AR165)","v":""},{"$f":"IF('TABLA DE DECISION'!AS165='TABLA DE DECISION'!AS$157,CONCATENATE($B11,\"(\",'TABLA DE DECISION'!AS$157,\")\"),'TABLA DE DECISION'!AS165)","v":""},{"$f":"IF('TABLA DE DECISION'!AT165='TABLA DE DECISION'!AT$157,CONCATENATE($B11,\"(\",'TABLA DE DECISION'!AT$157,\")\"),'TABLA DE DECISION'!AT165)","v":""},{"$f":"IF('TABLA DE DECISION'!AU165='TABLA DE DECISION'!AU$157,CONCATENATE($B11,\"(\",'TABLA DE DECISION'!AU$157,\")\"),'TABLA DE DECISION'!AU165)","v":""},{"$f":"IF('TABLA DE DECISION'!AV165='TABLA DE DECISION'!AV$157,CONCATENATE($B11,\"(\",'TABLA DE DECISION'!AV$157,\")\"),'TABLA DE DECISION'!AV165)","v":""},{"$f":"IF('TABLA DE DECISION'!AW165='TABLA DE DECISION'!AW$157,CONCATENATE($B11,\"(\",'TABLA DE DECISION'!AW$157,\")\"),'TABLA DE DECISION'!AW165)","v":""},{"$f":"IF('TABLA DE DECISION'!AX165='TABLA DE DECISION'!AX$157,CONCATENATE($B11,\"(\",'TABLA DE DECISION'!AX$157,\")\"),'TABLA DE DECISION'!AX165)","v":""},{"$f":"IF('TABLA DE DECISION'!AY165='TABLA DE DECISION'!AY$157,CONCATENATE($B11,\"(\",'TABLA DE DECISION'!AY$157,\")\"),'TABLA DE DECISION'!AY165)","v":""},{"$f":"IF('TABLA DE DECISION'!AZ165='TABLA DE DECISION'!AZ$157,CONCATENATE($B11,\"(\",'TABLA DE DECISION'!AZ$157,\")\"),'TABLA DE DECISION'!AZ165)","v":""},{"$f":"IF('TABLA DE DECISION'!BA165='TABLA DE DECISION'!BA$157,CONCATENATE($B11,\"(\",'TABLA DE DECISION'!BA$157,\")\"),'TABLA DE DECISION'!BA165)","v":""},{"$f":"IF('TABLA DE DECISION'!BB165='TABLA DE DECISION'!BB$157,CONCATENATE($B11,\"(\",'TABLA DE DECISION'!BB$157,\")\"),'TABLA DE DECISION'!BB165)","v":""},{"$f":"IF('TABLA DE DECISION'!BC165='TABLA DE DECISION'!BC$157,CONCATENATE($B11,\"(\",'TABLA DE DECISION'!BC$157,\")\"),'TABLA DE DECISION'!BC165)","v":""},{"$f":"IF('TABLA DE DECISION'!BD165='TABLA DE DECISION'!BD$157,CONCATENATE($B11,\"(\",'TABLA DE DECISION'!BD$157,\")\"),'TABLA DE DECISION'!BD165)","v":""}]
[{"$f":"IF('TABLA DE DECISION'!BF166=\"\",\"\",'TABLA DE DECISION'!BF166)","v":""},{"$f":"'TABLA DE DECISION'!BG166","v":"a8"},{"$f":"IF('TABLA DE DECISION'!A166='TABLA DE DECISION'!A$157,CONCATENATE($B12,\"(\",'TABLA DE DECISION'!A$157,\")\"),'TABLA DE DECISION'!A166)","v":""},{"$f":"IF('TABLA DE DECISION'!B166='TABLA DE DECISION'!B$157,CONCATENATE($B12,\"(\",'TABLA DE DECISION'!B$157,\")\"),'TABLA DE DECISION'!B166)","v":""},{"$f":"IF('TABLA DE DECISION'!C166='TABLA DE DECISION'!C$157,CONCATENATE($B12,\"(\",'TABLA DE DECISION'!C$157,\")\"),'TABLA DE DECISION'!C166)","v":""},{"$f":"IF('TABLA DE DECISION'!D166='TABLA DE DECISION'!D$157,CONCATENATE($B12,\"(\",'TABLA DE DECISION'!D$157,\")\"),'TABLA DE DECISION'!D166)","v":""},{"$f":"IF('TABLA DE DECISION'!E166='TABLA DE DECISION'!E$157,CONCATENATE($B12,\"(\",'TABLA DE DECISION'!E$157,\")\"),'TABLA DE DECISION'!E166)","v":""},{"$f":"IF('MATRIZ-PÉRDIDA OPORTUNIDAD'!BB10='MATRIZ-PÉRDIDA OPORTUNIDAD'!BB$2,CONCATENATE($B12,\"(\",'MATRIZ-PÉRDIDA OPORTUNIDAD'!BB$2,\")\"),'MATRIZ-PÉRDIDA OPORTUNIDAD'!BB10)","v":""},{"$f":"IF('TABLA DE DECISION'!G166='TABLA DE DECISION'!G$157,CONCATENATE($B12,\"(\",'TABLA DE DECISION'!G$157,\")\"),'TABLA DE DECISION'!G166)","v":""},{"$f":"IF('TABLA DE DECISION'!H166='TABLA DE DECISION'!H$157,CONCATENATE($B12,\"(\",'TABLA DE DECISION'!H$157,\")\"),'TABLA DE DECISION'!H166)","v":""},{"$f":"IF('TABLA DE DECISION'!I166='TABLA DE DECISION'!I$157,CONCATENATE($B12,\"(\",'TABLA DE DECISION'!I$157,\")\"),'TABLA DE DECISION'!I166)","v":""},{"$f":"IF('TABLA DE DECISION'!J166='TABLA DE DECISION'!J$157,CONCATENATE($B12,\"(\",'TABLA DE DECISION'!J$157,\")\"),'TABLA DE DECISION'!J166)","v":""},{"$f":"IF('TABLA DE DECISION'!K166='TABLA DE DECISION'!K$157,CONCATENATE($B12,\"(\",'TABLA DE DECISION'!K$157,\")\"),'TABLA DE DECISION'!K166)","v":""},{"$f":"IF('TABLA DE DECISION'!L166='TABLA DE DECISION'!L$157,CONCATENATE($B12,\"(\",'TABLA DE DECISION'!L$157,\")\"),'TABLA DE DECISION'!L166)","v":""},{"$f":"IF('TABLA DE DECISION'!M166='TABLA DE DECISION'!M$157,CONCATENATE($B12,\"(\",'TABLA DE DECISION'!M$157,\")\"),'TABLA DE DECISION'!M166)","v":""},{"$f":"IF('TABLA DE DECISION'!N166='TABLA DE DECISION'!N$157,CONCATENATE($B12,\"(\",'TABLA DE DECISION'!N$157,\")\"),'TABLA DE DECISION'!N166)","v":""},{"$f":"IF('TABLA DE DECISION'!O166='TABLA DE DECISION'!O$157,CONCATENATE($B12,\"(\",'TABLA DE DECISION'!O$157,\")\"),'TABLA DE DECISION'!O166)","v":""},{"$f":"IF('TABLA DE DECISION'!P166='TABLA DE DECISION'!P$157,CONCATENATE($B12,\"(\",'TABLA DE DECISION'!P$157,\")\"),'TABLA DE DECISION'!P166)","v":""},{"$f":"IF('TABLA DE DECISION'!Q166='TABLA DE DECISION'!Q$157,CONCATENATE($B12,\"(\",'TABLA DE DECISION'!Q$157,\")\"),'TABLA DE DECISION'!Q166)","v":""},{"$f":"IF('TABLA DE DECISION'!R166='TABLA DE DECISION'!R$157,CONCATENATE($B12,\"(\",'TABLA DE DECISION'!R$157,\")\"),'TABLA DE DECISION'!R166)","v":""},{"$f":"IF('TABLA DE DECISION'!S166='TABLA DE DECISION'!S$157,CONCATENATE($B12,\"(\",'TABLA DE DECISION'!S$157,\")\"),'TABLA DE DECISION'!S166)","v":""},{"$f":"IF('TABLA DE DECISION'!T166='TABLA DE DECISION'!T$157,CONCATENATE($B12,\"(\",'TABLA DE DECISION'!T$157,\")\"),'TABLA DE DECISION'!T166)","v":""},{"$f":"IF('TABLA DE DECISION'!U166='TABLA DE DECISION'!U$157,CONCATENATE($B12,\"(\",'TABLA DE DECISION'!U$157,\")\"),'TABLA DE DECISION'!U166)","v":""},{"$f":"IF('TABLA DE DECISION'!V166='TABLA DE DECISION'!V$157,CONCATENATE($B12,\"(\",'TABLA DE DECISION'!V$157,\")\"),'TABLA DE DECISION'!V166)","v":""},{"$f":"IF('TABLA DE DECISION'!W166='TABLA DE DECISION'!W$157,CONCATENATE($B12,\"(\",'TABLA DE DECISION'!W$157,\")\"),'TABLA DE DECISION'!W166)","v":""},{"$f":"IF('TABLA DE DECISION'!X166='TABLA DE DECISION'!X$157,CONCATENATE($B12,\"(\",'TABLA DE DECISION'!X$157,\")\"),'TABLA DE DECISION'!X166)","v":""},{"$f":"IF('TABLA DE DECISION'!Y166='TABLA DE DECISION'!Y$157,CONCATENATE($B12,\"(\",'TABLA DE DECISION'!Y$157,\")\"),'TABLA DE DECISION'!Y166)","v":""},{"$f":"IF('TABLA DE DECISION'!Z166='TABLA DE DECISION'!Z$157,CONCATENATE($B12,\"(\",'TABLA DE DECISION'!Z$157,\")\"),'TABLA DE DECISION'!Z166)","v":""},{"$f":"IF('TABLA DE DECISION'!AA166='TABLA DE DECISION'!AA$157,CONCATENATE($B12,\"(\",'TABLA DE DECISION'!AA$157,\")\"),'TABLA DE DECISION'!AA166)","v":""},{"$f":"IF('TABLA DE DECISION'!AB166='TABLA DE DECISION'!AB$157,CONCATENATE($B12,\"(\",'TABLA DE DECISION'!AB$157,\")\"),'TABLA DE DECISION'!AB166)","v":""},{"$f":"IF('TABLA DE DECISION'!AC166='TABLA DE DECISION'!AC$157,CONCATENATE($B12,\"(\",'TABLA DE DECISION'!AC$157,\")\"),'TABLA DE DECISION'!AC166)","v":""},{"$f":"IF('TABLA DE DECISION'!AD166='TABLA DE DECISION'!AD$157,CONCATENATE($B12,\"(\",'TABLA DE DECISION'!AD$157,\")\"),'TABLA DE DECISION'!AD166)","v":""},{"$f":"IF('TABLA DE DECISION'!AE166='TABLA DE DECISION'!AE$157,CONCATENATE($B12,\"(\",'TABLA DE DECISION'!AE$157,\")\"),'TABLA DE DECISION'!AE166)","v":""},{"$f":"IF('TABLA DE DECISION'!AF166='TABLA DE DECISION'!AF$157,CONCATENATE($B12,\"(\",'TABLA DE DECISION'!AF$157,\")\"),'TABLA DE DECISION'!AF166)","v":""},{"$f":"IF('TABLA DE DECISION'!AG166='TABLA DE DECISION'!AG$157,CONCATENATE($B12,\"(\",'TABLA DE DECISION'!AG$157,\")\"),'TABLA DE DECISION'!AG166)","v":""},{"$f":"IF('TABLA DE DECISION'!AH166='TABLA DE DECISION'!AH$157,CONCATENATE($B12,\"(\",'TABLA DE DECISION'!AH$157,\")\"),'TABLA DE DECISION'!AH166)","v":""},{"$f":"IF('TABLA DE DECISION'!AI166='TABLA DE DECISION'!AI$157,CONCATENATE($B12,\"(\",'TABLA DE DECISION'!AI$157,\")\"),'TABLA DE DECISION'!AI166)","v":""},{"$f":"IF('TABLA DE DECISION'!AJ166='TABLA DE DECISION'!AJ$157,CONCATENATE($B12,\"(\",'TABLA DE DECISION'!AJ$157,\")\"),'TABLA DE DECISION'!AJ166)","v":""},{"$f":"IF('TABLA DE DECISION'!AK166='TABLA DE DECISION'!AK$157,CONCATENATE($B12,\"(\",'TABLA DE DECISION'!AK$157,\")\"),'TABLA DE DECISION'!AK166)","v":""},{"$f":"IF('TABLA DE DECISION'!AL166='TABLA DE DECISION'!AL$157,CONCATENATE($B12,\"(\",'TABLA DE DECISION'!AL$157,\")\"),'TABLA DE DECISION'!AL166)","v":""},{"$f":"IF('TABLA DE DECISION'!AM166='TABLA DE DECISION'!AM$157,CONCATENATE($B12,\"(\",'TABLA DE DECISION'!AM$157,\")\"),'TABLA DE DECISION'!AM166)","v":""},{"$f":"IF('TABLA DE DECISION'!AN166='TABLA DE DECISION'!AN$157,CONCATENATE($B12,\"(\",'TABLA DE DECISION'!AN$157,\")\"),'TABLA DE DECISION'!AN166)","v":""},{"$f":"IF('TABLA DE DECISION'!AO166='TABLA DE DECISION'!AO$157,CONCATENATE($B12,\"(\",'TABLA DE DECISION'!AO$157,\")\"),'TABLA DE DECISION'!AO166)","v":""},{"$f":"IF('TABLA DE DECISION'!AP166='TABLA DE DECISION'!AP$157,CONCATENATE($B12,\"(\",'TABLA DE DECISION'!AP$157,\")\"),'TABLA DE DECISION'!AP166)","v":""},{"$f":"IF('TABLA DE DECISION'!AQ166='TABLA DE DECISION'!AQ$157,CONCATENATE($B12,\"(\",'TABLA DE DECISION'!AQ$157,\")\"),'TABLA DE DECISION'!AQ166)","v":""},{"$f":"IF('TABLA DE DECISION'!AR166='TABLA DE DECISION'!AR$157,CONCATENATE($B12,\"(\",'TABLA DE DECISION'!AR$157,\")\"),'TABLA DE DECISION'!AR166)","v":""},{"$f":"IF('TABLA DE DECISION'!AS166='TABLA DE DECISION'!AS$157,CONCATENATE($B12,\"(\",'TABLA DE DECISION'!AS$157,\")\"),'TABLA DE DECISION'!AS166)","v":""},{"$f":"IF('TABLA DE DECISION'!AT166='TABLA DE DECISION'!AT$157,CONCATENATE($B12,\"(\",'TABLA DE DECISION'!AT$157,\")\"),'TABLA DE DECISION'!AT166)","v":""},{"$f":"IF('TABLA DE DECISION'!AU166='TABLA DE DECISION'!AU$157,CONCATENATE($B12,\"(\",'TABLA DE DECISION'!AU$157,\")\"),'TABLA DE DECISION'!AU166)","v":""},{"$f":"IF('TABLA DE DECISION'!AV166='TABLA DE DECISION'!AV$157,CONCATENATE($B12,\"(\",'TABLA DE DECISION'!AV$157,\")\"),'TABLA DE DECISION'!AV166)","v":""},{"$f":"IF('TABLA DE DECISION'!AW166='TABLA DE DECISION'!AW$157,CONCATENATE($B12,\"(\",'TABLA DE DECISION'!AW$157,\")\"),'TABLA DE DECISION'!AW166)","v":""},{"$f":"IF('TABLA DE DECISION'!AX166='TABLA DE DECISION'!AX$157,CONCATENATE($B12,\"(\",'TABLA DE DECISION'!AX$157,\")\"),'TABLA DE DECISION'!AX166)","v":""},{"$f":"IF('TABLA DE DECISION'!AY166='TABLA DE DECISION'!AY$157,CONCATENATE($B12,\"(\",'TABLA DE DECISION'!AY$157,\")\"),'TABLA DE DECISION'!AY166)","v":""},{"$f":"IF('TABLA DE DECISION'!AZ166='TABLA DE DECISION'!AZ$157,CONCATENATE($B12,\"(\",'TABLA DE DECISION'!AZ$157,\")\"),'TABLA DE DECISION'!AZ166)","v":""},{"$f":"IF('TABLA DE DECISION'!BA166='TABLA DE DECISION'!BA$157,CONCATENATE($B12,\"(\",'TABLA DE DECISION'!BA$157,\")\"),'TABLA DE DECISION'!BA166)","v":""},{"$f":"IF('TABLA DE DECISION'!BB166='TABLA DE DECISION'!BB$157,CONCATENATE($B12,\"(\",'TABLA DE DECISION'!BB$157,\")\"),'TABLA DE DECISION'!BB166)","v":""},{"$f":"IF('TABLA DE DECISION'!BC166='TABLA DE DECISION'!BC$157,CONCATENATE($B12,\"(\",'TABLA DE DECISION'!BC$157,\")\"),'TABLA DE DECISION'!BC166)","v":""},{"$f":"IF('TABLA DE DECISION'!BD166='TABLA DE DECISION'!BD$157,CONCATENATE($B12,\"(\",'TABLA DE DECISION'!BD$157,\")\"),'TABLA DE DECISION'!BD166)","v":""}]
[{"$f":"IF('TABLA DE DECISION'!BF167=\"\",\"\",'TABLA DE DECISION'!BF167)","v":""},{"$f":"'TABLA DE DECISION'!BG167","v":"a9"},{"$f":"IF('TABLA DE DECISION'!A167='TABLA DE DECISION'!A$157,CONCATENATE($B13,\"(\",'TABLA DE DECISION'!A$157,\")\"),'TABLA DE DECISION'!A167)","v":""},{"$f":"IF('TABLA DE DECISION'!B167='TABLA DE DECISION'!B$157,CONCATENATE($B13,\"(\",'TABLA DE DECISION'!B$157,\")\"),'TABLA DE DECISION'!B167)","v":""},{"$f":"IF('TABLA DE DECISION'!C167='TABLA DE DECISION'!C$157,CONCATENATE($B13,\"(\",'TABLA DE DECISION'!C$157,\")\"),'TABLA DE DECISION'!C167)","v":""},{"$f":"IF('TABLA DE DECISION'!D167='TABLA DE DECISION'!D$157,CONCATENATE($B13,\"(\",'TABLA DE DECISION'!D$157,\")\"),'TABLA DE DECISION'!D167)","v":""},{"$f":"IF('TABLA DE DECISION'!E167='TABLA DE DECISION'!E$157,CONCATENATE($B13,\"(\",'TABLA DE DECISION'!E$157,\")\"),'TABLA DE DECISION'!E167)","v":""},{"$f":"IF('MATRIZ-PÉRDIDA OPORTUNIDAD'!BB11='MATRIZ-PÉRDIDA OPORTUNIDAD'!BB$2,CONCATENATE($B13,\"(\",'MATRIZ-PÉRDIDA OPORTUNIDAD'!BB$2,\")\"),'MATRIZ-PÉRDIDA OPORTUNIDAD'!BB11)","v":""},{"$f":"IF('TABLA DE DECISION'!G167='TABLA DE DECISION'!G$157,CONCATENATE($B13,\"(\",'TABLA DE DECISION'!G$157,\")\"),'TABLA DE DECISION'!G167)","v":""},{"$f":"IF('TABLA DE DECISION'!H167='TABLA DE DECISION'!H$157,CONCATENATE($B13,\"(\",'TABLA DE DECISION'!H$157,\")\"),'TABLA DE DECISION'!H167)","v":""},{"$f":"IF('TABLA DE DECISION'!I167='TABLA DE DECISION'!I$157,CONCATENATE($B13,\"(\",'TABLA DE DECISION'!I$157,\")\"),'TABLA DE DECISION'!I167)","v":""},{"$f":"IF('TABLA DE DECISION'!J167='TABLA DE DECISION'!J$157,CONCATENATE($B13,\"(\",'TABLA DE DECISION'!J$157,\")\"),'TABLA DE DECISION'!J167)","v":""},{"$f":"IF('TABLA DE DECISION'!K167='TABLA DE DECISION'!K$157,CONCATENATE($B13,\"(\",'TABLA DE DECISION'!K$157,\")\"),'TABLA DE DECISION'!K167)","v":""},{"$f":"IF('TABLA DE DECISION'!L167='TABLA DE DECISION'!L$157,CONCATENATE($B13,\"(\",'TABLA DE DECISION'!L$157,\")\"),'TABLA DE DECISION'!L167)","v":""},{"$f":"IF('TABLA DE DECISION'!M167='TABLA DE DECISION'!M$157,CONCATENATE($B13,\"(\",'TABLA DE DECISION'!M$157,\")\"),'TABLA DE DECISION'!M167)","v":""},{"$f":"IF('TABLA DE DECISION'!N167='TABLA DE DECISION'!N$157,CONCATENATE($B13,\"(\",'TABLA DE DECISION'!N$157,\")\"),'TABLA DE DECISION'!N167)","v":""},{"$f":"IF('TABLA DE DECISION'!O167='TABLA DE DECISION'!O$157,CONCATENATE($B13,\"(\",'TABLA DE DECISION'!O$157,\")\"),'TABLA DE DECISION'!O167)","v":""},{"$f":"IF('TABLA DE DECISION'!P167='TABLA DE DECISION'!P$157,CONCATENATE($B13,\"(\",'TABLA DE DECISION'!P$157,\")\"),'TABLA DE DECISION'!P167)","v":""},{"$f":"IF('TABLA DE DECISION'!Q167='TABLA DE DECISION'!Q$157,CONCATENATE($B13,\"(\",'TABLA DE DECISION'!Q$157,\")\"),'TABLA DE DECISION'!Q167)","v":""},{"$f":"IF('TABLA DE DECISION'!R167='TABLA DE DECISION'!R$157,CONCATENATE($B13,\"(\",'TABLA DE DECISION'!R$157,\")\"),'TABLA DE DECISION'!R167)","v":""},{"$f":"IF('TABLA DE DECISION'!S167='TABLA DE DECISION'!S$157,CONCATENATE($B13,\"(\",'TABLA DE DECISION'!S$157,\")\"),'TABLA DE DECISION'!S167)","v":""},{"$f":"IF('TABLA DE DECISION'!T167='TABLA DE DECISION'!T$157,CONCATENATE($B13,\"(\",'TABLA DE DECISION'!T$157,\")\"),'TABLA DE DECISION'!T167)","v":""},{"$f":"IF('TABLA DE DECISION'!U167='TABLA DE DECISION'!U$157,CONCATENATE($B13,\"(\",'TABLA DE DECISION'!U$157,\")\"),'TABLA DE DECISION'!U167)","v":""},{"$f":"IF('TABLA DE DECISION'!V167='TABLA DE DECISION'!V$157,CONCATENATE($B13,\"(\",'TABLA DE DECISION'!V$157,\")\"),'TABLA DE DECISION'!V167)","v":""},{"$f":"IF('TABLA DE DECISION'!W167='TABLA DE DECISION'!W$157,CONCATENATE($B13,\"(\",'TABLA DE DECISION'!W$157,\")\"),'TABLA DE DECISION'!W167)","v":""},{"$f":"IF('TABLA DE DECISION'!X167='TABLA DE DECISION'!X$157,CONCATENATE($B13,\"(\",'TABLA DE DECISION'!X$157,\")\"),'TABLA DE DECISION'!X167)","v":""},{"$f":"IF('TABLA DE DECISION'!Y167='TABLA DE DECISION'!Y$157,CONCATENATE($B13,\"(\",'TABLA DE DECISION'!Y$157,\")\"),'TABLA DE DECISION'!Y167)","v":""},{"$f":"IF('TABLA DE DECISION'!Z167='TABLA DE DECISION'!Z$157,CONCATENATE($B13,\"(\",'TABLA DE DECISION'!Z$157,\")\"),'TABLA DE DECISION'!Z167)","v":""},{"$f":"IF('TABLA DE DECISION'!AA167='TABLA DE DECISION'!AA$157,CONCATENATE($B13,\"(\",'TABLA DE DECISION'!AA$157,\")\"),'TABLA DE DECISION'!AA167)","v":""},{"$f":"IF('TABLA DE DECISION'!AB167='TABLA DE DECISION'!AB$157,CONCATENATE($B13,\"(\",'TABLA DE DECISION'!AB$157,\")\"),'TABLA DE DECISION'!AB167)","v":""},{"$f":"IF('TABLA DE DECISION'!AC167='TABLA DE DECISION'!AC$157,CONCATENATE($B13,\"(\",'TABLA DE DECISION'!AC$157,\")\"),'TABLA DE DECISION'!AC167)","v":""},{"$f":"IF('TABLA DE DECISION'!AD167='TABLA DE DECISION'!AD$157,CONCATENATE($B13,\"(\",'TABLA DE DECISION'!AD$157,\")\"),'TABLA DE DECISION'!AD167)","v":""},{"$f":"IF('TABLA DE DECISION'!AE167='TABLA DE DECISION'!AE$157,CONCATENATE($B13,\"(\",'TABLA DE DECISION'!AE$157,\")\"),'TABLA DE DECISION'!AE167)","v":""},{"$f":"IF('TABLA DE DECISION'!AF167='TABLA DE DECISION'!AF$157,CONCATENATE($B13,\"(\",'TABLA DE DECISION'!AF$157,\")\"),'TABLA DE DECISION'!AF167)","v":""},{"$f":"IF('TABLA DE DECISION'!AG167='TABLA DE DECISION'!AG$157,CONCATENATE($B13,\"(\",'TABLA DE DECISION'!AG$157,\")\"),'TABLA DE DECISION'!AG167)","v":""},{"$f":"IF('TABLA DE DECISION'!AH167='TABLA DE DECISION'!AH$157,CONCATENATE($B13,\"(\",'TABLA DE DECISION'!AH$157,\")\"),'TABLA DE DECISION'!AH167)","v":""},{"$f":"IF('TABLA DE DECISION'!AI167='TABLA DE DECISION'!AI$157,CONCATENATE($B13,\"(\",'TABLA DE DECISION'!AI$157,\")\"),'TABLA DE DECISION'!AI167)","v":""},{"$f":"IF('TABLA DE DECISION'!AJ167='TABLA DE DECISION'!AJ$157,CONCATENATE($B13,\"(\",'TABLA DE DECISION'!AJ$157,\")\"),'TABLA DE DECISION'!AJ167)","v":""},{"$f":"IF('TABLA DE DECISION'!AK167='TABLA DE DECISION'!AK$157,CONCATENATE($B13,\"(\",'TABLA DE DECISION'!AK$157,\")\"),'TABLA DE DECISION'!AK167)","v":""},{"$f":"IF('TABLA DE DECISION'!AL167='TABLA DE DECISION'!AL$157,CONCATENATE($B13,\"(\",'TABLA DE DECISION'!AL$157,\")\"),'TABLA DE DECISION'!AL167)","v":""},{"$f":"IF('TABLA DE DECISION'!AM167='TABLA DE DECISION'!AM$157,CONCATENATE($B13,\"(\",'TABLA DE DECISION'!AM$157,\")\"),'TABLA DE DECISION'!AM167)","v":""},{"$f":"IF('TABLA DE DECISION'!AN167='TABLA DE DECISION'!AN$157,CONCATENATE($B13,\"(\",'TABLA DE DECISION'!AN$157,\")\"),'TABLA DE DECISION'!AN167)","v":""},{"$f":"IF('TABLA DE DECISION'!AO167='TABLA DE DECISION'!AO$157,CONCATENATE($B13,\"(\",'TABLA DE DECISION'!AO$157,\")\"),'TABLA DE DECISION'!AO167)","v":""},{"$f":"IF('TABLA DE DECISION'!AP167='TABLA DE DECISION'!AP$157,CONCATENATE($B13,\"(\",'TABLA DE DECISION'!AP$157,\")\"),'TABLA DE DECISION'!AP167)","v":""},{"$f":"IF('TABLA DE DECISION'!AQ167='TABLA DE DECISION'!AQ$157,CONCATENATE($B13,\"(\",'TABLA DE DECISION'!AQ$157,\")\"),'TABLA DE DECISION'!AQ167)","v":""},{"$f":"IF('TABLA DE DECISION'!AR167='TABLA DE DECISION'!AR$157,CONCATENATE($B13,\"(\",'TABLA DE DECISION'!AR$157,\")\"),'TABLA DE DECISION'!AR167)","v":""},{"$f":"IF('TABLA DE DECISION'!AS167='TABLA DE DECISION'!AS$157,CONCATENATE($B13,\"(\",'TABLA DE DECISION'!AS$157,\")\"),'TABLA DE DECISION'!AS167)","v":""},{"$f":"IF('TABLA DE DECISION'!AT167='TABLA DE DECISION'!AT$157,CONCATENATE($B13,\"(\",'TABLA DE DECISION'!AT$157,\")\"),'TABLA DE DECISION'!AT167)","v":""},{"$f":"IF('TABLA DE DECISION'!AU167='TABLA DE DECISION'!AU$157,CONCATENATE($B13,\"(\",'TABLA DE DECISION'!AU$157,\")\"),'TABLA DE DECISION'!AU167)","v":""},{"$f":"IF('TABLA DE DECISION'!AV167='TABLA DE DECISION'!AV$157,CONCATENATE($B13,\"(\",'TABLA DE DECISION'!AV$157,\")\"),'TABLA DE DECISION'!AV167)","v":""},{"$f":"IF('TABLA DE DECISION'!AW167='TABLA DE DECISION'!AW$157,CONCATENATE($B13,\"(\",'TABLA DE DECISION'!AW$157,\")\"),'TABLA DE DECISION'!AW167)","v":""},{"$f":"IF('TABLA DE DECISION'!AX167='TABLA DE DECISION'!AX$157,CONCATENATE($B13,\"(\",'TABLA DE DECISION'!AX$157,\")\"),'TABLA DE DECISION'!AX167)","v":""},{"$f":"IF('TABLA DE DECISION'!AY167='TABLA DE DECISION'!AY$157,CONCATENATE($B13,\"(\",'TABLA DE DECISION'!AY$157,\")\"),'TABLA DE DECISION'!AY167)","v":""},{"$f":"IF('TABLA DE DECISION'!AZ167='TABLA DE DECISION'!AZ$157,CONCATENATE($B13,\"(\",'TABLA DE DECISION'!AZ$157,\")\"),'TABLA DE DECISION'!AZ167)","v":""},{"$f":"IF('TABLA DE DECISION'!BA167='TABLA DE DECISION'!BA$157,CONCATENATE($B13,\"(\",'TABLA DE DECISION'!BA$157,\")\"),'TABLA DE DECISION'!BA167)","v":""},{"$f":"IF('TABLA DE DECISION'!BB167='TABLA DE DECISION'!BB$157,CONCATENATE($B13,\"(\",'TABLA DE DECISION'!BB$157,\")\"),'TABLA DE DECISION'!BB167)","v":""},{"$f":"IF('TABLA DE DECISION'!BC167='TABLA DE DECISION'!BC$157,CONCATENATE($B13,\"(\",'TABLA DE DECISION'!BC$157,\")\"),'TABLA DE DECISION'!BC167)","v":""},{"$f":"IF('TABLA DE DECISION'!BD167='TABLA DE DECISION'!BD$157,CONCATENATE($B13,\"(\",'TABLA DE DECISION'!BD$157,\")\"),'TABLA DE DECISION'!BD167)","v":""}]
[{"$f":"IF('TABLA DE DECISION'!BF168=\"\",\"\",'TABLA DE DECISION'!BF168)","v":""},{"$f":"'TABLA DE DECISION'!BG168","v":"a10"},{"$f":"IF('TABLA DE DECISION'!A168='TABLA DE DECISION'!A$157,CONCATENATE($B14,\"(\",'TABLA DE DECISION'!A$157,\")\"),'TABLA DE DECISION'!A168)","v":""},{"$f":"IF('TABLA DE DECISION'!B168='TABLA DE DECISION'!B$157,CONCATENATE($B14,\"(\",'TABLA DE DECISION'!B$157,\")\"),'TABLA DE DECISION'!B168)","v":""},{"$f":"IF('TABLA DE DECISION'!C168='TABLA DE DECISION'!C$157,CONCATENATE($B14,\"(\",'TABLA DE DECISION'!C$157,\")\"),'TABLA DE DECISION'!C168)","v":""},{"$f":"IF('TABLA DE DECISION'!D168='TABLA DE DECISION'!D$157,CONCATENATE($B14,\"(\",'TABLA DE DECISION'!D$157,\")\"),'TABLA DE DECISION'!D168)","v":""},{"$f":"IF('TABLA DE DECISION'!E168='TABLA DE DECISION'!E$157,CONCATENATE($B14,\"(\",'TABLA DE DECISION'!E$157,\")\"),'TABLA DE DECISION'!E168)","v":""},{"$f":"IF('MATRIZ-PÉRDIDA OPORTUNIDAD'!BB12='MATRIZ-PÉRDIDA OPORTUNIDAD'!BB$2,CONCATENATE($B14,\"(\",'MATRIZ-PÉRDIDA OPORTUNIDAD'!BB$2,\")\"),'MATRIZ-PÉRDIDA OPORTUNIDAD'!BB12)","v":""},{"$f":"IF('TABLA DE DECISION'!G168='TABLA DE DECISION'!G$157,CONCATENATE($B14,\"(\",'TABLA DE DECISION'!G$157,\")\"),'TABLA DE DECISION'!G168)","v":""},{"$f":"IF('TABLA DE DECISION'!H168='TABLA DE DECISION'!H$157,CONCATENATE($B14,\"(\",'TABLA DE DECISION'!H$157,\")\"),'TABLA DE DECISION'!H168)","v":""},{"$f":"IF('TABLA DE DECISION'!I168='TABLA DE DECISION'!I$157,CONCATENATE($B14,\"(\",'TABLA DE DECISION'!I$157,\")\"),'TABLA DE DECISION'!I168)","v":""},{"$f":"IF('TABLA DE DECISION'!J168='TABLA DE DECISION'!J$157,CONCATENATE($B14,\"(\",'TABLA DE DECISION'!J$157,\")\"),'TABLA DE DECISION'!J168)","v":""},{"$f":"IF('TABLA DE DECISION'!K168='TABLA DE DECISION'!K$157,CONCATENATE($B14,\"(\",'TABLA DE DECISION'!K$157,\")\"),'TABLA DE DECISION'!K168)","v":""},{"$f":"IF('TABLA DE DECISION'!L168='TABLA DE DECISION'!L$157,CONCATENATE($B14,\"(\",'TABLA DE DECISION'!L$157,\")\"),'TABLA DE DECISION'!L168)","v":""},{"$f":"IF('TABLA DE DECISION'!M168='TABLA DE DECISION'!M$157,CONCATENATE($B14,\"(\",'TABLA DE DECISION'!M$157,\")\"),'TABLA DE DECISION'!M168)","v":""},{"$f":"IF('TABLA DE DECISION'!N168='TABLA DE DECISION'!N$157,CONCATENATE($B14,\"(\",'TABLA DE DECISION'!N$157,\")\"),'TABLA DE DECISION'!N168)","v":""},{"$f":"IF('TABLA DE DECISION'!O168='TABLA DE DECISION'!O$157,CONCATENATE($B14,\"(\",'TABLA DE DECISION'!O$157,\")\"),'TABLA DE DECISION'!O168)","v":""},{"$f":"IF('TABLA DE DECISION'!P168='TABLA DE DECISION'!P$157,CONCATENATE($B14,\"(\",'TABLA DE DECISION'!P$157,\")\"),'TABLA DE DECISION'!P168)","v":""},{"$f":"IF('TABLA DE DECISION'!Q168='TABLA DE DECISION'!Q$157,CONCATENATE($B14,\"(\",'TABLA DE DECISION'!Q$157,\")\"),'TABLA DE DECISION'!Q168)","v":""},{"$f":"IF('TABLA DE DECISION'!R168='TABLA DE DECISION'!R$157,CONCATENATE($B14,\"(\",'TABLA DE DECISION'!R$157,\")\"),'TABLA DE DECISION'!R168)","v":""},{"$f":"IF('TABLA DE DECISION'!S168='TABLA DE DECISION'!S$157,CONCATENATE($B14,\"(\",'TABLA DE DECISION'!S$157,\")\"),'TABLA DE DECISION'!S168)","v":""},{"$f":"IF('TABLA DE DECISION'!T168='TABLA DE DECISION'!T$157,CONCATENATE($B14,\"(\",'TABLA DE DECISION'!T$157,\")\"),'TABLA DE DECISION'!T168)","v":""},{"$f":"IF('TABLA DE DECISION'!U168='TABLA DE DECISION'!U$157,CONCATENATE($B14,\"(\",'TABLA DE DECISION'!U$157,\")\"),'TABLA DE DECISION'!U168)","v":""},{"$f":"IF('TABLA DE DECISION'!V168='TABLA DE DECISION'!V$157,CONCATENATE($B14,\"(\",'TABLA DE DECISION'!V$157,\")\"),'TABLA DE DECISION'!V168)","v":""},{"$f":"IF('TABLA DE DECISION'!W168='TABLA DE DECISION'!W$157,CONCATENATE($B14,\"(\",'TABLA DE DECISION'!W$157,\")\"),'TABLA DE DECISION'!W168)","v":""},{"$f":"IF('TABLA DE DECISION'!X168='TABLA DE DECISION'!X$157,CONCATENATE($B14,\"(\",'TABLA DE DECISION'!X$157,\")\"),'TABLA DE DECISION'!X168)","v":""},{"$f":"IF('TABLA DE DECISION'!Y168='TABLA DE DECISION'!Y$157,CONCATENATE($B14,\"(\",'TABLA DE DECISION'!Y$157,\")\"),'TABLA DE DECISION'!Y168)","v":""},{"$f":"IF('TABLA DE DECISION'!Z168='TABLA DE DECISION'!Z$157,CONCATENATE($B14,\"(\",'TABLA DE DECISION'!Z$157,\")\"),'TABLA DE DECISION'!Z168)","v":""},{"$f":"IF('TABLA DE DECISION'!AA168='TABLA DE DECISION'!AA$157,CONCATENATE($B14,\"(\",'TABLA DE DECISION'!AA$157,\")\"),'TABLA DE DECISION'!AA168)","v":""},{"$f":"IF('TABLA DE DECISION'!AB168='TABLA DE DECISION'!AB$157,CONCATENATE($B14,\"(\",'TABLA DE DECISION'!AB$157,\")\"),'TABLA DE DECISION'!AB168)","v":""},{"$f":"IF('TABLA DE DECISION'!AC168='TABLA DE DECISION'!AC$157,CONCATENATE($B14,\"(\",'TABLA DE DECISION'!AC$157,\")\"),'TABLA DE DECISION'!AC168)","v":""},{"$f":"IF('TABLA DE DECISION'!AD168='TABLA DE DECISION'!AD$157,CONCATENATE($B14,\"(\",'TABLA DE DECISION'!AD$157,\")\"),'TABLA DE DECISION'!AD168)","v":""},{"$f":"IF('TABLA DE DECISION'!AE168='TABLA DE DECISION'!AE$157,CONCATENATE($B14,\"(\",'TABLA DE DECISION'!AE$157,\")\"),'TABLA DE DECISION'!AE168)","v":""},{"$f":"IF('TABLA DE DECISION'!AF168='TABLA DE DECISION'!AF$157,CONCATENATE($B14,\"(\",'TABLA DE DECISION'!AF$157,\")\"),'TABLA DE DECISION'!AF168)","v":""},{"$f":"IF('TABLA DE DECISION'!AG168='TABLA DE DECISION'!AG$157,CONCATENATE($B14,\"(\",'TABLA DE DECISION'!AG$157,\")\"),'TABLA DE DECISION'!AG168)","v":""},{"$f":"IF('TABLA DE DECISION'!AH168='TABLA DE DECISION'!AH$157,CONCATENATE($B14,\"(\",'TABLA DE DECISION'!AH$157,\")\"),'TABLA DE DECISION'!AH168)","v":""},{"$f":"IF('TABLA DE DECISION'!AI168='TABLA DE DECISION'!AI$157,CONCATENATE($B14,\"(\",'TABLA DE DECISION'!AI$157,\")\"),'TABLA DE DECISION'!AI168)","v":""},{"$f":"IF('TABLA DE DECISION'!AJ168='TABLA DE DECISION'!AJ$157,CONCATENATE($B14,\"(\",'TABLA DE DECISION'!AJ$157,\")\"),'TABLA DE DECISION'!AJ168)","v":""},{"$f":"IF('TABLA DE DECISION'!AK168='TABLA DE DECISION'!AK$157,CONCATENATE($B14,\"(\",'TABLA DE DECISION'!AK$157,\")\"),'TABLA DE DECISION'!AK168)","v":""},{"$f":"IF('TABLA DE DECISION'!AL168='TABLA DE DECISION'!AL$157,CONCATENATE($B14,\"(\",'TABLA DE DECISION'!AL$157,\")\"),'TABLA DE DECISION'!AL168)","v":""},{"$f":"IF('TABLA DE DECISION'!AM168='TABLA DE DECISION'!AM$157,CONCATENATE($B14,\"(\",'TABLA DE DECISION'!AM$157,\")\"),'TABLA DE DECISION'!AM168)","v":""},{"$f":"IF('TABLA DE DECISION'!AN168='TABLA DE DECISION'!AN$157,CONCATENATE($B14,\"(\",'TABLA DE DECISION'!AN$157,\")\"),'TABLA DE DECISION'!AN168)","v":""},{"$f":"IF('TABLA DE DECISION'!AO168='TABLA DE DECISION'!AO$157,CONCATENATE($B14,\"(\",'TABLA DE DECISION'!AO$157,\")\"),'TABLA DE DECISION'!AO168)","v":""},{"$f":"IF('TABLA DE DECISION'!AP168='TABLA DE DECISION'!AP$157,CONCATENATE($B14,\"(\",'TABLA DE DECISION'!AP$157,\")\"),'TABLA DE DECISION'!AP168)","v":""},{"$f":"IF('TABLA DE DECISION'!AQ168='TABLA DE DECISION'!AQ$157,CONCATENATE($B14,\"(\",'TABLA DE DECISION'!AQ$157,\")\"),'TABLA DE DECISION'!AQ168)","v":""},{"$f":"IF('TABLA DE DECISION'!AR168='TABLA DE DECISION'!AR$157,CONCATENATE($B14,\"(\",'TABLA DE DECISION'!AR$157,\")\"),'TABLA DE DECISION'!AR168)","v":""},{"$f":"IF('TABLA DE DECISION'!AS168='TABLA DE DECISION'!AS$157,CONCATENATE($B14,\"(\",'TABLA DE DECISION'!AS$157,\")\"),'TABLA DE DECISION'!AS168)","v":""},{"$f":"IF('TABLA DE DECISION'!AT168='TABLA DE DECISION'!AT$157,CONCATENATE($B14,\"(\",'TABLA DE DECISION'!AT$157,\")\"),'TABLA DE DECISION'!AT168)","v":""},{"$f":"IF('TABLA DE DECISION'!AU168='TABLA DE DECISION'!AU$157,CONCATENATE($B14,\"(\",'TABLA DE DECISION'!AU$157,\")\"),'TABLA DE DECISION'!AU168)","v":""},{"$f":"IF('TABLA DE DECISION'!AV168='TABLA DE DECISION'!AV$157,CONCATENATE($B14,\"(\",'TABLA DE DECISION'!AV$157,\")\"),'TABLA DE DECISION'!AV168)","v":""},{"$f":"IF('TABLA DE DECISION'!AW168='TABLA DE DECISION'!AW$157,CONCATENATE($B14,\"(\",'TABLA DE DECISION'!AW$157,\")\"),'TABLA DE DECISION'!AW168)","v":""},{"$f":"IF('TABLA DE DECISION'!AX168='TABLA DE DECISION'!AX$157,CONCATENATE($B14,\"(\",'TABLA DE DECISION'!AX$157,\")\"),'TABLA DE DECISION'!AX168)","v":""},{"$f":"IF('TABLA DE DECISION'!AY168='TABLA DE DECISION'!AY$157,CONCATENATE($B14,\"(\",'TABLA DE DECISION'!AY$157,\")\"),'TABLA DE DECISION'!AY168)","v":""},{"$f":"IF('TABLA DE DECISION'!AZ168='TABLA DE DECISION'!AZ$157,CONCATENATE($B14,\"(\",'TABLA DE DECISION'!AZ$157,\")\"),'TABLA DE DECISION'!AZ168)","v":""},{"$f":"IF('TABLA DE DECISION'!BA168='TABLA DE DECISION'!BA$157,CONCATENATE($B14,\"(\",'TABLA DE DECISION'!BA$157,\")\"),'TABLA DE DECISION'!BA168)","v":""},{"$f":"IF('TABLA DE DECISION'!BB168='TABLA DE DECISION'!BB$157,CONCATENATE($B14,\"(\",'TABLA DE DECISION'!BB$157,\")\"),'TABLA DE DECISION'!BB168)","v":""},{"$f":"IF('TABLA DE DECISION'!BC168='TABLA DE DECISION'!BC$157,CONCATENATE($B14,\"(\",'TABLA DE DECISION'!BC$157,\")\"),'TABLA DE DECISION'!BC168)","v":""},{"$f":"IF('TABLA DE DECISION'!BD168='TABLA DE DECISION'!BD$157,CONCATENATE($B14,\"(\",'TABLA DE DECISION'!BD$157,\")\"),'TABLA DE DECISION'!BD168)","v":""}]
[{"$f":"IF('TABLA DE DECISION'!BF169=\"\",\"\",'TABLA DE DECISION'!BF169)","v":""},{"$f":"'TABLA DE DECISION'!BG169","v":"a11"},{"$f":"IF('TABLA DE DECISION'!A169='TABLA DE DECISION'!A$157,CONCATENATE($B15,\"(\",'TABLA DE DECISION'!A$157,\")\"),'TABLA DE DECISION'!A169)","v":""},{"$f":"IF('TABLA DE DECISION'!B169='TABLA DE DECISION'!B$157,CONCATENATE($B15,\"(\",'TABLA DE DECISION'!B$157,\")\"),'TABLA DE DECISION'!B169)","v":""},{"$f":"IF('TABLA DE DECISION'!C169='TABLA DE DECISION'!C$157,CONCATENATE($B15,\"(\",'TABLA DE DECISION'!C$157,\")\"),'TABLA DE DECISION'!C169)","v":""},{"$f":"IF('TABLA DE DECISION'!D169='TABLA DE DECISION'!D$157,CONCATENATE($B15,\"(\",'TABLA DE DECISION'!D$157,\")\"),'TABLA DE DECISION'!D169)","v":""},{"$f":"IF('TABLA DE DECISION'!E169='TABLA DE DECISION'!E$157,CONCATENATE($B15,\"(\",'TABLA DE DECISION'!E$157,\")\"),'TABLA DE DECISION'!E169)","v":""},{"$f":"IF('MATRIZ-PÉRDIDA OPORTUNIDAD'!BB13='MATRIZ-PÉRDIDA OPORTUNIDAD'!BB$2,CONCATENATE($B15,\"(\",'MATRIZ-PÉRDIDA OPORTUNIDAD'!BB$2,\")\"),'MATRIZ-PÉRDIDA OPORTUNIDAD'!BB13)","v":""},{"$f":"IF('TABLA DE DECISION'!G169='TABLA DE DECISION'!G$157,CONCATENATE($B15,\"(\",'TABLA DE DECISION'!G$157,\")\"),'TABLA DE DECISION'!G169)","v":""},{"$f":"IF('TABLA DE DECISION'!H169='TABLA DE DECISION'!H$157,CONCATENATE($B15,\"(\",'TABLA DE DECISION'!H$157,\")\"),'TABLA DE DECISION'!H169)","v":""},{"$f":"IF('TABLA DE DECISION'!I169='TABLA DE DECISION'!I$157,CONCATENATE($B15,\"(\",'TABLA DE DECISION'!I$157,\")\"),'TABLA DE DECISION'!I169)","v":""},{"$f":"IF('TABLA DE DECISION'!J169='TABLA DE DECISION'!J$157,CONCATENATE($B15,\"(\",'TABLA DE DECISION'!J$157,\")\"),'TABLA DE DECISION'!J169)","v":""},{"$f":"IF('TABLA DE DECISION'!K169='TABLA DE DECISION'!K$157,CONCATENATE($B15,\"(\",'TABLA DE DECISION'!K$157,\")\"),'TABLA DE DECISION'!K169)","v":""},{"$f":"IF('TABLA DE DECISION'!L169='TABLA DE DECISION'!L$157,CONCATENATE($B15,\"(\",'TABLA DE DECISION'!L$157,\")\"),'TABLA DE DECISION'!L169)","v":""},{"$f":"IF('TABLA DE DECISION'!M169='TABLA DE DECISION'!M$157,CONCATENATE($B15,\"(\",'TABLA DE DECISION'!M$157,\")\"),'TABLA DE DECISION'!M169)","v":""},{"$f":"IF('TABLA DE DECISION'!N169='TABLA DE DECISION'!N$157,CONCATENATE($B15,\"(\",'TABLA DE DECISION'!N$157,\")\"),'TABLA DE DECISION'!N169)","v":""},{"$f":"IF('TABLA DE DECISION'!O169='TABLA DE DECISION'!O$157,CONCATENATE($B15,\"(\",'TABLA DE DECISION'!O$157,\")\"),'TABLA DE DECISION'!O169)","v":""},{"$f":"IF('TABLA DE DECISION'!P169='TABLA DE DECISION'!P$157,CONCATENATE($B15,\"(\",'TABLA DE DECISION'!P$157,\")\"),'TABLA DE DECISION'!P169)","v":""},{"$f":"IF('TABLA DE DECISION'!Q169='TABLA DE DECISION'!Q$157,CONCATENATE($B15,\"(\",'TABLA DE DECISION'!Q$157,\")\"),'TABLA DE DECISION'!Q169)","v":""},{"$f":"IF('TABLA DE DECISION'!R169='TABLA DE DECISION'!R$157,CONCATENATE($B15,\"(\",'TABLA DE DECISION'!R$157,\")\"),'TABLA DE DECISION'!R169)","v":""},{"$f":"IF('TABLA DE DECISION'!S169='TABLA DE DECISION'!S$157,CONCATENATE($B15,\"(\",'TABLA DE DECISION'!S$157,\")\"),'TABLA DE DECISION'!S169)","v":""},{"$f":"IF('TABLA DE DECISION'!T169='TABLA DE DECISION'!T$157,CONCATENATE($B15,\"(\",'TABLA DE DECISION'!T$157,\")\"),'TABLA DE DECISION'!T169)","v":""},{"$f":"IF('TABLA DE DECISION'!U169='TABLA DE DECISION'!U$157,CONCATENATE($B15,\"(\",'TABLA DE DECISION'!U$157,\")\"),'TABLA DE DECISION'!U169)","v":""},{"$f":"IF('TABLA DE DECISION'!V169='TABLA DE DECISION'!V$157,CONCATENATE($B15,\"(\",'TABLA DE DECISION'!V$157,\")\"),'TABLA DE DECISION'!V169)","v":""},{"$f":"IF('TABLA DE DECISION'!W169='TABLA DE DECISION'!W$157,CONCATENATE($B15,\"(\",'TABLA DE DECISION'!W$157,\")\"),'TABLA DE DECISION'!W169)","v":""},{"$f":"IF('TABLA DE DECISION'!X169='TABLA DE DECISION'!X$157,CONCATENATE($B15,\"(\",'TABLA DE DECISION'!X$157,\")\"),'TABLA DE DECISION'!X169)","v":""},{"$f":"IF('TABLA DE DECISION'!Y169='TABLA DE DECISION'!Y$157,CONCATENATE($B15,\"(\",'TABLA DE DECISION'!Y$157,\")\"),'TABLA DE DECISION'!Y169)","v":""},{"$f":"IF('TABLA DE DECISION'!Z169='TABLA DE DECISION'!Z$157,CONCATENATE($B15,\"(\",'TABLA DE DECISION'!Z$157,\")\"),'TABLA DE DECISION'!Z169)","v":""},{"$f":"IF('TABLA DE DECISION'!AA169='TABLA DE DECISION'!AA$157,CONCATENATE($B15,\"(\",'TABLA DE DECISION'!AA$157,\")\"),'TABLA DE DECISION'!AA169)","v":""},{"$f":"IF('TABLA DE DECISION'!AB169='TABLA DE DECISION'!AB$157,CONCATENATE($B15,\"(\",'TABLA DE DECISION'!AB$157,\")\"),'TABLA DE DECISION'!AB169)","v":""},{"$f":"IF('TABLA DE DECISION'!AC169='TABLA DE DECISION'!AC$157,CONCATENATE($B15,\"(\",'TABLA DE DECISION'!AC$157,\")\"),'TABLA DE DECISION'!AC169)","v":""},{"$f":"IF('TABLA DE DECISION'!AD169='TABLA DE DECISION'!AD$157,CONCATENATE($B15,\"(\",'TABLA DE DECISION'!AD$157,\")\"),'TABLA DE DECISION'!AD169)","v":""},{"$f":"IF('TABLA DE DECISION'!AE169='TABLA DE DECISION'!AE$157,CONCATENATE($B15,\"(\",'TABLA DE DECISION'!AE$157,\")\"),'TABLA DE DECISION'!AE169)","v":""},{"$f":"IF('TABLA DE DECISION'!AF169='TABLA DE DECISION'!AF$157,CONCATENATE($B15,\"(\",'TABLA DE DECISION'!AF$157,\")\"),'TABLA DE DECISION'!AF169)","v":""},{"$f":"IF('TABLA DE DECISION'!AG169='TABLA DE DECISION'!AG$157,CONCATENATE($B15,\"(\",'TABLA DE DECISION'!AG$157,\")\"),'TABLA DE DECISION'!AG169)","v":""},{"$f":"IF('TABLA DE DECISION'!AH169='TABLA DE DECISION'!AH$157,CONCATENATE($B15,\"(\",'TABLA DE DECISION'!AH$157,\")\"),'TABLA DE DECISION'!AH169)","v":""},{"$f":"IF('TABLA DE DECISION'!AI169='TABLA DE DECISION'!AI$157,CONCATENATE($B15,\"(\",'TABLA DE DECISION'!AI$157,\")\"),'TABLA DE DECISION'!AI169)","v":""},{"$f":"IF('TABLA DE DECISION'!AJ169='TABLA DE DECISION'!AJ$157,CONCATENATE($B15,\"(\",'TABLA DE DECISION'!AJ$157,\")\"),'TABLA DE DECISION'!AJ169)","v":""},{"$f":"IF('TABLA DE DECISION'!AK169='TABLA DE DECISION'!AK$157,CONCATENATE($B15,\"(\",'TABLA DE DECISION'!AK$157,\")\"),'TABLA DE DECISION'!AK169)","v":""},{"$f":"IF('TABLA DE DECISION'!AL169='TABLA DE DECISION'!AL$157,CONCATENATE($B15,\"(\",'TABLA DE DECISION'!AL$157,\")\"),'TABLA DE DECISION'!AL169)","v":""},{"$f":"IF('TABLA DE DECISION'!AM169='TABLA DE DECISION'!AM$157,CONCATENATE($B15,\"(\",'TABLA DE DECISION'!AM$157,\")\"),'TABLA DE DECISION'!AM169)","v":""},{"$f":"IF('TABLA DE DECISION'!AN169='TABLA DE DECISION'!AN$157,CONCATENATE($B15,\"(\",'TABLA DE DECISION'!AN$157,\")\"),'TABLA DE DECISION'!AN169)","v":""},{"$f":"IF('TABLA DE DECISION'!AO169='TABLA DE DECISION'!AO$157,CONCATENATE($B15,\"(\",'TABLA DE DECISION'!AO$157,\")\"),'TABLA DE DECISION'!AO169)","v":""},{"$f":"IF('TABLA DE DECISION'!AP169='TABLA DE DECISION'!AP$157,CONCATENATE($B15,\"(\",'TABLA DE DECISION'!AP$157,\")\"),'TABLA DE DECISION'!AP169)","v":""},{"$f":"IF('TABLA DE DECISION'!AQ169='TABLA DE DECISION'!AQ$157,CONCATENATE($B15,\"(\",'TABLA DE DECISION'!AQ$157,\")\"),'TABLA DE DECISION'!AQ169)","v":""},{"$f":"IF('TABLA DE DECISION'!AR169='TABLA DE DECISION'!AR$157,CONCATENATE($B15,\"(\",'TABLA DE DECISION'!AR$157,\")\"),'TABLA DE DECISION'!AR169)","v":""},{"$f":"IF('TABLA DE DECISION'!AS169='TABLA DE DECISION'!AS$157,CONCATENATE($B15,\"(\",'TABLA DE DECISION'!AS$157,\")\"),'TABLA DE DECISION'!AS169)","v":""},{"$f":"IF('TABLA DE DECISION'!AT169='TABLA DE DECISION'!AT$157,CONCATENATE($B15,\"(\",'TABLA DE DECISION'!AT$157,\")\"),'TABLA DE DECISION'!AT169)","v":""},{"$f":"IF('TABLA DE DECISION'!AU169='TABLA DE DECISION'!AU$157,CONCATENATE($B15,\"(\",'TABLA DE DECISION'!AU$157,\")\"),'TABLA DE DECISION'!AU169)","v":""},{"$f":"IF('TABLA DE DECISION'!AV169='TABLA DE DECISION'!AV$157,CONCATENATE($B15,\"(\",'TABLA DE DECISION'!AV$157,\")\"),'TABLA DE DECISION'!AV169)","v":""},{"$f":"IF('TABLA DE DECISION'!AW169='TABLA DE DECISION'!AW$157,CONCATENATE($B15,\"(\",'TABLA DE DECISION'!AW$157,\")\"),'TABLA DE DECISION'!AW169)","v":""},{"$f":"IF('TABLA DE DECISION'!AX169='TABLA DE DECISION'!AX$157,CONCATENATE($B15,\"(\",'TABLA DE DECISION'!AX$157,\")\"),'TABLA DE DECISION'!AX169)","v":""},{"$f":"IF('TABLA DE DECISION'!AY169='TABLA DE DECISION'!AY$157,CONCATENATE($B15,\"(\",'TABLA DE DECISION'!AY$157,\")\"),'TABLA DE DECISION'!AY169)","v":""},{"$f":"IF('TABLA DE DECISION'!AZ169='TABLA DE DECISION'!AZ$157,CONCATENATE($B15,\"(\",'TABLA DE DECISION'!AZ$157,\")\"),'TABLA DE DECISION'!AZ169)","v":""},{"$f":"IF('TABLA DE DECISION'!BA169='TABLA DE DECISION'!BA$157,CONCATENATE($B15,\"(\",'TABLA DE DECISION'!BA$157,\")\"),'TABLA DE DECISION'!BA169)","v":""},{"$f":"IF('TABLA DE DECISION'!BB169='TABLA DE DECISION'!BB$157,CONCATENATE($B15,\"(\",'TABLA DE DECISION'!BB$157,\")\"),'TABLA DE DECISION'!BB169)","v":""},{"$f":"IF('TABLA DE DECISION'!BC169='TABLA DE DECISION'!BC$157,CONCATENATE($B15,\"(\",'TABLA DE DECISION'!BC$157,\")\"),'TABLA DE DECISION'!BC169)","v":""},{"$f":"IF('TABLA DE DECISION'!BD169='TABLA DE DECISION'!BD$157,CONCATENATE($B15,\"(\",'TABLA DE DECISION'!BD$157,\")\"),'TABLA DE DECISION'!BD169)","v":""}]
[{"$f":"IF('TABLA DE DECISION'!BF170=\"\",\"\",'TABLA DE DECISION'!BF170)","v":""},{"$f":"'TABLA DE DECISION'!BG170","v":"a12"},{"$f":"IF('TABLA DE DECISION'!A170='TABLA DE DECISION'!A$157,CONCATENATE($B16,\"(\",'TABLA DE DECISION'!A$157,\")\"),'TABLA DE DECISION'!A170)","v":""},{"$f":"IF('TABLA DE DECISION'!B170='TABLA DE DECISION'!B$157,CONCATENATE($B16,\"(\",'TABLA DE DECISION'!B$157,\")\"),'TABLA DE DECISION'!B170)","v":""},{"$f":"IF('TABLA DE DECISION'!C170='TABLA DE DECISION'!C$157,CONCATENATE($B16,\"(\",'TABLA DE DECISION'!C$157,\")\"),'TABLA DE DECISION'!C170)","v":""},{"$f":"IF('TABLA DE DECISION'!D170='TABLA DE DECISION'!D$157,CONCATENATE($B16,\"(\",'TABLA DE DECISION'!D$157,\")\"),'TABLA DE DECISION'!D170)","v":""},{"$f":"IF('TABLA DE DECISION'!E170='TABLA DE DECISION'!E$157,CONCATENATE($B16,\"(\",'TABLA DE DECISION'!E$157,\")\"),'TABLA DE DECISION'!E170)","v":""},{"$f":"IF('MATRIZ-PÉRDIDA OPORTUNIDAD'!BB14='MATRIZ-PÉRDIDA OPORTUNIDAD'!BB$2,CONCATENATE($B16,\"(\",'MATRIZ-PÉRDIDA OPORTUNIDAD'!BB$2,\")\"),'MATRIZ-PÉRDIDA OPORTUNIDAD'!BB14)","v":""},{"$f":"IF('TABLA DE DECISION'!G170='TABLA DE DECISION'!G$157,CONCATENATE($B16,\"(\",'TABLA DE DECISION'!G$157,\")\"),'TABLA DE DECISION'!G170)","v":""},{"$f":"IF('TABLA DE DECISION'!H170='TABLA DE DECISION'!H$157,CONCATENATE($B16,\"(\",'TABLA DE DECISION'!H$157,\")\"),'TABLA DE DECISION'!H170)","v":""},{"$f":"IF('TABLA DE DECISION'!I170='TABLA DE DECISION'!I$157,CONCATENATE($B16,\"(\",'TABLA DE DECISION'!I$157,\")\"),'TABLA DE DECISION'!I170)","v":""},{"$f":"IF('TABLA DE DECISION'!J170='TABLA DE DECISION'!J$157,CONCATENATE($B16,\"(\",'TABLA DE DECISION'!J$157,\")\"),'TABLA DE DECISION'!J170)","v":""},{"$f":"IF('TABLA DE DECISION'!K170='TABLA DE DECISION'!K$157,CONCATENATE($B16,\"(\",'TABLA DE DECISION'!K$157,\")\"),'TABLA DE DECISION'!K170)","v":""},{"$f":"IF('TABLA DE DECISION'!L170='TABLA DE DECISION'!L$157,CONCATENATE($B16,\"(\",'TABLA DE DECISION'!L$157,\")\"),'TABLA DE DECISION'!L170)","v":""},{"$f":"IF('TABLA DE DECISION'!M170='TABLA DE DECISION'!M$157,CONCATENATE($B16,\"(\",'TABLA DE DECISION'!M$157,\")\"),'TABLA DE DECISION'!M170)","v":""},{"$f":"IF('TABLA DE DECISION'!N170='TABLA DE DECISION'!N$157,CONCATENATE($B16,\"(\",'TABLA DE DECISION'!N$157,\")\"),'TABLA DE DECISION'!N170)","v":""},{"$f":"IF('TABLA DE DECISION'!O170='TABLA DE DECISION'!O$157,CONCATENATE($B16,\"(\",'TABLA DE DECISION'!O$157,\")\"),'TABLA DE DECISION'!O170)","v":""},{"$f":"IF('TABLA DE DECISION'!P170='TABLA DE DECISION'!P$157,CONCATENATE($B16,\"(\",'TABLA DE DECISION'!P$157,\")\"),'TABLA DE DECISION'!P170)","v":""},{"$f":"IF('TABLA DE DECISION'!Q170='TABLA DE DECISION'!Q$157,CONCATENATE($B16,\"(\",'TABLA DE DECISION'!Q$157,\")\"),'TABLA DE DECISION'!Q170)","v":""},{"$f":"IF('TABLA DE DECISION'!R170='TABLA DE DECISION'!R$157,CONCATENATE($B16,\"(\",'TABLA DE DECISION'!R$157,\")\"),'TABLA DE DECISION'!R170)","v":""},{"$f":"IF('TABLA DE DECISION'!S170='TABLA DE DECISION'!S$157,CONCATENATE($B16,\"(\",'TABLA DE DECISION'!S$157,\")\"),'TABLA DE DECISION'!S170)","v":""},{"$f":"IF('TABLA DE DECISION'!T170='TABLA DE DECISION'!T$157,CONCATENATE($B16,\"(\",'TABLA DE DECISION'!T$157,\")\"),'TABLA DE DECISION'!T170)","v":""},{"$f":"IF('TABLA DE DECISION'!U170='TABLA DE DECISION'!U$157,CONCATENATE($B16,\"(\",'TABLA DE DECISION'!U$157,\")\"),'TABLA DE DECISION'!U170)","v":""},{"$f":"IF('TABLA DE DECISION'!V170='TABLA DE DECISION'!V$157,CONCATENATE($B16,\"(\",'TABLA DE DECISION'!V$157,\")\"),'TABLA DE DECISION'!V170)","v":""},{"$f":"IF('TABLA DE DECISION'!W170='TABLA DE DECISION'!W$157,CONCATENATE($B16,\"(\",'TABLA DE DECISION'!W$157,\")\"),'TABLA DE DECISION'!W170)","v":""},{"$f":"IF('TABLA DE DECISION'!X170='TABLA DE DECISION'!X$157,CONCATENATE($B16,\"(\",'TABLA DE DECISION'!X$157,\")\"),'TABLA DE DECISION'!X170)","v":""},{"$f":"IF('TABLA DE DECISION'!Y170='TABLA DE DECISION'!Y$157,CONCATENATE($B16,\"(\",'TABLA DE DECISION'!Y$157,\")\"),'TABLA DE DECISION'!Y170)","v":""},{"$f":"IF('TABLA DE DECISION'!Z170='TABLA DE DECISION'!Z$157,CONCATENATE($B16,\"(\",'TABLA DE DECISION'!Z$157,\")\"),'TABLA DE DECISION'!Z170)","v":""},{"$f":"IF('TABLA DE DECISION'!AA170='TABLA DE DECISION'!AA$157,CONCATENATE($B16,\"(\",'TABLA DE DECISION'!AA$157,\")\"),'TABLA DE DECISION'!AA170)","v":""},{"$f":"IF('TABLA DE DECISION'!AB170='TABLA DE DECISION'!AB$157,CONCATENATE($B16,\"(\",'TABLA DE DECISION'!AB$157,\")\"),'TABLA DE DECISION'!AB170)","v":""},{"$f":"IF('TABLA DE DECISION'!AC170='TABLA DE DECISION'!AC$157,CONCATENATE($B16,\"(\",'TABLA DE DECISION'!AC$157,\")\"),'TABLA DE DECISION'!AC170)","v":""},{"$f":"IF('TABLA DE DECISION'!AD170='TABLA DE DECISION'!AD$157,CONCATENATE($B16,\"(\",'TABLA DE DECISION'!AD$157,\")\"),'TABLA DE DECISION'!AD170)","v":""},{"$f":"IF('TABLA DE DECISION'!AE170='TABLA DE DECISION'!AE$157,CONCATENATE($B16,\"(\",'TABLA DE DECISION'!AE$157,\")\"),'TABLA DE DECISION'!AE170)","v":""},{"$f":"IF('TABLA DE DECISION'!AF170='TABLA DE DECISION'!AF$157,CONCATENATE($B16,\"(\",'TABLA DE DECISION'!AF$157,\")\"),'TABLA DE DECISION'!AF170)","v":""},{"$f":"IF('TABLA DE DECISION'!AG170='TABLA DE DECISION'!AG$157,CONCATENATE($B16,\"(\",'TABLA DE DECISION'!AG$157,\")\"),'TABLA DE DECISION'!AG170)","v":""},{"$f":"IF('TABLA DE DECISION'!AH170='TABLA DE DECISION'!AH$157,CONCATENATE($B16,\"(\",'TABLA DE DECISION'!AH$157,\")\"),'TABLA DE DECISION'!AH170)","v":""},{"$f":"IF('TABLA DE DECISION'!AI170='TABLA DE DECISION'!AI$157,CONCATENATE($B16,\"(\",'TABLA DE DECISION'!AI$157,\")\"),'TABLA DE DECISION'!AI170)","v":""},{"$f":"IF('TABLA DE DECISION'!AJ170='TABLA DE DECISION'!AJ$157,CONCATENATE($B16,\"(\",'TABLA DE DECISION'!AJ$157,\")\"),'TABLA DE DECISION'!AJ170)","v":""},{"$f":"IF('TABLA DE DECISION'!AK170='TABLA DE DECISION'!AK$157,CONCATENATE($B16,\"(\",'TABLA DE DECISION'!AK$157,\")\"),'TABLA DE DECISION'!AK170)","v":""},{"$f":"IF('TABLA DE DECISION'!AL170='TABLA DE DECISION'!AL$157,CONCATENATE($B16,\"(\",'TABLA DE DECISION'!AL$157,\")\"),'TABLA DE DECISION'!AL170)","v":""},{"$f":"IF('TABLA DE DECISION'!AM170='TABLA DE DECISION'!AM$157,CONCATENATE($B16,\"(\",'TABLA DE DECISION'!AM$157,\")\"),'TABLA DE DECISION'!AM170)","v":""},{"$f":"IF('TABLA DE DECISION'!AN170='TABLA DE DECISION'!AN$157,CONCATENATE($B16,\"(\",'TABLA DE DECISION'!AN$157,\")\"),'TABLA DE DECISION'!AN170)","v":""},{"$f":"IF('TABLA DE DECISION'!AO170='TABLA DE DECISION'!AO$157,CONCATENATE($B16,\"(\",'TABLA DE DECISION'!AO$157,\")\"),'TABLA DE DECISION'!AO170)","v":""},{"$f":"IF('TABLA DE DECISION'!AP170='TABLA DE DECISION'!AP$157,CONCATENATE($B16,\"(\",'TABLA DE DECISION'!AP$157,\")\"),'TABLA DE DECISION'!AP170)","v":""},{"$f":"IF('TABLA DE DECISION'!AQ170='TABLA DE DECISION'!AQ$157,CONCATENATE($B16,\"(\",'TABLA DE DECISION'!AQ$157,\")\"),'TABLA DE DECISION'!AQ170)","v":""},{"$f":"IF('TABLA DE DECISION'!AR170='TABLA DE DECISION'!AR$157,CONCATENATE($B16,\"(\",'TABLA DE DECISION'!AR$157,\")\"),'TABLA DE DECISION'!AR170)","v":""},{"$f":"IF('TABLA DE DECISION'!AS170='TABLA DE DECISION'!AS$157,CONCATENATE($B16,\"(\",'TABLA DE DECISION'!AS$157,\")\"),'TABLA DE DECISION'!AS170)","v":""},{"$f":"IF('TABLA DE DECISION'!AT170='TABLA DE DECISION'!AT$157,CONCATENATE($B16,\"(\",'TABLA DE DECISION'!AT$157,\")\"),'TABLA DE DECISION'!AT170)","v":""},{"$f":"IF('TABLA DE DECISION'!AU170='TABLA DE DECISION'!AU$157,CONCATENATE($B16,\"(\",'TABLA DE DECISION'!AU$157,\")\"),'TABLA DE DECISION'!AU170)","v":""},{"$f":"IF('TABLA DE DECISION'!AV170='TABLA DE DECISION'!AV$157,CONCATENATE($B16,\"(\",'TABLA DE DECISION'!AV$157,\")\"),'TABLA DE DECISION'!AV170)","v":""},{"$f":"IF('TABLA DE DECISION'!AW170='TABLA DE DECISION'!AW$157,CONCATENATE($B16,\"(\",'TABLA DE DECISION'!AW$157,\")\"),'TABLA DE DECISION'!AW170)","v":""},{"$f":"IF('TABLA DE DECISION'!AX170='TABLA DE DECISION'!AX$157,CONCATENATE($B16,\"(\",'TABLA DE DECISION'!AX$157,\")\"),'TABLA DE DECISION'!AX170)","v":""},{"$f":"IF('TABLA DE DECISION'!AY170='TABLA DE DECISION'!AY$157,CONCATENATE($B16,\"(\",'TABLA DE DECISION'!AY$157,\")\"),'TABLA DE DECISION'!AY170)","v":""},{"$f":"IF('TABLA DE DECISION'!AZ170='TABLA DE DECISION'!AZ$157,CONCATENATE($B16,\"(\",'TABLA DE DECISION'!AZ$157,\")\"),'TABLA DE DECISION'!AZ170)","v":""},{"$f":"IF('TABLA DE DECISION'!BA170='TABLA DE DECISION'!BA$157,CONCATENATE($B16,\"(\",'TABLA DE DECISION'!BA$157,\")\"),'TABLA DE DECISION'!BA170)","v":""},{"$f":"IF('TABLA DE DECISION'!BB170='TABLA DE DECISION'!BB$157,CONCATENATE($B16,\"(\",'TABLA DE DECISION'!BB$157,\")\"),'TABLA DE DECISION'!BB170)","v":""},{"$f":"IF('TABLA DE DECISION'!BC170='TABLA DE DECISION'!BC$157,CONCATENATE($B16,\"(\",'TABLA DE DECISION'!BC$157,\")\"),'TABLA DE DECISION'!BC170)","v":""},{"$f":"IF('TABLA DE DECISION'!BD170='TABLA DE DECISION'!BD$157,CONCATENATE($B16,\"(\",'TABLA DE DECISION'!BD$157,\")\"),'TABLA DE DECISION'!BD170)","v":""}]
[{"$f":"IF('TABLA DE DECISION'!BF171=\"\",\"\",'TABLA DE DECISION'!BF171)","v":""},{"$f":"'TABLA DE DECISION'!BG171","v":"a13"},{"$f":"IF('TABLA DE DECISION'!A171='TABLA DE DECISION'!A$157,CONCATENATE($B17,\"(\",'TABLA DE DECISION'!A$157,\")\"),'TABLA DE DECISION'!A171)","v":""},{"$f":"IF('TABLA DE DECISION'!B171='TABLA DE DECISION'!B$157,CONCATENATE($B17,\"(\",'TABLA DE DECISION'!B$157,\")\"),'TABLA DE DECISION'!B171)","v":""},{"$f":"IF('TABLA DE DECISION'!C171='TABLA DE DECISION'!C$157,CONCATENATE($B17,\"(\",'TABLA DE DECISION'!C$157,\")\"),'TABLA DE DECISION'!C171)","v":""},{"$f":"IF('TABLA DE DECISION'!D171='TABLA DE DECISION'!D$157,CONCATENATE($B17,\"(\",'TABLA DE DECISION'!D$157,\")\"),'TABLA DE DECISION'!D171)","v":""},{"$f":"IF('TABLA DE DECISION'!E171='TABLA DE DECISION'!E$157,CONCATENATE($B17,\"(\",'TABLA DE DECISION'!E$157,\")\"),'TABLA DE DECISION'!E171)","v":""},{"$f":"IF('MATRIZ-PÉRDIDA OPORTUNIDAD'!BB15='MATRIZ-PÉRDIDA OPORTUNIDAD'!BB$2,CONCATENATE($B17,\"(\",'MATRIZ-PÉRDIDA OPORTUNIDAD'!BB$2,\")\"),'MATRIZ-PÉRDIDA OPORTUNIDAD'!BB15)","v":""},{"$f":"IF('TABLA DE DECISION'!G171='TABLA DE DECISION'!G$157,CONCATENATE($B17,\"(\",'TABLA DE DECISION'!G$157,\")\"),'TABLA DE DECISION'!G171)","v":""},{"$f":"IF('TABLA DE DECISION'!H171='TABLA DE DECISION'!H$157,CONCATENATE($B17,\"(\",'TABLA DE DECISION'!H$157,\")\"),'TABLA DE DECISION'!H171)","v":""},{"$f":"IF('TABLA DE DECISION'!I171='TABLA DE DECISION'!I$157,CONCATENATE($B17,\"(\",'TABLA DE DECISION'!I$157,\")\"),'TABLA DE DECISION'!I171)","v":""},{"$f":"IF('TABLA DE DECISION'!J171='TABLA DE DECISION'!J$157,CONCATENATE($B17,\"(\",'TABLA DE DECISION'!J$157,\")\"),'TABLA DE DECISION'!J171)","v":""},{"$f":"IF('TABLA DE DECISION'!K171='TABLA DE DECISION'!K$157,CONCATENATE($B17,\"(\",'TABLA DE DECISION'!K$157,\")\"),'TABLA DE DECISION'!K171)","v":""},{"$f":"IF('TABLA DE DECISION'!L171='TABLA DE DECISION'!L$157,CONCATENATE($B17,\"(\",'TABLA DE DECISION'!L$157,\")\"),'TABLA DE DECISION'!L171)","v":""},{"$f":"IF('TABLA DE DECISION'!M171='TABLA DE DECISION'!M$157,CONCATENATE($B17,\"(\",'TABLA DE DECISION'!M$157,\")\"),'TABLA DE DECISION'!M171)","v":""},{"$f":"IF('TABLA DE DECISION'!N171='TABLA DE DECISION'!N$157,CONCATENATE($B17,\"(\",'TABLA DE DECISION'!N$157,\")\"),'TABLA DE DECISION'!N171)","v":""},{"$f":"IF('TABLA DE DECISION'!O171='TABLA DE DECISION'!O$157,CONCATENATE($B17,\"(\",'TABLA DE DECISION'!O$157,\")\"),'TABLA DE DECISION'!O171)","v":""},{"$f":"IF('TABLA DE DECISION'!P171='TABLA DE DECISION'!P$157,CONCATENATE($B17,\"(\",'TABLA DE DECISION'!P$157,\")\"),'TABLA DE DECISION'!P171)","v":""},{"$f":"IF('TABLA DE DECISION'!Q171='TABLA DE DECISION'!Q$157,CONCATENATE($B17,\"(\",'TABLA DE DECISION'!Q$157,\")\"),'TABLA DE DECISION'!Q171)","v":""},{"$f":"IF('TABLA DE DECISION'!R171='TABLA DE DECISION'!R$157,CONCATENATE($B17,\"(\",'TABLA DE DECISION'!R$157,\")\"),'TABLA DE DECISION'!R171)","v":""},{"$f":"IF('TABLA DE DECISION'!S171='TABLA DE DECISION'!S$157,CONCATENATE($B17,\"(\",'TABLA DE DECISION'!S$157,\")\"),'TABLA DE DECISION'!S171)","v":""},{"$f":"IF('TABLA DE DECISION'!T171='TABLA DE DECISION'!T$157,CONCATENATE($B17,\"(\",'TABLA DE DECISION'!T$157,\")\"),'TABLA DE DECISION'!T171)","v":""},{"$f":"IF('TABLA DE DECISION'!U171='TABLA DE DECISION'!U$157,CONCATENATE($B17,\"(\",'TABLA DE DECISION'!U$157,\")\"),'TABLA DE DECISION'!U171)","v":""},{"$f":"IF('TABLA DE DECISION'!V171='TABLA DE DECISION'!V$157,CONCATENATE($B17,\"(\",'TABLA DE DECISION'!V$157,\")\"),'TABLA DE DECISION'!V171)","v":""},{"$f":"IF('TABLA DE DECISION'!W171='TABLA DE DECISION'!W$157,CONCATENATE($B17,\"(\",'TABLA DE DECISION'!W$157,\")\"),'TABLA DE DECISION'!W171)","v":""},{"$f":"IF('TABLA DE DECISION'!X171='TABLA DE DECISION'!X$157,CONCATENATE($B17,\"(\",'TABLA DE DECISION'!X$157,\")\"),'TABLA DE DECISION'!X171)","v":""},{"$f":"IF('TABLA DE DECISION'!Y171='TABLA DE DECISION'!Y$157,CONCATENATE($B17,\"(\",'TABLA DE DECISION'!Y$157,\")\"),'TABLA DE DECISION'!Y171)","v":""},{"$f":"IF('TABLA DE DECISION'!Z171='TABLA DE DECISION'!Z$157,CONCATENATE($B17,\"(\",'TABLA DE DECISION'!Z$157,\")\"),'TABLA DE DECISION'!Z171)","v":""},{"$f":"IF('TABLA DE DECISION'!AA171='TABLA DE DECISION'!AA$157,CONCATENATE($B17,\"(\",'TABLA DE DECISION'!AA$157,\")\"),'TABLA DE DECISION'!AA171)","v":""},{"$f":"IF('TABLA DE DECISION'!AB171='TABLA DE DECISION'!AB$157,CONCATENATE($B17,\"(\",'TABLA DE DECISION'!AB$157,\")\"),'TABLA DE DECISION'!AB171)","v":""},{"$f":"IF('TABLA DE DECISION'!AC171='TABLA DE DECISION'!AC$157,CONCATENATE($B17,\"(\",'TABLA DE DECISION'!AC$157,\")\"),'TABLA DE DECISION'!AC171)","v":""},{"$f":"IF('TABLA DE DECISION'!AD171='TABLA DE DECISION'!AD$157,CONCATENATE($B17,\"(\",'TABLA DE DECISION'!AD$157,\")\"),'TABLA DE DECISION'!AD171)","v":""},{"$f":"IF('TABLA DE DECISION'!AE171='TABLA DE DECISION'!AE$157,CONCATENATE($B17,\"(\",'TABLA DE DECISION'!AE$157,\")\"),'TABLA DE DECISION'!AE171)","v":""},{"$f":"IF('TABLA DE DECISION'!AF171='TABLA DE DECISION'!AF$157,CONCATENATE($B17,\"(\",'TABLA DE DECISION'!AF$157,\")\"),'TABLA DE DECISION'!AF171)","v":""},{"$f":"IF('TABLA DE DECISION'!AG171='TABLA DE DECISION'!AG$157,CONCATENATE($B17,\"(\",'TABLA DE DECISION'!AG$157,\")\"),'TABLA DE DECISION'!AG171)","v":""},{"$f":"IF('TABLA DE DECISION'!AH171='TABLA DE DECISION'!AH$157,CONCATENATE($B17,\"(\",'TABLA DE DECISION'!AH$157,\")\"),'TABLA DE DECISION'!AH171)","v":""},{"$f":"IF('TABLA DE DECISION'!AI171='TABLA DE DECISION'!AI$157,CONCATENATE($B17,\"(\",'TABLA DE DECISION'!AI$157,\")\"),'TABLA DE DECISION'!AI171)","v":""},{"$f":"IF('TABLA DE DECISION'!AJ171='TABLA DE DECISION'!AJ$157,CONCATENATE($B17,\"(\",'TABLA DE DECISION'!AJ$157,\")\"),'TABLA DE DECISION'!AJ171)","v":""},{"$f":"IF('TABLA DE DECISION'!AK171='TABLA DE DECISION'!AK$157,CONCATENATE($B17,\"(\",'TABLA DE DECISION'!AK$157,\")\"),'TABLA DE DECISION'!AK171)","v":""},{"$f":"IF('TABLA DE DECISION'!AL171='TABLA DE DECISION'!AL$157,CONCATENATE($B17,\"(\",'TABLA DE DECISION'!AL$157,\")\"),'TABLA DE DECISION'!AL171)","v":""},{"$f":"IF('TABLA DE DECISION'!AM171='TABLA DE DECISION'!AM$157,CONCATENATE($B17,\"(\",'TABLA DE DECISION'!AM$157,\")\"),'TABLA DE DECISION'!AM171)","v":""},{"$f":"IF('TABLA DE DECISION'!AN171='TABLA DE DECISION'!AN$157,CONCATENATE($B17,\"(\",'TABLA DE DECISION'!AN$157,\")\"),'TABLA DE DECISION'!AN171)","v":""},{"$f":"IF('TABLA DE DECISION'!AO171='TABLA DE DECISION'!AO$157,CONCATENATE($B17,\"(\",'TABLA DE DECISION'!AO$157,\")\"),'TABLA DE DECISION'!AO171)","v":""},{"$f":"IF('TABLA DE DECISION'!AP171='TABLA DE DECISION'!AP$157,CONCATENATE($B17,\"(\",'TABLA DE DECISION'!AP$157,\")\"),'TABLA DE DECISION'!AP171)","v":""},{"$f":"IF('TABLA DE DECISION'!AQ171='TABLA DE DECISION'!AQ$157,CONCATENATE($B17,\"(\",'TABLA DE DECISION'!AQ$157,\")\"),'TABLA DE DECISION'!AQ171)","v":""},{"$f":"IF('TABLA DE DECISION'!AR171='TABLA DE DECISION'!AR$157,CONCATENATE($B17,\"(\",'TABLA DE DECISION'!AR$157,\")\"),'TABLA DE DECISION'!AR171)","v":""},{"$f":"IF('TABLA DE DECISION'!AS171='TABLA DE DECISION'!AS$157,CONCATENATE($B17,\"(\",'TABLA DE DECISION'!AS$157,\")\"),'TABLA DE DECISION'!AS171)","v":""},{"$f":"IF('TABLA DE DECISION'!AT171='TABLA DE DECISION'!AT$157,CONCATENATE($B17,\"(\",'TABLA DE DECISION'!AT$157,\")\"),'TABLA DE DECISION'!AT171)","v":""},{"$f":"IF('TABLA DE DECISION'!AU171='TABLA DE DECISION'!AU$157,CONCATENATE($B17,\"(\",'TABLA DE DECISION'!AU$157,\")\"),'TABLA DE DECISION'!AU171)","v":""},{"$f":"IF('TABLA DE DECISION'!AV171='TABLA DE DECISION'!AV$157,CONCATENATE($B17,\"(\",'TABLA DE DECISION'!AV$157,\")\"),'TABLA DE DECISION'!AV171)","v":""},{"$f":"IF('TABLA DE DECISION'!AW171='TABLA DE DECISION'!AW$157,CONCATENATE($B17,\"(\",'TABLA DE DECISION'!AW$157,\")\"),'TABLA DE DECISION'!AW171)","v":""},{"$f":"IF('TABLA DE DECISION'!AX171='TABLA DE DECISION'!AX$157,CONCATENATE($B17,\"(\",'TABLA DE DECISION'!AX$157,\")\"),'TABLA DE DECISION'!AX171)","v":""},{"$f":"IF('TABLA DE DECISION'!AY171='TABLA DE DECISION'!AY$157,CONCATENATE($B17,\"(\",'TABLA DE DECISION'!AY$157,\")\"),'TABLA DE DECISION'!AY171)","v":""},{"$f":"IF('TABLA DE DECISION'!AZ171='TABLA DE DECISION'!AZ$157,CONCATENATE($B17,\"(\",'TABLA DE DECISION'!AZ$157,\")\"),'TABLA DE DECISION'!AZ171)","v":""},{"$f":"IF('TABLA DE DECISION'!BA171='TABLA DE DECISION'!BA$157,CONCATENATE($B17,\"(\",'TABLA DE DECISION'!BA$157,\")\"),'TABLA DE DECISION'!BA171)","v":""},{"$f":"IF('TABLA DE DECISION'!BB171='TABLA DE DECISION'!BB$157,CONCATENATE($B17,\"(\",'TABLA DE DECISION'!BB$157,\")\"),'TABLA DE DECISION'!BB171)","v":""},{"$f":"IF('TABLA DE DECISION'!BC171='TABLA DE DECISION'!BC$157,CONCATENATE($B17,\"(\",'TABLA DE DECISION'!BC$157,\")\"),'TABLA DE DECISION'!BC171)","v":""},{"$f":"IF('TABLA DE DECISION'!BD171='TABLA DE DECISION'!BD$157,CONCATENATE($B17,\"(\",'TABLA DE DECISION'!BD$157,\")\"),'TABLA DE DECISION'!BD171)","v":""}]
[{"$f":"IF('TABLA DE DECISION'!BF172=\"\",\"\",'TABLA DE DECISION'!BF172)","v":""},{"$f":"'TABLA DE DECISION'!BG172","v":"a14"},{"$f":"IF('TABLA DE DECISION'!A172='TABLA DE DECISION'!A$157,CONCATENATE($B18,\"(\",'TABLA DE DECISION'!A$157,\")\"),'TABLA DE DECISION'!A172)","v":""},{"$f":"IF('TABLA DE DECISION'!B172='TABLA DE DECISION'!B$157,CONCATENATE($B18,\"(\",'TABLA DE DECISION'!B$157,\")\"),'TABLA DE DECISION'!B172)","v":""},{"$f":"IF('TABLA DE DECISION'!C172='TABLA DE DECISION'!C$157,CONCATENATE($B18,\"(\",'TABLA DE DECISION'!C$157,\")\"),'TABLA DE DECISION'!C172)","v":""},{"$f":"IF('TABLA DE DECISION'!D172='TABLA DE DECISION'!D$157,CONCATENATE($B18,\"(\",'TABLA DE DECISION'!D$157,\")\"),'TABLA DE DECISION'!D172)","v":""},{"$f":"IF('TABLA DE DECISION'!E172='TABLA DE DECISION'!E$157,CONCATENATE($B18,\"(\",'TABLA DE DECISION'!E$157,\")\"),'TABLA DE DECISION'!E172)","v":""},{"$f":"IF('MATRIZ-PÉRDIDA OPORTUNIDAD'!BB16='MATRIZ-PÉRDIDA OPORTUNIDAD'!BB$2,CONCATENATE($B18,\"(\",'MATRIZ-PÉRDIDA OPORTUNIDAD'!BB$2,\")\"),'MATRIZ-PÉRDIDA OPORTUNIDAD'!BB16)","v":""},{"$f":"IF('TABLA DE DECISION'!G172='TABLA DE DECISION'!G$157,CONCATENATE($B18,\"(\",'TABLA DE DECISION'!G$157,\")\"),'TABLA DE DECISION'!G172)","v":""},{"$f":"IF('TABLA DE DECISION'!H172='TABLA DE DECISION'!H$157,CONCATENATE($B18,\"(\",'TABLA DE DECISION'!H$157,\")\"),'TABLA DE DECISION'!H172)","v":""},{"$f":"IF('TABLA DE DECISION'!I172='TABLA DE DECISION'!I$157,CONCATENATE($B18,\"(\",'TABLA DE DECISION'!I$157,\")\"),'TABLA DE DECISION'!I172)","v":""},{"$f":"IF('TABLA DE DECISION'!J172='TABLA DE DECISION'!J$157,CONCATENATE($B18,\"(\",'TABLA DE DECISION'!J$157,\")\"),'TABLA DE DECISION'!J172)","v":""},{"$f":"IF('TABLA DE DECISION'!K172='TABLA DE DECISION'!K$157,CONCATENATE($B18,\"(\",'TABLA DE DECISION'!K$157,\")\"),'TABLA DE DECISION'!K172)","v":""},{"$f":"IF('TABLA DE DECISION'!L172='TABLA DE DECISION'!L$157,CONCATENATE($B18,\"(\",'TABLA DE DECISION'!L$157,\")\"),'TABLA DE DECISION'!L172)","v":""},{"$f":"IF('TABLA DE DECISION'!M172='TABLA DE DECISION'!M$157,CONCATENATE($B18,\"(\",'TABLA DE DECISION'!M$157,\")\"),'TABLA DE DECISION'!M172)","v":""},{"$f":"IF('TABLA DE DECISION'!N172='TABLA DE DECISION'!N$157,CONCATENATE($B18,\"(\",'TABLA DE DECISION'!N$157,\")\"),'TABLA DE DECISION'!N172)","v":""},{"$f":"IF('TABLA DE DECISION'!O172='TABLA DE DECISION'!O$157,CONCATENATE($B18,\"(\",'TABLA DE DECISION'!O$157,\")\"),'TABLA DE DECISION'!O172)","v":""},{"$f":"IF('TABLA DE DECISION'!P172='TABLA DE DECISION'!P$157,CONCATENATE($B18,\"(\",'TABLA DE DECISION'!P$157,\")\"),'TABLA DE DECISION'!P172)","v":""},{"$f":"IF('TABLA DE DECISION'!Q172='TABLA DE DECISION'!Q$157,CONCATENATE($B18,\"(\",'TABLA DE DECISION'!Q$157,\")\"),'TABLA DE DECISION'!Q172)","v":""},{"$f":"IF('TABLA DE DECISION'!R172='TABLA DE DECISION'!R$157,CONCATENATE($B18,\"(\",'TABLA DE DECISION'!R$157,\")\"),'TABLA DE DECISION'!R172)","v":""},{"$f":"IF('TABLA DE DECISION'!S172='TABLA DE DECISION'!S$157,CONCATENATE($B18,\"(\",'TABLA DE DECISION'!S$157,\")\"),'TABLA DE DECISION'!S172)","v":""},{"$f":"IF('TABLA DE DECISION'!T172='TABLA DE DECISION'!T$157,CONCATENATE($B18,\"(\",'TABLA DE DECISION'!T$157,\")\"),'TABLA DE DECISION'!T172)","v":""},{"$f":"IF('TABLA DE DECISION'!U172='TABLA DE DECISION'!U$157,CONCATENATE($B18,\"(\",'TABLA DE DECISION'!U$157,\")\"),'TABLA DE DECISION'!U172)","v":""},{"$f":"IF('TABLA DE DECISION'!V172='TABLA DE DECISION'!V$157,CONCATENATE($B18,\"(\",'TABLA DE DECISION'!V$157,\")\"),'TABLA DE DECISION'!V172)","v":""},{"$f":"IF('TABLA DE DECISION'!W172='TABLA DE DECISION'!W$157,CONCATENATE($B18,\"(\",'TABLA DE DECISION'!W$157,\")\"),'TABLA DE DECISION'!W172)","v":""},{"$f":"IF('TABLA DE DECISION'!X172='TABLA DE DECISION'!X$157,CONCATENATE($B18,\"(\",'TABLA DE DECISION'!X$157,\")\"),'TABLA DE DECISION'!X172)","v":""},{"$f":"IF('TABLA DE DECISION'!Y172='TABLA DE DECISION'!Y$157,CONCATENATE($B18,\"(\",'TABLA DE DECISION'!Y$157,\")\"),'TABLA DE DECISION'!Y172)","v":""},{"$f":"IF('TABLA DE DECISION'!Z172='TABLA DE DECISION'!Z$157,CONCATENATE($B18,\"(\",'TABLA DE DECISION'!Z$157,\")\"),'TABLA DE DECISION'!Z172)","v":""},{"$f":"IF('TABLA DE DECISION'!AA172='TABLA DE DECISION'!AA$157,CONCATENATE($B18,\"(\",'TABLA DE DECISION'!AA$157,\")\"),'TABLA DE DECISION'!AA172)","v":""},{"$f":"IF('TABLA DE DECISION'!AB172='TABLA DE DECISION'!AB$157,CONCATENATE($B18,\"(\",'TABLA DE DECISION'!AB$157,\")\"),'TABLA DE DECISION'!AB172)","v":""},{"$f":"IF('TABLA DE DECISION'!AC172='TABLA DE DECISION'!AC$157,CONCATENATE($B18,\"(\",'TABLA DE DECISION'!AC$157,\")\"),'TABLA DE DECISION'!AC172)","v":""},{"$f":"IF('TABLA DE DECISION'!AD172='TABLA DE DECISION'!AD$157,CONCATENATE($B18,\"(\",'TABLA DE DECISION'!AD$157,\")\"),'TABLA DE DECISION'!AD172)","v":""},{"$f":"IF('TABLA DE DECISION'!AE172='TABLA DE DECISION'!AE$157,CONCATENATE($B18,\"(\",'TABLA DE DECISION'!AE$157,\")\"),'TABLA DE DECISION'!AE172)","v":""},{"$f":"IF('TABLA DE DECISION'!AF172='TABLA DE DECISION'!AF$157,CONCATENATE($B18,\"(\",'TABLA DE DECISION'!AF$157,\")\"),'TABLA DE DECISION'!AF172)","v":""},{"$f":"IF('TABLA DE DECISION'!AG172='TABLA DE DECISION'!AG$157,CONCATENATE($B18,\"(\",'TABLA DE DECISION'!AG$157,\")\"),'TABLA DE DECISION'!AG172)","v":""},{"$f":"IF('TABLA DE DECISION'!AH172='TABLA DE DECISION'!AH$157,CONCATENATE($B18,\"(\",'TABLA DE DECISION'!AH$157,\")\"),'TABLA DE DECISION'!AH172)","v":""},{"$f":"IF('TABLA DE DECISION'!AI172='TABLA DE DECISION'!AI$157,CONCATENATE($B18,\"(\",'TABLA DE DECISION'!AI$157,\")\"),'TABLA DE DECISION'!AI172)","v":""},{"$f":"IF('TABLA DE DECISION'!AJ172='TABLA DE DECISION'!AJ$157,CONCATENATE($B18,\"(\",'TABLA DE DECISION'!AJ$157,\")\"),'TABLA DE DECISION'!AJ172)","v":""},{"$f":"IF('TABLA DE DECISION'!AK172='TABLA DE DECISION'!AK$157,CONCATENATE($B18,\"(\",'TABLA DE DECISION'!AK$157,\")\"),'TABLA DE DECISION'!AK172)","v":""},{"$f":"IF('TABLA DE DECISION'!AL172='TABLA DE DECISION'!AL$157,CONCATENATE($B18,\"(\",'TABLA DE DECISION'!AL$157,\")\"),'TABLA DE DECISION'!AL172)","v":""},{"$f":"IF('TABLA DE DECISION'!AM172='TABLA DE DECISION'!AM$157,CONCATENATE($B18,\"(\",'TABLA DE DECISION'!AM$157,\")\"),'TABLA DE DECISION'!AM172)","v":""},{"$f":"IF('TABLA DE DECISION'!AN172='TABLA DE DECISION'!AN$157,CONCATENATE($B18,\"(\",'TABLA DE DECISION'!AN$157,\")\"),'TABLA DE DECISION'!AN172)","v":""},{"$f":"IF('TABLA DE DECISION'!AO172='TABLA DE DECISION'!AO$157,CONCATENATE($B18,\"(\",'TABLA DE DECISION'!AO$157,\")\"),'TABLA DE DECISION'!AO172)","v":""},{"$f":"IF('TABLA DE DECISION'!AP172='TABLA DE DECISION'!AP$157,CONCATENATE($B18,\"(\",'TABLA DE DECISION'!AP$157,\")\"),'TABLA DE DECISION'!AP172)","v":""},{"$f":"IF('TABLA DE DECISION'!AQ172='TABLA DE DECISION'!AQ$157,CONCATENATE($B18,\"(\",'TABLA DE DECISION'!AQ$157,\")\"),'TABLA DE DECISION'!AQ172)","v":""},{"$f":"IF('TABLA DE DECISION'!AR172='TABLA DE DECISION'!AR$157,CONCATENATE($B18,\"(\",'TABLA DE DECISION'!AR$157,\")\"),'TABLA DE DECISION'!AR172)","v":""},{"$f":"IF('TABLA DE DECISION'!AS172='TABLA DE DECISION'!AS$157,CONCATENATE($B18,\"(\",'TABLA DE DECISION'!AS$157,\")\"),'TABLA DE DECISION'!AS172)","v":""},{"$f":"IF('TABLA DE DECISION'!AT172='TABLA DE DECISION'!AT$157,CONCATENATE($B18,\"(\",'TABLA DE DECISION'!AT$157,\")\"),'TABLA DE DECISION'!AT172)","v":""},{"$f":"IF('TABLA DE DECISION'!AU172='TABLA DE DECISION'!AU$157,CONCATENATE($B18,\"(\",'TABLA DE DECISION'!AU$157,\")\"),'TABLA DE DECISION'!AU172)","v":""},{"$f":"IF('TABLA DE DECISION'!AV172='TABLA DE DECISION'!AV$157,CONCATENATE($B18,\"(\",'TABLA DE DECISION'!AV$157,\")\"),'TABLA DE DECISION'!AV172)","v":""},{"$f":"IF('TABLA DE DECISION'!AW172='TABLA DE DECISION'!AW$157,CONCATENATE($B18,\"(\",'TABLA DE DECISION'!AW$157,\")\"),'TABLA DE DECISION'!AW172)","v":""},{"$f":"IF('TABLA DE DECISION'!AX172='TABLA DE DECISION'!AX$157,CONCATENATE($B18,\"(\",'TABLA DE DECISION'!AX$157,\")\"),'TABLA DE DECISION'!AX172)","v":""},{"$f":"IF('TABLA DE DECISION'!AY172='TABLA DE DECISION'!AY$157,CONCATENATE($B18,\"(\",'TABLA DE DECISION'!AY$157,\")\"),'TABLA DE DECISION'!AY172)","v":""},{"$f":"IF('TABLA DE DECISION'!AZ172='TABLA DE DECISION'!AZ$157,CONCATENATE($B18,\"(\",'TABLA DE DECISION'!AZ$157,\")\"),'TABLA DE DECISION'!AZ172)","v":""},{"$f":"IF('TABLA DE DECISION'!BA172='TABLA DE DECISION'!BA$157,CONCATENATE($B18,\"(\",'TABLA DE DECISION'!BA$157,\")\"),'TABLA DE DECISION'!BA172)","v":""},{"$f":"IF('TABLA DE DECISION'!BB172='TABLA DE DECISION'!BB$157,CONCATENATE($B18,\"(\",'TABLA DE DECISION'!BB$157,\")\"),'TABLA DE DECISION'!BB172)","v":""},{"$f":"IF('TABLA DE DECISION'!BC172='TABLA DE DECISION'!BC$157,CONCATENATE($B18,\"(\",'TABLA DE DECISION'!BC$157,\")\"),'TABLA DE DECISION'!BC172)","v":""},{"$f":"IF('TABLA DE DECISION'!BD172='TABLA DE DECISION'!BD$157,CONCATENATE($B18,\"(\",'TABLA DE DECISION'!BD$157,\")\"),'TABLA DE DECISION'!BD172)","v":""}]
[{"$f":"IF('TABLA DE DECISION'!BF173=\"\",\"\",'TABLA DE DECISION'!BF173)","v":""},{"$f":"'TABLA DE DECISION'!BG173","v":"a15"},{"$f":"IF('TABLA DE DECISION'!A173='TABLA DE DECISION'!A$157,CONCATENATE($B19,\"(\",'TABLA DE DECISION'!A$157,\")\"),'TABLA DE DECISION'!A173)","v":""},{"$f":"IF('TABLA DE DECISION'!B173='TABLA DE DECISION'!B$157,CONCATENATE($B19,\"(\",'TABLA DE DECISION'!B$157,\")\"),'TABLA DE DECISION'!B173)","v":""},{"$f":"IF('TABLA DE DECISION'!C173='TABLA DE DECISION'!C$157,CONCATENATE($B19,\"(\",'TABLA DE DECISION'!C$157,\")\"),'TABLA DE DECISION'!C173)","v":""},{"$f":"IF('TABLA DE DECISION'!D173='TABLA DE DECISION'!D$157,CONCATENATE($B19,\"(\",'TABLA DE DECISION'!D$157,\")\"),'TABLA DE DECISION'!D173)","v":""},{"$f":"IF('TABLA DE DECISION'!E173='TABLA DE DECISION'!E$157,CONCATENATE($B19,\"(\",'TABLA DE DECISION'!E$157,\")\"),'TABLA DE DECISION'!E173)","v":""},{"$f":"IF('MATRIZ-PÉRDIDA OPORTUNIDAD'!BB17='MATRIZ-PÉRDIDA OPORTUNIDAD'!BB$2,CONCATENATE($B19,\"(\",'MATRIZ-PÉRDIDA OPORTUNIDAD'!BB$2,\")\"),'MATRIZ-PÉRDIDA OPORTUNIDAD'!BB17)","v":""},{"$f":"IF('TABLA DE DECISION'!G173='TABLA DE DECISION'!G$157,CONCATENATE($B19,\"(\",'TABLA DE DECISION'!G$157,\")\"),'TABLA DE DECISION'!G173)","v":""},{"$f":"IF('TABLA DE DECISION'!H173='TABLA DE DECISION'!H$157,CONCATENATE($B19,\"(\",'TABLA DE DECISION'!H$157,\")\"),'TABLA DE DECISION'!H173)","v":""},{"$f":"IF('TABLA DE DECISION'!I173='TABLA DE DECISION'!I$157,CONCATENATE($B19,\"(\",'TABLA DE DECISION'!I$157,\")\"),'TABLA DE DECISION'!I173)","v":""},{"$f":"IF('TABLA DE DECISION'!J173='TABLA DE DECISION'!J$157,CONCATENATE($B19,\"(\",'TABLA DE DECISION'!J$157,\")\"),'TABLA DE DECISION'!J173)","v":""},{"$f":"IF('TABLA DE DECISION'!K173='TABLA DE DECISION'!K$157,CONCATENATE($B19,\"(\",'TABLA DE DECISION'!K$157,\")\"),'TABLA DE DECISION'!K173)","v":""},{"$f":"IF('TABLA DE DECISION'!L173='TABLA DE DECISION'!L$157,CONCATENATE($B19,\"(\",'TABLA DE DECISION'!L$157,\")\"),'TABLA DE DECISION'!L173)","v":""},{"$f":"IF('TABLA DE DECISION'!M173='TABLA DE DECISION'!M$157,CONCATENATE($B19,\"(\",'TABLA DE DECISION'!M$157,\")\"),'TABLA DE DECISION'!M173)","v":""},{"$f":"IF('TABLA DE DECISION'!N173='TABLA DE DECISION'!N$157,CONCATENATE($B19,\"(\",'TABLA DE DECISION'!N$157,\")\"),'TABLA DE DECISION'!N173)","v":""},{"$f":"IF('TABLA DE DECISION'!O173='TABLA DE DECISION'!O$157,CONCATENATE($B19,\"(\",'TABLA DE DECISION'!O$157,\")\"),'TABLA DE DECISION'!O173)","v":""},{"$f":"IF('TABLA DE DECISION'!P173='TABLA DE DECISION'!P$157,CONCATENATE($B19,\"(\",'TABLA DE DECISION'!P$157,\")\"),'TABLA DE DECISION'!P173)","v":""},{"$f":"IF('TABLA DE DECISION'!Q173='TABLA DE DECISION'!Q$157,CONCATENATE($B19,\"(\",'TABLA DE DECISION'!Q$157,\")\"),'TABLA DE DECISION'!Q173)","v":""},{"$f":"IF('TABLA DE DECISION'!R173='TABLA DE DECISION'!R$157,CONCATENATE($B19,\"(\",'TABLA DE DECISION'!R$157,\")\"),'TABLA DE DECISION'!R173)","v":""},{"$f":"IF('TABLA DE DECISION'!S173='TABLA DE DECISION'!S$157,CONCATENATE($B19,\"(\",'TABLA DE DECISION'!S$157,\")\"),'TABLA DE DECISION'!S173)","v":""},{"$f":"IF('TABLA DE DECISION'!T173='TABLA DE DECISION'!T$157,CONCATENATE($B19,\"(\",'TABLA DE DECISION'!T$157,\")\"),'TABLA DE DECISION'!T173)","v":""},{"$f":"IF('TABLA DE DECISION'!U173='TABLA DE DECISION'!U$157,CONCATENATE($B19,\"(\",'TABLA DE DECISION'!U$157,\")\"),'TABLA DE DECISION'!U173)","v":""},{"$f":"IF('TABLA DE DECISION'!V173='TABLA DE DECISION'!V$157,CONCATENATE($B19,\"(\",'TABLA DE DECISION'!V$157,\")\"),'TABLA DE DECISION'!V173)","v":""},{"$f":"IF('TABLA DE DECISION'!W173='TABLA DE DECISION'!W$157,CONCATENATE($B19,\"(\",'TABLA DE DECISION'!W$157,\")\"),'TABLA DE DECISION'!W173)","v":""},{"$f":"IF('TABLA DE DECISION'!X173='TABLA DE DECISION'!X$157,CONCATENATE($B19,\"(\",'TABLA DE DECISION'!X$157,\")\"),'TABLA DE DECISION'!X173)","v":""},{"$f":"IF('TABLA DE DECISION'!Y173='TABLA DE DECISION'!Y$157,CONCATENATE($B19,\"(\",'TABLA DE DECISION'!Y$157,\")\"),'TABLA DE DECISION'!Y173)","v":""},{"$f":"IF('TABLA DE DECISION'!Z173='TABLA DE DECISION'!Z$157,CONCATENATE($B19,\"(\",'TABLA DE DECISION'!Z$157,\")\"),'TABLA DE DECISION'!Z173)","v":""},{"$f":"IF('TABLA DE DECISION'!AA173='TABLA DE DECISION'!AA$157,CONCATENATE($B19,\"(\",'TABLA DE DECISION'!AA$157,\")\"),'TABLA DE DECISION'!AA173)","v":""},{"$f":"IF('TABLA DE DECISION'!AB173='TABLA DE DECISION'!AB$157,CONCATENATE($B19,\"(\",'TABLA DE DECISION'!AB$157,\")\"),'TABLA DE DECISION'!AB173)","v":""},{"$f":"IF('TABLA DE DECISION'!AC173='TABLA DE DECISION'!AC$157,CONCATENATE($B19,\"(\",'TABLA DE DECISION'!AC$157,\")\"),'TABLA DE DECISION'!AC173)","v":""},{"$f":"IF('TABLA DE DECISION'!AD173='TABLA DE DECISION'!AD$157,CONCATENATE($B19,\"(\",'TABLA DE DECISION'!AD$157,\")\"),'TABLA DE DECISION'!AD173)","v":""},{"$f":"IF('TABLA DE DECISION'!AE173='TABLA DE DECISION'!AE$157,CONCATENATE($B19,\"(\",'TABLA DE DECISION'!AE$157,\")\"),'TABLA DE DECISION'!AE173)","v":""},{"$f":"IF('TABLA DE DECISION'!AF173='TABLA DE DECISION'!AF$157,CONCATENATE($B19,\"(\",'TABLA DE DECISION'!AF$157,\")\"),'TABLA DE DECISION'!AF173)","v":""},{"$f":"IF('TABLA DE DECISION'!AG173='TABLA DE DECISION'!AG$157,CONCATENATE($B19,\"(\",'TABLA DE DECISION'!AG$157,\")\"),'TABLA DE DECISION'!AG173)","v":""},{"$f":"IF('TABLA DE DECISION'!AH173='TABLA DE DECISION'!AH$157,CONCATENATE($B19,\"(\",'TABLA DE DECISION'!AH$157,\")\"),'TABLA DE DECISION'!AH173)","v":""},{"$f":"IF('TABLA DE DECISION'!AI173='TABLA DE DECISION'!AI$157,CONCATENATE($B19,\"(\",'TABLA DE DECISION'!AI$157,\")\"),'TABLA DE DECISION'!AI173)","v":""},{"$f":"IF('TABLA DE DECISION'!AJ173='TABLA DE DECISION'!AJ$157,CONCATENATE($B19,\"(\",'TABLA DE DECISION'!AJ$157,\")\"),'TABLA DE DECISION'!AJ173)","v":""},{"$f":"IF('TABLA DE DECISION'!AK173='TABLA DE DECISION'!AK$157,CONCATENATE($B19,\"(\",'TABLA DE DECISION'!AK$157,\")\"),'TABLA DE DECISION'!AK173)","v":""},{"$f":"IF('TABLA DE DECISION'!AL173='TABLA DE DECISION'!AL$157,CONCATENATE($B19,\"(\",'TABLA DE DECISION'!AL$157,\")\"),'TABLA DE DECISION'!AL173)","v":""},{"$f":"IF('TABLA DE DECISION'!AM173='TABLA DE DECISION'!AM$157,CONCATENATE($B19,\"(\",'TABLA DE DECISION'!AM$157,\")\"),'TABLA DE DECISION'!AM173)","v":""},{"$f":"IF('TABLA DE DECISION'!AN173='TABLA DE DECISION'!AN$157,CONCATENATE($B19,\"(\",'TABLA DE DECISION'!AN$157,\")\"),'TABLA DE DECISION'!AN173)","v":""},{"$f":"IF('TABLA DE DECISION'!AO173='TABLA DE DECISION'!AO$157,CONCATENATE($B19,\"(\",'TABLA DE DECISION'!AO$157,\")\"),'TABLA DE DECISION'!AO173)","v":""},{"$f":"IF('TABLA DE DECISION'!AP173='TABLA DE DECISION'!AP$157,CONCATENATE($B19,\"(\",'TABLA DE DECISION'!AP$157,\")\"),'TABLA DE DECISION'!AP173)","v":""},{"$f":"IF('TABLA DE DECISION'!AQ173='TABLA DE DECISION'!AQ$157,CONCATENATE($B19,\"(\",'TABLA DE DECISION'!AQ$157,\")\"),'TABLA DE DECISION'!AQ173)","v":""},{"$f":"IF('TABLA DE DECISION'!AR173='TABLA DE DECISION'!AR$157,CONCATENATE($B19,\"(\",'TABLA DE DECISION'!AR$157,\")\"),'TABLA DE DECISION'!AR173)","v":""},{"$f":"IF('TABLA DE DECISION'!AS173='TABLA DE DECISION'!AS$157,CONCATENATE($B19,\"(\",'TABLA DE DECISION'!AS$157,\")\"),'TABLA DE DECISION'!AS173)","v":""},{"$f":"IF('TABLA DE DECISION'!AT173='TABLA DE DECISION'!AT$157,CONCATENATE($B19,\"(\",'TABLA DE DECISION'!AT$157,\")\"),'TABLA DE DECISION'!AT173)","v":""},{"$f":"IF('TABLA DE DECISION'!AU173='TABLA DE DECISION'!AU$157,CONCATENATE($B19,\"(\",'TABLA DE DECISION'!AU$157,\")\"),'TABLA DE DECISION'!AU173)","v":""},{"$f":"IF('TABLA DE DECISION'!AV173='TABLA DE DECISION'!AV$157,CONCATENATE($B19,\"(\",'TABLA DE DECISION'!AV$157,\")\"),'TABLA DE DECISION'!AV173)","v":""},{"$f":"IF('TABLA DE DECISION'!AW173='TABLA DE DECISION'!AW$157,CONCATENATE($B19,\"(\",'TABLA DE DECISION'!AW$157,\")\"),'TABLA DE DECISION'!AW173)","v":""},{"$f":"IF('TABLA DE DECISION'!AX173='TABLA DE DECISION'!AX$157,CONCATENATE($B19,\"(\",'TABLA DE DECISION'!AX$157,\")\"),'TABLA DE DECISION'!AX173)","v":""},{"$f":"IF('TABLA DE DECISION'!AY173='TABLA DE DECISION'!AY$157,CONCATENATE($B19,\"(\",'TABLA DE DECISION'!AY$157,\")\"),'TABLA DE DECISION'!AY173)","v":""},{"$f":"IF('TABLA DE DECISION'!AZ173='TABLA DE DECISION'!AZ$157,CONCATENATE($B19,\"(\",'TABLA DE DECISION'!AZ$157,\")\"),'TABLA DE DECISION'!AZ173)","v":""},{"$f":"IF('TABLA DE DECISION'!BA173='TABLA DE DECISION'!BA$157,CONCATENATE($B19,\"(\",'TABLA DE DECISION'!BA$157,\")\"),'TABLA DE DECISION'!BA173)","v":""},{"$f":"IF('TABLA DE DECISION'!BB173='TABLA DE DECISION'!BB$157,CONCATENATE($B19,\"(\",'TABLA DE DECISION'!BB$157,\")\"),'TABLA DE DECISION'!BB173)","v":""},{"$f":"IF('TABLA DE DECISION'!BC173='TABLA DE DECISION'!BC$157,CONCATENATE($B19,\"(\",'TABLA DE DECISION'!BC$157,\")\"),'TABLA DE DECISION'!BC173)","v":""},{"$f":"IF('TABLA DE DECISION'!BD173='TABLA DE DECISION'!BD$157,CONCATENATE($B19,\"(\",'TABLA DE DECISION'!BD$157,\")\"),'TABLA DE DECISION'!BD173)","v":""}]
[{"$f":"IF('TABLA DE DECISION'!BF174=\"\",\"\",'TABLA DE DECISION'!BF174)","v":""},{"$f":"'TABLA DE DECISION'!BG174","v":"a16"},{"$f":"IF('TABLA DE DECISION'!A174='TABLA DE DECISION'!A$157,CONCATENATE($B20,\"(\",'TABLA DE DECISION'!A$157,\")\"),'TABLA DE DECISION'!A174)","v":""},{"$f":"IF('TABLA DE DECISION'!B174='TABLA DE DECISION'!B$157,CONCATENATE($B20,\"(\",'TABLA DE DECISION'!B$157,\")\"),'TABLA DE DECISION'!B174)","v":""},{"$f":"IF('TABLA DE DECISION'!C174='TABLA DE DECISION'!C$157,CONCATENATE($B20,\"(\",'TABLA DE DECISION'!C$157,\")\"),'TABLA DE DECISION'!C174)","v":""},{"$f":"IF('TABLA DE DECISION'!D174='TABLA DE DECISION'!D$157,CONCATENATE($B20,\"(\",'TABLA DE DECISION'!D$157,\")\"),'TABLA DE DECISION'!D174)","v":""},{"$f":"IF('TABLA DE DECISION'!E174='TABLA DE DECISION'!E$157,CONCATENATE($B20,\"(\",'TABLA DE DECISION'!E$157,\")\"),'TABLA DE DECISION'!E174)","v":""},{"$f":"IF('MATRIZ-PÉRDIDA OPORTUNIDAD'!BB18='MATRIZ-PÉRDIDA OPORTUNIDAD'!BB$2,CONCATENATE($B20,\"(\",'MATRIZ-PÉRDIDA OPORTUNIDAD'!BB$2,\")\"),'MATRIZ-PÉRDIDA OPORTUNIDAD'!BB18)","v":""},{"$f":"IF('TABLA DE DECISION'!G174='TABLA DE DECISION'!G$157,CONCATENATE($B20,\"(\",'TABLA DE DECISION'!G$157,\")\"),'TABLA DE DECISION'!G174)","v":""},{"$f":"IF('TABLA DE DECISION'!H174='TABLA DE DECISION'!H$157,CONCATENATE($B20,\"(\",'TABLA DE DECISION'!H$157,\")\"),'TABLA DE DECISION'!H174)","v":""},{"$f":"IF('TABLA DE DECISION'!I174='TABLA DE DECISION'!I$157,CONCATENATE($B20,\"(\",'TABLA DE DECISION'!I$157,\")\"),'TABLA DE DECISION'!I174)","v":""},{"$f":"IF('TABLA DE DECISION'!J174='TABLA DE DECISION'!J$157,CONCATENATE($B20,\"(\",'TABLA DE DECISION'!J$157,\")\"),'TABLA DE DECISION'!J174)","v":""},{"$f":"IF('TABLA DE DECISION'!K174='TABLA DE DECISION'!K$157,CONCATENATE($B20,\"(\",'TABLA DE DECISION'!K$157,\")\"),'TABLA DE DECISION'!K174)","v":""},{"$f":"IF('TABLA DE DECISION'!L174='TABLA DE DECISION'!L$157,CONCATENATE($B20,\"(\",'TABLA DE DECISION'!L$157,\")\"),'TABLA DE DECISION'!L174)","v":""},{"$f":"IF('TABLA DE DECISION'!M174='TABLA DE DECISION'!M$157,CONCATENATE($B20,\"(\",'TABLA DE DECISION'!M$157,\")\"),'TABLA DE DECISION'!M174)","v":""},{"$f":"IF('TABLA DE DECISION'!N174='TABLA DE DECISION'!N$157,CONCATENATE($B20,\"(\",'TABLA DE DECISION'!N$157,\")\"),'TABLA DE DECISION'!N174)","v":""},{"$f":"IF('TABLA DE DECISION'!O174='TABLA DE DECISION'!O$157,CONCATENATE($B20,\"(\",'TABLA DE DECISION'!O$157,\")\"),'TABLA DE DECISION'!O174)","v":""},{"$f":"IF('TABLA DE DECISION'!P174='TABLA DE DECISION'!P$157,CONCATENATE($B20,\"(\",'TABLA DE DECISION'!P$157,\")\"),'TABLA DE DECISION'!P174)","v":""},{"$f":"IF('TABLA DE DECISION'!Q174='TABLA DE DECISION'!Q$157,CONCATENATE($B20,\"(\",'TABLA DE DECISION'!Q$157,\")\"),'TABLA DE DECISION'!Q174)","v":""},{"$f":"IF('TABLA DE DECISION'!R174='TABLA DE DECISION'!R$157,CONCATENATE($B20,\"(\",'TABLA DE DECISION'!R$157,\")\"),'TABLA DE DECISION'!R174)","v":""},{"$f":"IF('TABLA DE DECISION'!S174='TABLA DE DECISION'!S$157,CONCATENATE($B20,\"(\",'TABLA DE DECISION'!S$157,\")\"),'TABLA DE DECISION'!S174)","v":""},{"$f":"IF('TABLA DE DECISION'!T174='TABLA DE DECISION'!T$157,CONCATENATE($B20,\"(\",'TABLA DE DECISION'!T$157,\")\"),'TABLA DE DECISION'!T174)","v":""},{"$f":"IF('TABLA DE DECISION'!U174='TABLA DE DECISION'!U$157,CONCATENATE($B20,\"(\",'TABLA DE DECISION'!U$157,\")\"),'TABLA DE DECISION'!U174)","v":""},{"$f":"IF('TABLA DE DECISION'!V174='TABLA DE DECISION'!V$157,CONCATENATE($B20,\"(\",'TABLA DE DECISION'!V$157,\")\"),'TABLA DE DECISION'!V174)","v":""},{"$f":"IF('TABLA DE DECISION'!W174='TABLA DE DECISION'!W$157,CONCATENATE($B20,\"(\",'TABLA DE DECISION'!W$157,\")\"),'TABLA DE DECISION'!W174)","v":""},{"$f":"IF('TABLA DE DECISION'!X174='TABLA DE DECISION'!X$157,CONCATENATE($B20,\"(\",'TABLA DE DECISION'!X$157,\")\"),'TABLA DE DECISION'!X174)","v":""},{"$f":"IF('TABLA DE DECISION'!Y174='TABLA DE DECISION'!Y$157,CONCATENATE($B20,\"(\",'TABLA DE DECISION'!Y$157,\")\"),'TABLA DE DECISION'!Y174)","v":""},{"$f":"IF('TABLA DE DECISION'!Z174='TABLA DE DECISION'!Z$157,CONCATENATE($B20,\"(\",'TABLA DE DECISION'!Z$157,\")\"),'TABLA DE DECISION'!Z174)","v":""},{"$f":"IF('TABLA DE DECISION'!AA174='TABLA DE DECISION'!AA$157,CONCATENATE($B20,\"(\",'TABLA DE DECISION'!AA$157,\")\"),'TABLA DE DECISION'!AA174)","v":""},{"$f":"IF('TABLA DE DECISION'!AB174='TABLA DE DECISION'!AB$157,CONCATENATE($B20,\"(\",'TABLA DE DECISION'!AB$157,\")\"),'TABLA DE DECISION'!AB174)","v":""},{"$f":"IF('TABLA DE DECISION'!AC174='TABLA DE DECISION'!AC$157,CONCATENATE($B20,\"(\",'TABLA DE DECISION'!AC$157,\")\"),'TABLA DE DECISION'!AC174)","v":""},{"$f":"IF('TABLA DE DECISION'!AD174='TABLA DE DECISION'!AD$157,CONCATENATE($B20,\"(\",'TABLA DE DECISION'!AD$157,\")\"),'TABLA DE DECISION'!AD174)","v":""},{"$f":"IF('TABLA DE DECISION'!AE174='TABLA DE DECISION'!AE$157,CONCATENATE($B20,\"(\",'TABLA DE DECISION'!AE$157,\")\"),'TABLA DE DECISION'!AE174)","v":""},{"$f":"IF('TABLA DE DECISION'!AF174='TABLA DE DECISION'!AF$157,CONCATENATE($B20,\"(\",'TABLA DE DECISION'!AF$157,\")\"),'TABLA DE DECISION'!AF174)","v":""},{"$f":"IF('TABLA DE DECISION'!AG174='TABLA DE DECISION'!AG$157,CONCATENATE($B20,\"(\",'TABLA DE DECISION'!AG$157,\")\"),'TABLA DE DECISION'!AG174)","v":""},{"$f":"IF('TABLA DE DECISION'!AH174='TABLA DE DECISION'!AH$157,CONCATENATE($B20,\"(\",'TABLA DE DECISION'!AH$157,\")\"),'TABLA DE DECISION'!AH174)","v":""},{"$f":"IF('TABLA DE DECISION'!AI174='TABLA DE DECISION'!AI$157,CONCATENATE($B20,\"(\",'TABLA DE DECISION'!AI$157,\")\"),'TABLA DE DECISION'!AI174)","v":""},{"$f":"IF('TABLA DE DECISION'!AJ174='TABLA DE DECISION'!AJ$157,CONCATENATE($B20,\"(\",'TABLA DE DECISION'!AJ$157,\")\"),'TABLA DE DECISION'!AJ174)","v":""},{"$f":"IF('TABLA DE DECISION'!AK174='TABLA DE DECISION'!AK$157,CONCATENATE($B20,\"(\",'TABLA DE DECISION'!AK$157,\")\"),'TABLA DE DECISION'!AK174)","v":""},{"$f":"IF('TABLA DE DECISION'!AL174='TABLA DE DECISION'!AL$157,CONCATENATE($B20,\"(\",'TABLA DE DECISION'!AL$157,\")\"),'TABLA DE DECISION'!AL174)","v":""},{"$f":"IF('TABLA DE DECISION'!AM174='TABLA DE DECISION'!AM$157,CONCATENATE($B20,\"(\",'TABLA DE DECISION'!AM$157,\")\"),'TABLA DE DECISION'!AM174)","v":""},{"$f":"IF('TABLA DE DECISION'!AN174='TABLA DE DECISION'!AN$157,CONCATENATE($B20,\"(\",'TABLA DE DECISION'!AN$157,\")\"),'TABLA DE DECISION'!AN174)","v":""},{"$f":"IF('TABLA DE DECISION'!AO174='TABLA DE DECISION'!AO$157,CONCATENATE($B20,\"(\",'TABLA DE DECISION'!AO$157,\")\"),'TABLA DE DECISION'!AO174)","v":""},{"$f":"IF('TABLA DE DECISION'!AP174='TABLA DE DECISION'!AP$157,CONCATENATE($B20,\"(\",'TABLA DE DECISION'!AP$157,\")\"),'TABLA DE DECISION'!AP174)","v":""},{"$f":"IF('TABLA DE DECISION'!AQ174='TABLA DE DECISION'!AQ$157,CONCATENATE($B20,\"(\",'TABLA DE DECISION'!AQ$157,\")\"),'TABLA DE DECISION'!AQ174)","v":""},{"$f":"IF('TABLA DE DECISION'!AR174='TABLA DE DECISION'!AR$157,CONCATENATE($B20,\"(\",'TABLA DE DECISION'!AR$157,\")\"),'TABLA DE DECISION'!AR174)","v":""},{"$f":"IF('TABLA DE DECISION'!AS174='TABLA DE DECISION'!AS$157,CONCATENATE($B20,\"(\",'TABLA DE DECISION'!AS$157,\")\"),'TABLA DE DECISION'!AS174)","v":""},{"$f":"IF('TABLA DE DECISION'!AT174='TABLA DE DECISION'!AT$157,CONCATENATE($B20,\"(\",'TABLA DE DECISION'!AT$157,\")\"),'TABLA DE DECISION'!AT174)","v":""},{"$f":"IF('TABLA DE DECISION'!AU174='TABLA DE DECISION'!AU$157,CONCATENATE($B20,\"(\",'TABLA DE DECISION'!AU$157,\")\"),'TABLA DE DECISION'!AU174)","v":""},{"$f":"IF('TABLA DE DECISION'!AV174='TABLA DE DECISION'!AV$157,CONCATENATE($B20,\"(\",'TABLA DE DECISION'!AV$157,\")\"),'TABLA DE DECISION'!AV174)","v":""},{"$f":"IF('TABLA DE DECISION'!AW174='TABLA DE DECISION'!AW$157,CONCATENATE($B20,\"(\",'TABLA DE DECISION'!AW$157,\")\"),'TABLA DE DECISION'!AW174)","v":""},{"$f":"IF('TABLA DE DECISION'!AX174='TABLA DE DECISION'!AX$157,CONCATENATE($B20,\"(\",'TABLA DE DECISION'!AX$157,\")\"),'TABLA DE DECISION'!AX174)","v":""},{"$f":"IF('TABLA DE DECISION'!AY174='TABLA DE DECISION'!AY$157,CONCATENATE($B20,\"(\",'TABLA DE DECISION'!AY$157,\")\"),'TABLA DE DECISION'!AY174)","v":""},{"$f":"IF('TABLA DE DECISION'!AZ174='TABLA DE DECISION'!AZ$157,CONCATENATE($B20,\"(\",'TABLA DE DECISION'!AZ$157,\")\"),'TABLA DE DECISION'!AZ174)","v":""},{"$f":"IF('TABLA DE DECISION'!BA174='TABLA DE DECISION'!BA$157,CONCATENATE($B20,\"(\",'TABLA DE DECISION'!BA$157,\")\"),'TABLA DE DECISION'!BA174)","v":""},{"$f":"IF('TABLA DE DECISION'!BB174='TABLA DE DECISION'!BB$157,CONCATENATE($B20,\"(\",'TABLA DE DECISION'!BB$157,\")\"),'TABLA DE DECISION'!BB174)","v":""},{"$f":"IF('TABLA DE DECISION'!BC174='TABLA DE DECISION'!BC$157,CONCATENATE($B20,\"(\",'TABLA DE DECISION'!BC$157,\")\"),'TABLA DE DECISION'!BC174)","v":""},{"$f":"IF('TABLA DE DECISION'!BD174='TABLA DE DECISION'!BD$157,CONCATENATE($B20,\"(\",'TABLA DE DECISION'!BD$157,\")\"),'TABLA DE DECISION'!BD174)","v":""}]
[{"$f":"IF('TABLA DE DECISION'!BF175=\"\",\"\",'TABLA DE DECISION'!BF175)","v":""},{"$f":"'TABLA DE DECISION'!BG175","v":"a17"},{"$f":"IF('TABLA DE DECISION'!A175='TABLA DE DECISION'!A$157,CONCATENATE($B21,\"(\",'TABLA DE DECISION'!A$157,\")\"),'TABLA DE DECISION'!A175)","v":""},{"$f":"IF('TABLA DE DECISION'!B175='TABLA DE DECISION'!B$157,CONCATENATE($B21,\"(\",'TABLA DE DECISION'!B$157,\")\"),'TABLA DE DECISION'!B175)","v":""},{"$f":"IF('TABLA DE DECISION'!C175='TABLA DE DECISION'!C$157,CONCATENATE($B21,\"(\",'TABLA DE DECISION'!C$157,\")\"),'TABLA DE DECISION'!C175)","v":""},{"$f":"IF('TABLA DE DECISION'!D175='TABLA DE DECISION'!D$157,CONCATENATE($B21,\"(\",'TABLA DE DECISION'!D$157,\")\"),'TABLA DE DECISION'!D175)","v":""},{"$f":"IF('TABLA DE DECISION'!E175='TABLA DE DECISION'!E$157,CONCATENATE($B21,\"(\",'TABLA DE DECISION'!E$157,\")\"),'TABLA DE DECISION'!E175)","v":""},{"$f":"IF('MATRIZ-PÉRDIDA OPORTUNIDAD'!BB19='MATRIZ-PÉRDIDA OPORTUNIDAD'!BB$2,CONCATENATE($B21,\"(\",'MATRIZ-PÉRDIDA OPORTUNIDAD'!BB$2,\")\"),'MATRIZ-PÉRDIDA OPORTUNIDAD'!BB19)","v":""},{"$f":"IF('TABLA DE DECISION'!G175='TABLA DE DECISION'!G$157,CONCATENATE($B21,\"(\",'TABLA DE DECISION'!G$157,\")\"),'TABLA DE DECISION'!G175)","v":""},{"$f":"IF('TABLA DE DECISION'!H175='TABLA DE DECISION'!H$157,CONCATENATE($B21,\"(\",'TABLA DE DECISION'!H$157,\")\"),'TABLA DE DECISION'!H175)","v":""},{"$f":"IF('TABLA DE DECISION'!I175='TABLA DE DECISION'!I$157,CONCATENATE($B21,\"(\",'TABLA DE DECISION'!I$157,\")\"),'TABLA DE DECISION'!I175)","v":""},{"$f":"IF('TABLA DE DECISION'!J175='TABLA DE DECISION'!J$157,CONCATENATE($B21,\"(\",'TABLA DE DECISION'!J$157,\")\"),'TABLA DE DECISION'!J175)","v":""},{"$f":"IF('TABLA DE DECISION'!K175='TABLA DE DECISION'!K$157,CONCATENATE($B21,\"(\",'TABLA DE DECISION'!K$157,\")\"),'TABLA DE DECISION'!K175)","v":""},{"$f":"IF('TABLA DE DECISION'!L175='TABLA DE DECISION'!L$157,CONCATENATE($B21,\"(\",'TABLA DE DECISION'!L$157,\")\"),'TABLA DE DECISION'!L175)","v":""},{"$f":"IF('TABLA DE DECISION'!M175='TABLA DE DECISION'!M$157,CONCATENATE($B21,\"(\",'TABLA DE DECISION'!M$157,\")\"),'TABLA DE DECISION'!M175)","v":""},{"$f":"IF('TABLA DE DECISION'!N175='TABLA DE DECISION'!N$157,CONCATENATE($B21,\"(\",'TABLA DE DECISION'!N$157,\")\"),'TABLA DE DECISION'!N175)","v":""},{"$f":"IF('TABLA DE DECISION'!O175='TABLA DE DECISION'!O$157,CONCATENATE($B21,\"(\",'TABLA DE DECISION'!O$157,\")\"),'TABLA DE DECISION'!O175)","v":""},{"$f":"IF('TABLA DE DECISION'!P175='TABLA DE DECISION'!P$157,CONCATENATE($B21,\"(\",'TABLA DE DECISION'!P$157,\")\"),'TABLA DE DECISION'!P175)","v":""},{"$f":"IF('TABLA DE DECISION'!Q175='TABLA DE DECISION'!Q$157,CONCATENATE($B21,\"(\",'TABLA DE DECISION'!Q$157,\")\"),'TABLA DE DECISION'!Q175)","v":""},{"$f":"IF('TABLA DE DECISION'!R175='TABLA DE DECISION'!R$157,CONCATENATE($B21,\"(\",'TABLA DE DECISION'!R$157,\")\"),'TABLA DE DECISION'!R175)","v":""},{"$f":"IF('TABLA DE DECISION'!S175='TABLA DE DECISION'!S$157,CONCATENATE($B21,\"(\",'TABLA DE DECISION'!S$157,\")\"),'TABLA DE DECISION'!S175)","v":""},{"$f":"IF('TABLA DE DECISION'!T175='TABLA DE DECISION'!T$157,CONCATENATE($B21,\"(\",'TABLA DE DECISION'!T$157,\")\"),'TABLA DE DECISION'!T175)","v":""},{"$f":"IF('TABLA DE DECISION'!U175='TABLA DE DECISION'!U$157,CONCATENATE($B21,\"(\",'TABLA DE DECISION'!U$157,\")\"),'TABLA DE DECISION'!U175)","v":""},{"$f":"IF('TABLA DE DECISION'!V175='TABLA DE DECISION'!V$157,CONCATENATE($B21,\"(\",'TABLA DE DECISION'!V$157,\")\"),'TABLA DE DECISION'!V175)","v":""},{"$f":"IF('TABLA DE DECISION'!W175='TABLA DE DECISION'!W$157,CONCATENATE($B21,\"(\",'TABLA DE DECISION'!W$157,\")\"),'TABLA DE DECISION'!W175)","v":""},{"$f":"IF('TABLA DE DECISION'!X175='TABLA DE DECISION'!X$157,CONCATENATE($B21,\"(\",'TABLA DE DECISION'!X$157,\")\"),'TABLA DE DECISION'!X175)","v":""},{"$f":"IF('TABLA DE DECISION'!Y175='TABLA DE DECISION'!Y$157,CONCATENATE($B21,\"(\",'TABLA DE DECISION'!Y$157,\")\"),'TABLA DE DECISION'!Y175)","v":""},{"$f":"IF('TABLA DE DECISION'!Z175='TABLA DE DECISION'!Z$157,CONCATENATE($B21,\"(\",'TABLA DE DECISION'!Z$157,\")\"),'TABLA DE DECISION'!Z175)","v":""},{"$f":"IF('TABLA DE DECISION'!AA175='TABLA DE DECISION'!AA$157,CONCATENATE($B21,\"(\",'TABLA DE DECISION'!AA$157,\")\"),'TABLA DE DECISION'!AA175)","v":""},{"$f":"IF('TABLA DE DECISION'!AB175='TABLA DE DECISION'!AB$157,CONCATENATE($B21,\"(\",'TABLA DE DECISION'!AB$157,\")\"),'TABLA DE DECISION'!AB175)","v":""},{"$f":"IF('TABLA DE DECISION'!AC175='TABLA DE DECISION'!AC$157,CONCATENATE($B21,\"(\",'TABLA DE DECISION'!AC$157,\")\"),'TABLA DE DECISION'!AC175)","v":""},{"$f":"IF('TABLA DE DECISION'!AD175='TABLA DE DECISION'!AD$157,CONCATENATE($B21,\"(\",'TABLA DE DECISION'!AD$157,\")\"),'TABLA DE DECISION'!AD175)","v":""},{"$f":"IF('TABLA DE DECISION'!AE175='TABLA DE DECISION'!AE$157,CONCATENATE($B21,\"(\",'TABLA DE DECISION'!AE$157,\")\"),'TABLA DE DECISION'!AE175)","v":""},{"$f":"IF('TABLA DE DECISION'!AF175='TABLA DE DECISION'!AF$157,CONCATENATE($B21,\"(\",'TABLA DE DECISION'!AF$157,\")\"),'TABLA DE DECISION'!AF175)","v":""},{"$f":"IF('TABLA DE DECISION'!AG175='TABLA DE DECISION'!AG$157,CONCATENATE($B21,\"(\",'TABLA DE DECISION'!AG$157,\")\"),'TABLA DE DECISION'!AG175)","v":""},{"$f":"IF('TABLA DE DECISION'!AH175='TABLA DE DECISION'!AH$157,CONCATENATE($B21,\"(\",'TABLA DE DECISION'!AH$157,\")\"),'TABLA DE DECISION'!AH175)","v":""},{"$f":"IF('TABLA DE DECISION'!AI175='TABLA DE DECISION'!AI$157,CONCATENATE($B21,\"(\",'TABLA DE DECISION'!AI$157,\")\"),'TABLA DE DECISION'!AI175)","v":""},{"$f":"IF('TABLA DE DECISION'!AJ175='TABLA DE DECISION'!AJ$157,CONCATENATE($B21,\"(\",'TABLA DE DECISION'!AJ$157,\")\"),'TABLA DE DECISION'!AJ175)","v":""},{"$f":"IF('TABLA DE DECISION'!AK175='TABLA DE DECISION'!AK$157,CONCATENATE($B21,\"(\",'TABLA DE DECISION'!AK$157,\")\"),'TABLA DE DECISION'!AK175)","v":""},{"$f":"IF('TABLA DE DECISION'!AL175='TABLA DE DECISION'!AL$157,CONCATENATE($B21,\"(\",'TABLA DE DECISION'!AL$157,\")\"),'TABLA DE DECISION'!AL175)","v":""},{"$f":"IF('TABLA DE DECISION'!AM175='TABLA DE DECISION'!AM$157,CONCATENATE($B21,\"(\",'TABLA DE DECISION'!AM$157,\")\"),'TABLA DE DECISION'!AM175)","v":""},{"$f":"IF('TABLA DE DECISION'!AN175='TABLA DE DECISION'!AN$157,CONCATENATE($B21,\"(\",'TABLA DE DECISION'!AN$157,\")\"),'TABLA DE DECISION'!AN175)","v":""},{"$f":"IF('TABLA DE DECISION'!AO175='TABLA DE DECISION'!AO$157,CONCATENATE($B21,\"(\",'TABLA DE DECISION'!AO$157,\")\"),'TABLA DE DECISION'!AO175)","v":""},{"$f":"IF('TABLA DE DECISION'!AP175='TABLA DE DECISION'!AP$157,CONCATENATE($B21,\"(\",'TABLA DE DECISION'!AP$157,\")\"),'TABLA DE DECISION'!AP175)","v":""},{"$f":"IF('TABLA DE DECISION'!AQ175='TABLA DE DECISION'!AQ$157,CONCATENATE($B21,\"(\",'TABLA DE DECISION'!AQ$157,\")\"),'TABLA DE DECISION'!AQ175)","v":""},{"$f":"IF('TABLA DE DECISION'!AR175='TABLA DE DECISION'!AR$157,CONCATENATE($B21,\"(\",'TABLA DE DECISION'!AR$157,\")\"),'TABLA DE DECISION'!AR175)","v":""},{"$f":"IF('TABLA DE DECISION'!AS175='TABLA DE DECISION'!AS$157,CONCATENATE($B21,\"(\",'TABLA DE DECISION'!AS$157,\")\"),'TABLA DE DECISION'!AS175)","v":""},{"$f":"IF('TABLA DE DECISION'!AT175='TABLA DE DECISION'!AT$157,CONCATENATE($B21,\"(\",'TABLA DE DECISION'!AT$157,\")\"),'TABLA DE DECISION'!AT175)","v":""},{"$f":"IF('TABLA DE DECISION'!AU175='TABLA DE DECISION'!AU$157,CONCATENATE($B21,\"(\",'TABLA DE DECISION'!AU$157,\")\"),'TABLA DE DECISION'!AU175)","v":""},{"$f":"IF('TABLA DE DECISION'!AV175='TABLA DE DECISION'!AV$157,CONCATENATE($B21,\"(\",'TABLA DE DECISION'!AV$157,\")\"),'TABLA DE DECISION'!AV175)","v":""},{"$f":"IF('TABLA DE DECISION'!AW175='TABLA DE DECISION'!AW$157,CONCATENATE($B21,\"(\",'TABLA DE DECISION'!AW$157,\")\"),'TABLA DE DECISION'!AW175)","v":""},{"$f":"IF('TABLA DE DECISION'!AX175='TABLA DE DECISION'!AX$157,CONCATENATE($B21,\"(\",'TABLA DE DECISION'!AX$157,\")\"),'TABLA DE DECISION'!AX175)","v":""},{"$f":"IF('TABLA DE DECISION'!AY175='TABLA DE DECISION'!AY$157,CONCATENATE($B21,\"(\",'TABLA DE DECISION'!AY$157,\")\"),'TABLA DE DECISION'!AY175)","v":""},{"$f":"IF('TABLA DE DECISION'!AZ175='TABLA DE DECISION'!AZ$157,CONCATENATE($B21,\"(\",'TABLA DE DECISION'!AZ$157,\")\"),'TABLA DE DECISION'!AZ175)","v":""},{"$f":"IF('TABLA DE DECISION'!BA175='TABLA DE DECISION'!BA$157,CONCATENATE($B21,\"(\",'TABLA DE DECISION'!BA$157,\")\"),'TABLA DE DECISION'!BA175)","v":""},{"$f":"IF('TABLA DE DECISION'!BB175='TABLA DE DECISION'!BB$157,CONCATENATE($B21,\"(\",'TABLA DE DECISION'!BB$157,\")\"),'TABLA DE DECISION'!BB175)","v":""},{"$f":"IF('TABLA DE DECISION'!BC175='TABLA DE DECISION'!BC$157,CONCATENATE($B21,\"(\",'TABLA DE DECISION'!BC$157,\")\"),'TABLA DE DECISION'!BC175)","v":""},{"$f":"IF('TABLA DE DECISION'!BD175='TABLA DE DECISION'!BD$157,CONCATENATE($B21,\"(\",'TABLA DE DECISION'!BD$157,\")\"),'TABLA DE DECISION'!BD175)","v":""}]
[{"$f":"IF('TABLA DE DECISION'!BF176=\"\",\"\",'TABLA DE DECISION'!BF176)","v":""},{"$f":"'TABLA DE DECISION'!BG176","v":"a18"},{"$f":"IF('TABLA DE DECISION'!A176='TABLA DE DECISION'!A$157,CONCATENATE($B22,\"(\",'TABLA DE DECISION'!A$157,\")\"),'TABLA DE DECISION'!A176)","v":""},{"$f":"IF('TABLA DE DECISION'!B176='TABLA DE DECISION'!B$157,CONCATENATE($B22,\"(\",'TABLA DE DECISION'!B$157,\")\"),'TABLA DE DECISION'!B176)","v":""},{"$f":"IF('TABLA DE DECISION'!C176='TABLA DE DECISION'!C$157,CONCATENATE($B22,\"(\",'TABLA DE DECISION'!C$157,\")\"),'TABLA DE DECISION'!C176)","v":""},{"$f":"IF('TABLA DE DECISION'!D176='TABLA DE DECISION'!D$157,CONCATENATE($B22,\"(\",'TABLA DE DECISION'!D$157,\")\"),'TABLA DE DECISION'!D176)","v":""},{"$f":"IF('TABLA DE DECISION'!E176='TABLA DE DECISION'!E$157,CONCATENATE($B22,\"(\",'TABLA DE DECISION'!E$157,\")\"),'TABLA DE DECISION'!E176)","v":""},{"$f":"IF('MATRIZ-PÉRDIDA OPORTUNIDAD'!BB20='MATRIZ-PÉRDIDA OPORTUNIDAD'!BB$2,CONCATENATE($B22,\"(\",'MATRIZ-PÉRDIDA OPORTUNIDAD'!BB$2,\")\"),'MATRIZ-PÉRDIDA OPORTUNIDAD'!BB20)","v":""},{"$f":"IF('TABLA DE DECISION'!G176='TABLA DE DECISION'!G$157,CONCATENATE($B22,\"(\",'TABLA DE DECISION'!G$157,\")\"),'TABLA DE DECISION'!G176)","v":""},{"$f":"IF('TABLA DE DECISION'!H176='TABLA DE DECISION'!H$157,CONCATENATE($B22,\"(\",'TABLA DE DECISION'!H$157,\")\"),'TABLA DE DECISION'!H176)","v":""},{"$f":"IF('TABLA DE DECISION'!I176='TABLA DE DECISION'!I$157,CONCATENATE($B22,\"(\",'TABLA DE DECISION'!I$157,\")\"),'TABLA DE DECISION'!I176)","v":""},{"$f":"IF('TABLA DE DECISION'!J176='TABLA DE DECISION'!J$157,CONCATENATE($B22,\"(\",'TABLA DE DECISION'!J$157,\")\"),'TABLA DE DECISION'!J176)","v":""},{"$f":"IF('TABLA DE DECISION'!K176='TABLA DE DECISION'!K$157,CONCATENATE($B22,\"(\",'TABLA DE DECISION'!K$157,\")\"),'TABLA DE DECISION'!K176)","v":""},{"$f":"IF('TABLA DE DECISION'!L176='TABLA DE DECISION'!L$157,CONCATENATE($B22,\"(\",'TABLA DE DECISION'!L$157,\")\"),'TABLA DE DECISION'!L176)","v":""},{"$f":"IF('TABLA DE DECISION'!M176='TABLA DE DECISION'!M$157,CONCATENATE($B22,\"(\",'TABLA DE DECISION'!M$157,\")\"),'TABLA DE DECISION'!M176)","v":""},{"$f":"IF('TABLA DE DECISION'!N176='TABLA DE DECISION'!N$157,CONCATENATE($B22,\"(\",'TABLA DE DECISION'!N$157,\")\"),'TABLA DE DECISION'!N176)","v":""},{"$f":"IF('TABLA DE DECISION'!O176='TABLA DE DECISION'!O$157,CONCATENATE($B22,\"(\",'TABLA DE DECISION'!O$157,\")\"),'TABLA DE DECISION'!O176)","v":""},{"$f":"IF('TABLA DE DECISION'!P176='TABLA DE DECISION'!P$157,CONCATENATE($B22,\"(\",'TABLA DE DECISION'!P$157,\")\"),'TABLA DE DECISION'!P176)","v":""},{"$f":"IF('TABLA DE DECISION'!Q176='TABLA DE DECISION'!Q$157,CONCATENATE($B22,\"(\",'TABLA DE DECISION'!Q$157,\")\"),'TABLA DE DECISION'!Q176)","v":""},{"$f":"IF('TABLA DE DECISION'!R176='TABLA DE DECISION'!R$157,CONCATENATE($B22,\"(\",'TABLA DE DECISION'!R$157,\")\"),'TABLA DE DECISION'!R176)","v":""},{"$f":"IF('TABLA DE DECISION'!S176='TABLA DE DECISION'!S$157,CONCATENATE($B22,\"(\",'TABLA DE DECISION'!S$157,\")\"),'TABLA DE DECISION'!S176)","v":""},{"$f":"IF('TABLA DE DECISION'!T176='TABLA DE DECISION'!T$157,CONCATENATE($B22,\"(\",'TABLA DE DECISION'!T$157,\")\"),'TABLA DE DECISION'!T176)","v":""},{"$f":"IF('TABLA DE DECISION'!U176='TABLA DE DECISION'!U$157,CONCATENATE($B22,\"(\",'TABLA DE DECISION'!U$157,\")\"),'TABLA DE DECISION'!U176)","v":""},{"$f":"IF('TABLA DE DECISION'!V176='TABLA DE DECISION'!V$157,CONCATENATE($B22,\"(\",'TABLA DE DECISION'!V$157,\")\"),'TABLA DE DECISION'!V176)","v":""},{"$f":"IF('TABLA DE DECISION'!W176='TABLA DE DECISION'!W$157,CONCATENATE($B22,\"(\",'TABLA DE DECISION'!W$157,\")\"),'TABLA DE DECISION'!W176)","v":""},{"$f":"IF('TABLA DE DECISION'!X176='TABLA DE DECISION'!X$157,CONCATENATE($B22,\"(\",'TABLA DE DECISION'!X$157,\")\"),'TABLA DE DECISION'!X176)","v":""},{"$f":"IF('TABLA DE DECISION'!Y176='TABLA DE DECISION'!Y$157,CONCATENATE($B22,\"(\",'TABLA DE DECISION'!Y$157,\")\"),'TABLA DE DECISION'!Y176)","v":""},{"$f":"IF('TABLA DE DECISION'!Z176='TABLA DE DECISION'!Z$157,CONCATENATE($B22,\"(\",'TABLA DE DECISION'!Z$157,\")\"),'TABLA DE DECISION'!Z176)","v":""},{"$f":"IF('TABLA DE DECISION'!AA176='TABLA DE DECISION'!AA$157,CONCATENATE($B22,\"(\",'TABLA DE DECISION'!AA$157,\")\"),'TABLA DE DECISION'!AA176)","v":""},{"$f":"IF('TABLA DE DECISION'!AB176='TABLA DE DECISION'!AB$157,CONCATENATE($B22,\"(\",'TABLA DE DECISION'!AB$157,\")\"),'TABLA DE DECISION'!AB176)","v":""},{"$f":"IF('TABLA DE DECISION'!AC176='TABLA DE DECISION'!AC$157,CONCATENATE($B22,\"(\",'TABLA DE DECISION'!AC$157,\")\"),'TABLA DE DECISION'!AC176)","v":""},{"$f":"IF('TABLA DE DECISION'!AD176='TABLA DE DECISION'!AD$157,CONCATENATE($B22,\"(\",'TABLA DE DECISION'!AD$157,\")\"),'TABLA DE DECISION'!AD176)","v":""},{"$f":"IF('TABLA DE DECISION'!AE176='TABLA DE DECISION'!AE$157,CONCATENATE($B22,\"(\",'TABLA DE DECISION'!AE$157,\")\"),'TABLA DE DECISION'!AE176)","v":""},{"$f":"IF('TABLA DE DECISION'!AF176='TABLA DE DECISION'!AF$157,CONCATENATE($B22,\"(\",'TABLA DE DECISION'!AF$157,\")\"),'TABLA DE DECISION'!AF176)","v":""},{"$f":"IF('TABLA DE DECISION'!AG176='TABLA DE DECISION'!AG$157,CONCATENATE($B22,\"(\",'TABLA DE DECISION'!AG$157,\")\"),'TABLA DE DECISION'!AG176)","v":""},{"$f":"IF('TABLA DE DECISION'!AH176='TABLA DE DECISION'!AH$157,CONCATENATE($B22,\"(\",'TABLA DE DECISION'!AH$157,\")\"),'TABLA DE DECISION'!AH176)","v":""},{"$f":"IF('TABLA DE DECISION'!AI176='TABLA DE DECISION'!AI$157,CONCATENATE($B22,\"(\",'TABLA DE DECISION'!AI$157,\")\"),'TABLA DE DECISION'!AI176)","v":""},{"$f":"IF('TABLA DE DECISION'!AJ176='TABLA DE DECISION'!AJ$157,CONCATENATE($B22,\"(\",'TABLA DE DECISION'!AJ$157,\")\"),'TABLA DE DECISION'!AJ176)","v":""},{"$f":"IF('TABLA DE DECISION'!AK176='TABLA DE DECISION'!AK$157,CONCATENATE($B22,\"(\",'TABLA DE DECISION'!AK$157,\")\"),'TABLA DE DECISION'!AK176)","v":""},{"$f":"IF('TABLA DE DECISION'!AL176='TABLA DE DECISION'!AL$157,CONCATENATE($B22,\"(\",'TABLA DE DECISION'!AL$157,\")\"),'TABLA DE DECISION'!AL176)","v":""},{"$f":"IF('TABLA DE DECISION'!AM176='TABLA DE DECISION'!AM$157,CONCATENATE($B22,\"(\",'TABLA DE DECISION'!AM$157,\")\"),'TABLA DE DECISION'!AM176)","v":""},{"$f":"IF('TABLA DE DECISION'!AN176='TABLA DE DECISION'!AN$157,CONCATENATE($B22,\"(\",'TABLA DE DECISION'!AN$157,\")\"),'TABLA DE DECISION'!AN176)","v":""},{"$f":"IF('TABLA DE DECISION'!AO176='TABLA DE DECISION'!AO$157,CONCATENATE($B22,\"(\",'TABLA DE DECISION'!AO$157,\")\"),'TABLA DE DECISION'!AO176)","v":""},{"$f":"IF('TABLA DE DECISION'!AP176='TABLA DE DECISION'!AP$157,CONCATENATE($B22,\"(\",'TABLA DE DECISION'!AP$157,\")\"),'TABLA DE DECISION'!AP176)","v":""},{"$f":"IF('TABLA DE DECISION'!AQ176='TABLA DE DECISION'!AQ$157,CONCATENATE($B22,\"(\",'TABLA DE DECISION'!AQ$157,\")\"),'TABLA DE DECISION'!AQ176)","v":""},{"$f":"IF('TABLA DE DECISION'!AR176='TABLA DE DECISION'!AR$157,CONCATENATE($B22,\"(\",'TABLA DE DECISION'!AR$157,\")\"),'TABLA DE DECISION'!AR176)","v":""},{"$f":"IF('TABLA DE DECISION'!AS176='TABLA DE DECISION'!AS$157,CONCATENATE($B22,\"(\",'TABLA DE DECISION'!AS$157,\")\"),'TABLA DE DECISION'!AS176)","v":""},{"$f":"IF('TABLA DE DECISION'!AT176='TABLA DE DECISION'!AT$157,CONCATENATE($B22,\"(\",'TABLA DE DECISION'!AT$157,\")\"),'TABLA DE DECISION'!AT176)","v":""},{"$f":"IF('TABLA DE DECISION'!AU176='TABLA DE DECISION'!AU$157,CONCATENATE($B22,\"(\",'TABLA DE DECISION'!AU$157,\")\"),'TABLA DE DECISION'!AU176)","v":""},{"$f":"IF('TABLA DE DECISION'!AV176='TABLA DE DECISION'!AV$157,CONCATENATE($B22,\"(\",'TABLA DE DECISION'!AV$157,\")\"),'TABLA DE DECISION'!AV176)","v":""},{"$f":"IF('TABLA DE DECISION'!AW176='TABLA DE DECISION'!AW$157,CONCATENATE($B22,\"(\",'TABLA DE DECISION'!AW$157,\")\"),'TABLA DE DECISION'!AW176)","v":""},{"$f":"IF('TABLA DE DECISION'!AX176='TABLA DE DECISION'!AX$157,CONCATENATE($B22,\"(\",'TABLA DE DECISION'!AX$157,\")\"),'TABLA DE DECISION'!AX176)","v":""},{"$f":"IF('TABLA DE DECISION'!AY176='TABLA DE DECISION'!AY$157,CONCATENATE($B22,\"(\",'TABLA DE DECISION'!AY$157,\")\"),'TABLA DE DECISION'!AY176)","v":""},{"$f":"IF('TABLA DE DECISION'!AZ176='TABLA DE DECISION'!AZ$157,CONCATENATE($B22,\"(\",'TABLA DE DECISION'!AZ$157,\")\"),'TABLA DE DECISION'!AZ176)","v":""},{"$f":"IF('TABLA DE DECISION'!BA176='TABLA DE DECISION'!BA$157,CONCATENATE($B22,\"(\",'TABLA DE DECISION'!BA$157,\")\"),'TABLA DE DECISION'!BA176)","v":""},{"$f":"IF('TABLA DE DECISION'!BB176='TABLA DE DECISION'!BB$157,CONCATENATE($B22,\"(\",'TABLA DE DECISION'!BB$157,\")\"),'TABLA DE DECISION'!BB176)","v":""},{"$f":"IF('TABLA DE DECISION'!BC176='TABLA DE DECISION'!BC$157,CONCATENATE($B22,\"(\",'TABLA DE DECISION'!BC$157,\")\"),'TABLA DE DECISION'!BC176)","v":""},{"$f":"IF('TABLA DE DECISION'!BD176='TABLA DE DECISION'!BD$157,CONCATENATE($B22,\"(\",'TABLA DE DECISION'!BD$157,\")\"),'TABLA DE DECISION'!BD176)","v":""}]
[{"$f":"IF('TABLA DE DECISION'!BF177=\"\",\"\",'TABLA DE DECISION'!BF177)","v":""},{"$f":"'TABLA DE DECISION'!BG177","v":"a19"},{"$f":"IF('TABLA DE DECISION'!A177='TABLA DE DECISION'!A$157,CONCATENATE($B23,\"(\",'TABLA DE DECISION'!A$157,\")\"),'TABLA DE DECISION'!A177)","v":""},{"$f":"IF('TABLA DE DECISION'!B177='TABLA DE DECISION'!B$157,CONCATENATE($B23,\"(\",'TABLA DE DECISION'!B$157,\")\"),'TABLA DE DECISION'!B177)","v":""},{"$f":"IF('TABLA DE DECISION'!C177='TABLA DE DECISION'!C$157,CONCATENATE($B23,\"(\",'TABLA DE DECISION'!C$157,\")\"),'TABLA DE DECISION'!C177)","v":""},{"$f":"IF('TABLA DE DECISION'!D177='TABLA DE DECISION'!D$157,CONCATENATE($B23,\"(\",'TABLA DE DECISION'!D$157,\")\"),'TABLA DE DECISION'!D177)","v":""},{"$f":"IF('TABLA DE DECISION'!E177='TABLA DE DECISION'!E$157,CONCATENATE($B23,\"(\",'TABLA DE DECISION'!E$157,\")\"),'TABLA DE DECISION'!E177)","v":""},{"$f":"IF('MATRIZ-PÉRDIDA OPORTUNIDAD'!BB21='MATRIZ-PÉRDIDA OPORTUNIDAD'!BB$2,CONCATENATE($B23,\"(\",'MATRIZ-PÉRDIDA OPORTUNIDAD'!BB$2,\")\"),'MATRIZ-PÉRDIDA OPORTUNIDAD'!BB21)","v":""},{"$f":"IF('TABLA DE DECISION'!G177='TABLA DE DECISION'!G$157,CONCATENATE($B23,\"(\",'TABLA DE DECISION'!G$157,\")\"),'TABLA DE DECISION'!G177)","v":""},{"$f":"IF('TABLA DE DECISION'!H177='TABLA DE DECISION'!H$157,CONCATENATE($B23,\"(\",'TABLA DE DECISION'!H$157,\")\"),'TABLA DE DECISION'!H177)","v":""},{"$f":"IF('TABLA DE DECISION'!I177='TABLA DE DECISION'!I$157,CONCATENATE($B23,\"(\",'TABLA DE DECISION'!I$157,\")\"),'TABLA DE DECISION'!I177)","v":""},{"$f":"IF('TABLA DE DECISION'!J177='TABLA DE DECISION'!J$157,CONCATENATE($B23,\"(\",'TABLA DE DECISION'!J$157,\")\"),'TABLA DE DECISION'!J177)","v":""},{"$f":"IF('TABLA DE DECISION'!K177='TABLA DE DECISION'!K$157,CONCATENATE($B23,\"(\",'TABLA DE DECISION'!K$157,\")\"),'TABLA DE DECISION'!K177)","v":""},{"$f":"IF('TABLA DE DECISION'!L177='TABLA DE DECISION'!L$157,CONCATENATE($B23,\"(\",'TABLA DE DECISION'!L$157,\")\"),'TABLA DE DECISION'!L177)","v":""},{"$f":"IF('TABLA DE DECISION'!M177='TABLA DE DECISION'!M$157,CONCATENATE($B23,\"(\",'TABLA DE DECISION'!M$157,\")\"),'TABLA DE DECISION'!M177)","v":""},{"$f":"IF('TABLA DE DECISION'!N177='TABLA DE DECISION'!N$157,CONCATENATE($B23,\"(\",'TABLA DE DECISION'!N$157,\")\"),'TABLA DE DECISION'!N177)","v":""},{"$f":"IF('TABLA DE DECISION'!O177='TABLA DE DECISION'!O$157,CONCATENATE($B23,\"(\",'TABLA DE DECISION'!O$157,\")\"),'TABLA DE DECISION'!O177)","v":""},{"$f":"IF('TABLA DE DECISION'!P177='TABLA DE DECISION'!P$157,CONCATENATE($B23,\"(\",'TABLA DE DECISION'!P$157,\")\"),'TABLA DE DECISION'!P177)","v":""},{"$f":"IF('TABLA DE DECISION'!Q177='TABLA DE DECISION'!Q$157,CONCATENATE($B23,\"(\",'TABLA DE DECISION'!Q$157,\")\"),'TABLA DE DECISION'!Q177)","v":""},{"$f":"IF('TABLA DE DECISION'!R177='TABLA DE DECISION'!R$157,CONCATENATE($B23,\"(\",'TABLA DE DECISION'!R$157,\")\"),'TABLA DE DECISION'!R177)","v":""},{"$f":"IF('TABLA DE DECISION'!S177='TABLA DE DECISION'!S$157,CONCATENATE($B23,\"(\",'TABLA DE DECISION'!S$157,\")\"),'TABLA DE DECISION'!S177)","v":""},{"$f":"IF('TABLA DE DECISION'!T177='TABLA DE DECISION'!T$157,CONCATENATE($B23,\"(\",'TABLA DE DECISION'!T$157,\")\"),'TABLA DE DECISION'!T177)","v":""},{"$f":"IF('TABLA DE DECISION'!U177='TABLA DE DECISION'!U$157,CONCATENATE($B23,\"(\",'TABLA DE DECISION'!U$157,\")\"),'TABLA DE DECISION'!U177)","v":""},{"$f":"IF('TABLA DE DECISION'!V177='TABLA DE DECISION'!V$157,CONCATENATE($B23,\"(\",'TABLA DE DECISION'!V$157,\")\"),'TABLA DE DECISION'!V177)","v":""},{"$f":"IF('TABLA DE DECISION'!W177='TABLA DE DECISION'!W$157,CONCATENATE($B23,\"(\",'TABLA DE DECISION'!W$157,\")\"),'TABLA DE DECISION'!W177)","v":""},{"$f":"IF('TABLA DE DECISION'!X177='TABLA DE DECISION'!X$157,CONCATENATE($B23,\"(\",'TABLA DE DECISION'!X$157,\")\"),'TABLA DE DECISION'!X177)","v":""},{"$f":"IF('TABLA DE DECISION'!Y177='TABLA DE DECISION'!Y$157,CONCATENATE($B23,\"(\",'TABLA DE DECISION'!Y$157,\")\"),'TABLA DE DECISION'!Y177)","v":""},{"$f":"IF('TABLA DE DECISION'!Z177='TABLA DE DECISION'!Z$157,CONCATENATE($B23,\"(\",'TABLA DE DECISION'!Z$157,\")\"),'TABLA DE DECISION'!Z177)","v":""},{"$f":"IF('TABLA DE DECISION'!AA177='TABLA DE DECISION'!AA$157,CONCATENATE($B23,\"(\",'TABLA DE DECISION'!AA$157,\")\"),'TABLA DE DECISION'!AA177)","v":""},{"$f":"IF('TABLA DE DECISION'!AB177='TABLA DE DECISION'!AB$157,CONCATENATE($B23,\"(\",'TABLA DE DECISION'!AB$157,\")\"),'TABLA DE DECISION'!AB177)","v":""},{"$f":"IF('TABLA DE DECISION'!AC177='TABLA DE DECISION'!AC$157,CONCATENATE($B23,\"(\",'TABLA DE DECISION'!AC$157,\")\"),'TABLA DE DECISION'!AC177)","v":""},{"$f":"IF('TABLA DE DECISION'!AD177='TABLA DE DECISION'!AD$157,CONCATENATE($B23,\"(\",'TABLA DE DECISION'!AD$157,\")\"),'TABLA DE DECISION'!AD177)","v":""},{"$f":"IF('TABLA DE DECISION'!AE177='TABLA DE DECISION'!AE$157,CONCATENATE($B23,\"(\",'TABLA DE DECISION'!AE$157,\")\"),'TABLA DE DECISION'!AE177)","v":""},{"$f":"IF('TABLA DE DECISION'!AF177='TABLA DE DECISION'!AF$157,CONCATENATE($B23,\"(\",'TABLA DE DECISION'!AF$157,\")\"),'TABLA DE DECISION'!AF177)","v":""},{"$f":"IF('TABLA DE DECISION'!AG177='TABLA DE DECISION'!AG$157,CONCATENATE($B23,\"(\",'TABLA DE DECISION'!AG$157,\")\"),'TABLA DE DECISION'!AG177)","v":""},{"$f":"IF('TABLA DE DECISION'!AH177='TABLA DE DECISION'!AH$157,CONCATENATE($B23,\"(\",'TABLA DE DECISION'!AH$157,\")\"),'TABLA DE DECISION'!AH177)","v":""},{"$f":"IF('TABLA DE DECISION'!AI177='TABLA DE DECISION'!AI$157,CONCATENATE($B23,\"(\",'TABLA DE DECISION'!AI$157,\")\"),'TABLA DE DECISION'!AI177)","v":""},{"$f":"IF('TABLA DE DECISION'!AJ177='TABLA DE DECISION'!AJ$157,CONCATENATE($B23,\"(\",'TABLA DE DECISION'!AJ$157,\")\"),'TABLA DE DECISION'!AJ177)","v":""},{"$f":"IF('TABLA DE DECISION'!AK177='TABLA DE DECISION'!AK$157,CONCATENATE($B23,\"(\",'TABLA DE DECISION'!AK$157,\")\"),'TABLA DE DECISION'!AK177)","v":""},{"$f":"IF('TABLA DE DECISION'!AL177='TABLA DE DECISION'!AL$157,CONCATENATE($B23,\"(\",'TABLA DE DECISION'!AL$157,\")\"),'TABLA DE DECISION'!AL177)","v":""},{"$f":"IF('TABLA DE DECISION'!AM177='TABLA DE DECISION'!AM$157,CONCATENATE($B23,\"(\",'TABLA DE DECISION'!AM$157,\")\"),'TABLA DE DECISION'!AM177)","v":""},{"$f":"IF('TABLA DE DECISION'!AN177='TABLA DE DECISION'!AN$157,CONCATENATE($B23,\"(\",'TABLA DE DECISION'!AN$157,\")\"),'TABLA DE DECISION'!AN177)","v":""},{"$f":"IF('TABLA DE DECISION'!AO177='TABLA DE DECISION'!AO$157,CONCATENATE($B23,\"(\",'TABLA DE DECISION'!AO$157,\")\"),'TABLA DE DECISION'!AO177)","v":""},{"$f":"IF('TABLA DE DECISION'!AP177='TABLA DE DECISION'!AP$157,CONCATENATE($B23,\"(\",'TABLA DE DECISION'!AP$157,\")\"),'TABLA DE DECISION'!AP177)","v":""},{"$f":"IF('TABLA DE DECISION'!AQ177='TABLA DE DECISION'!AQ$157,CONCATENATE($B23,\"(\",'TABLA DE DECISION'!AQ$157,\")\"),'TABLA DE DECISION'!AQ177)","v":""},{"$f":"IF('TABLA DE DECISION'!AR177='TABLA DE DECISION'!AR$157,CONCATENATE($B23,\"(\",'TABLA DE DECISION'!AR$157,\")\"),'TABLA DE DECISION'!AR177)","v":""},{"$f":"IF('TABLA DE DECISION'!AS177='TABLA DE DECISION'!AS$157,CONCATENATE($B23,\"(\",'TABLA DE DECISION'!AS$157,\")\"),'TABLA DE DECISION'!AS177)","v":""},{"$f":"IF('TABLA DE DECISION'!AT177='TABLA DE DECISION'!AT$157,CONCATENATE($B23,\"(\",'TABLA DE DECISION'!AT$157,\")\"),'TABLA DE DECISION'!AT177)","v":""},{"$f":"IF('TABLA DE DECISION'!AU177='TABLA DE DECISION'!AU$157,CONCATENATE($B23,\"(\",'TABLA DE DECISION'!AU$157,\")\"),'TABLA DE DECISION'!AU177)","v":""},{"$f":"IF('TABLA DE DECISION'!AV177='TABLA DE DECISION'!AV$157,CONCATENATE($B23,\"(\",'TABLA DE DECISION'!AV$157,\")\"),'TABLA DE DECISION'!AV177)","v":""},{"$f":"IF('TABLA DE DECISION'!AW177='TABLA DE DECISION'!AW$157,CONCATENATE($B23,\"(\",'TABLA DE DECISION'!AW$157,\")\"),'TABLA DE DECISION'!AW177)","v":""},{"$f":"IF('TABLA DE DECISION'!AX177='TABLA DE DECISION'!AX$157,CONCATENATE($B23,\"(\",'TABLA DE DECISION'!AX$157,\")\"),'TABLA DE DECISION'!AX177)","v":""},{"$f":"IF('TABLA DE DECISION'!AY177='TABLA DE DECISION'!AY$157,CONCATENATE($B23,\"(\",'TABLA DE DECISION'!AY$157,\")\"),'TABLA DE DECISION'!AY177)","v":""},{"$f":"IF('TABLA DE DECISION'!AZ177='TABLA DE DECISION'!AZ$157,CONCATENATE($B23,\"(\",'TABLA DE DECISION'!AZ$157,\")\"),'TABLA DE DECISION'!AZ177)","v":""},{"$f":"IF('TABLA DE DECISION'!BA177='TABLA DE DECISION'!BA$157,CONCATENATE($B23,\"(\",'TABLA DE DECISION'!BA$157,\")\"),'TABLA DE DECISION'!BA177)","v":""},{"$f":"IF('TABLA DE DECISION'!BB177='TABLA DE DECISION'!BB$157,CONCATENATE($B23,\"(\",'TABLA DE DECISION'!BB$157,\")\"),'TABLA DE DECISION'!BB177)","v":""},{"$f":"IF('TABLA DE DECISION'!BC177='TABLA DE DECISION'!BC$157,CONCATENATE($B23,\"(\",'TABLA DE DECISION'!BC$157,\")\"),'TABLA DE DECISION'!BC177)","v":""},{"$f":"IF('TABLA DE DECISION'!BD177='TABLA DE DECISION'!BD$157,CONCATENATE($B23,\"(\",'TABLA DE DECISION'!BD$157,\")\"),'TABLA DE DECISION'!BD177)","v":""}]
[{"$f":"IF('TABLA DE DECISION'!BF178=\"\",\"\",'TABLA DE DECISION'!BF178)","v":""},{"$f":"'TABLA DE DECISION'!BG178","v":"a20"},{"$f":"IF('TABLA DE DECISION'!A178='TABLA DE DECISION'!A$157,CONCATENATE($B24,\"(\",'TABLA DE DECISION'!A$157,\")\"),'TABLA DE DECISION'!A178)","v":""},{"$f":"IF('TABLA DE DECISION'!B178='TABLA DE DECISION'!B$157,CONCATENATE($B24,\"(\",'TABLA DE DECISION'!B$157,\")\"),'TABLA DE DECISION'!B178)","v":""},{"$f":"IF('TABLA DE DECISION'!C178='TABLA DE DECISION'!C$157,CONCATENATE($B24,\"(\",'TABLA DE DECISION'!C$157,\")\"),'TABLA DE DECISION'!C178)","v":""},{"$f":"IF('TABLA DE DECISION'!D178='TABLA DE DECISION'!D$157,CONCATENATE($B24,\"(\",'TABLA DE DECISION'!D$157,\")\"),'TABLA DE DECISION'!D178)","v":""},{"$f":"IF('TABLA DE DECISION'!E178='TABLA DE DECISION'!E$157,CONCATENATE($B24,\"(\",'TABLA DE DECISION'!E$157,\")\"),'TABLA DE DECISION'!E178)","v":""},{"$f":"IF('MATRIZ-PÉRDIDA OPORTUNIDAD'!BB22='MATRIZ-PÉRDIDA OPORTUNIDAD'!BB$2,CONCATENATE($B24,\"(\",'MATRIZ-PÉRDIDA OPORTUNIDAD'!BB$2,\")\"),'MATRIZ-PÉRDIDA OPORTUNIDAD'!BB22)","v":""},{"$f":"IF('TABLA DE DECISION'!G178='TABLA DE DECISION'!G$157,CONCATENATE($B24,\"(\",'TABLA DE DECISION'!G$157,\")\"),'TABLA DE DECISION'!G178)","v":""},{"$f":"IF('TABLA DE DECISION'!H178='TABLA DE DECISION'!H$157,CONCATENATE($B24,\"(\",'TABLA DE DECISION'!H$157,\")\"),'TABLA DE DECISION'!H178)","v":""},{"$f":"IF('TABLA DE DECISION'!I178='TABLA DE DECISION'!I$157,CONCATENATE($B24,\"(\",'TABLA DE DECISION'!I$157,\")\"),'TABLA DE DECISION'!I178)","v":""},{"$f":"IF('TABLA DE DECISION'!J178='TABLA DE DECISION'!J$157,CONCATENATE($B24,\"(\",'TABLA DE DECISION'!J$157,\")\"),'TABLA DE DECISION'!J178)","v":""},{"$f":"IF('TABLA DE DECISION'!K178='TABLA DE DECISION'!K$157,CONCATENATE($B24,\"(\",'TABLA DE DECISION'!K$157,\")\"),'TABLA DE DECISION'!K178)","v":""},{"$f":"IF('TABLA DE DECISION'!L178='TABLA DE DECISION'!L$157,CONCATENATE($B24,\"(\",'TABLA DE DECISION'!L$157,\")\"),'TABLA DE DECISION'!L178)","v":""},{"$f":"IF('TABLA DE DECISION'!M178='TABLA DE DECISION'!M$157,CONCATENATE($B24,\"(\",'TABLA DE DECISION'!M$157,\")\"),'TABLA DE DECISION'!M178)","v":""},{"$f":"IF('TABLA DE DECISION'!N178='TABLA DE DECISION'!N$157,CONCATENATE($B24,\"(\",'TABLA DE DECISION'!N$157,\")\"),'TABLA DE DECISION'!N178)","v":""},{"$f":"IF('TABLA DE DECISION'!O178='TABLA DE DECISION'!O$157,CONCATENATE($B24,\"(\",'TABLA DE DECISION'!O$157,\")\"),'TABLA DE DECISION'!O178)","v":""},{"$f":"IF('TABLA DE DECISION'!P178='TABLA DE DECISION'!P$157,CONCATENATE($B24,\"(\",'TABLA DE DECISION'!P$157,\")\"),'TABLA DE DECISION'!P178)","v":""},{"$f":"IF('TABLA DE DECISION'!Q178='TABLA DE DECISION'!Q$157,CONCATENATE($B24,\"(\",'TABLA DE DECISION'!Q$157,\")\"),'TABLA DE DECISION'!Q178)","v":""},{"$f":"IF('TABLA DE DECISION'!R178='TABLA DE DECISION'!R$157,CONCATENATE($B24,\"(\",'TABLA DE DECISION'!R$157,\")\"),'TABLA DE DECISION'!R178)","v":""},{"$f":"IF('TABLA DE DECISION'!S178='TABLA DE DECISION'!S$157,CONCATENATE($B24,\"(\",'TABLA DE DECISION'!S$157,\")\"),'TABLA DE DECISION'!S178)","v":""},{"$f":"IF('TABLA DE DECISION'!T178='TABLA DE DECISION'!T$157,CONCATENATE($B24,\"(\",'TABLA DE DECISION'!T$157,\")\"),'TABLA DE DECISION'!T178)","v":""},{"$f":"IF('TABLA DE DECISION'!U178='TABLA DE DECISION'!U$157,CONCATENATE($B24,\"(\",'TABLA DE DECISION'!U$157,\")\"),'TABLA DE DECISION'!U178)","v":""},{"$f":"IF('TABLA DE DECISION'!V178='TABLA DE DECISION'!V$157,CONCATENATE($B24,\"(\",'TABLA DE DECISION'!V$157,\")\"),'TABLA DE DECISION'!V178)","v":""},{"$f":"IF('TABLA DE DECISION'!W178='TABLA DE DECISION'!W$157,CONCATENATE($B24,\"(\",'TABLA DE DECISION'!W$157,\")\"),'TABLA DE DECISION'!W178)","v":""},{"$f":"IF('TABLA DE DECISION'!X178='TABLA DE DECISION'!X$157,CONCATENATE($B24,\"(\",'TABLA DE DECISION'!X$157,\")\"),'TABLA DE DECISION'!X178)","v":""},{"$f":"IF('TABLA DE DECISION'!Y178='TABLA DE DECISION'!Y$157,CONCATENATE($B24,\"(\",'TABLA DE DECISION'!Y$157,\")\"),'TABLA DE DECISION'!Y178)","v":""},{"$f":"IF('TABLA DE DECISION'!Z178='TABLA DE DECISION'!Z$157,CONCATENATE($B24,\"(\",'TABLA DE DECISION'!Z$157,\")\"),'TABLA DE DECISION'!Z178)","v":""},{"$f":"IF('TABLA DE DECISION'!AA178='TABLA DE DECISION'!AA$157,CONCATENATE($B24,\"(\",'TABLA DE DECISION'!AA$157,\")\"),'TABLA DE DECISION'!AA178)","v":""},{"$f":"IF('TABLA DE DECISION'!AB178='TABLA DE DECISION'!AB$157,CONCATENATE($B24,\"(\",'TABLA DE DECISION'!AB$157,\")\"),'TABLA DE DECISION'!AB178)","v":""},{"$f":"IF('TABLA DE DECISION'!AC178='TABLA DE DECISION'!AC$157,CONCATENATE($B24,\"(\",'TABLA DE DECISION'!AC$157,\")\"),'TABLA DE DECISION'!AC178)","v":""},{"$f":"IF('TABLA DE DECISION'!AD178='TABLA DE DECISION'!AD$157,CONCATENATE($B24,\"(\",'TABLA DE DECISION'!AD$157,\")\"),'TABLA DE DECISION'!AD178)","v":""},{"$f":"IF('TABLA DE DECISION'!AE178='TABLA DE DECISION'!AE$157,CONCATENATE($B24,\"(\",'TABLA DE DECISION'!AE$157,\")\"),'TABLA DE DECISION'!AE178)","v":""},{"$f":"IF('TABLA DE DECISION'!AF178='TABLA DE DECISION'!AF$157,CONCATENATE($B24,\"(\",'TABLA DE DECISION'!AF$157,\")\"),'TABLA DE DECISION'!AF178)","v":""},{"$f":"IF('TABLA DE DECISION'!AG178='TABLA DE DECISION'!AG$157,CONCATENATE($B24,\"(\",'TABLA DE DECISION'!AG$157,\")\"),'TABLA DE DECISION'!AG178)","v":""},{"$f":"IF('TABLA DE DECISION'!AH178='TABLA DE DECISION'!AH$157,CONCATENATE($B24,\"(\",'TABLA DE DECISION'!AH$157,\")\"),'TABLA DE DECISION'!AH178)","v":""},{"$f":"IF('TABLA DE DECISION'!AI178='TABLA DE DECISION'!AI$157,CONCATENATE($B24,\"(\",'TABLA DE DECISION'!AI$157,\")\"),'TABLA DE DECISION'!AI178)","v":""},{"$f":"IF('TABLA DE DECISION'!AJ178='TABLA DE DECISION'!AJ$157,CONCATENATE($B24,\"(\",'TABLA DE DECISION'!AJ$157,\")\"),'TABLA DE DECISION'!AJ178)","v":""},{"$f":"IF('TABLA DE DECISION'!AK178='TABLA DE DECISION'!AK$157,CONCATENATE($B24,\"(\",'TABLA DE DECISION'!AK$157,\")\"),'TABLA DE DECISION'!AK178)","v":""},{"$f":"IF('TABLA DE DECISION'!AL178='TABLA DE DECISION'!AL$157,CONCATENATE($B24,\"(\",'TABLA DE DECISION'!AL$157,\")\"),'TABLA DE DECISION'!AL178)","v":""},{"$f":"IF('TABLA DE DECISION'!AM178='TABLA DE DECISION'!AM$157,CONCATENATE($B24,\"(\",'TABLA DE DECISION'!AM$157,\")\"),'TABLA DE DECISION'!AM178)","v":""},{"$f":"IF('TABLA DE DECISION'!AN178='TABLA DE DECISION'!AN$157,CONCATENATE($B24,\"(\",'TABLA DE DECISION'!AN$157,\")\"),'TABLA DE DECISION'!AN178)","v":""},{"$f":"IF('TABLA DE DECISION'!AO178='TABLA DE DECISION'!AO$157,CONCATENATE($B24,\"(\",'TABLA DE DECISION'!AO$157,\")\"),'TABLA DE DECISION'!AO178)","v":""},{"$f":"IF('TABLA DE DECISION'!AP178='TABLA DE DECISION'!AP$157,CONCATENATE($B24,\"(\",'TABLA DE DECISION'!AP$157,\")\"),'TABLA DE DECISION'!AP178)","v":""},{"$f":"IF('TABLA DE DECISION'!AQ178='TABLA DE DECISION'!AQ$157,CONCATENATE($B24,\"(\",'TABLA DE DECISION'!AQ$157,\")\"),'TABLA DE DECISION'!AQ178)","v":""},{"$f":"IF('TABLA DE DECISION'!AR178='TABLA DE DECISION'!AR$157,CONCATENATE($B24,\"(\",'TABLA DE DECISION'!AR$157,\")\"),'TABLA DE DECISION'!AR178)","v":""},{"$f":"IF('TABLA DE DECISION'!AS178='TABLA DE DECISION'!AS$157,CONCATENATE($B24,\"(\",'TABLA DE DECISION'!AS$157,\")\"),'TABLA DE DECISION'!AS178)","v":""},{"$f":"IF('TABLA DE DECISION'!AT178='TABLA DE DECISION'!AT$157,CONCATENATE($B24,\"(\",'TABLA DE DECISION'!AT$157,\")\"),'TABLA DE DECISION'!AT178)","v":""},{"$f":"IF('TABLA DE DECISION'!AU178='TABLA DE DECISION'!AU$157,CONCATENATE($B24,\"(\",'TABLA DE DECISION'!AU$157,\")\"),'TABLA DE DECISION'!AU178)","v":""},{"$f":"IF('TABLA DE DECISION'!AV178='TABLA DE DECISION'!AV$157,CONCATENATE($B24,\"(\",'TABLA DE DECISION'!AV$157,\")\"),'TABLA DE DECISION'!AV178)","v":""},{"$f":"IF('TABLA DE DECISION'!AW178='TABLA DE DECISION'!AW$157,CONCATENATE($B24,\"(\",'TABLA DE DECISION'!AW$157,\")\"),'TABLA DE DECISION'!AW178)","v":""},{"$f":"IF('TABLA DE DECISION'!AX178='TABLA DE DECISION'!AX$157,CONCATENATE($B24,\"(\",'TABLA DE DECISION'!AX$157,\")\"),'TABLA DE DECISION'!AX178)","v":""},{"$f":"IF('TABLA DE DECISION'!AY178='TABLA DE DECISION'!AY$157,CONCATENATE($B24,\"(\",'TABLA DE DECISION'!AY$157,\")\"),'TABLA DE DECISION'!AY178)","v":""},{"$f":"IF('TABLA DE DECISION'!AZ178='TABLA DE DECISION'!AZ$157,CONCATENATE($B24,\"(\",'TABLA DE DECISION'!AZ$157,\")\"),'TABLA DE DECISION'!AZ178)","v":""},{"$f":"IF('TABLA DE DECISION'!BA178='TABLA DE DECISION'!BA$157,CONCATENATE($B24,\"(\",'TABLA DE DECISION'!BA$157,\")\"),'TABLA DE DECISION'!BA178)","v":""},{"$f":"IF('TABLA DE DECISION'!BB178='TABLA DE DECISION'!BB$157,CONCATENATE($B24,\"(\",'TABLA DE DECISION'!BB$157,\")\"),'TABLA DE DECISION'!BB178)","v":""},{"$f":"IF('TABLA DE DECISION'!BC178='TABLA DE DECISION'!BC$157,CONCATENATE($B24,\"(\",'TABLA DE DECISION'!BC$157,\")\"),'TABLA DE DECISION'!BC178)","v":""},{"$f":"IF('TABLA DE DECISION'!BD178='TABLA DE DECISION'!BD$157,CONCATENATE($B24,\"(\",'TABLA DE DECISION'!BD$157,\")\"),'TABLA DE DECISION'!BD178)","v":""}]
[{"$f":"IF('TABLA DE DECISION'!BF179=\"\",\"\",'TABLA DE DECISION'!BF179)","v":""},{"$f":"'TABLA DE DECISION'!BG179","v":"a21"},{"$f":"IF('TABLA DE DECISION'!A179='TABLA DE DECISION'!A$157,CONCATENATE($B25,\"(\",'TABLA DE DECISION'!A$157,\")\"),'TABLA DE DECISION'!A179)","v":""},{"$f":"IF('TABLA DE DECISION'!B179='TABLA DE DECISION'!B$157,CONCATENATE($B25,\"(\",'TABLA DE DECISION'!B$157,\")\"),'TABLA DE DECISION'!B179)","v":""},{"$f":"IF('TABLA DE DECISION'!C179='TABLA DE DECISION'!C$157,CONCATENATE($B25,\"(\",'TABLA DE DECISION'!C$157,\")\"),'TABLA DE DECISION'!C179)","v":""},{"$f":"IF('TABLA DE DECISION'!D179='TABLA DE DECISION'!D$157,CONCATENATE($B25,\"(\",'TABLA DE DECISION'!D$157,\")\"),'TABLA DE DECISION'!D179)","v":""},{"$f":"IF('TABLA DE DECISION'!E179='TABLA DE DECISION'!E$157,CONCATENATE($B25,\"(\",'TABLA DE DECISION'!E$157,\")\"),'TABLA DE DECISION'!E179)","v":""},{"$f":"IF('MATRIZ-PÉRDIDA OPORTUNIDAD'!BB23='MATRIZ-PÉRDIDA OPORTUNIDAD'!BB$2,CONCATENATE($B25,\"(\",'MATRIZ-PÉRDIDA OPORTUNIDAD'!BB$2,\")\"),'MATRIZ-PÉRDIDA OPORTUNIDAD'!BB23)","v":""},{"$f":"IF('TABLA DE DECISION'!G179='TABLA DE DECISION'!G$157,CONCATENATE($B25,\"(\",'TABLA DE DECISION'!G$157,\")\"),'TABLA DE DECISION'!G179)","v":""},{"$f":"IF('TABLA DE DECISION'!H179='TABLA DE DECISION'!H$157,CONCATENATE($B25,\"(\",'TABLA DE DECISION'!H$157,\")\"),'TABLA DE DECISION'!H179)","v":""},{"$f":"IF('TABLA DE DECISION'!I179='TABLA DE DECISION'!I$157,CONCATENATE($B25,\"(\",'TABLA DE DECISION'!I$157,\")\"),'TABLA DE DECISION'!I179)","v":""},{"$f":"IF('TABLA DE DECISION'!J179='TABLA DE DECISION'!J$157,CONCATENATE($B25,\"(\",'TABLA DE DECISION'!J$157,\")\"),'TABLA DE DECISION'!J179)","v":""},{"$f":"IF('TABLA DE DECISION'!K179='TABLA DE DECISION'!K$157,CONCATENATE($B25,\"(\",'TABLA DE DECISION'!K$157,\")\"),'TABLA DE DECISION'!K179)","v":""},{"$f":"IF('TABLA DE DECISION'!L179='TABLA DE DECISION'!L$157,CONCATENATE($B25,\"(\",'TABLA DE DECISION'!L$157,\")\"),'TABLA DE DECISION'!L179)","v":""},{"$f":"IF('TABLA DE DECISION'!M179='TABLA DE DECISION'!M$157,CONCATENATE($B25,\"(\",'TABLA DE DECISION'!M$157,\")\"),'TABLA DE DECISION'!M179)","v":""},{"$f":"IF('TABLA DE DECISION'!N179='TABLA DE DECISION'!N$157,CONCATENATE($B25,\"(\",'TABLA DE DECISION'!N$157,\")\"),'TABLA DE DECISION'!N179)","v":""},{"$f":"IF('TABLA DE DECISION'!O179='TABLA DE DECISION'!O$157,CONCATENATE($B25,\"(\",'TABLA DE DECISION'!O$157,\")\"),'TABLA DE DECISION'!O179)","v":""},{"$f":"IF('TABLA DE DECISION'!P179='TABLA DE DECISION'!P$157,CONCATENATE($B25,\"(\",'TABLA DE DECISION'!P$157,\")\"),'TABLA DE DECISION'!P179)","v":""},{"$f":"IF('TABLA DE DECISION'!Q179='TABLA DE DECISION'!Q$157,CONCATENATE($B25,\"(\",'TABLA DE DECISION'!Q$157,\")\"),'TABLA DE DECISION'!Q179)","v":""},{"$f":"IF('TABLA DE DECISION'!R179='TABLA DE DECISION'!R$157,CONCATENATE($B25,\"(\",'TABLA DE DECISION'!R$157,\")\"),'TABLA DE DECISION'!R179)","v":""},{"$f":"IF('TABLA DE DECISION'!S179='TABLA DE DECISION'!S$157,CONCATENATE($B25,\"(\",'TABLA DE DECISION'!S$157,\")\"),'TABLA DE DECISION'!S179)","v":""},{"$f":"IF('TABLA DE DECISION'!T179='TABLA DE DECISION'!T$157,CONCATENATE($B25,\"(\",'TABLA DE DECISION'!T$157,\")\"),'TABLA DE DECISION'!T179)","v":""},{"$f":"IF('TABLA DE DECISION'!U179='TABLA DE DECISION'!U$157,CONCATENATE($B25,\"(\",'TABLA DE DECISION'!U$157,\")\"),'TABLA DE DECISION'!U179)","v":""},{"$f":"IF('TABLA DE DECISION'!V179='TABLA DE DECISION'!V$157,CONCATENATE($B25,\"(\",'TABLA DE DECISION'!V$157,\")\"),'TABLA DE DECISION'!V179)","v":""},{"$f":"IF('TABLA DE DECISION'!W179='TABLA DE DECISION'!W$157,CONCATENATE($B25,\"(\",'TABLA DE DECISION'!W$157,\")\"),'TABLA DE DECISION'!W179)","v":""},{"$f":"IF('TABLA DE DECISION'!X179='TABLA DE DECISION'!X$157,CONCATENATE($B25,\"(\",'TABLA DE DECISION'!X$157,\")\"),'TABLA DE DECISION'!X179)","v":""},{"$f":"IF('TABLA DE DECISION'!Y179='TABLA DE DECISION'!Y$157,CONCATENATE($B25,\"(\",'TABLA DE DECISION'!Y$157,\")\"),'TABLA DE DECISION'!Y179)","v":""},{"$f":"IF('TABLA DE DECISION'!Z179='TABLA DE DECISION'!Z$157,CONCATENATE($B25,\"(\",'TABLA DE DECISION'!Z$157,\")\"),'TABLA DE DECISION'!Z179)","v":""},{"$f":"IF('TABLA DE DECISION'!AA179='TABLA DE DECISION'!AA$157,CONCATENATE($B25,\"(\",'TABLA DE DECISION'!AA$157,\")\"),'TABLA DE DECISION'!AA179)","v":""},{"$f":"IF('TABLA DE DECISION'!AB179='TABLA DE DECISION'!AB$157,CONCATENATE($B25,\"(\",'TABLA DE DECISION'!AB$157,\")\"),'TABLA DE DECISION'!AB179)","v":""},{"$f":"IF('TABLA DE DECISION'!AC179='TABLA DE DECISION'!AC$157,CONCATENATE($B25,\"(\",'TABLA DE DECISION'!AC$157,\")\"),'TABLA DE DECISION'!AC179)","v":""},{"$f":"IF('TABLA DE DECISION'!AD179='TABLA DE DECISION'!AD$157,CONCATENATE($B25,\"(\",'TABLA DE DECISION'!AD$157,\")\"),'TABLA DE DECISION'!AD179)","v":""},{"$f":"IF('TABLA DE DECISION'!AE179='TABLA DE DECISION'!AE$157,CONCATENATE($B25,\"(\",'TABLA DE DECISION'!AE$157,\")\"),'TABLA DE DECISION'!AE179)","v":""},{"$f":"IF('TABLA DE DECISION'!AF179='TABLA DE DECISION'!AF$157,CONCATENATE($B25,\"(\",'TABLA DE DECISION'!AF$157,\")\"),'TABLA DE DECISION'!AF179)","v":""},{"$f":"IF('TABLA DE DECISION'!AG179='TABLA DE DECISION'!AG$157,CONCATENATE($B25,\"(\",'TABLA DE DECISION'!AG$157,\")\"),'TABLA DE DECISION'!AG179)","v":""},{"$f":"IF('TABLA DE DECISION'!AH179='TABLA DE DECISION'!AH$157,CONCATENATE($B25,\"(\",'TABLA DE DECISION'!AH$157,\")\"),'TABLA DE DECISION'!AH179)","v":""},{"$f":"IF('TABLA DE DECISION'!AI179='TABLA DE DECISION'!AI$157,CONCATENATE($B25,\"(\",'TABLA DE DECISION'!AI$157,\")\"),'TABLA DE DECISION'!AI179)","v":""},{"$f":"IF('TABLA DE DECISION'!AJ179='TABLA DE DECISION'!AJ$157,CONCATENATE($B25,\"(\",'TABLA DE DECISION'!AJ$157,\")\"),'TABLA DE DECISION'!AJ179)","v":""},{"$f":"IF('TABLA DE DECISION'!AK179='TABLA DE DECISION'!AK$157,CONCATENATE($B25,\"(\",'TABLA DE DECISION'!AK$157,\")\"),'TABLA DE DECISION'!AK179)","v":""},{"$f":"IF('TABLA DE DECISION'!AL179='TABLA DE DECISION'!AL$157,CONCATENATE($B25,\"(\",'TABLA DE DECISION'!AL$157,\")\"),'TABLA DE DECISION'!AL179)","v":""},{"$f":"IF('TABLA DE DECISION'!AM179='TABLA DE DECISION'!AM$157,CONCATENATE($B25,\"(\",'TABLA DE DECISION'!AM$157,\")\"),'TABLA DE DECISION'!AM179)","v":""},{"$f":"IF('TABLA DE DECISION'!AN179='TABLA DE DECISION'!AN$157,CONCATENATE($B25,\"(\",'TABLA DE DECISION'!AN$157,\")\"),'TABLA DE DECISION'!AN179)","v":""},{"$f":"IF('TABLA DE DECISION'!AO179='TABLA DE DECISION'!AO$157,CONCATENATE($B25,\"(\",'TABLA DE DECISION'!AO$157,\")\"),'TABLA DE DECISION'!AO179)","v":""},{"$f":"IF('TABLA DE DECISION'!AP179='TABLA DE DECISION'!AP$157,CONCATENATE($B25,\"(\",'TABLA DE DECISION'!AP$157,\")\"),'TABLA DE DECISION'!AP179)","v":""},{"$f":"IF('TABLA DE DECISION'!AQ179='TABLA DE DECISION'!AQ$157,CONCATENATE($B25,\"(\",'TABLA DE DECISION'!AQ$157,\")\"),'TABLA DE DECISION'!AQ179)","v":""},{"$f":"IF('TABLA DE DECISION'!AR179='TABLA DE DECISION'!AR$157,CONCATENATE($B25,\"(\",'TABLA DE DECISION'!AR$157,\")\"),'TABLA DE DECISION'!AR179)","v":""},{"$f":"IF('TABLA DE DECISION'!AS179='TABLA DE DECISION'!AS$157,CONCATENATE($B25,\"(\",'TABLA DE DECISION'!AS$157,\")\"),'TABLA DE DECISION'!AS179)","v":""},{"$f":"IF('TABLA DE DECISION'!AT179='TABLA DE DECISION'!AT$157,CONCATENATE($B25,\"(\",'TABLA DE DECISION'!AT$157,\")\"),'TABLA DE DECISION'!AT179)","v":""},{"$f":"IF('TABLA DE DECISION'!AU179='TABLA DE DECISION'!AU$157,CONCATENATE($B25,\"(\",'TABLA DE DECISION'!AU$157,\")\"),'TABLA DE DECISION'!AU179)","v":""},{"$f":"IF('TABLA DE DECISION'!AV179='TABLA DE DECISION'!AV$157,CONCATENATE($B25,\"(\",'TABLA DE DECISION'!AV$157,\")\"),'TABLA DE DECISION'!AV179)","v":""},{"$f":"IF('TABLA DE DECISION'!AW179='TABLA DE DECISION'!AW$157,CONCATENATE($B25,\"(\",'TABLA DE DECISION'!AW$157,\")\"),'TABLA DE DECISION'!AW179)","v":""},{"$f":"IF('TABLA DE DECISION'!AX179='TABLA DE DECISION'!AX$157,CONCATENATE($B25,\"(\",'TABLA DE DECISION'!AX$157,\")\"),'TABLA DE DECISION'!AX179)","v":""},{"$f":"IF('TABLA DE DECISION'!AY179='TABLA DE DECISION'!AY$157,CONCATENATE($B25,\"(\",'TABLA DE DECISION'!AY$157,\")\"),'TABLA DE DECISION'!AY179)","v":""},{"$f":"IF('TABLA DE DECISION'!AZ179='TABLA DE DECISION'!AZ$157,CONCATENATE($B25,\"(\",'TABLA DE DECISION'!AZ$157,\")\"),'TABLA DE DECISION'!AZ179)","v":""},{"$f":"IF('TABLA DE DECISION'!BA179='TABLA DE DECISION'!BA$157,CONCATENATE($B25,\"(\",'TABLA DE DECISION'!BA$157,\")\"),'TABLA DE DECISION'!BA179)","v":""},{"$f":"IF('TABLA DE DECISION'!BB179='TABLA DE DECISION'!BB$157,CONCATENATE($B25,\"(\",'TABLA DE DECISION'!BB$157,\")\"),'TABLA DE DECISION'!BB179)","v":""},{"$f":"IF('TABLA DE DECISION'!BC179='TABLA DE DECISION'!BC$157,CONCATENATE($B25,\"(\",'TABLA DE DECISION'!BC$157,\")\"),'TABLA DE DECISION'!BC179)","v":""},{"$f":"IF('TABLA DE DECISION'!BD179='TABLA DE DECISION'!BD$157,CONCATENATE($B25,\"(\",'TABLA DE DECISION'!BD$157,\")\"),'TABLA DE DECISION'!BD179)","v":""}]
[{"$f":"IF('TABLA DE DECISION'!BF180=\"\",\"\",'TABLA DE DECISION'!BF180)","v":""},{"$f":"'TABLA DE DECISION'!BG180","v":"a22"},{"$f":"IF('TABLA DE DECISION'!A180='TABLA DE DECISION'!A$157,CONCATENATE($B26,\"(\",'TABLA DE DECISION'!A$157,\")\"),'TABLA DE DECISION'!A180)","v":""},{"$f":"IF('TABLA DE DECISION'!B180='TABLA DE DECISION'!B$157,CONCATENATE($B26,\"(\",'TABLA DE DECISION'!B$157,\")\"),'TABLA DE DECISION'!B180)","v":""},{"$f":"IF('TABLA DE DECISION'!C180='TABLA DE DECISION'!C$157,CONCATENATE($B26,\"(\",'TABLA DE DECISION'!C$157,\")\"),'TABLA DE DECISION'!C180)","v":""},{"$f":"IF('TABLA DE DECISION'!D180='TABLA DE DECISION'!D$157,CONCATENATE($B26,\"(\",'TABLA DE DECISION'!D$157,\")\"),'TABLA DE DECISION'!D180)","v":""},{"$f":"IF('TABLA DE DECISION'!E180='TABLA DE DECISION'!E$157,CONCATENATE($B26,\"(\",'TABLA DE DECISION'!E$157,\")\"),'TABLA DE DECISION'!E180)","v":""},{"$f":"IF('MATRIZ-PÉRDIDA OPORTUNIDAD'!BB24='MATRIZ-PÉRDIDA OPORTUNIDAD'!BB$2,CONCATENATE($B26,\"(\",'MATRIZ-PÉRDIDA OPORTUNIDAD'!BB$2,\")\"),'MATRIZ-PÉRDIDA OPORTUNIDAD'!BB24)","v":""},{"$f":"IF('TABLA DE DECISION'!G180='TABLA DE DECISION'!G$157,CONCATENATE($B26,\"(\",'TABLA DE DECISION'!G$157,\")\"),'TABLA DE DECISION'!G180)","v":""},{"$f":"IF('TABLA DE DECISION'!H180='TABLA DE DECISION'!H$157,CONCATENATE($B26,\"(\",'TABLA DE DECISION'!H$157,\")\"),'TABLA DE DECISION'!H180)","v":""},{"$f":"IF('TABLA DE DECISION'!I180='TABLA DE DECISION'!I$157,CONCATENATE($B26,\"(\",'TABLA DE DECISION'!I$157,\")\"),'TABLA DE DECISION'!I180)","v":""},{"$f":"IF('TABLA DE DECISION'!J180='TABLA DE DECISION'!J$157,CONCATENATE($B26,\"(\",'TABLA DE DECISION'!J$157,\")\"),'TABLA DE DECISION'!J180)","v":""},{"$f":"IF('TABLA DE DECISION'!K180='TABLA DE DECISION'!K$157,CONCATENATE($B26,\"(\",'TABLA DE DECISION'!K$157,\")\"),'TABLA DE DECISION'!K180)","v":""},{"$f":"IF('TABLA DE DECISION'!L180='TABLA DE DECISION'!L$157,CONCATENATE($B26,\"(\",'TABLA DE DECISION'!L$157,\")\"),'TABLA DE DECISION'!L180)","v":""},{"$f":"IF('TABLA DE DECISION'!M180='TABLA DE DECISION'!M$157,CONCATENATE($B26,\"(\",'TABLA DE DECISION'!M$157,\")\"),'TABLA DE DECISION'!M180)","v":""},{"$f":"IF('TABLA DE DECISION'!N180='TABLA DE DECISION'!N$157,CONCATENATE($B26,\"(\",'TABLA DE DECISION'!N$157,\")\"),'TABLA DE DECISION'!N180)","v":""},{"$f":"IF('TABLA DE DECISION'!O180='TABLA DE DECISION'!O$157,CONCATENATE($B26,\"(\",'TABLA DE DECISION'!O$157,\")\"),'TABLA DE DECISION'!O180)","v":""},{"$f":"IF('TABLA DE DECISION'!P180='TABLA DE DECISION'!P$157,CONCATENATE($B26,\"(\",'TABLA DE DECISION'!P$157,\")\"),'TABLA DE DECISION'!P180)","v":""},{"$f":"IF('TABLA DE DECISION'!Q180='TABLA DE DECISION'!Q$157,CONCATENATE($B26,\"(\",'TABLA DE DECISION'!Q$157,\")\"),'TABLA DE DECISION'!Q180)","v":""},{"$f":"IF('TABLA DE DECISION'!R180='TABLA DE DECISION'!R$157,CONCATENATE($B26,\"(\",'TABLA DE DECISION'!R$157,\")\"),'TABLA DE DECISION'!R180)","v":""},{"$f":"IF('TABLA DE DECISION'!S180='TABLA DE DECISION'!S$157,CONCATENATE($B26,\"(\",'TABLA DE DECISION'!S$157,\")\"),'TABLA DE DECISION'!S180)","v":""},{"$f":"IF('TABLA DE DECISION'!T180='TABLA DE DECISION'!T$157,CONCATENATE($B26,\"(\",'TABLA DE DECISION'!T$157,\")\"),'TABLA DE DECISION'!T180)","v":""},{"$f":"IF('TABLA DE DECISION'!U180='TABLA DE DECISION'!U$157,CONCATENATE($B26,\"(\",'TABLA DE DECISION'!U$157,\")\"),'TABLA DE DECISION'!U180)","v":""},{"$f":"IF('TABLA DE DECISION'!V180='TABLA DE DECISION'!V$157,CONCATENATE($B26,\"(\",'TABLA DE DECISION'!V$157,\")\"),'TABLA DE DECISION'!V180)","v":""},{"$f":"IF('TABLA DE DECISION'!W180='TABLA DE DECISION'!W$157,CONCATENATE($B26,\"(\",'TABLA DE DECISION'!W$157,\")\"),'TABLA DE DECISION'!W180)","v":""},{"$f":"IF('TABLA DE DECISION'!X180='TABLA DE DECISION'!X$157,CONCATENATE($B26,\"(\",'TABLA DE DECISION'!X$157,\")\"),'TABLA DE DECISION'!X180)","v":""},{"$f":"IF('TABLA DE DECISION'!Y180='TABLA DE DECISION'!Y$157,CONCATENATE($B26,\"(\",'TABLA DE DECISION'!Y$157,\")\"),'TABLA DE DECISION'!Y180)","v":""},{"$f":"IF('TABLA DE DECISION'!Z180='TABLA DE DECISION'!Z$157,CONCATENATE($B26,\"(\",'TABLA DE DECISION'!Z$157,\")\"),'TABLA DE DECISION'!Z180)","v":""},{"$f":"IF('TABLA DE DECISION'!AA180='TABLA DE DECISION'!AA$157,CONCATENATE($B26,\"(\",'TABLA DE DECISION'!AA$157,\")\"),'TABLA DE DECISION'!AA180)","v":""},{"$f":"IF('TABLA DE DECISION'!AB180='TABLA DE DECISION'!AB$157,CONCATENATE($B26,\"(\",'TABLA DE DECISION'!AB$157,\")\"),'TABLA DE DECISION'!AB180)","v":""},{"$f":"IF('TABLA DE DECISION'!AC180='TABLA DE DECISION'!AC$157,CONCATENATE($B26,\"(\",'TABLA DE DECISION'!AC$157,\")\"),'TABLA DE DECISION'!AC180)","v":""},{"$f":"IF('TABLA DE DECISION'!AD180='TABLA DE DECISION'!AD$157,CONCATENATE($B26,\"(\",'TABLA DE DECISION'!AD$157,\")\"),'TABLA DE DECISION'!AD180)","v":""},{"$f":"IF('TABLA DE DECISION'!AE180='TABLA DE DECISION'!AE$157,CONCATENATE($B26,\"(\",'TABLA DE DECISION'!AE$157,\")\"),'TABLA DE DECISION'!AE180)","v":""},{"$f":"IF('TABLA DE DECISION'!AF180='TABLA DE DECISION'!AF$157,CONCATENATE($B26,\"(\",'TABLA DE DECISION'!AF$157,\")\"),'TABLA DE DECISION'!AF180)","v":""},{"$f":"IF('TABLA DE DECISION'!AG180='TABLA DE DECISION'!AG$157,CONCATENATE($B26,\"(\",'TABLA DE DECISION'!AG$157,\")\"),'TABLA DE DECISION'!AG180)","v":""},{"$f":"IF('TABLA DE DECISION'!AH180='TABLA DE DECISION'!AH$157,CONCATENATE($B26,\"(\",'TABLA DE DECISION'!AH$157,\")\"),'TABLA DE DECISION'!AH180)","v":""},{"$f":"IF('TABLA DE DECISION'!AI180='TABLA DE DECISION'!AI$157,CONCATENATE($B26,\"(\",'TABLA DE DECISION'!AI$157,\")\"),'TABLA DE DECISION'!AI180)","v":""},{"$f":"IF('TABLA DE DECISION'!AJ180='TABLA DE DECISION'!AJ$157,CONCATENATE($B26,\"(\",'TABLA DE DECISION'!AJ$157,\")\"),'TABLA DE DECISION'!AJ180)","v":""},{"$f":"IF('TABLA DE DECISION'!AK180='TABLA DE DECISION'!AK$157,CONCATENATE($B26,\"(\",'TABLA DE DECISION'!AK$157,\")\"),'TABLA DE DECISION'!AK180)","v":""},{"$f":"IF('TABLA DE DECISION'!AL180='TABLA DE DECISION'!AL$157,CONCATENATE($B26,\"(\",'TABLA DE DECISION'!AL$157,\")\"),'TABLA DE DECISION'!AL180)","v":""},{"$f":"IF('TABLA DE DECISION'!AM180='TABLA DE DECISION'!AM$157,CONCATENATE($B26,\"(\",'TABLA DE DECISION'!AM$157,\")\"),'TABLA DE DECISION'!AM180)","v":""},{"$f":"IF('TABLA DE DECISION'!AN180='TABLA DE DECISION'!AN$157,CONCATENATE($B26,\"(\",'TABLA DE DECISION'!AN$157,\")\"),'TABLA DE DECISION'!AN180)","v":""},{"$f":"IF('TABLA DE DECISION'!AO180='TABLA DE DECISION'!AO$157,CONCATENATE($B26,\"(\",'TABLA DE DECISION'!AO$157,\")\"),'TABLA DE DECISION'!AO180)","v":""},{"$f":"IF('TABLA DE DECISION'!AP180='TABLA DE DECISION'!AP$157,CONCATENATE($B26,\"(\",'TABLA DE DECISION'!AP$157,\")\"),'TABLA DE DECISION'!AP180)","v":""},{"$f":"IF('TABLA DE DECISION'!AQ180='TABLA DE DECISION'!AQ$157,CONCATENATE($B26,\"(\",'TABLA DE DECISION'!AQ$157,\")\"),'TABLA DE DECISION'!AQ180)","v":""},{"$f":"IF('TABLA DE DECISION'!AR180='TABLA DE DECISION'!AR$157,CONCATENATE($B26,\"(\",'TABLA DE DECISION'!AR$157,\")\"),'TABLA DE DECISION'!AR180)","v":""},{"$f":"IF('TABLA DE DECISION'!AS180='TABLA DE DECISION'!AS$157,CONCATENATE($B26,\"(\",'TABLA DE DECISION'!AS$157,\")\"),'TABLA DE DECISION'!AS180)","v":""},{"$f":"IF('TABLA DE DECISION'!AT180='TABLA DE DECISION'!AT$157,CONCATENATE($B26,\"(\",'TABLA DE DECISION'!AT$157,\")\"),'TABLA DE DECISION'!AT180)","v":""},{"$f":"IF('TABLA DE DECISION'!AU180='TABLA DE DECISION'!AU$157,CONCATENATE($B26,\"(\",'TABLA DE DECISION'!AU$157,\")\"),'TABLA DE DECISION'!AU180)","v":""},{"$f":"IF('TABLA DE DECISION'!AV180='TABLA DE DECISION'!AV$157,CONCATENATE($B26,\"(\",'TABLA DE DECISION'!AV$157,\")\"),'TABLA DE DECISION'!AV180)","v":""},{"$f":"IF('TABLA DE DECISION'!AW180='TABLA DE DECISION'!AW$157,CONCATENATE($B26,\"(\",'TABLA DE DECISION'!AW$157,\")\"),'TABLA DE DECISION'!AW180)","v":""},{"$f":"IF('TABLA DE DECISION'!AX180='TABLA DE DECISION'!AX$157,CONCATENATE($B26,\"(\",'TABLA DE DECISION'!AX$157,\")\"),'TABLA DE DECISION'!AX180)","v":""},{"$f":"IF('TABLA DE DECISION'!AY180='TABLA DE DECISION'!AY$157,CONCATENATE($B26,\"(\",'TABLA DE DECISION'!AY$157,\")\"),'TABLA DE DECISION'!AY180)","v":""},{"$f":"IF('TABLA DE DECISION'!AZ180='TABLA DE DECISION'!AZ$157,CONCATENATE($B26,\"(\",'TABLA DE DECISION'!AZ$157,\")\"),'TABLA DE DECISION'!AZ180)","v":""},{"$f":"IF('TABLA DE DECISION'!BA180='TABLA DE DECISION'!BA$157,CONCATENATE($B26,\"(\",'TABLA DE DECISION'!BA$157,\")\"),'TABLA DE DECISION'!BA180)","v":""},{"$f":"IF('TABLA DE DECISION'!BB180='TABLA DE DECISION'!BB$157,CONCATENATE($B26,\"(\",'TABLA DE DECISION'!BB$157,\")\"),'TABLA DE DECISION'!BB180)","v":""},{"$f":"IF('TABLA DE DECISION'!BC180='TABLA DE DECISION'!BC$157,CONCATENATE($B26,\"(\",'TABLA DE DECISION'!BC$157,\")\"),'TABLA DE DECISION'!BC180)","v":""},{"$f":"IF('TABLA DE DECISION'!BD180='TABLA DE DECISION'!BD$157,CONCATENATE($B26,\"(\",'TABLA DE DECISION'!BD$157,\")\"),'TABLA DE DECISION'!BD180)","v":""}]
[{"$f":"IF('TABLA DE DECISION'!BF181=\"\",\"\",'TABLA DE DECISION'!BF181)","v":""},{"$f":"'TABLA DE DECISION'!BG181","v":"a23"},{"$f":"IF('TABLA DE DECISION'!A181='TABLA DE DECISION'!A$157,CONCATENATE($B27,\"(\",'TABLA DE DECISION'!A$157,\")\"),'TABLA DE DECISION'!A181)","v":""},{"$f":"IF('TABLA DE DECISION'!B181='TABLA DE DECISION'!B$157,CONCATENATE($B27,\"(\",'TABLA DE DECISION'!B$157,\")\"),'TABLA DE DECISION'!B181)","v":""},{"$f":"IF('TABLA DE DECISION'!C181='TABLA DE DECISION'!C$157,CONCATENATE($B27,\"(\",'TABLA DE DECISION'!C$157,\")\"),'TABLA DE DECISION'!C181)","v":""},{"$f":"IF('TABLA DE DECISION'!D181='TABLA DE DECISION'!D$157,CONCATENATE($B27,\"(\",'TABLA DE DECISION'!D$157,\")\"),'TABLA DE DECISION'!D181)","v":""},{"$f":"IF('TABLA DE DECISION'!E181='TABLA DE DECISION'!E$157,CONCATENATE($B27,\"(\",'TABLA DE DECISION'!E$157,\")\"),'TABLA DE DECISION'!E181)","v":""},{"$f":"IF('MATRIZ-PÉRDIDA OPORTUNIDAD'!BB25='MATRIZ-PÉRDIDA OPORTUNIDAD'!BB$2,CONCATENATE($B27,\"(\",'MATRIZ-PÉRDIDA OPORTUNIDAD'!BB$2,\")\"),'MATRIZ-PÉRDIDA OPORTUNIDAD'!BB25)","v":""},{"$f":"IF('TABLA DE DECISION'!G181='TABLA DE DECISION'!G$157,CONCATENATE($B27,\"(\",'TABLA DE DECISION'!G$157,\")\"),'TABLA DE DECISION'!G181)","v":""},{"$f":"IF('TABLA DE DECISION'!H181='TABLA DE DECISION'!H$157,CONCATENATE($B27,\"(\",'TABLA DE DECISION'!H$157,\")\"),'TABLA DE DECISION'!H181)","v":""},{"$f":"IF('TABLA DE DECISION'!I181='TABLA DE DECISION'!I$157,CONCATENATE($B27,\"(\",'TABLA DE DECISION'!I$157,\")\"),'TABLA DE DECISION'!I181)","v":""},{"$f":"IF('TABLA DE DECISION'!J181='TABLA DE DECISION'!J$157,CONCATENATE($B27,\"(\",'TABLA DE DECISION'!J$157,\")\"),'TABLA DE DECISION'!J181)","v":""},{"$f":"IF('TABLA DE DECISION'!K181='TABLA DE DECISION'!K$157,CONCATENATE($B27,\"(\",'TABLA DE DECISION'!K$157,\")\"),'TABLA DE DECISION'!K181)","v":""},{"$f":"IF('TABLA DE DECISION'!L181='TABLA DE DECISION'!L$157,CONCATENATE($B27,\"(\",'TABLA DE DECISION'!L$157,\")\"),'TABLA DE DECISION'!L181)","v":""},{"$f":"IF('TABLA DE DECISION'!M181='TABLA DE DECISION'!M$157,CONCATENATE($B27,\"(\",'TABLA DE DECISION'!M$157,\")\"),'TABLA DE DECISION'!M181)","v":""},{"$f":"IF('TABLA DE DECISION'!N181='TABLA DE DECISION'!N$157,CONCATENATE($B27,\"(\",'TABLA DE DECISION'!N$157,\")\"),'TABLA DE DECISION'!N181)","v":""},{"$f":"IF('TABLA DE DECISION'!O181='TABLA DE DECISION'!O$157,CONCATENATE($B27,\"(\",'TABLA DE DECISION'!O$157,\")\"),'TABLA DE DECISION'!O181)","v":""},{"$f":"IF('TABLA DE DECISION'!P181='TABLA DE DECISION'!P$157,CONCATENATE($B27,\"(\",'TABLA DE DECISION'!P$157,\")\"),'TABLA DE DECISION'!P181)","v":""},{"$f":"IF('TABLA DE DECISION'!Q181='TABLA DE DECISION'!Q$157,CONCATENATE($B27,\"(\",'TABLA DE DECISION'!Q$157,\")\"),'TABLA DE DECISION'!Q181)","v":""},{"$f":"IF('TABLA DE DECISION'!R181='TABLA DE DECISION'!R$157,CONCATENATE($B27,\"(\",'TABLA DE DECISION'!R$157,\")\"),'TABLA DE DECISION'!R181)","v":""},{"$f":"IF('TABLA DE DECISION'!S181='TABLA DE DECISION'!S$157,CONCATENATE($B27,\"(\",'TABLA DE DECISION'!S$157,\")\"),'TABLA DE DECISION'!S181)","v":""},{"$f":"IF('TABLA DE DECISION'!T181='TABLA DE DECISION'!T$157,CONCATENATE($B27,\"(\",'TABLA DE DECISION'!T$157,\")\"),'TABLA DE DECISION'!T181)","v":""},{"$f":"IF('TABLA DE DECISION'!U181='TABLA DE DECISION'!U$157,CONCATENATE($B27,\"(\",'TABLA DE DECISION'!U$157,\")\"),'TABLA DE DECISION'!U181)","v":""},{"$f":"IF('TABLA DE DECISION'!V181='TABLA DE DECISION'!V$157,CONCATENATE($B27,\"(\",'TABLA DE DECISION'!V$157,\")\"),'TABLA DE DECISION'!V181)","v":""},{"$f":"IF('TABLA DE DECISION'!W181='TABLA DE DECISION'!W$157,CONCATENATE($B27,\"(\",'TABLA DE DECISION'!W$157,\")\"),'TABLA DE DECISION'!W181)","v":""},{"$f":"IF('TABLA DE DECISION'!X181='TABLA DE DECISION'!X$157,CONCATENATE($B27,\"(\",'TABLA DE DECISION'!X$157,\")\"),'TABLA DE DECISION'!X181)","v":""},{"$f":"IF('TABLA DE DECISION'!Y181='TABLA DE DECISION'!Y$157,CONCATENATE($B27,\"(\",'TABLA DE DECISION'!Y$157,\")\"),'TABLA DE DECISION'!Y181)","v":""},{"$f":"IF('TABLA DE DECISION'!Z181='TABLA DE DECISION'!Z$157,CONCATENATE($B27,\"(\",'TABLA DE DECISION'!Z$157,\")\"),'TABLA DE DECISION'!Z181)","v":""},{"$f":"IF('TABLA DE DECISION'!AA181='TABLA DE DECISION'!AA$157,CONCATENATE($B27,\"(\",'TABLA DE DECISION'!AA$157,\")\"),'TABLA DE DECISION'!AA181)","v":""},{"$f":"IF('TABLA DE DECISION'!AB181='TABLA DE DECISION'!AB$157,CONCATENATE($B27,\"(\",'TABLA DE DECISION'!AB$157,\")\"),'TABLA DE DECISION'!AB181)","v":""},{"$f":"IF('TABLA DE DECISION'!AC181='TABLA DE DECISION'!AC$157,CONCATENATE($B27,\"(\",'TABLA DE DECISION'!AC$157,\")\"),'TABLA DE DECISION'!AC181)","v":""},{"$f":"IF('TABLA DE DECISION'!AD181='TABLA DE DECISION'!AD$157,CONCATENATE($B27,\"(\",'TABLA DE DECISION'!AD$157,\")\"),'TABLA DE DECISION'!AD181)","v":""},{"$f":"IF('TABLA DE DECISION'!AE181='TABLA DE DECISION'!AE$157,CONCATENATE($B27,\"(\",'TABLA DE DECISION'!AE$157,\")\"),'TABLA DE DECISION'!AE181)","v":""},{"$f":"IF('TABLA DE DECISION'!AF181='TABLA DE DECISION'!AF$157,CONCATENATE($B27,\"(\",'TABLA DE DECISION'!AF$157,\")\"),'TABLA DE DECISION'!AF181)","v":""},{"$f":"IF('TABLA DE DECISION'!AG181='TABLA DE DECISION'!AG$157,CONCATENATE($B27,\"(\",'TABLA DE DECISION'!AG$157,\")\"),'TABLA DE DECISION'!AG181)","v":""},{"$f":"IF('TABLA DE DECISION'!AH181='TABLA DE DECISION'!AH$157,CONCATENATE($B27,\"(\",'TABLA DE DECISION'!AH$157,\")\"),'TABLA DE DECISION'!AH181)","v":""},{"$f":"IF('TABLA DE DECISION'!AI181='TABLA DE DECISION'!AI$157,CONCATENATE($B27,\"(\",'TABLA DE DECISION'!AI$157,\")\"),'TABLA DE DECISION'!AI181)","v":""},{"$f":"IF('TABLA DE DECISION'!AJ181='TABLA DE DECISION'!AJ$157,CONCATENATE($B27,\"(\",'TABLA DE DECISION'!AJ$157,\")\"),'TABLA DE DECISION'!AJ181)","v":""},{"$f":"IF('TABLA DE DECISION'!AK181='TABLA DE DECISION'!AK$157,CONCATENATE($B27,\"(\",'TABLA DE DECISION'!AK$157,\")\"),'TABLA DE DECISION'!AK181)","v":""},{"$f":"IF('TABLA DE DECISION'!AL181='TABLA DE DECISION'!AL$157,CONCATENATE($B27,\"(\",'TABLA DE DECISION'!AL$157,\")\"),'TABLA DE DECISION'!AL181)","v":""},{"$f":"IF('TABLA DE DECISION'!AM181='TABLA DE DECISION'!AM$157,CONCATENATE($B27,\"(\",'TABLA DE DECISION'!AM$157,\")\"),'TABLA DE DECISION'!AM181)","v":""},{"$f":"IF('TABLA DE DECISION'!AN181='TABLA DE DECISION'!AN$157,CONCATENATE($B27,\"(\",'TABLA DE DECISION'!AN$157,\")\"),'TABLA DE DECISION'!AN181)","v":""},{"$f":"IF('TABLA DE DECISION'!AO181='TABLA DE DECISION'!AO$157,CONCATENATE($B27,\"(\",'TABLA DE DECISION'!AO$157,\")\"),'TABLA DE DECISION'!AO181)","v":""},{"$f":"IF('TABLA DE DECISION'!AP181='TABLA DE DECISION'!AP$157,CONCATENATE($B27,\"(\",'TABLA DE DECISION'!AP$157,\")\"),'TABLA DE DECISION'!AP181)","v":""},{"$f":"IF('TABLA DE DECISION'!AQ181='TABLA DE DECISION'!AQ$157,CONCATENATE($B27,\"(\",'TABLA DE DECISION'!AQ$157,\")\"),'TABLA DE DECISION'!AQ181)","v":""},{"$f":"IF('TABLA DE DECISION'!AR181='TABLA DE DECISION'!AR$157,CONCATENATE($B27,\"(\",'TABLA DE DECISION'!AR$157,\")\"),'TABLA DE DECISION'!AR181)","v":""},{"$f":"IF('TABLA DE DECISION'!AS181='TABLA DE DECISION'!AS$157,CONCATENATE($B27,\"(\",'TABLA DE DECISION'!AS$157,\")\"),'TABLA DE DECISION'!AS181)","v":""},{"$f":"IF('TABLA DE DECISION'!AT181='TABLA DE DECISION'!AT$157,CONCATENATE($B27,\"(\",'TABLA DE DECISION'!AT$157,\")\"),'TABLA DE DECISION'!AT181)","v":""},{"$f":"IF('TABLA DE DECISION'!AU181='TABLA DE DECISION'!AU$157,CONCATENATE($B27,\"(\",'TABLA DE DECISION'!AU$157,\")\"),'TABLA DE DECISION'!AU181)","v":""},{"$f":"IF('TABLA DE DECISION'!AV181='TABLA DE DECISION'!AV$157,CONCATENATE($B27,\"(\",'TABLA DE DECISION'!AV$157,\")\"),'TABLA DE DECISION'!AV181)","v":""},{"$f":"IF('TABLA DE DECISION'!AW181='TABLA DE DECISION'!AW$157,CONCATENATE($B27,\"(\",'TABLA DE DECISION'!AW$157,\")\"),'TABLA DE DECISION'!AW181)","v":""},{"$f":"IF('TABLA DE DECISION'!AX181='TABLA DE DECISION'!AX$157,CONCATENATE($B27,\"(\",'TABLA DE DECISION'!AX$157,\")\"),'TABLA DE DECISION'!AX181)","v":""},{"$f":"IF('TABLA DE DECISION'!AY181='TABLA DE DECISION'!AY$157,CONCATENATE($B27,\"(\",'TABLA DE DECISION'!AY$157,\")\"),'TABLA DE DECISION'!AY181)","v":""},{"$f":"IF('TABLA DE DECISION'!AZ181='TABLA DE DECISION'!AZ$157,CONCATENATE($B27,\"(\",'TABLA DE DECISION'!AZ$157,\")\"),'TABLA DE DECISION'!AZ181)","v":""},{"$f":"IF('TABLA DE DECISION'!BA181='TABLA DE DECISION'!BA$157,CONCATENATE($B27,\"(\",'TABLA DE DECISION'!BA$157,\")\"),'TABLA DE DECISION'!BA181)","v":""},{"$f":"IF('TABLA DE DECISION'!BB181='TABLA DE DECISION'!BB$157,CONCATENATE($B27,\"(\",'TABLA DE DECISION'!BB$157,\")\"),'TABLA DE DECISION'!BB181)","v":""},{"$f":"IF('TABLA DE DECISION'!BC181='TABLA DE DECISION'!BC$157,CONCATENATE($B27,\"(\",'TABLA DE DECISION'!BC$157,\")\"),'TABLA DE DECISION'!BC181)","v":""},{"$f":"IF('TABLA DE DECISION'!BD181='TABLA DE DECISION'!BD$157,CONCATENATE($B27,\"(\",'TABLA DE DECISION'!BD$157,\")\"),'TABLA DE DECISION'!BD181)","v":""}]
[{"$f":"IF('TABLA DE DECISION'!BF182=\"\",\"\",'TABLA DE DECISION'!BF182)","v":""},{"$f":"'TABLA DE DECISION'!BG182","v":"a24"},{"$f":"IF('TABLA DE DECISION'!A182='TABLA DE DECISION'!A$157,CONCATENATE($B28,\"(\",'TABLA DE DECISION'!A$157,\")\"),'TABLA DE DECISION'!A182)","v":""},{"$f":"IF('TABLA DE DECISION'!B182='TABLA DE DECISION'!B$157,CONCATENATE($B28,\"(\",'TABLA DE DECISION'!B$157,\")\"),'TABLA DE DECISION'!B182)","v":""},{"$f":"IF('TABLA DE DECISION'!C182='TABLA DE DECISION'!C$157,CONCATENATE($B28,\"(\",'TABLA DE DECISION'!C$157,\")\"),'TABLA DE DECISION'!C182)","v":""},{"$f":"IF('TABLA DE DECISION'!D182='TABLA DE DECISION'!D$157,CONCATENATE($B28,\"(\",'TABLA DE DECISION'!D$157,\")\"),'TABLA DE DECISION'!D182)","v":""},{"$f":"IF('TABLA DE DECISION'!E182='TABLA DE DECISION'!E$157,CONCATENATE($B28,\"(\",'TABLA DE DECISION'!E$157,\")\"),'TABLA DE DECISION'!E182)","v":""},{"$f":"IF('MATRIZ-PÉRDIDA OPORTUNIDAD'!BB26='MATRIZ-PÉRDIDA OPORTUNIDAD'!BB$2,CONCATENATE($B28,\"(\",'MATRIZ-PÉRDIDA OPORTUNIDAD'!BB$2,\")\"),'MATRIZ-PÉRDIDA OPORTUNIDAD'!BB26)","v":""},{"$f":"IF('TABLA DE DECISION'!G182='TABLA DE DECISION'!G$157,CONCATENATE($B28,\"(\",'TABLA DE DECISION'!G$157,\")\"),'TABLA DE DECISION'!G182)","v":""},{"$f":"IF('TABLA DE DECISION'!H182='TABLA DE DECISION'!H$157,CONCATENATE($B28,\"(\",'TABLA DE DECISION'!H$157,\")\"),'TABLA DE DECISION'!H182)","v":""},{"$f":"IF('TABLA DE DECISION'!I182='TABLA DE DECISION'!I$157,CONCATENATE($B28,\"(\",'TABLA DE DECISION'!I$157,\")\"),'TABLA DE DECISION'!I182)","v":""},{"$f":"IF('TABLA DE DECISION'!J182='TABLA DE DECISION'!J$157,CONCATENATE($B28,\"(\",'TABLA DE DECISION'!J$157,\")\"),'TABLA DE DECISION'!J182)","v":""},{"$f":"IF('TABLA DE DECISION'!K182='TABLA DE DECISION'!K$157,CONCATENATE($B28,\"(\",'TABLA DE DECISION'!K$157,\")\"),'TABLA DE DECISION'!K182)","v":""},{"$f":"IF('TABLA DE DECISION'!L182='TABLA DE DECISION'!L$157,CONCATENATE($B28,\"(\",'TABLA DE DECISION'!L$157,\")\"),'TABLA DE DECISION'!L182)","v":""},{"$f":"IF('TABLA DE DECISION'!M182='TABLA DE DECISION'!M$157,CONCATENATE($B28,\"(\",'TABLA DE DECISION'!M$157,\")\"),'TABLA DE DECISION'!M182)","v":""},{"$f":"IF('TABLA DE DECISION'!N182='TABLA DE DECISION'!N$157,CONCATENATE($B28,\"(\",'TABLA DE DECISION'!N$157,\")\"),'TABLA DE DECISION'!N182)","v":""},{"$f":"IF('TABLA DE DECISION'!O182='TABLA DE DECISION'!O$157,CONCATENATE($B28,\"(\",'TABLA DE DECISION'!O$157,\")\"),'TABLA DE DECISION'!O182)","v":""},{"$f":"IF('TABLA DE DECISION'!P182='TABLA DE DECISION'!P$157,CONCATENATE($B28,\"(\",'TABLA DE DECISION'!P$157,\")\"),'TABLA DE DECISION'!P182)","v":""},{"$f":"IF('TABLA DE DECISION'!Q182='TABLA DE DECISION'!Q$157,CONCATENATE($B28,\"(\",'TABLA DE DECISION'!Q$157,\")\"),'TABLA DE DECISION'!Q182)","v":""},{"$f":"IF('TABLA DE DECISION'!R182='TABLA DE DECISION'!R$157,CONCATENATE($B28,\"(\",'TABLA DE DECISION'!R$157,\")\"),'TABLA DE DECISION'!R182)","v":""},{"$f":"IF('TABLA DE DECISION'!S182='TABLA DE DECISION'!S$157,CONCATENATE($B28,\"(\",'TABLA DE DECISION'!S$157,\")\"),'TABLA DE DECISION'!S182)","v":""},{"$f":"IF('TABLA DE DECISION'!T182='TABLA DE DECISION'!T$157,CONCATENATE($B28,\"(\",'TABLA DE DECISION'!T$157,\")\"),'TABLA DE DECISION'!T182)","v":""},{"$f":"IF('TABLA DE DECISION'!U182='TABLA DE DECISION'!U$157,CONCATENATE($B28,\"(\",'TABLA DE DECISION'!U$157,\")\"),'TABLA DE DECISION'!U182)","v":""},{"$f":"IF('TABLA DE DECISION'!V182='TABLA DE DECISION'!V$157,CONCATENATE($B28,\"(\",'TABLA DE DECISION'!V$157,\")\"),'TABLA DE DECISION'!V182)","v":""},{"$f":"IF('TABLA DE DECISION'!W182='TABLA DE DECISION'!W$157,CONCATENATE($B28,\"(\",'TABLA DE DECISION'!W$157,\")\"),'TABLA DE DECISION'!W182)","v":""},{"$f":"IF('TABLA DE DECISION'!X182='TABLA DE DECISION'!X$157,CONCATENATE($B28,\"(\",'TABLA DE DECISION'!X$157,\")\"),'TABLA DE DECISION'!X182)","v":""},{"$f":"IF('TABLA DE DECISION'!Y182='TABLA DE DECISION'!Y$157,CONCATENATE($B28,\"(\",'TABLA DE DECISION'!Y$157,\")\"),'TABLA DE DECISION'!Y182)","v":""},{"$f":"IF('TABLA DE DECISION'!Z182='TABLA DE DECISION'!Z$157,CONCATENATE($B28,\"(\",'TABLA DE DECISION'!Z$157,\")\"),'TABLA DE DECISION'!Z182)","v":""},{"$f":"IF('TABLA DE DECISION'!AA182='TABLA DE DECISION'!AA$157,CONCATENATE($B28,\"(\",'TABLA DE DECISION'!AA$157,\")\"),'TABLA DE DECISION'!AA182)","v":""},{"$f":"IF('TABLA DE DECISION'!AB182='TABLA DE DECISION'!AB$157,CONCATENATE($B28,\"(\",'TABLA DE DECISION'!AB$157,\")\"),'TABLA DE DECISION'!AB182)","v":""},{"$f":"IF('TABLA DE DECISION'!AC182='TABLA DE DECISION'!AC$157,CONCATENATE($B28,\"(\",'TABLA DE DECISION'!AC$157,\")\"),'TABLA DE DECISION'!AC182)","v":""},{"$f":"IF('TABLA DE DECISION'!AD182='TABLA DE DECISION'!AD$157,CONCATENATE($B28,\"(\",'TABLA DE DECISION'!AD$157,\")\"),'TABLA DE DECISION'!AD182)","v":""},{"$f":"IF('TABLA DE DECISION'!AE182='TABLA DE DECISION'!AE$157,CONCATENATE($B28,\"(\",'TABLA DE DECISION'!AE$157,\")\"),'TABLA DE DECISION'!AE182)","v":""},{"$f":"IF('TABLA DE DECISION'!AF182='TABLA DE DECISION'!AF$157,CONCATENATE($B28,\"(\",'TABLA DE DECISION'!AF$157,\")\"),'TABLA DE DECISION'!AF182)","v":""},{"$f":"IF('TABLA DE DECISION'!AG182='TABLA DE DECISION'!AG$157,CONCATENATE($B28,\"(\",'TABLA DE DECISION'!AG$157,\")\"),'TABLA DE DECISION'!AG182)","v":""},{"$f":"IF('TABLA DE DECISION'!AH182='TABLA DE DECISION'!AH$157,CONCATENATE($B28,\"(\",'TABLA DE DECISION'!AH$157,\")\"),'TABLA DE DECISION'!AH182)","v":""},{"$f":"IF('TABLA DE DECISION'!AI182='TABLA DE DECISION'!AI$157,CONCATENATE($B28,\"(\",'TABLA DE DECISION'!AI$157,\")\"),'TABLA DE DECISION'!AI182)","v":""},{"$f":"IF('TABLA DE DECISION'!AJ182='TABLA DE DECISION'!AJ$157,CONCATENATE($B28,\"(\",'TABLA DE DECISION'!AJ$157,\")\"),'TABLA DE DECISION'!AJ182)","v":""},{"$f":"IF('TABLA DE DECISION'!AK182='TABLA DE DECISION'!AK$157,CONCATENATE($B28,\"(\",'TABLA DE DECISION'!AK$157,\")\"),'TABLA DE DECISION'!AK182)","v":""},{"$f":"IF('TABLA DE DECISION'!AL182='TABLA DE DECISION'!AL$157,CONCATENATE($B28,\"(\",'TABLA DE DECISION'!AL$157,\")\"),'TABLA DE DECISION'!AL182)","v":""},{"$f":"IF('TABLA DE DECISION'!AM182='TABLA DE DECISION'!AM$157,CONCATENATE($B28,\"(\",'TABLA DE DECISION'!AM$157,\")\"),'TABLA DE DECISION'!AM182)","v":""},{"$f":"IF('TABLA DE DECISION'!AN182='TABLA DE DECISION'!AN$157,CONCATENATE($B28,\"(\",'TABLA DE DECISION'!AN$157,\")\"),'TABLA DE DECISION'!AN182)","v":""},{"$f":"IF('TABLA DE DECISION'!AO182='TABLA DE DECISION'!AO$157,CONCATENATE($B28,\"(\",'TABLA DE DECISION'!AO$157,\")\"),'TABLA DE DECISION'!AO182)","v":""},{"$f":"IF('TABLA DE DECISION'!AP182='TABLA DE DECISION'!AP$157,CONCATENATE($B28,\"(\",'TABLA DE DECISION'!AP$157,\")\"),'TABLA DE DECISION'!AP182)","v":""},{"$f":"IF('TABLA DE DECISION'!AQ182='TABLA DE DECISION'!AQ$157,CONCATENATE($B28,\"(\",'TABLA DE DECISION'!AQ$157,\")\"),'TABLA DE DECISION'!AQ182)","v":""},{"$f":"IF('TABLA DE DECISION'!AR182='TABLA DE DECISION'!AR$157,CONCATENATE($B28,\"(\",'TABLA DE DECISION'!AR$157,\")\"),'TABLA DE DECISION'!AR182)","v":""},{"$f":"IF('TABLA DE DECISION'!AS182='TABLA DE DECISION'!AS$157,CONCATENATE($B28,\"(\",'TABLA DE DECISION'!AS$157,\")\"),'TABLA DE DECISION'!AS182)","v":""},{"$f":"IF('TABLA DE DECISION'!AT182='TABLA DE DECISION'!AT$157,CONCATENATE($B28,\"(\",'TABLA DE DECISION'!AT$157,\")\"),'TABLA DE DECISION'!AT182)","v":""},{"$f":"IF('TABLA DE DECISION'!AU182='TABLA DE DECISION'!AU$157,CONCATENATE($B28,\"(\",'TABLA DE DECISION'!AU$157,\")\"),'TABLA DE DECISION'!AU182)","v":""},{"$f":"IF('TABLA DE DECISION'!AV182='TABLA DE DECISION'!AV$157,CONCATENATE($B28,\"(\",'TABLA DE DECISION'!AV$157,\")\"),'TABLA DE DECISION'!AV182)","v":""},{"$f":"IF('TABLA DE DECISION'!AW182='TABLA DE DECISION'!AW$157,CONCATENATE($B28,\"(\",'TABLA DE DECISION'!AW$157,\")\"),'TABLA DE DECISION'!AW182)","v":""},{"$f":"IF('TABLA DE DECISION'!AX182='TABLA DE DECISION'!AX$157,CONCATENATE($B28,\"(\",'TABLA DE DECISION'!AX$157,\")\"),'TABLA DE DECISION'!AX182)","v":""},{"$f":"IF('TABLA DE DECISION'!AY182='TABLA DE DECISION'!AY$157,CONCATENATE($B28,\"(\",'TABLA DE DECISION'!AY$157,\")\"),'TABLA DE DECISION'!AY182)","v":""},{"$f":"IF('TABLA DE DECISION'!AZ182='TABLA DE DECISION'!AZ$157,CONCATENATE($B28,\"(\",'TABLA DE DECISION'!AZ$157,\")\"),'TABLA DE DECISION'!AZ182)","v":""},{"$f":"IF('TABLA DE DECISION'!BA182='TABLA DE DECISION'!BA$157,CONCATENATE($B28,\"(\",'TABLA DE DECISION'!BA$157,\")\"),'TABLA DE DECISION'!BA182)","v":""},{"$f":"IF('TABLA DE DECISION'!BB182='TABLA DE DECISION'!BB$157,CONCATENATE($B28,\"(\",'TABLA DE DECISION'!BB$157,\")\"),'TABLA DE DECISION'!BB182)","v":""},{"$f":"IF('TABLA DE DECISION'!BC182='TABLA DE DECISION'!BC$157,CONCATENATE($B28,\"(\",'TABLA DE DECISION'!BC$157,\")\"),'TABLA DE DECISION'!BC182)","v":""},{"$f":"IF('TABLA DE DECISION'!BD182='TABLA DE DECISION'!BD$157,CONCATENATE($B28,\"(\",'TABLA DE DECISION'!BD$157,\")\"),'TABLA DE DECISION'!BD182)","v":""}]
[{"$f":"IF('TABLA DE DECISION'!BF183=\"\",\"\",'TABLA DE DECISION'!BF183)","v":""},{"$f":"'TABLA DE DECISION'!BG183","v":"a25"},{"$f":"IF('TABLA DE DECISION'!A183='TABLA DE DECISION'!A$157,CONCATENATE($B29,\"(\",'TABLA DE DECISION'!A$157,\")\"),'TABLA DE DECISION'!A183)","v":""},{"$f":"IF('TABLA DE DECISION'!B183='TABLA DE DECISION'!B$157,CONCATENATE($B29,\"(\",'TABLA DE DECISION'!B$157,\")\"),'TABLA DE DECISION'!B183)","v":""},{"$f":"IF('TABLA DE DECISION'!C183='TABLA DE DECISION'!C$157,CONCATENATE($B29,\"(\",'TABLA DE DECISION'!C$157,\")\"),'TABLA DE DECISION'!C183)","v":""},{"$f":"IF('TABLA DE DECISION'!D183='TABLA DE DECISION'!D$157,CONCATENATE($B29,\"(\",'TABLA DE DECISION'!D$157,\")\"),'TABLA DE DECISION'!D183)","v":""},{"$f":"IF('TABLA DE DECISION'!E183='TABLA DE DECISION'!E$157,CONCATENATE($B29,\"(\",'TABLA DE DECISION'!E$157,\")\"),'TABLA DE DECISION'!E183)","v":""},{"$f":"IF('MATRIZ-PÉRDIDA OPORTUNIDAD'!BB27='MATRIZ-PÉRDIDA OPORTUNIDAD'!BB$2,CONCATENATE($B29,\"(\",'MATRIZ-PÉRDIDA OPORTUNIDAD'!BB$2,\")\"),'MATRIZ-PÉRDIDA OPORTUNIDAD'!BB27)","v":""},{"$f":"IF('TABLA DE DECISION'!G183='TABLA DE DECISION'!G$157,CONCATENATE($B29,\"(\",'TABLA DE DECISION'!G$157,\")\"),'TABLA DE DECISION'!G183)","v":""},{"$f":"IF('TABLA DE DECISION'!H183='TABLA DE DECISION'!H$157,CONCATENATE($B29,\"(\",'TABLA DE DECISION'!H$157,\")\"),'TABLA DE DECISION'!H183)","v":""},{"$f":"IF('TABLA DE DECISION'!I183='TABLA DE DECISION'!I$157,CONCATENATE($B29,\"(\",'TABLA DE DECISION'!I$157,\")\"),'TABLA DE DECISION'!I183)","v":""},{"$f":"IF('TABLA DE DECISION'!J183='TABLA DE DECISION'!J$157,CONCATENATE($B29,\"(\",'TABLA DE DECISION'!J$157,\")\"),'TABLA DE DECISION'!J183)","v":""},{"$f":"IF('TABLA DE DECISION'!K183='TABLA DE DECISION'!K$157,CONCATENATE($B29,\"(\",'TABLA DE DECISION'!K$157,\")\"),'TABLA DE DECISION'!K183)","v":""},{"$f":"IF('TABLA DE DECISION'!L183='TABLA DE DECISION'!L$157,CONCATENATE($B29,\"(\",'TABLA DE DECISION'!L$157,\")\"),'TABLA DE DECISION'!L183)","v":""},{"$f":"IF('TABLA DE DECISION'!M183='TABLA DE DECISION'!M$157,CONCATENATE($B29,\"(\",'TABLA DE DECISION'!M$157,\")\"),'TABLA DE DECISION'!M183)","v":""},{"$f":"IF('TABLA DE DECISION'!N183='TABLA DE DECISION'!N$157,CONCATENATE($B29,\"(\",'TABLA DE DECISION'!N$157,\")\"),'TABLA DE DECISION'!N183)","v":""},{"$f":"IF('TABLA DE DECISION'!O183='TABLA DE DECISION'!O$157,CONCATENATE($B29,\"(\",'TABLA DE DECISION'!O$157,\")\"),'TABLA DE DECISION'!O183)","v":""},{"$f":"IF('TABLA DE DECISION'!P183='TABLA DE DECISION'!P$157,CONCATENATE($B29,\"(\",'TABLA DE DECISION'!P$157,\")\"),'TABLA DE DECISION'!P183)","v":""},{"$f":"IF('TABLA DE DECISION'!Q183='TABLA DE DECISION'!Q$157,CONCATENATE($B29,\"(\",'TABLA DE DECISION'!Q$157,\")\"),'TABLA DE DECISION'!Q183)","v":""},{"$f":"IF('TABLA DE DECISION'!R183='TABLA DE DECISION'!R$157,CONCATENATE($B29,\"(\",'TABLA DE DECISION'!R$157,\")\"),'TABLA DE DECISION'!R183)","v":""},{"$f":"IF('TABLA DE DECISION'!S183='TABLA DE DECISION'!S$157,CONCATENATE($B29,\"(\",'TABLA DE DECISION'!S$157,\")\"),'TABLA DE DECISION'!S183)","v":""},{"$f":"IF('TABLA DE DECISION'!T183='TABLA DE DECISION'!T$157,CONCATENATE($B29,\"(\",'TABLA DE DECISION'!T$157,\")\"),'TABLA DE DECISION'!T183)","v":""},{"$f":"IF('TABLA DE DECISION'!U183='TABLA DE DECISION'!U$157,CONCATENATE($B29,\"(\",'TABLA DE DECISION'!U$157,\")\"),'TABLA DE DECISION'!U183)","v":""},{"$f":"IF('TABLA DE DECISION'!V183='TABLA DE DECISION'!V$157,CONCATENATE($B29,\"(\",'TABLA DE DECISION'!V$157,\")\"),'TABLA DE DECISION'!V183)","v":""},{"$f":"IF('TABLA DE DECISION'!W183='TABLA DE DECISION'!W$157,CONCATENATE($B29,\"(\",'TABLA DE DECISION'!W$157,\")\"),'TABLA DE DECISION'!W183)","v":""},{"$f":"IF('TABLA DE DECISION'!X183='TABLA DE DECISION'!X$157,CONCATENATE($B29,\"(\",'TABLA DE DECISION'!X$157,\")\"),'TABLA DE DECISION'!X183)","v":""},{"$f":"IF('TABLA DE DECISION'!Y183='TABLA DE DECISION'!Y$157,CONCATENATE($B29,\"(\",'TABLA DE DECISION'!Y$157,\")\"),'TABLA DE DECISION'!Y183)","v":""},{"$f":"IF('TABLA DE DECISION'!Z183='TABLA DE DECISION'!Z$157,CONCATENATE($B29,\"(\",'TABLA DE DECISION'!Z$157,\")\"),'TABLA DE DECISION'!Z183)","v":""},{"$f":"IF('TABLA DE DECISION'!AA183='TABLA DE DECISION'!AA$157,CONCATENATE($B29,\"(\",'TABLA DE DECISION'!AA$157,\")\"),'TABLA DE DECISION'!AA183)","v":""},{"$f":"IF('TABLA DE DECISION'!AB183='TABLA DE DECISION'!AB$157,CONCATENATE($B29,\"(\",'TABLA DE DECISION'!AB$157,\")\"),'TABLA DE DECISION'!AB183)","v":""},{"$f":"IF('TABLA DE DECISION'!AC183='TABLA DE DECISION'!AC$157,CONCATENATE($B29,\"(\",'TABLA DE DECISION'!AC$157,\")\"),'TABLA DE DECISION'!AC183)","v":""},{"$f":"IF('TABLA DE DECISION'!AD183='TABLA DE DECISION'!AD$157,CONCATENATE($B29,\"(\",'TABLA DE DECISION'!AD$157,\")\"),'TABLA DE DECISION'!AD183)","v":""},{"$f":"IF('TABLA DE DECISION'!AE183='TABLA DE DECISION'!AE$157,CONCATENATE($B29,\"(\",'TABLA DE DECISION'!AE$157,\")\"),'TABLA DE DECISION'!AE183)","v":""},{"$f":"IF('TABLA DE DECISION'!AF183='TABLA DE DECISION'!AF$157,CONCATENATE($B29,\"(\",'TABLA DE DECISION'!AF$157,\")\"),'TABLA DE DECISION'!AF183)","v":""},{"$f":"IF('TABLA DE DECISION'!AG183='TABLA DE DECISION'!AG$157,CONCATENATE($B29,\"(\",'TABLA DE DECISION'!AG$157,\")\"),'TABLA DE DECISION'!AG183)","v":""},{"$f":"IF('TABLA DE DECISION'!AH183='TABLA DE DECISION'!AH$157,CONCATENATE($B29,\"(\",'TABLA DE DECISION'!AH$157,\")\"),'TABLA DE DECISION'!AH183)","v":""},{"$f":"IF('TABLA DE DECISION'!AI183='TABLA DE DECISION'!AI$157,CONCATENATE($B29,\"(\",'TABLA DE DECISION'!AI$157,\")\"),'TABLA DE DECISION'!AI183)","v":""},{"$f":"IF('TABLA DE DECISION'!AJ183='TABLA DE DECISION'!AJ$157,CONCATENATE($B29,\"(\",'TABLA DE DECISION'!AJ$157,\")\"),'TABLA DE DECISION'!AJ183)","v":""},{"$f":"IF('TABLA DE DECISION'!AK183='TABLA DE DECISION'!AK$157,CONCATENATE($B29,\"(\",'TABLA DE DECISION'!AK$157,\")\"),'TABLA DE DECISION'!AK183)","v":""},{"$f":"IF('TABLA DE DECISION'!AL183='TABLA DE DECISION'!AL$157,CONCATENATE($B29,\"(\",'TABLA DE DECISION'!AL$157,\")\"),'TABLA DE DECISION'!AL183)","v":""},{"$f":"IF('TABLA DE DECISION'!AM183='TABLA DE DECISION'!AM$157,CONCATENATE($B29,\"(\",'TABLA DE DECISION'!AM$157,\")\"),'TABLA DE DECISION'!AM183)","v":""},{"$f":"IF('TABLA DE DECISION'!AN183='TABLA DE DECISION'!AN$157,CONCATENATE($B29,\"(\",'TABLA DE DECISION'!AN$157,\")\"),'TABLA DE DECISION'!AN183)","v":""},{"$f":"IF('TABLA DE DECISION'!AO183='TABLA DE DECISION'!AO$157,CONCATENATE($B29,\"(\",'TABLA DE DECISION'!AO$157,\")\"),'TABLA DE DECISION'!AO183)","v":""},{"$f":"IF('TABLA DE DECISION'!AP183='TABLA DE DECISION'!AP$157,CONCATENATE($B29,\"(\",'TABLA DE DECISION'!AP$157,\")\"),'TABLA DE DECISION'!AP183)","v":""},{"$f":"IF('TABLA DE DECISION'!AQ183='TABLA DE DECISION'!AQ$157,CONCATENATE($B29,\"(\",'TABLA DE DECISION'!AQ$157,\")\"),'TABLA DE DECISION'!AQ183)","v":""},{"$f":"IF('TABLA DE DECISION'!AR183='TABLA DE DECISION'!AR$157,CONCATENATE($B29,\"(\",'TABLA DE DECISION'!AR$157,\")\"),'TABLA DE DECISION'!AR183)","v":""},{"$f":"IF('TABLA DE DECISION'!AS183='TABLA DE DECISION'!AS$157,CONCATENATE($B29,\"(\",'TABLA DE DECISION'!AS$157,\")\"),'TABLA DE DECISION'!AS183)","v":""},{"$f":"IF('TABLA DE DECISION'!AT183='TABLA DE DECISION'!AT$157,CONCATENATE($B29,\"(\",'TABLA DE DECISION'!AT$157,\")\"),'TABLA DE DECISION'!AT183)","v":""},{"$f":"IF('TABLA DE DECISION'!AU183='TABLA DE DECISION'!AU$157,CONCATENATE($B29,\"(\",'TABLA DE DECISION'!AU$157,\")\"),'TABLA DE DECISION'!AU183)","v":""},{"$f":"IF('TABLA DE DECISION'!AV183='TABLA DE DECISION'!AV$157,CONCATENATE($B29,\"(\",'TABLA DE DECISION'!AV$157,\")\"),'TABLA DE DECISION'!AV183)","v":""},{"$f":"IF('TABLA DE DECISION'!AW183='TABLA DE DECISION'!AW$157,CONCATENATE($B29,\"(\",'TABLA DE DECISION'!AW$157,\")\"),'TABLA DE DECISION'!AW183)","v":""},{"$f":"IF('TABLA DE DECISION'!AX183='TABLA DE DECISION'!AX$157,CONCATENATE($B29,\"(\",'TABLA DE DECISION'!AX$157,\")\"),'TABLA DE DECISION'!AX183)","v":""},{"$f":"IF('TABLA DE DECISION'!AY183='TABLA DE DECISION'!AY$157,CONCATENATE($B29,\"(\",'TABLA DE DECISION'!AY$157,\")\"),'TABLA DE DECISION'!AY183)","v":""},{"$f":"IF('TABLA DE DECISION'!AZ183='TABLA DE DECISION'!AZ$157,CONCATENATE($B29,\"(\",'TABLA DE DECISION'!AZ$157,\")\"),'TABLA DE DECISION'!AZ183)","v":""},{"$f":"IF('TABLA DE DECISION'!BA183='TABLA DE DECISION'!BA$157,CONCATENATE($B29,\"(\",'TABLA DE DECISION'!BA$157,\")\"),'TABLA DE DECISION'!BA183)","v":""},{"$f":"IF('TABLA DE DECISION'!BB183='TABLA DE DECISION'!BB$157,CONCATENATE($B29,\"(\",'TABLA DE DECISION'!BB$157,\")\"),'TABLA DE DECISION'!BB183)","v":""},{"$f":"IF('TABLA DE DECISION'!BC183='TABLA DE DECISION'!BC$157,CONCATENATE($B29,\"(\",'TABLA DE DECISION'!BC$157,\")\"),'TABLA DE DECISION'!BC183)","v":""},{"$f":"IF('TABLA DE DECISION'!BD183='TABLA DE DECISION'!BD$157,CONCATENATE($B29,\"(\",'TABLA DE DECISION'!BD$157,\")\"),'TABLA DE DECISION'!BD183)","v":""}]
[{"$f":"IF('TABLA DE DECISION'!BF184=\"\",\"\",'TABLA DE DECISION'!BF184)","v":""},{"$f":"'TABLA DE DECISION'!BG184","v":"a26"},{"$f":"IF('TABLA DE DECISION'!A184='TABLA DE DECISION'!A$157,CONCATENATE($B30,\"(\",'TABLA DE DECISION'!A$157,\")\"),'TABLA DE DECISION'!A184)","v":""},{"$f":"IF('TABLA DE DECISION'!B184='TABLA DE DECISION'!B$157,CONCATENATE($B30,\"(\",'TABLA DE DECISION'!B$157,\")\"),'TABLA DE DECISION'!B184)","v":""},{"$f":"IF('TABLA DE DECISION'!C184='TABLA DE DECISION'!C$157,CONCATENATE($B30,\"(\",'TABLA DE DECISION'!C$157,\")\"),'TABLA DE DECISION'!C184)","v":""},{"$f":"IF('TABLA DE DECISION'!D184='TABLA DE DECISION'!D$157,CONCATENATE($B30,\"(\",'TABLA DE DECISION'!D$157,\")\"),'TABLA DE DECISION'!D184)","v":""},{"$f":"IF('TABLA DE DECISION'!E184='TABLA DE DECISION'!E$157,CONCATENATE($B30,\"(\",'TABLA DE DECISION'!E$157,\")\"),'TABLA DE DECISION'!E184)","v":""},{"$f":"IF('MATRIZ-PÉRDIDA OPORTUNIDAD'!BB28='MATRIZ-PÉRDIDA OPORTUNIDAD'!BB$2,CONCATENATE($B30,\"(\",'MATRIZ-PÉRDIDA OPORTUNIDAD'!BB$2,\")\"),'MATRIZ-PÉRDIDA OPORTUNIDAD'!BB28)","v":""},{"$f":"IF('TABLA DE DECISION'!G184='TABLA DE DECISION'!G$157,CONCATENATE($B30,\"(\",'TABLA DE DECISION'!G$157,\")\"),'TABLA DE DECISION'!G184)","v":""},{"$f":"IF('TABLA DE DECISION'!H184='TABLA DE DECISION'!H$157,CONCATENATE($B30,\"(\",'TABLA DE DECISION'!H$157,\")\"),'TABLA DE DECISION'!H184)","v":""},{"$f":"IF('TABLA DE DECISION'!I184='TABLA DE DECISION'!I$157,CONCATENATE($B30,\"(\",'TABLA DE DECISION'!I$157,\")\"),'TABLA DE DECISION'!I184)","v":""},{"$f":"IF('TABLA DE DECISION'!J184='TABLA DE DECISION'!J$157,CONCATENATE($B30,\"(\",'TABLA DE DECISION'!J$157,\")\"),'TABLA DE DECISION'!J184)","v":""},{"$f":"IF('TABLA DE DECISION'!K184='TABLA DE DECISION'!K$157,CONCATENATE($B30,\"(\",'TABLA DE DECISION'!K$157,\")\"),'TABLA DE DECISION'!K184)","v":""},{"$f":"IF('TABLA DE DECISION'!L184='TABLA DE DECISION'!L$157,CONCATENATE($B30,\"(\",'TABLA DE DECISION'!L$157,\")\"),'TABLA DE DECISION'!L184)","v":""},{"$f":"IF('TABLA DE DECISION'!M184='TABLA DE DECISION'!M$157,CONCATENATE($B30,\"(\",'TABLA DE DECISION'!M$157,\")\"),'TABLA DE DECISION'!M184)","v":""},{"$f":"IF('TABLA DE DECISION'!N184='TABLA DE DECISION'!N$157,CONCATENATE($B30,\"(\",'TABLA DE DECISION'!N$157,\")\"),'TABLA DE DECISION'!N184)","v":""},{"$f":"IF('TABLA DE DECISION'!O184='TABLA DE DECISION'!O$157,CONCATENATE($B30,\"(\",'TABLA DE DECISION'!O$157,\")\"),'TABLA DE DECISION'!O184)","v":""},{"$f":"IF('TABLA DE DECISION'!P184='TABLA DE DECISION'!P$157,CONCATENATE($B30,\"(\",'TABLA DE DECISION'!P$157,\")\"),'TABLA DE DECISION'!P184)","v":""},{"$f":"IF('TABLA DE DECISION'!Q184='TABLA DE DECISION'!Q$157,CONCATENATE($B30,\"(\",'TABLA DE DECISION'!Q$157,\")\"),'TABLA DE DECISION'!Q184)","v":""},{"$f":"IF('TABLA DE DECISION'!R184='TABLA DE DECISION'!R$157,CONCATENATE($B30,\"(\",'TABLA DE DECISION'!R$157,\")\"),'TABLA DE DECISION'!R184)","v":""},{"$f":"IF('TABLA DE DECISION'!S184='TABLA DE DECISION'!S$157,CONCATENATE($B30,\"(\",'TABLA DE DECISION'!S$157,\")\"),'TABLA DE DECISION'!S184)","v":""},{"$f":"IF('TABLA DE DECISION'!T184='TABLA DE DECISION'!T$157,CONCATENATE($B30,\"(\",'TABLA DE DECISION'!T$157,\")\"),'TABLA DE DECISION'!T184)","v":""},{"$f":"IF('TABLA DE DECISION'!U184='TABLA DE DECISION'!U$157,CONCATENATE($B30,\"(\",'TABLA DE DECISION'!U$157,\")\"),'TABLA DE DECISION'!U184)","v":""},{"$f":"IF('TABLA DE DECISION'!V184='TABLA DE DECISION'!V$157,CONCATENATE($B30,\"(\",'TABLA DE DECISION'!V$157,\")\"),'TABLA DE DECISION'!V184)","v":""},{"$f":"IF('TABLA DE DECISION'!W184='TABLA DE DECISION'!W$157,CONCATENATE($B30,\"(\",'TABLA DE DECISION'!W$157,\")\"),'TABLA DE DECISION'!W184)","v":""},{"$f":"IF('TABLA DE DECISION'!X184='TABLA DE DECISION'!X$157,CONCATENATE($B30,\"(\",'TABLA DE DECISION'!X$157,\")\"),'TABLA DE DECISION'!X184)","v":""},{"$f":"IF('TABLA DE DECISION'!Y184='TABLA DE DECISION'!Y$157,CONCATENATE($B30,\"(\",'TABLA DE DECISION'!Y$157,\")\"),'TABLA DE DECISION'!Y184)","v":""},{"$f":"IF('TABLA DE DECISION'!Z184='TABLA DE DECISION'!Z$157,CONCATENATE($B30,\"(\",'TABLA DE DECISION'!Z$157,\")\"),'TABLA DE DECISION'!Z184)","v":""},{"$f":"IF('TABLA DE DECISION'!AA184='TABLA DE DECISION'!AA$157,CONCATENATE($B30,\"(\",'TABLA DE DECISION'!AA$157,\")\"),'TABLA DE DECISION'!AA184)","v":""},{"$f":"IF('TABLA DE DECISION'!AB184='TABLA DE DECISION'!AB$157,CONCATENATE($B30,\"(\",'TABLA DE DECISION'!AB$157,\")\"),'TABLA DE DECISION'!AB184)","v":""},{"$f":"IF('TABLA DE DECISION'!AC184='TABLA DE DECISION'!AC$157,CONCATENATE($B30,\"(\",'TABLA DE DECISION'!AC$157,\")\"),'TABLA DE DECISION'!AC184)","v":""},{"$f":"IF('TABLA DE DECISION'!AD184='TABLA DE DECISION'!AD$157,CONCATENATE($B30,\"(\",'TABLA DE DECISION'!AD$157,\")\"),'TABLA DE DECISION'!AD184)","v":""},{"$f":"IF('TABLA DE DECISION'!AE184='TABLA DE DECISION'!AE$157,CONCATENATE($B30,\"(\",'TABLA DE DECISION'!AE$157,\")\"),'TABLA DE DECISION'!AE184)","v":""},{"$f":"IF('TABLA DE DECISION'!AF184='TABLA DE DECISION'!AF$157,CONCATENATE($B30,\"(\",'TABLA DE DECISION'!AF$157,\")\"),'TABLA DE DECISION'!AF184)","v":""},{"$f":"IF('TABLA DE DECISION'!AG184='TABLA DE DECISION'!AG$157,CONCATENATE($B30,\"(\",'TABLA DE DECISION'!AG$157,\")\"),'TABLA DE DECISION'!AG184)","v":""},{"$f":"IF('TABLA DE DECISION'!AH184='TABLA DE DECISION'!AH$157,CONCATENATE($B30,\"(\",'TABLA DE DECISION'!AH$157,\")\"),'TABLA DE DECISION'!AH184)","v":""},{"$f":"IF('TABLA DE DECISION'!AI184='TABLA DE DECISION'!AI$157,CONCATENATE($B30,\"(\",'TABLA DE DECISION'!AI$157,\")\"),'TABLA DE DECISION'!AI184)","v":""},{"$f":"IF('TABLA DE DECISION'!AJ184='TABLA DE DECISION'!AJ$157,CONCATENATE($B30,\"(\",'TABLA DE DECISION'!AJ$157,\")\"),'TABLA DE DECISION'!AJ184)","v":""},{"$f":"IF('TABLA DE DECISION'!AK184='TABLA DE DECISION'!AK$157,CONCATENATE($B30,\"(\",'TABLA DE DECISION'!AK$157,\")\"),'TABLA DE DECISION'!AK184)","v":""},{"$f":"IF('TABLA DE DECISION'!AL184='TABLA DE DECISION'!AL$157,CONCATENATE($B30,\"(\",'TABLA DE DECISION'!AL$157,\")\"),'TABLA DE DECISION'!AL184)","v":""},{"$f":"IF('TABLA DE DECISION'!AM184='TABLA DE DECISION'!AM$157,CONCATENATE($B30,\"(\",'TABLA DE DECISION'!AM$157,\")\"),'TABLA DE DECISION'!AM184)","v":""},{"$f":"IF('TABLA DE DECISION'!AN184='TABLA DE DECISION'!AN$157,CONCATENATE($B30,\"(\",'TABLA DE DECISION'!AN$157,\")\"),'TABLA DE DECISION'!AN184)","v":""},{"$f":"IF('TABLA DE DECISION'!AO184='TABLA DE DECISION'!AO$157,CONCATENATE($B30,\"(\",'TABLA DE DECISION'!AO$157,\")\"),'TABLA DE DECISION'!AO184)","v":""},{"$f":"IF('TABLA DE DECISION'!AP184='TABLA DE DECISION'!AP$157,CONCATENATE($B30,\"(\",'TABLA DE DECISION'!AP$157,\")\"),'TABLA DE DECISION'!AP184)","v":""},{"$f":"IF('TABLA DE DECISION'!AQ184='TABLA DE DECISION'!AQ$157,CONCATENATE($B30,\"(\",'TABLA DE DECISION'!AQ$157,\")\"),'TABLA DE DECISION'!AQ184)","v":""},{"$f":"IF('TABLA DE DECISION'!AR184='TABLA DE DECISION'!AR$157,CONCATENATE($B30,\"(\",'TABLA DE DECISION'!AR$157,\")\"),'TABLA DE DECISION'!AR184)","v":""},{"$f":"IF('TABLA DE DECISION'!AS184='TABLA DE DECISION'!AS$157,CONCATENATE($B30,\"(\",'TABLA DE DECISION'!AS$157,\")\"),'TABLA DE DECISION'!AS184)","v":""},{"$f":"IF('TABLA DE DECISION'!AT184='TABLA DE DECISION'!AT$157,CONCATENATE($B30,\"(\",'TABLA DE DECISION'!AT$157,\")\"),'TABLA DE DECISION'!AT184)","v":""},{"$f":"IF('TABLA DE DECISION'!AU184='TABLA DE DECISION'!AU$157,CONCATENATE($B30,\"(\",'TABLA DE DECISION'!AU$157,\")\"),'TABLA DE DECISION'!AU184)","v":""},{"$f":"IF('TABLA DE DECISION'!AV184='TABLA DE DECISION'!AV$157,CONCATENATE($B30,\"(\",'TABLA DE DECISION'!AV$157,\")\"),'TABLA DE DECISION'!AV184)","v":""},{"$f":"IF('TABLA DE DECISION'!AW184='TABLA DE DECISION'!AW$157,CONCATENATE($B30,\"(\",'TABLA DE DECISION'!AW$157,\")\"),'TABLA DE DECISION'!AW184)","v":""},{"$f":"IF('TABLA DE DECISION'!AX184='TABLA DE DECISION'!AX$157,CONCATENATE($B30,\"(\",'TABLA DE DECISION'!AX$157,\")\"),'TABLA DE DECISION'!AX184)","v":""},{"$f":"IF('TABLA DE DECISION'!AY184='TABLA DE DECISION'!AY$157,CONCATENATE($B30,\"(\",'TABLA DE DECISION'!AY$157,\")\"),'TABLA DE DECISION'!AY184)","v":""},{"$f":"IF('TABLA DE DECISION'!AZ184='TABLA DE DECISION'!AZ$157,CONCATENATE($B30,\"(\",'TABLA DE DECISION'!AZ$157,\")\"),'TABLA DE DECISION'!AZ184)","v":""},{"$f":"IF('TABLA DE DECISION'!BA184='TABLA DE DECISION'!BA$157,CONCATENATE($B30,\"(\",'TABLA DE DECISION'!BA$157,\")\"),'TABLA DE DECISION'!BA184)","v":""},{"$f":"IF('TABLA DE DECISION'!BB184='TABLA DE DECISION'!BB$157,CONCATENATE($B30,\"(\",'TABLA DE DECISION'!BB$157,\")\"),'TABLA DE DECISION'!BB184)","v":""},{"$f":"IF('TABLA DE DECISION'!BC184='TABLA DE DECISION'!BC$157,CONCATENATE($B30,\"(\",'TABLA DE DECISION'!BC$157,\")\"),'TABLA DE DECISION'!BC184)","v":""},{"$f":"IF('TABLA DE DECISION'!BD184='TABLA DE DECISION'!BD$157,CONCATENATE($B30,\"(\",'TABLA DE DECISION'!BD$157,\")\"),'TABLA DE DECISION'!BD184)","v":""}]
[{"$f":"IF('TABLA DE DECISION'!BF185=\"\",\"\",'TABLA DE DECISION'!BF185)","v":""},{"$f":"'TABLA DE DECISION'!BG185","v":"a27"},{"$f":"IF('TABLA DE DECISION'!A185='TABLA DE DECISION'!A$157,CONCATENATE($B31,\"(\",'TABLA DE DECISION'!A$157,\")\"),'TABLA DE DECISION'!A185)","v":""},{"$f":"IF('TABLA DE DECISION'!B185='TABLA DE DECISION'!B$157,CONCATENATE($B31,\"(\",'TABLA DE DECISION'!B$157,\")\"),'TABLA DE DECISION'!B185)","v":""},{"$f":"IF('TABLA DE DECISION'!C185='TABLA DE DECISION'!C$157,CONCATENATE($B31,\"(\",'TABLA DE DECISION'!C$157,\")\"),'TABLA DE DECISION'!C185)","v":""},{"$f":"IF('TABLA DE DECISION'!D185='TABLA DE DECISION'!D$157,CONCATENATE($B31,\"(\",'TABLA DE DECISION'!D$157,\")\"),'TABLA DE DECISION'!D185)","v":""},{"$f":"IF('TABLA DE DECISION'!E185='TABLA DE DECISION'!E$157,CONCATENATE($B31,\"(\",'TABLA DE DECISION'!E$157,\")\"),'TABLA DE DECISION'!E185)","v":""},{"$f":"IF('MATRIZ-PÉRDIDA OPORTUNIDAD'!BB29='MATRIZ-PÉRDIDA OPORTUNIDAD'!BB$2,CONCATENATE($B31,\"(\",'MATRIZ-PÉRDIDA OPORTUNIDAD'!BB$2,\")\"),'MATRIZ-PÉRDIDA OPORTUNIDAD'!BB29)","v":""},{"$f":"IF('TABLA DE DECISION'!G185='TABLA DE DECISION'!G$157,CONCATENATE($B31,\"(\",'TABLA DE DECISION'!G$157,\")\"),'TABLA DE DECISION'!G185)","v":""},{"$f":"IF('TABLA DE DECISION'!H185='TABLA DE DECISION'!H$157,CONCATENATE($B31,\"(\",'TABLA DE DECISION'!H$157,\")\"),'TABLA DE DECISION'!H185)","v":""},{"$f":"IF('TABLA DE DECISION'!I185='TABLA DE DECISION'!I$157,CONCATENATE($B31,\"(\",'TABLA DE DECISION'!I$157,\")\"),'TABLA DE DECISION'!I185)","v":""},{"$f":"IF('TABLA DE DECISION'!J185='TABLA DE DECISION'!J$157,CONCATENATE($B31,\"(\",'TABLA DE DECISION'!J$157,\")\"),'TABLA DE DECISION'!J185)","v":""},{"$f":"IF('TABLA DE DECISION'!K185='TABLA DE DECISION'!K$157,CONCATENATE($B31,\"(\",'TABLA DE DECISION'!K$157,\")\"),'TABLA DE DECISION'!K185)","v":""},{"$f":"IF('TABLA DE DECISION'!L185='TABLA DE DECISION'!L$157,CONCATENATE($B31,\"(\",'TABLA DE DECISION'!L$157,\")\"),'TABLA DE DECISION'!L185)","v":""},{"$f":"IF('TABLA DE DECISION'!M185='TABLA DE DECISION'!M$157,CONCATENATE($B31,\"(\",'TABLA DE DECISION'!M$157,\")\"),'TABLA DE DECISION'!M185)","v":""},{"$f":"IF('TABLA DE DECISION'!N185='TABLA DE DECISION'!N$157,CONCATENATE($B31,\"(\",'TABLA DE DECISION'!N$157,\")\"),'TABLA DE DECISION'!N185)","v":""},{"$f":"IF('TABLA DE DECISION'!O185='TABLA DE DECISION'!O$157,CONCATENATE($B31,\"(\",'TABLA DE DECISION'!O$157,\")\"),'TABLA DE DECISION'!O185)","v":""},{"$f":"IF('TABLA DE DECISION'!P185='TABLA DE DECISION'!P$157,CONCATENATE($B31,\"(\",'TABLA DE DECISION'!P$157,\")\"),'TABLA DE DECISION'!P185)","v":""},{"$f":"IF('TABLA DE DECISION'!Q185='TABLA DE DECISION'!Q$157,CONCATENATE($B31,\"(\",'TABLA DE DECISION'!Q$157,\")\"),'TABLA DE DECISION'!Q185)","v":""},{"$f":"IF('TABLA DE DECISION'!R185='TABLA DE DECISION'!R$157,CONCATENATE($B31,\"(\",'TABLA DE DECISION'!R$157,\")\"),'TABLA DE DECISION'!R185)","v":""},{"$f":"IF('TABLA DE DECISION'!S185='TABLA DE DECISION'!S$157,CONCATENATE($B31,\"(\",'TABLA DE DECISION'!S$157,\")\"),'TABLA DE DECISION'!S185)","v":""},{"$f":"IF('TABLA DE DECISION'!T185='TABLA DE DECISION'!T$157,CONCATENATE($B31,\"(\",'TABLA DE DECISION'!T$157,\")\"),'TABLA DE DECISION'!T185)","v":""},{"$f":"IF('TABLA DE DECISION'!U185='TABLA DE DECISION'!U$157,CONCATENATE($B31,\"(\",'TABLA DE DECISION'!U$157,\")\"),'TABLA DE DECISION'!U185)","v":""},{"$f":"IF('TABLA DE DECISION'!V185='TABLA DE DECISION'!V$157,CONCATENATE($B31,\"(\",'TABLA DE DECISION'!V$157,\")\"),'TABLA DE DECISION'!V185)","v":""},{"$f":"IF('TABLA DE DECISION'!W185='TABLA DE DECISION'!W$157,CONCATENATE($B31,\"(\",'TABLA DE DECISION'!W$157,\")\"),'TABLA DE DECISION'!W185)","v":""},{"$f":"IF('TABLA DE DECISION'!X185='TABLA DE DECISION'!X$157,CONCATENATE($B31,\"(\",'TABLA DE DECISION'!X$157,\")\"),'TABLA DE DECISION'!X185)","v":""},{"$f":"IF('TABLA DE DECISION'!Y185='TABLA DE DECISION'!Y$157,CONCATENATE($B31,\"(\",'TABLA DE DECISION'!Y$157,\")\"),'TABLA DE DECISION'!Y185)","v":""},{"$f":"IF('TABLA DE DECISION'!Z185='TABLA DE DECISION'!Z$157,CONCATENATE($B31,\"(\",'TABLA DE DECISION'!Z$157,\")\"),'TABLA DE DECISION'!Z185)","v":""},{"$f":"IF('TABLA DE DECISION'!AA185='TABLA DE DECISION'!AA$157,CONCATENATE($B31,\"(\",'TABLA DE DECISION'!AA$157,\")\"),'TABLA DE DECISION'!AA185)","v":""},{"$f":"IF('TABLA DE DECISION'!AB185='TABLA DE DECISION'!AB$157,CONCATENATE($B31,\"(\",'TABLA DE DECISION'!AB$157,\")\"),'TABLA DE DECISION'!AB185)","v":""},{"$f":"IF('TABLA DE DECISION'!AC185='TABLA DE DECISION'!AC$157,CONCATENATE($B31,\"(\",'TABLA DE DECISION'!AC$157,\")\"),'TABLA DE DECISION'!AC185)","v":""},{"$f":"IF('TABLA DE DECISION'!AD185='TABLA DE DECISION'!AD$157,CONCATENATE($B31,\"(\",'TABLA DE DECISION'!AD$157,\")\"),'TABLA DE DECISION'!AD185)","v":""},{"$f":"IF('TABLA DE DECISION'!AE185='TABLA DE DECISION'!AE$157,CONCATENATE($B31,\"(\",'TABLA DE DECISION'!AE$157,\")\"),'TABLA DE DECISION'!AE185)","v":""},{"$f":"IF('TABLA DE DECISION'!AF185='TABLA DE DECISION'!AF$157,CONCATENATE($B31,\"(\",'TABLA DE DECISION'!AF$157,\")\"),'TABLA DE DECISION'!AF185)","v":""},{"$f":"IF('TABLA DE DECISION'!AG185='TABLA DE DECISION'!AG$157,CONCATENATE($B31,\"(\",'TABLA DE DECISION'!AG$157,\")\"),'TABLA DE DECISION'!AG185)","v":""},{"$f":"IF('TABLA DE DECISION'!AH185='TABLA DE DECISION'!AH$157,CONCATENATE($B31,\"(\",'TABLA DE DECISION'!AH$157,\")\"),'TABLA DE DECISION'!AH185)","v":""},{"$f":"IF('TABLA DE DECISION'!AI185='TABLA DE DECISION'!AI$157,CONCATENATE($B31,\"(\",'TABLA DE DECISION'!AI$157,\")\"),'TABLA DE DECISION'!AI185)","v":""},{"$f":"IF('TABLA DE DECISION'!AJ185='TABLA DE DECISION'!AJ$157,CONCATENATE($B31,\"(\",'TABLA DE DECISION'!AJ$157,\")\"),'TABLA DE DECISION'!AJ185)","v":""},{"$f":"IF('TABLA DE DECISION'!AK185='TABLA DE DECISION'!AK$157,CONCATENATE($B31,\"(\",'TABLA DE DECISION'!AK$157,\")\"),'TABLA DE DECISION'!AK185)","v":""},{"$f":"IF('TABLA DE DECISION'!AL185='TABLA DE DECISION'!AL$157,CONCATENATE($B31,\"(\",'TABLA DE DECISION'!AL$157,\")\"),'TABLA DE DECISION'!AL185)","v":""},{"$f":"IF('TABLA DE DECISION'!AM185='TABLA DE DECISION'!AM$157,CONCATENATE($B31,\"(\",'TABLA DE DECISION'!AM$157,\")\"),'TABLA DE DECISION'!AM185)","v":""},{"$f":"IF('TABLA DE DECISION'!AN185='TABLA DE DECISION'!AN$157,CONCATENATE($B31,\"(\",'TABLA DE DECISION'!AN$157,\")\"),'TABLA DE DECISION'!AN185)","v":""},{"$f":"IF('TABLA DE DECISION'!AO185='TABLA DE DECISION'!AO$157,CONCATENATE($B31,\"(\",'TABLA DE DECISION'!AO$157,\")\"),'TABLA DE DECISION'!AO185)","v":""},{"$f":"IF('TABLA DE DECISION'!AP185='TABLA DE DECISION'!AP$157,CONCATENATE($B31,\"(\",'TABLA DE DECISION'!AP$157,\")\"),'TABLA DE DECISION'!AP185)","v":""},{"$f":"IF('TABLA DE DECISION'!AQ185='TABLA DE DECISION'!AQ$157,CONCATENATE($B31,\"(\",'TABLA DE DECISION'!AQ$157,\")\"),'TABLA DE DECISION'!AQ185)","v":""},{"$f":"IF('TABLA DE DECISION'!AR185='TABLA DE DECISION'!AR$157,CONCATENATE($B31,\"(\",'TABLA DE DECISION'!AR$157,\")\"),'TABLA DE DECISION'!AR185)","v":""},{"$f":"IF('TABLA DE DECISION'!AS185='TABLA DE DECISION'!AS$157,CONCATENATE($B31,\"(\",'TABLA DE DECISION'!AS$157,\")\"),'TABLA DE DECISION'!AS185)","v":""},{"$f":"IF('TABLA DE DECISION'!AT185='TABLA DE DECISION'!AT$157,CONCATENATE($B31,\"(\",'TABLA DE DECISION'!AT$157,\")\"),'TABLA DE DECISION'!AT185)","v":""},{"$f":"IF('TABLA DE DECISION'!AU185='TABLA DE DECISION'!AU$157,CONCATENATE($B31,\"(\",'TABLA DE DECISION'!AU$157,\")\"),'TABLA DE DECISION'!AU185)","v":""},{"$f":"IF('TABLA DE DECISION'!AV185='TABLA DE DECISION'!AV$157,CONCATENATE($B31,\"(\",'TABLA DE DECISION'!AV$157,\")\"),'TABLA DE DECISION'!AV185)","v":""},{"$f":"IF('TABLA DE DECISION'!AW185='TABLA DE DECISION'!AW$157,CONCATENATE($B31,\"(\",'TABLA DE DECISION'!AW$157,\")\"),'TABLA DE DECISION'!AW185)","v":""},{"$f":"IF('TABLA DE DECISION'!AX185='TABLA DE DECISION'!AX$157,CONCATENATE($B31,\"(\",'TABLA DE DECISION'!AX$157,\")\"),'TABLA DE DECISION'!AX185)","v":""},{"$f":"IF('TABLA DE DECISION'!AY185='TABLA DE DECISION'!AY$157,CONCATENATE($B31,\"(\",'TABLA DE DECISION'!AY$157,\")\"),'TABLA DE DECISION'!AY185)","v":""},{"$f":"IF('TABLA DE DECISION'!AZ185='TABLA DE DECISION'!AZ$157,CONCATENATE($B31,\"(\",'TABLA DE DECISION'!AZ$157,\")\"),'TABLA DE DECISION'!AZ185)","v":""},{"$f":"IF('TABLA DE DECISION'!BA185='TABLA DE DECISION'!BA$157,CONCATENATE($B31,\"(\",'TABLA DE DECISION'!BA$157,\")\"),'TABLA DE DECISION'!BA185)","v":""},{"$f":"IF('TABLA DE DECISION'!BB185='TABLA DE DECISION'!BB$157,CONCATENATE($B31,\"(\",'TABLA DE DECISION'!BB$157,\")\"),'TABLA DE DECISION'!BB185)","v":""},{"$f":"IF('TABLA DE DECISION'!BC185='TABLA DE DECISION'!BC$157,CONCATENATE($B31,\"(\",'TABLA DE DECISION'!BC$157,\")\"),'TABLA DE DECISION'!BC185)","v":""},{"$f":"IF('TABLA DE DECISION'!BD185='TABLA DE DECISION'!BD$157,CONCATENATE($B31,\"(\",'TABLA DE DECISION'!BD$157,\")\"),'TABLA DE DECISION'!BD185)","v":""}]
[{"$f":"IF('TABLA DE DECISION'!BF186=\"\",\"\",'TABLA DE DECISION'!BF186)","v":""},{"$f":"'TABLA DE DECISION'!BG186","v":"a28"},{"$f":"IF('TABLA DE DECISION'!A186='TABLA DE DECISION'!A$157,CONCATENATE($B32,\"(\",'TABLA DE DECISION'!A$157,\")\"),'TABLA DE DECISION'!A186)","v":""},{"$f":"IF('TABLA DE DECISION'!B186='TABLA DE DECISION'!B$157,CONCATENATE($B32,\"(\",'TABLA DE DECISION'!B$157,\")\"),'TABLA DE DECISION'!B186)","v":""},{"$f":"IF('TABLA DE DECISION'!C186='TABLA DE DECISION'!C$157,CONCATENATE($B32,\"(\",'TABLA DE DECISION'!C$157,\")\"),'TABLA DE DECISION'!C186)","v":""},{"$f":"IF('TABLA DE DECISION'!D186='TABLA DE DECISION'!D$157,CONCATENATE($B32,\"(\",'TABLA DE DECISION'!D$157,\")\"),'TABLA DE DECISION'!D186)","v":""},{"$f":"IF('TABLA DE DECISION'!E186='TABLA DE DECISION'!E$157,CONCATENATE($B32,\"(\",'TABLA DE DECISION'!E$157,\")\"),'TABLA DE DECISION'!E186)","v":""},{"$f":"IF('MATRIZ-PÉRDIDA OPORTUNIDAD'!BB30='MATRIZ-PÉRDIDA OPORTUNIDAD'!BB$2,CONCATENATE($B32,\"(\",'MATRIZ-PÉRDIDA OPORTUNIDAD'!BB$2,\")\"),'MATRIZ-PÉRDIDA OPORTUNIDAD'!BB30)","v":""},{"$f":"IF('TABLA DE DECISION'!G186='TABLA DE DECISION'!G$157,CONCATENATE($B32,\"(\",'TABLA DE DECISION'!G$157,\")\"),'TABLA DE DECISION'!G186)","v":""},{"$f":"IF('TABLA DE DECISION'!H186='TABLA DE DECISION'!H$157,CONCATENATE($B32,\"(\",'TABLA DE DECISION'!H$157,\")\"),'TABLA DE DECISION'!H186)","v":""},{"$f":"IF('TABLA DE DECISION'!I186='TABLA DE DECISION'!I$157,CONCATENATE($B32,\"(\",'TABLA DE DECISION'!I$157,\")\"),'TABLA DE DECISION'!I186)","v":""},{"$f":"IF('TABLA DE DECISION'!J186='TABLA DE DECISION'!J$157,CONCATENATE($B32,\"(\",'TABLA DE DECISION'!J$157,\")\"),'TABLA DE DECISION'!J186)","v":""},{"$f":"IF('TABLA DE DECISION'!K186='TABLA DE DECISION'!K$157,CONCATENATE($B32,\"(\",'TABLA DE DECISION'!K$157,\")\"),'TABLA DE DECISION'!K186)","v":""},{"$f":"IF('TABLA DE DECISION'!L186='TABLA DE DECISION'!L$157,CONCATENATE($B32,\"(\",'TABLA DE DECISION'!L$157,\")\"),'TABLA DE DECISION'!L186)","v":""},{"$f":"IF('TABLA DE DECISION'!M186='TABLA DE DECISION'!M$157,CONCATENATE($B32,\"(\",'TABLA DE DECISION'!M$157,\")\"),'TABLA DE DECISION'!M186)","v":""},{"$f":"IF('TABLA DE DECISION'!N186='TABLA DE DECISION'!N$157,CONCATENATE($B32,\"(\",'TABLA DE DECISION'!N$157,\")\"),'TABLA DE DECISION'!N186)","v":""},{"$f":"IF('TABLA DE DECISION'!O186='TABLA DE DECISION'!O$157,CONCATENATE($B32,\"(\",'TABLA DE DECISION'!O$157,\")\"),'TABLA DE DECISION'!O186)","v":""},{"$f":"IF('TABLA DE DECISION'!P186='TABLA DE DECISION'!P$157,CONCATENATE($B32,\"(\",'TABLA DE DECISION'!P$157,\")\"),'TABLA DE DECISION'!P186)","v":""},{"$f":"IF('TABLA DE DECISION'!Q186='TABLA DE DECISION'!Q$157,CONCATENATE($B32,\"(\",'TABLA DE DECISION'!Q$157,\")\"),'TABLA DE DECISION'!Q186)","v":""},{"$f":"IF('TABLA DE DECISION'!R186='TABLA DE DECISION'!R$157,CONCATENATE($B32,\"(\",'TABLA DE DECISION'!R$157,\")\"),'TABLA DE DECISION'!R186)","v":""},{"$f":"IF('TABLA DE DECISION'!S186='TABLA DE DECISION'!S$157,CONCATENATE($B32,\"(\",'TABLA DE DECISION'!S$157,\")\"),'TABLA DE DECISION'!S186)","v":""},{"$f":"IF('TABLA DE DECISION'!T186='TABLA DE DECISION'!T$157,CONCATENATE($B32,\"(\",'TABLA DE DECISION'!T$157,\")\"),'TABLA DE DECISION'!T186)","v":""},{"$f":"IF('TABLA DE DECISION'!U186='TABLA DE DECISION'!U$157,CONCATENATE($B32,\"(\",'TABLA DE DECISION'!U$157,\")\"),'TABLA DE DECISION'!U186)","v":""},{"$f":"IF('TABLA DE DECISION'!V186='TABLA DE DECISION'!V$157,CONCATENATE($B32,\"(\",'TABLA DE DECISION'!V$157,\")\"),'TABLA DE DECISION'!V186)","v":""},{"$f":"IF('TABLA DE DECISION'!W186='TABLA DE DECISION'!W$157,CONCATENATE($B32,\"(\",'TABLA DE DECISION'!W$157,\")\"),'TABLA DE DECISION'!W186)","v":""},{"$f":"IF('TABLA DE DECISION'!X186='TABLA DE DECISION'!X$157,CONCATENATE($B32,\"(\",'TABLA DE DECISION'!X$157,\")\"),'TABLA DE DECISION'!X186)","v":""},{"$f":"IF('TABLA DE DECISION'!Y186='TABLA DE DECISION'!Y$157,CONCATENATE($B32,\"(\",'TABLA DE DECISION'!Y$157,\")\"),'TABLA DE DECISION'!Y186)","v":""},{"$f":"IF('TABLA DE DECISION'!Z186='TABLA DE DECISION'!Z$157,CONCATENATE($B32,\"(\",'TABLA DE DECISION'!Z$157,\")\"),'TABLA DE DECISION'!Z186)","v":""},{"$f":"IF('TABLA DE DECISION'!AA186='TABLA DE DECISION'!AA$157,CONCATENATE($B32,\"(\",'TABLA DE DECISION'!AA$157,\")\"),'TABLA DE DECISION'!AA186)","v":""},{"$f":"IF('TABLA DE DECISION'!AB186='TABLA DE DECISION'!AB$157,CONCATENATE($B32,\"(\",'TABLA DE DECISION'!AB$157,\")\"),'TABLA DE DECISION'!AB186)","v":""},{"$f":"IF('TABLA DE DECISION'!AC186='TABLA DE DECISION'!AC$157,CONCATENATE($B32,\"(\",'TABLA DE DECISION'!AC$157,\")\"),'TABLA DE DECISION'!AC186)","v":""},{"$f":"IF('TABLA DE DECISION'!AD186='TABLA DE DECISION'!AD$157,CONCATENATE($B32,\"(\",'TABLA DE DECISION'!AD$157,\")\"),'TABLA DE DECISION'!AD186)","v":""},{"$f":"IF('TABLA DE DECISION'!AE186='TABLA DE DECISION'!AE$157,CONCATENATE($B32,\"(\",'TABLA DE DECISION'!AE$157,\")\"),'TABLA DE DECISION'!AE186)","v":""},{"$f":"IF('TABLA DE DECISION'!AF186='TABLA DE DECISION'!AF$157,CONCATENATE($B32,\"(\",'TABLA DE DECISION'!AF$157,\")\"),'TABLA DE DECISION'!AF186)","v":""},{"$f":"IF('TABLA DE DECISION'!AG186='TABLA DE DECISION'!AG$157,CONCATENATE($B32,\"(\",'TABLA DE DECISION'!AG$157,\")\"),'TABLA DE DECISION'!AG186)","v":""},{"$f":"IF('TABLA DE DECISION'!AH186='TABLA DE DECISION'!AH$157,CONCATENATE($B32,\"(\",'TABLA DE DECISION'!AH$157,\")\"),'TABLA DE DECISION'!AH186)","v":""},{"$f":"IF('TABLA DE DECISION'!AI186='TABLA DE DECISION'!AI$157,CONCATENATE($B32,\"(\",'TABLA DE DECISION'!AI$157,\")\"),'TABLA DE DECISION'!AI186)","v":""},{"$f":"IF('TABLA DE DECISION'!AJ186='TABLA DE DECISION'!AJ$157,CONCATENATE($B32,\"(\",'TABLA DE DECISION'!AJ$157,\")\"),'TABLA DE DECISION'!AJ186)","v":""},{"$f":"IF('TABLA DE DECISION'!AK186='TABLA DE DECISION'!AK$157,CONCATENATE($B32,\"(\",'TABLA DE DECISION'!AK$157,\")\"),'TABLA DE DECISION'!AK186)","v":""},{"$f":"IF('TABLA DE DECISION'!AL186='TABLA DE DECISION'!AL$157,CONCATENATE($B32,\"(\",'TABLA DE DECISION'!AL$157,\")\"),'TABLA DE DECISION'!AL186)","v":""},{"$f":"IF('TABLA DE DECISION'!AM186='TABLA DE DECISION'!AM$157,CONCATENATE($B32,\"(\",'TABLA DE DECISION'!AM$157,\")\"),'TABLA DE DECISION'!AM186)","v":""},{"$f":"IF('TABLA DE DECISION'!AN186='TABLA DE DECISION'!AN$157,CONCATENATE($B32,\"(\",'TABLA DE DECISION'!AN$157,\")\"),'TABLA DE DECISION'!AN186)","v":""},{"$f":"IF('TABLA DE DECISION'!AO186='TABLA DE DECISION'!AO$157,CONCATENATE($B32,\"(\",'TABLA DE DECISION'!AO$157,\")\"),'TABLA DE DECISION'!AO186)","v":""},{"$f":"IF('TABLA DE DECISION'!AP186='TABLA DE DECISION'!AP$157,CONCATENATE($B32,\"(\",'TABLA DE DECISION'!AP$157,\")\"),'TABLA DE DECISION'!AP186)","v":""},{"$f":"IF('TABLA DE DECISION'!AQ186='TABLA DE DECISION'!AQ$157,CONCATENATE($B32,\"(\",'TABLA DE DECISION'!AQ$157,\")\"),'TABLA DE DECISION'!AQ186)","v":""},{"$f":"IF('TABLA DE DECISION'!AR186='TABLA DE DECISION'!AR$157,CONCATENATE($B32,\"(\",'TABLA DE DECISION'!AR$157,\")\"),'TABLA DE DECISION'!AR186)","v":""},{"$f":"IF('TABLA DE DECISION'!AS186='TABLA DE DECISION'!AS$157,CONCATENATE($B32,\"(\",'TABLA DE DECISION'!AS$157,\")\"),'TABLA DE DECISION'!AS186)","v":""},{"$f":"IF('TABLA DE DECISION'!AT186='TABLA DE DECISION'!AT$157,CONCATENATE($B32,\"(\",'TABLA DE DECISION'!AT$157,\")\"),'TABLA DE DECISION'!AT186)","v":""},{"$f":"IF('TABLA DE DECISION'!AU186='TABLA DE DECISION'!AU$157,CONCATENATE($B32,\"(\",'TABLA DE DECISION'!AU$157,\")\"),'TABLA DE DECISION'!AU186)","v":""},{"$f":"IF('TABLA DE DECISION'!AV186='TABLA DE DECISION'!AV$157,CONCATENATE($B32,\"(\",'TABLA DE DECISION'!AV$157,\")\"),'TABLA DE DECISION'!AV186)","v":""},{"$f":"IF('TABLA DE DECISION'!AW186='TABLA DE DECISION'!AW$157,CONCATENATE($B32,\"(\",'TABLA DE DECISION'!AW$157,\")\"),'TABLA DE DECISION'!AW186)","v":""},{"$f":"IF('TABLA DE DECISION'!AX186='TABLA DE DECISION'!AX$157,CONCATENATE($B32,\"(\",'TABLA DE DECISION'!AX$157,\")\"),'TABLA DE DECISION'!AX186)","v":""},{"$f":"IF('TABLA DE DECISION'!AY186='TABLA DE DECISION'!AY$157,CONCATENATE($B32,\"(\",'TABLA DE DECISION'!AY$157,\")\"),'TABLA DE DECISION'!AY186)","v":""},{"$f":"IF('TABLA DE DECISION'!AZ186='TABLA DE DECISION'!AZ$157,CONCATENATE($B32,\"(\",'TABLA DE DECISION'!AZ$157,\")\"),'TABLA DE DECISION'!AZ186)","v":""},{"$f":"IF('TABLA DE DECISION'!BA186='TABLA DE DECISION'!BA$157,CONCATENATE($B32,\"(\",'TABLA DE DECISION'!BA$157,\")\"),'TABLA DE DECISION'!BA186)","v":""},{"$f":"IF('TABLA DE DECISION'!BB186='TABLA DE DECISION'!BB$157,CONCATENATE($B32,\"(\",'TABLA DE DECISION'!BB$157,\")\"),'TABLA DE DECISION'!BB186)","v":""},{"$f":"IF('TABLA DE DECISION'!BC186='TABLA DE DECISION'!BC$157,CONCATENATE($B32,\"(\",'TABLA DE DECISION'!BC$157,\")\"),'TABLA DE DECISION'!BC186)","v":""},{"$f":"IF('TABLA DE DECISION'!BD186='TABLA DE DECISION'!BD$157,CONCATENATE($B32,\"(\",'TABLA DE DECISION'!BD$157,\")\"),'TABLA DE DECISION'!BD186)","v":""}]
[{"$f":"IF('TABLA DE DECISION'!BF187=\"\",\"\",'TABLA DE DECISION'!BF187)","v":""},{"$f":"'TABLA DE DECISION'!BG187","v":"a29"},{"$f":"IF('TABLA DE DECISION'!A187='TABLA DE DECISION'!A$157,CONCATENATE($B33,\"(\",'TABLA DE DECISION'!A$157,\")\"),'TABLA DE DECISION'!A187)","v":""},{"$f":"IF('TABLA DE DECISION'!B187='TABLA DE DECISION'!B$157,CONCATENATE($B33,\"(\",'TABLA DE DECISION'!B$157,\")\"),'TABLA DE DECISION'!B187)","v":""},{"$f":"IF('TABLA DE DECISION'!C187='TABLA DE DECISION'!C$157,CONCATENATE($B33,\"(\",'TABLA DE DECISION'!C$157,\")\"),'TABLA DE DECISION'!C187)","v":""},{"$f":"IF('TABLA DE DECISION'!D187='TABLA DE DECISION'!D$157,CONCATENATE($B33,\"(\",'TABLA DE DECISION'!D$157,\")\"),'TABLA DE DECISION'!D187)","v":""},{"$f":"IF('TABLA DE DECISION'!E187='TABLA DE DECISION'!E$157,CONCATENATE($B33,\"(\",'TABLA DE DECISION'!E$157,\")\"),'TABLA DE DECISION'!E187)","v":""},{"$f":"IF('MATRIZ-PÉRDIDA OPORTUNIDAD'!BB31='MATRIZ-PÉRDIDA OPORTUNIDAD'!BB$2,CONCATENATE($B33,\"(\",'MATRIZ-PÉRDIDA OPORTUNIDAD'!BB$2,\")\"),'MATRIZ-PÉRDIDA OPORTUNIDAD'!BB31)","v":""},{"$f":"IF('TABLA DE DECISION'!G187='TABLA DE DECISION'!G$157,CONCATENATE($B33,\"(\",'TABLA DE DECISION'!G$157,\")\"),'TABLA DE DECISION'!G187)","v":""},{"$f":"IF('TABLA DE DECISION'!H187='TABLA DE DECISION'!H$157,CONCATENATE($B33,\"(\",'TABLA DE DECISION'!H$157,\")\"),'TABLA DE DECISION'!H187)","v":""},{"$f":"IF('TABLA DE DECISION'!I187='TABLA DE DECISION'!I$157,CONCATENATE($B33,\"(\",'TABLA DE DECISION'!I$157,\")\"),'TABLA DE DECISION'!I187)","v":""},{"$f":"IF('TABLA DE DECISION'!J187='TABLA DE DECISION'!J$157,CONCATENATE($B33,\"(\",'TABLA DE DECISION'!J$157,\")\"),'TABLA DE DECISION'!J187)","v":""},{"$f":"IF('TABLA DE DECISION'!K187='TABLA DE DECISION'!K$157,CONCATENATE($B33,\"(\",'TABLA DE DECISION'!K$157,\")\"),'TABLA DE DECISION'!K187)","v":""},{"$f":"IF('TABLA DE DECISION'!L187='TABLA DE DECISION'!L$157,CONCATENATE($B33,\"(\",'TABLA DE DECISION'!L$157,\")\"),'TABLA DE DECISION'!L187)","v":""},{"$f":"IF('TABLA DE DECISION'!M187='TABLA DE DECISION'!M$157,CONCATENATE($B33,\"(\",'TABLA DE DECISION'!M$157,\")\"),'TABLA DE DECISION'!M187)","v":""},{"$f":"IF('TABLA DE DECISION'!N187='TABLA DE DECISION'!N$157,CONCATENATE($B33,\"(\",'TABLA DE DECISION'!N$157,\")\"),'TABLA DE DECISION'!N187)","v":""},{"$f":"IF('TABLA DE DECISION'!O187='TABLA DE DECISION'!O$157,CONCATENATE($B33,\"(\",'TABLA DE DECISION'!O$157,\")\"),'TABLA DE DECISION'!O187)","v":""},{"$f":"IF('TABLA DE DECISION'!P187='TABLA DE DECISION'!P$157,CONCATENATE($B33,\"(\",'TABLA DE DECISION'!P$157,\")\"),'TABLA DE DECISION'!P187)","v":""},{"$f":"IF('TABLA DE DECISION'!Q187='TABLA DE DECISION'!Q$157,CONCATENATE($B33,\"(\",'TABLA DE DECISION'!Q$157,\")\"),'TABLA DE DECISION'!Q187)","v":""},{"$f":"IF('TABLA DE DECISION'!R187='TABLA DE DECISION'!R$157,CONCATENATE($B33,\"(\",'TABLA DE DECISION'!R$157,\")\"),'TABLA DE DECISION'!R187)","v":""},{"$f":"IF('TABLA DE DECISION'!S187='TABLA DE DECISION'!S$157,CONCATENATE($B33,\"(\",'TABLA DE DECISION'!S$157,\")\"),'TABLA DE DECISION'!S187)","v":""},{"$f":"IF('TABLA DE DECISION'!T187='TABLA DE DECISION'!T$157,CONCATENATE($B33,\"(\",'TABLA DE DECISION'!T$157,\")\"),'TABLA DE DECISION'!T187)","v":""},{"$f":"IF('TABLA DE DECISION'!U187='TABLA DE DECISION'!U$157,CONCATENATE($B33,\"(\",'TABLA DE DECISION'!U$157,\")\"),'TABLA DE DECISION'!U187)","v":""},{"$f":"IF('TABLA DE DECISION'!V187='TABLA DE DECISION'!V$157,CONCATENATE($B33,\"(\",'TABLA DE DECISION'!V$157,\")\"),'TABLA DE DECISION'!V187)","v":""},{"$f":"IF('TABLA DE DECISION'!W187='TABLA DE DECISION'!W$157,CONCATENATE($B33,\"(\",'TABLA DE DECISION'!W$157,\")\"),'TABLA DE DECISION'!W187)","v":""},{"$f":"IF('TABLA DE DECISION'!X187='TABLA DE DECISION'!X$157,CONCATENATE($B33,\"(\",'TABLA DE DECISION'!X$157,\")\"),'TABLA DE DECISION'!X187)","v":""},{"$f":"IF('TABLA DE DECISION'!Y187='TABLA DE DECISION'!Y$157,CONCATENATE($B33,\"(\",'TABLA DE DECISION'!Y$157,\")\"),'TABLA DE DECISION'!Y187)","v":""},{"$f":"IF('TABLA DE DECISION'!Z187='TABLA DE DECISION'!Z$157,CONCATENATE($B33,\"(\",'TABLA DE DECISION'!Z$157,\")\"),'TABLA DE DECISION'!Z187)","v":""},{"$f":"IF('TABLA DE DECISION'!AA187='TABLA DE DECISION'!AA$157,CONCATENATE($B33,\"(\",'TABLA DE DECISION'!AA$157,\")\"),'TABLA DE DECISION'!AA187)","v":""},{"$f":"IF('TABLA DE DECISION'!AB187='TABLA DE DECISION'!AB$157,CONCATENATE($B33,\"(\",'TABLA DE DECISION'!AB$157,\")\"),'TABLA DE DECISION'!AB187)","v":""},{"$f":"IF('TABLA DE DECISION'!AC187='TABLA DE DECISION'!AC$157,CONCATENATE($B33,\"(\",'TABLA DE DECISION'!AC$157,\")\"),'TABLA DE DECISION'!AC187)","v":""},{"$f":"IF('TABLA DE DECISION'!AD187='TABLA DE DECISION'!AD$157,CONCATENATE($B33,\"(\",'TABLA DE DECISION'!AD$157,\")\"),'TABLA DE DECISION'!AD187)","v":""},{"$f":"IF('TABLA DE DECISION'!AE187='TABLA DE DECISION'!AE$157,CONCATENATE($B33,\"(\",'TABLA DE DECISION'!AE$157,\")\"),'TABLA DE DECISION'!AE187)","v":""},{"$f":"IF('TABLA DE DECISION'!AF187='TABLA DE DECISION'!AF$157,CONCATENATE($B33,\"(\",'TABLA DE DECISION'!AF$157,\")\"),'TABLA DE DECISION'!AF187)","v":""},{"$f":"IF('TABLA DE DECISION'!AG187='TABLA DE DECISION'!AG$157,CONCATENATE($B33,\"(\",'TABLA DE DECISION'!AG$157,\")\"),'TABLA DE DECISION'!AG187)","v":""},{"$f":"IF('TABLA DE DECISION'!AH187='TABLA DE DECISION'!AH$157,CONCATENATE($B33,\"(\",'TABLA DE DECISION'!AH$157,\")\"),'TABLA DE DECISION'!AH187)","v":""},{"$f":"IF('TABLA DE DECISION'!AI187='TABLA DE DECISION'!AI$157,CONCATENATE($B33,\"(\",'TABLA DE DECISION'!AI$157,\")\"),'TABLA DE DECISION'!AI187)","v":""},{"$f":"IF('TABLA DE DECISION'!AJ187='TABLA DE DECISION'!AJ$157,CONCATENATE($B33,\"(\",'TABLA DE DECISION'!AJ$157,\")\"),'TABLA DE DECISION'!AJ187)","v":""},{"$f":"IF('TABLA DE DECISION'!AK187='TABLA DE DECISION'!AK$157,CONCATENATE($B33,\"(\",'TABLA DE DECISION'!AK$157,\")\"),'TABLA DE DECISION'!AK187)","v":""},{"$f":"IF('TABLA DE DECISION'!AL187='TABLA DE DECISION'!AL$157,CONCATENATE($B33,\"(\",'TABLA DE DECISION'!AL$157,\")\"),'TABLA DE DECISION'!AL187)","v":""},{"$f":"IF('TABLA DE DECISION'!AM187='TABLA DE DECISION'!AM$157,CONCATENATE($B33,\"(\",'TABLA DE DECISION'!AM$157,\")\"),'TABLA DE DECISION'!AM187)","v":""},{"$f":"IF('TABLA DE DECISION'!AN187='TABLA DE DECISION'!AN$157,CONCATENATE($B33,\"(\",'TABLA DE DECISION'!AN$157,\")\"),'TABLA DE DECISION'!AN187)","v":""},{"$f":"IF('TABLA DE DECISION'!AO187='TABLA DE DECISION'!AO$157,CONCATENATE($B33,\"(\",'TABLA DE DECISION'!AO$157,\")\"),'TABLA DE DECISION'!AO187)","v":""},{"$f":"IF('TABLA DE DECISION'!AP187='TABLA DE DECISION'!AP$157,CONCATENATE($B33,\"(\",'TABLA DE DECISION'!AP$157,\")\"),'TABLA DE DECISION'!AP187)","v":""},{"$f":"IF('TABLA DE DECISION'!AQ187='TABLA DE DECISION'!AQ$157,CONCATENATE($B33,\"(\",'TABLA DE DECISION'!AQ$157,\")\"),'TABLA DE DECISION'!AQ187)","v":""},{"$f":"IF('TABLA DE DECISION'!AR187='TABLA DE DECISION'!AR$157,CONCATENATE($B33,\"(\",'TABLA DE DECISION'!AR$157,\")\"),'TABLA DE DECISION'!AR187)","v":""},{"$f":"IF('TABLA DE DECISION'!AS187='TABLA DE DECISION'!AS$157,CONCATENATE($B33,\"(\",'TABLA DE DECISION'!AS$157,\")\"),'TABLA DE DECISION'!AS187)","v":""},{"$f":"IF('TABLA DE DECISION'!AT187='TABLA DE DECISION'!AT$157,CONCATENATE($B33,\"(\",'TABLA DE DECISION'!AT$157,\")\"),'TABLA DE DECISION'!AT187)","v":""},{"$f":"IF('TABLA DE DECISION'!AU187='TABLA DE DECISION'!AU$157,CONCATENATE($B33,\"(\",'TABLA DE DECISION'!AU$157,\")\"),'TABLA DE DECISION'!AU187)","v":""},{"$f":"IF('TABLA DE DECISION'!AV187='TABLA DE DECISION'!AV$157,CONCATENATE($B33,\"(\",'TABLA DE DECISION'!AV$157,\")\"),'TABLA DE DECISION'!AV187)","v":""},{"$f":"IF('TABLA DE DECISION'!AW187='TABLA DE DECISION'!AW$157,CONCATENATE($B33,\"(\",'TABLA DE DECISION'!AW$157,\")\"),'TABLA DE DECISION'!AW187)","v":""},{"$f":"IF('TABLA DE DECISION'!AX187='TABLA DE DECISION'!AX$157,CONCATENATE($B33,\"(\",'TABLA DE DECISION'!AX$157,\")\"),'TABLA DE DECISION'!AX187)","v":""},{"$f":"IF('TABLA DE DECISION'!AY187='TABLA DE DECISION'!AY$157,CONCATENATE($B33,\"(\",'TABLA DE DECISION'!AY$157,\")\"),'TABLA DE DECISION'!AY187)","v":""},{"$f":"IF('TABLA DE DECISION'!AZ187='TABLA DE DECISION'!AZ$157,CONCATENATE($B33,\"(\",'TABLA DE DECISION'!AZ$157,\")\"),'TABLA DE DECISION'!AZ187)","v":""},{"$f":"IF('TABLA DE DECISION'!BA187='TABLA DE DECISION'!BA$157,CONCATENATE($B33,\"(\",'TABLA DE DECISION'!BA$157,\")\"),'TABLA DE DECISION'!BA187)","v":""},{"$f":"IF('TABLA DE DECISION'!BB187='TABLA DE DECISION'!BB$157,CONCATENATE($B33,\"(\",'TABLA DE DECISION'!BB$157,\")\"),'TABLA DE DECISION'!BB187)","v":""},{"$f":"IF('TABLA DE DECISION'!BC187='TABLA DE DECISION'!BC$157,CONCATENATE($B33,\"(\",'TABLA DE DECISION'!BC$157,\")\"),'TABLA DE DECISION'!BC187)","v":""},{"$f":"IF('TABLA DE DECISION'!BD187='TABLA DE DECISION'!BD$157,CONCATENATE($B33,\"(\",'TABLA DE DECISION'!BD$157,\")\"),'TABLA DE DECISION'!BD187)","v":""}]
[{"$f":"IF('TABLA DE DECISION'!BF188=\"\",\"\",'TABLA DE DECISION'!BF188)","v":""},{"$f":"'TABLA DE DECISION'!BG188","v":"a30"},{"$f":"IF('TABLA DE DECISION'!A188='TABLA DE DECISION'!A$157,CONCATENATE($B34,\"(\",'TABLA DE DECISION'!A$157,\")\"),'TABLA DE DECISION'!A188)","v":""},{"$f":"IF('TABLA DE DECISION'!B188='TABLA DE DECISION'!B$157,CONCATENATE($B34,\"(\",'TABLA DE DECISION'!B$157,\")\"),'TABLA DE DECISION'!B188)","v":""},{"$f":"IF('TABLA DE DECISION'!C188='TABLA DE DECISION'!C$157,CONCATENATE($B34,\"(\",'TABLA DE DECISION'!C$157,\")\"),'TABLA DE DECISION'!C188)","v":""},{"$f":"IF('TABLA DE DECISION'!D188='TABLA DE DECISION'!D$157,CONCATENATE($B34,\"(\",'TABLA DE DECISION'!D$157,\")\"),'TABLA DE DECISION'!D188)","v":""},{"$f":"IF('TABLA DE DECISION'!E188='TABLA DE DECISION'!E$157,CONCATENATE($B34,\"(\",'TABLA DE DECISION'!E$157,\")\"),'TABLA DE DECISION'!E188)","v":""},{"$f":"IF('MATRIZ-PÉRDIDA OPORTUNIDAD'!BB32='MATRIZ-PÉRDIDA OPORTUNIDAD'!BB$2,CONCATENATE($B34,\"(\",'MATRIZ-PÉRDIDA OPORTUNIDAD'!BB$2,\")\"),'MATRIZ-PÉRDIDA OPORTUNIDAD'!BB32)","v":""},{"$f":"IF('TABLA DE DECISION'!G188='TABLA DE DECISION'!G$157,CONCATENATE($B34,\"(\",'TABLA DE DECISION'!G$157,\")\"),'TABLA DE DECISION'!G188)","v":""},{"$f":"IF('TABLA DE DECISION'!H188='TABLA DE DECISION'!H$157,CONCATENATE($B34,\"(\",'TABLA DE DECISION'!H$157,\")\"),'TABLA DE DECISION'!H188)","v":""},{"$f":"IF('TABLA DE DECISION'!I188='TABLA DE DECISION'!I$157,CONCATENATE($B34,\"(\",'TABLA DE DECISION'!I$157,\")\"),'TABLA DE DECISION'!I188)","v":""},{"$f":"IF('TABLA DE DECISION'!J188='TABLA DE DECISION'!J$157,CONCATENATE($B34,\"(\",'TABLA DE DECISION'!J$157,\")\"),'TABLA DE DECISION'!J188)","v":""},{"$f":"IF('TABLA DE DECISION'!K188='TABLA DE DECISION'!K$157,CONCATENATE($B34,\"(\",'TABLA DE DECISION'!K$157,\")\"),'TABLA DE DECISION'!K188)","v":""},{"$f":"IF('TABLA DE DECISION'!L188='TABLA DE DECISION'!L$157,CONCATENATE($B34,\"(\",'TABLA DE DECISION'!L$157,\")\"),'TABLA DE DECISION'!L188)","v":""},{"$f":"IF('TABLA DE DECISION'!M188='TABLA DE DECISION'!M$157,CONCATENATE($B34,\"(\",'TABLA DE DECISION'!M$157,\")\"),'TABLA DE DECISION'!M188)","v":""},{"$f":"IF('TABLA DE DECISION'!N188='TABLA DE DECISION'!N$157,CONCATENATE($B34,\"(\",'TABLA DE DECISION'!N$157,\")\"),'TABLA DE DECISION'!N188)","v":""},{"$f":"IF('TABLA DE DECISION'!O188='TABLA DE DECISION'!O$157,CONCATENATE($B34,\"(\",'TABLA DE DECISION'!O$157,\")\"),'TABLA DE DECISION'!O188)","v":""},{"$f":"IF('TABLA DE DECISION'!P188='TABLA DE DECISION'!P$157,CONCATENATE($B34,\"(\",'TABLA DE DECISION'!P$157,\")\"),'TABLA DE DECISION'!P188)","v":""},{"$f":"IF('TABLA DE DECISION'!Q188='TABLA DE DECISION'!Q$157,CONCATENATE($B34,\"(\",'TABLA DE DECISION'!Q$157,\")\"),'TABLA DE DECISION'!Q188)","v":""},{"$f":"IF('TABLA DE DECISION'!R188='TABLA DE DECISION'!R$157,CONCATENATE($B34,\"(\",'TABLA DE DECISION'!R$157,\")\"),'TABLA DE DECISION'!R188)","v":""},{"$f":"IF('TABLA DE DECISION'!S188='TABLA DE DECISION'!S$157,CONCATENATE($B34,\"(\",'TABLA DE DECISION'!S$157,\")\"),'TABLA DE DECISION'!S188)","v":""},{"$f":"IF('TABLA DE DECISION'!T188='TABLA DE DECISION'!T$157,CONCATENATE($B34,\"(\",'TABLA DE DECISION'!T$157,\")\"),'TABLA DE DECISION'!T188)","v":""},{"$f":"IF('TABLA DE DECISION'!U188='TABLA DE DECISION'!U$157,CONCATENATE($B34,\"(\",'TABLA DE DECISION'!U$157,\")\"),'TABLA DE DECISION'!U188)","v":""},{"$f":"IF('TABLA DE DECISION'!V188='TABLA DE DECISION'!V$157,CONCATENATE($B34,\"(\",'TABLA DE DECISION'!V$157,\")\"),'TABLA DE DECISION'!V188)","v":""},{"$f":"IF('TABLA DE DECISION'!W188='TABLA DE DECISION'!W$157,CONCATENATE($B34,\"(\",'TABLA DE DECISION'!W$157,\")\"),'TABLA DE DECISION'!W188)","v":""},{"$f":"IF('TABLA DE DECISION'!X188='TABLA DE DECISION'!X$157,CONCATENATE($B34,\"(\",'TABLA DE DECISION'!X$157,\")\"),'TABLA DE DECISION'!X188)","v":""},{"$f":"IF('TABLA DE DECISION'!Y188='TABLA DE DECISION'!Y$157,CONCATENATE($B34,\"(\",'TABLA DE DECISION'!Y$157,\")\"),'TABLA DE DECISION'!Y188)","v":""},{"$f":"IF('TABLA DE DECISION'!Z188='TABLA DE DECISION'!Z$157,CONCATENATE($B34,\"(\",'TABLA DE DECISION'!Z$157,\")\"),'TABLA DE DECISION'!Z188)","v":""},{"$f":"IF('TABLA DE DECISION'!AA188='TABLA DE DECISION'!AA$157,CONCATENATE($B34,\"(\",'TABLA DE DECISION'!AA$157,\")\"),'TABLA DE DECISION'!AA188)","v":""},{"$f":"IF('TABLA DE DECISION'!AB188='TABLA DE DECISION'!AB$157,CONCATENATE($B34,\"(\",'TABLA DE DECISION'!AB$157,\")\"),'TABLA DE DECISION'!AB188)","v":""},{"$f":"IF('TABLA DE DECISION'!AC188='TABLA DE DECISION'!AC$157,CONCATENATE($B34,\"(\",'TABLA DE DECISION'!AC$157,\")\"),'TABLA DE DECISION'!AC188)","v":""},{"$f":"IF('TABLA DE DECISION'!AD188='TABLA DE DECISION'!AD$157,CONCATENATE($B34,\"(\",'TABLA DE DECISION'!AD$157,\")\"),'TABLA DE DECISION'!AD188)","v":""},{"$f":"IF('TABLA DE DECISION'!AE188='TABLA DE DECISION'!AE$157,CONCATENATE($B34,\"(\",'TABLA DE DECISION'!AE$157,\")\"),'TABLA DE DECISION'!AE188)","v":""},{"$f":"IF('TABLA DE DECISION'!AF188='TABLA DE DECISION'!AF$157,CONCATENATE($B34,\"(\",'TABLA DE DECISION'!AF$157,\")\"),'TABLA DE DECISION'!AF188)","v":""},{"$f":"IF('TABLA DE DECISION'!AG188='TABLA DE DECISION'!AG$157,CONCATENATE($B34,\"(\",'TABLA DE DECISION'!AG$157,\")\"),'TABLA DE DECISION'!AG188)","v":""},{"$f":"IF('TABLA DE DECISION'!AH188='TABLA DE DECISION'!AH$157,CONCATENATE($B34,\"(\",'TABLA DE DECISION'!AH$157,\")\"),'TABLA DE DECISION'!AH188)","v":""},{"$f":"IF('TABLA DE DECISION'!AI188='TABLA DE DECISION'!AI$157,CONCATENATE($B34,\"(\",'TABLA DE DECISION'!AI$157,\")\"),'TABLA DE DECISION'!AI188)","v":""},{"$f":"IF('TABLA DE DECISION'!AJ188='TABLA DE DECISION'!AJ$157,CONCATENATE($B34,\"(\",'TABLA DE DECISION'!AJ$157,\")\"),'TABLA DE DECISION'!AJ188)","v":""},{"$f":"IF('TABLA DE DECISION'!AK188='TABLA DE DECISION'!AK$157,CONCATENATE($B34,\"(\",'TABLA DE DECISION'!AK$157,\")\"),'TABLA DE DECISION'!AK188)","v":""},{"$f":"IF('TABLA DE DECISION'!AL188='TABLA DE DECISION'!AL$157,CONCATENATE($B34,\"(\",'TABLA DE DECISION'!AL$157,\")\"),'TABLA DE DECISION'!AL188)","v":""},{"$f":"IF('TABLA DE DECISION'!AM188='TABLA DE DECISION'!AM$157,CONCATENATE($B34,\"(\",'TABLA DE DECISION'!AM$157,\")\"),'TABLA DE DECISION'!AM188)","v":""},{"$f":"IF('TABLA DE DECISION'!AN188='TABLA DE DECISION'!AN$157,CONCATENATE($B34,\"(\",'TABLA DE DECISION'!AN$157,\")\"),'TABLA DE DECISION'!AN188)","v":""},{"$f":"IF('TABLA DE DECISION'!AO188='TABLA DE DECISION'!AO$157,CONCATENATE($B34,\"(\",'TABLA DE DECISION'!AO$157,\")\"),'TABLA DE DECISION'!AO188)","v":""},{"$f":"IF('TABLA DE DECISION'!AP188='TABLA DE DECISION'!AP$157,CONCATENATE($B34,\"(\",'TABLA DE DECISION'!AP$157,\")\"),'TABLA DE DECISION'!AP188)","v":""},{"$f":"IF('TABLA DE DECISION'!AQ188='TABLA DE DECISION'!AQ$157,CONCATENATE($B34,\"(\",'TABLA DE DECISION'!AQ$157,\")\"),'TABLA DE DECISION'!AQ188)","v":""},{"$f":"IF('TABLA DE DECISION'!AR188='TABLA DE DECISION'!AR$157,CONCATENATE($B34,\"(\",'TABLA DE DECISION'!AR$157,\")\"),'TABLA DE DECISION'!AR188)","v":""},{"$f":"IF('TABLA DE DECISION'!AS188='TABLA DE DECISION'!AS$157,CONCATENATE($B34,\"(\",'TABLA DE DECISION'!AS$157,\")\"),'TABLA DE DECISION'!AS188)","v":""},{"$f":"IF('TABLA DE DECISION'!AT188='TABLA DE DECISION'!AT$157,CONCATENATE($B34,\"(\",'TABLA DE DECISION'!AT$157,\")\"),'TABLA DE DECISION'!AT188)","v":""},{"$f":"IF('TABLA DE DECISION'!AU188='TABLA DE DECISION'!AU$157,CONCATENATE($B34,\"(\",'TABLA DE DECISION'!AU$157,\")\"),'TABLA DE DECISION'!AU188)","v":""},{"$f":"IF('TABLA DE DECISION'!AV188='TABLA DE DECISION'!AV$157,CONCATENATE($B34,\"(\",'TABLA DE DECISION'!AV$157,\")\"),'TABLA DE DECISION'!AV188)","v":""},{"$f":"IF('TABLA DE DECISION'!AW188='TABLA DE DECISION'!AW$157,CONCATENATE($B34,\"(\",'TABLA DE DECISION'!AW$157,\")\"),'TABLA DE DECISION'!AW188)","v":""},{"$f":"IF('TABLA DE DECISION'!AX188='TABLA DE DECISION'!AX$157,CONCATENATE($B34,\"(\",'TABLA DE DECISION'!AX$157,\")\"),'TABLA DE DECISION'!AX188)","v":""},{"$f":"IF('TABLA DE DECISION'!AY188='TABLA DE DECISION'!AY$157,CONCATENATE($B34,\"(\",'TABLA DE DECISION'!AY$157,\")\"),'TABLA DE DECISION'!AY188)","v":""},{"$f":"IF('TABLA DE DECISION'!AZ188='TABLA DE DECISION'!AZ$157,CONCATENATE($B34,\"(\",'TABLA DE DECISION'!AZ$157,\")\"),'TABLA DE DECISION'!AZ188)","v":""},{"$f":"IF('TABLA DE DECISION'!BA188='TABLA DE DECISION'!BA$157,CONCATENATE($B34,\"(\",'TABLA DE DECISION'!BA$157,\")\"),'TABLA DE DECISION'!BA188)","v":""},{"$f":"IF('TABLA DE DECISION'!BB188='TABLA DE DECISION'!BB$157,CONCATENATE($B34,\"(\",'TABLA DE DECISION'!BB$157,\")\"),'TABLA DE DECISION'!BB188)","v":""},{"$f":"IF('TABLA DE DECISION'!BC188='TABLA DE DECISION'!BC$157,CONCATENATE($B34,\"(\",'TABLA DE DECISION'!BC$157,\")\"),'TABLA DE DECISION'!BC188)","v":""},{"$f":"IF('TABLA DE DECISION'!BD188='TABLA DE DECISION'!BD$157,CONCATENATE($B34,\"(\",'TABLA DE DECISION'!BD$157,\")\"),'TABLA DE DECISION'!BD188)","v":""}]
[{"$f":"IF('TABLA DE DECISION'!BF189=\"\",\"\",'TABLA DE DECISION'!BF189)","v":""},{"$f":"'TABLA DE DECISION'!BG189","v":"a31"},{"$f":"IF('TABLA DE DECISION'!A189='TABLA DE DECISION'!A$157,CONCATENATE($B35,\"(\",'TABLA DE DECISION'!A$157,\")\"),'TABLA DE DECISION'!A189)","v":""},{"$f":"IF('TABLA DE DECISION'!B189='TABLA DE DECISION'!B$157,CONCATENATE($B35,\"(\",'TABLA DE DECISION'!B$157,\")\"),'TABLA DE DECISION'!B189)","v":""},{"$f":"IF('TABLA DE DECISION'!C189='TABLA DE DECISION'!C$157,CONCATENATE($B35,\"(\",'TABLA DE DECISION'!C$157,\")\"),'TABLA DE DECISION'!C189)","v":""},{"$f":"IF('TABLA DE DECISION'!D189='TABLA DE DECISION'!D$157,CONCATENATE($B35,\"(\",'TABLA DE DECISION'!D$157,\")\"),'TABLA DE DECISION'!D189)","v":""},{"$f":"IF('TABLA DE DECISION'!E189='TABLA DE DECISION'!E$157,CONCATENATE($B35,\"(\",'TABLA DE DECISION'!E$157,\")\"),'TABLA DE DECISION'!E189)","v":""},{"$f":"IF('MATRIZ-PÉRDIDA OPORTUNIDAD'!BB33='MATRIZ-PÉRDIDA OPORTUNIDAD'!BB$2,CONCATENATE($B35,\"(\",'MATRIZ-PÉRDIDA OPORTUNIDAD'!BB$2,\")\"),'MATRIZ-PÉRDIDA OPORTUNIDAD'!BB33)","v":""},{"$f":"IF('TABLA DE DECISION'!G189='TABLA DE DECISION'!G$157,CONCATENATE($B35,\"(\",'TABLA DE DECISION'!G$157,\")\"),'TABLA DE DECISION'!G189)","v":""},{"$f":"IF('TABLA DE DECISION'!H189='TABLA DE DECISION'!H$157,CONCATENATE($B35,\"(\",'TABLA DE DECISION'!H$157,\")\"),'TABLA DE DECISION'!H189)","v":""},{"$f":"IF('TABLA DE DECISION'!I189='TABLA DE DECISION'!I$157,CONCATENATE($B35,\"(\",'TABLA DE DECISION'!I$157,\")\"),'TABLA DE DECISION'!I189)","v":""},{"$f":"IF('TABLA DE DECISION'!J189='TABLA DE DECISION'!J$157,CONCATENATE($B35,\"(\",'TABLA DE DECISION'!J$157,\")\"),'TABLA DE DECISION'!J189)","v":""},{"$f":"IF('TABLA DE DECISION'!K189='TABLA DE DECISION'!K$157,CONCATENATE($B35,\"(\",'TABLA DE DECISION'!K$157,\")\"),'TABLA DE DECISION'!K189)","v":""},{"$f":"IF('TABLA DE DECISION'!L189='TABLA DE DECISION'!L$157,CONCATENATE($B35,\"(\",'TABLA DE DECISION'!L$157,\")\"),'TABLA DE DECISION'!L189)","v":""},{"$f":"IF('TABLA DE DECISION'!M189='TABLA DE DECISION'!M$157,CONCATENATE($B35,\"(\",'TABLA DE DECISION'!M$157,\")\"),'TABLA DE DECISION'!M189)","v":""},{"$f":"IF('TABLA DE DECISION'!N189='TABLA DE DECISION'!N$157,CONCATENATE($B35,\"(\",'TABLA DE DECISION'!N$157,\")\"),'TABLA DE DECISION'!N189)","v":""},{"$f":"IF('TABLA DE DECISION'!O189='TABLA DE DECISION'!O$157,CONCATENATE($B35,\"(\",'TABLA DE DECISION'!O$157,\")\"),'TABLA DE DECISION'!O189)","v":""},{"$f":"IF('TABLA DE DECISION'!P189='TABLA DE DECISION'!P$157,CONCATENATE($B35,\"(\",'TABLA DE DECISION'!P$157,\")\"),'TABLA DE DECISION'!P189)","v":""},{"$f":"IF('TABLA DE DECISION'!Q189='TABLA DE DECISION'!Q$157,CONCATENATE($B35,\"(\",'TABLA DE DECISION'!Q$157,\")\"),'TABLA DE DECISION'!Q189)","v":""},{"$f":"IF('TABLA DE DECISION'!R189='TABLA DE DECISION'!R$157,CONCATENATE($B35,\"(\",'TABLA DE DECISION'!R$157,\")\"),'TABLA DE DECISION'!R189)","v":""},{"$f":"IF('TABLA DE DECISION'!S189='TABLA DE DECISION'!S$157,CONCATENATE($B35,\"(\",'TABLA DE DECISION'!S$157,\")\"),'TABLA DE DECISION'!S189)","v":""},{"$f":"IF('TABLA DE DECISION'!T189='TABLA DE DECISION'!T$157,CONCATENATE($B35,\"(\",'TABLA DE DECISION'!T$157,\")\"),'TABLA DE DECISION'!T189)","v":""},{"$f":"IF('TABLA DE DECISION'!U189='TABLA DE DECISION'!U$157,CONCATENATE($B35,\"(\",'TABLA DE DECISION'!U$157,\")\"),'TABLA DE DECISION'!U189)","v":""},{"$f":"IF('TABLA DE DECISION'!V189='TABLA DE DECISION'!V$157,CONCATENATE($B35,\"(\",'TABLA DE DECISION'!V$157,\")\"),'TABLA DE DECISION'!V189)","v":""},{"$f":"IF('TABLA DE DECISION'!W189='TABLA DE DECISION'!W$157,CONCATENATE($B35,\"(\",'TABLA DE DECISION'!W$157,\")\"),'TABLA DE DECISION'!W189)","v":""},{"$f":"IF('TABLA DE DECISION'!X189='TABLA DE DECISION'!X$157,CONCATENATE($B35,\"(\",'TABLA DE DECISION'!X$157,\")\"),'TABLA DE DECISION'!X189)","v":""},{"$f":"IF('TABLA DE DECISION'!Y189='TABLA DE DECISION'!Y$157,CONCATENATE($B35,\"(\",'TABLA DE DECISION'!Y$157,\")\"),'TABLA DE DECISION'!Y189)","v":""},{"$f":"IF('TABLA DE DECISION'!Z189='TABLA DE DECISION'!Z$157,CONCATENATE($B35,\"(\",'TABLA DE DECISION'!Z$157,\")\"),'TABLA DE DECISION'!Z189)","v":""},{"$f":"IF('TABLA DE DECISION'!AA189='TABLA DE DECISION'!AA$157,CONCATENATE($B35,\"(\",'TABLA DE DECISION'!AA$157,\")\"),'TABLA DE DECISION'!AA189)","v":""},{"$f":"IF('TABLA DE DECISION'!AB189='TABLA DE DECISION'!AB$157,CONCATENATE($B35,\"(\",'TABLA DE DECISION'!AB$157,\")\"),'TABLA DE DECISION'!AB189)","v":""},{"$f":"IF('TABLA DE DECISION'!AC189='TABLA DE DECISION'!AC$157,CONCATENATE($B35,\"(\",'TABLA DE DECISION'!AC$157,\")\"),'TABLA DE DECISION'!AC189)","v":""},{"$f":"IF('TABLA DE DECISION'!AD189='TABLA DE DECISION'!AD$157,CONCATENATE($B35,\"(\",'TABLA DE DECISION'!AD$157,\")\"),'TABLA DE DECISION'!AD189)","v":""},{"$f":"IF('TABLA DE DECISION'!AE189='TABLA DE DECISION'!AE$157,CONCATENATE($B35,\"(\",'TABLA DE DECISION'!AE$157,\")\"),'TABLA DE DECISION'!AE189)","v":""},{"$f":"IF('TABLA DE DECISION'!AF189='TABLA DE DECISION'!AF$157,CONCATENATE($B35,\"(\",'TABLA DE DECISION'!AF$157,\")\"),'TABLA DE DECISION'!AF189)","v":""},{"$f":"IF('TABLA DE DECISION'!AG189='TABLA DE DECISION'!AG$157,CONCATENATE($B35,\"(\",'TABLA DE DECISION'!AG$157,\")\"),'TABLA DE DECISION'!AG189)","v":""},{"$f":"IF('TABLA DE DECISION'!AH189='TABLA DE DECISION'!AH$157,CONCATENATE($B35,\"(\",'TABLA DE DECISION'!AH$157,\")\"),'TABLA DE DECISION'!AH189)","v":""},{"$f":"IF('TABLA DE DECISION'!AI189='TABLA DE DECISION'!AI$157,CONCATENATE($B35,\"(\",'TABLA DE DECISION'!AI$157,\")\"),'TABLA DE DECISION'!AI189)","v":""},{"$f":"IF('TABLA DE DECISION'!AJ189='TABLA DE DECISION'!AJ$157,CONCATENATE($B35,\"(\",'TABLA DE DECISION'!AJ$157,\")\"),'TABLA DE DECISION'!AJ189)","v":""},{"$f":"IF('TABLA DE DECISION'!AK189='TABLA DE DECISION'!AK$157,CONCATENATE($B35,\"(\",'TABLA DE DECISION'!AK$157,\")\"),'TABLA DE DECISION'!AK189)","v":""},{"$f":"IF('TABLA DE DECISION'!AL189='TABLA DE DECISION'!AL$157,CONCATENATE($B35,\"(\",'TABLA DE DECISION'!AL$157,\")\"),'TABLA DE DECISION'!AL189)","v":""},{"$f":"IF('TABLA DE DECISION'!AM189='TABLA DE DECISION'!AM$157,CONCATENATE($B35,\"(\",'TABLA DE DECISION'!AM$157,\")\"),'TABLA DE DECISION'!AM189)","v":""},{"$f":"IF('TABLA DE DECISION'!AN189='TABLA DE DECISION'!AN$157,CONCATENATE($B35,\"(\",'TABLA DE DECISION'!AN$157,\")\"),'TABLA DE DECISION'!AN189)","v":""},{"$f":"IF('TABLA DE DECISION'!AO189='TABLA DE DECISION'!AO$157,CONCATENATE($B35,\"(\",'TABLA DE DECISION'!AO$157,\")\"),'TABLA DE DECISION'!AO189)","v":""},{"$f":"IF('TABLA DE DECISION'!AP189='TABLA DE DECISION'!AP$157,CONCATENATE($B35,\"(\",'TABLA DE DECISION'!AP$157,\")\"),'TABLA DE DECISION'!AP189)","v":""},{"$f":"IF('TABLA DE DECISION'!AQ189='TABLA DE DECISION'!AQ$157,CONCATENATE($B35,\"(\",'TABLA DE DECISION'!AQ$157,\")\"),'TABLA DE DECISION'!AQ189)","v":""},{"$f":"IF('TABLA DE DECISION'!AR189='TABLA DE DECISION'!AR$157,CONCATENATE($B35,\"(\",'TABLA DE DECISION'!AR$157,\")\"),'TABLA DE DECISION'!AR189)","v":""},{"$f":"IF('TABLA DE DECISION'!AS189='TABLA DE DECISION'!AS$157,CONCATENATE($B35,\"(\",'TABLA DE DECISION'!AS$157,\")\"),'TABLA DE DECISION'!AS189)","v":""},{"$f":"IF('TABLA DE DECISION'!AT189='TABLA DE DECISION'!AT$157,CONCATENATE($B35,\"(\",'TABLA DE DECISION'!AT$157,\")\"),'TABLA DE DECISION'!AT189)","v":""},{"$f":"IF('TABLA DE DECISION'!AU189='TABLA DE DECISION'!AU$157,CONCATENATE($B35,\"(\",'TABLA DE DECISION'!AU$157,\")\"),'TABLA DE DECISION'!AU189)","v":""},{"$f":"IF('TABLA DE DECISION'!AV189='TABLA DE DECISION'!AV$157,CONCATENATE($B35,\"(\",'TABLA DE DECISION'!AV$157,\")\"),'TABLA DE DECISION'!AV189)","v":""},{"$f":"IF('TABLA DE DECISION'!AW189='TABLA DE DECISION'!AW$157,CONCATENATE($B35,\"(\",'TABLA DE DECISION'!AW$157,\")\"),'TABLA DE DECISION'!AW189)","v":""},{"$f":"IF('TABLA DE DECISION'!AX189='TABLA DE DECISION'!AX$157,CONCATENATE($B35,\"(\",'TABLA DE DECISION'!AX$157,\")\"),'TABLA DE DECISION'!AX189)","v":""},{"$f":"IF('TABLA DE DECISION'!AY189='TABLA DE DECISION'!AY$157,CONCATENATE($B35,\"(\",'TABLA DE DECISION'!AY$157,\")\"),'TABLA DE DECISION'!AY189)","v":""},{"$f":"IF('TABLA DE DECISION'!AZ189='TABLA DE DECISION'!AZ$157,CONCATENATE($B35,\"(\",'TABLA DE DECISION'!AZ$157,\")\"),'TABLA DE DECISION'!AZ189)","v":""},{"$f":"IF('TABLA DE DECISION'!BA189='TABLA DE DECISION'!BA$157,CONCATENATE($B35,\"(\",'TABLA DE DECISION'!BA$157,\")\"),'TABLA DE DECISION'!BA189)","v":""},{"$f":"IF('TABLA DE DECISION'!BB189='TABLA DE DECISION'!BB$157,CONCATENATE($B35,\"(\",'TABLA DE DECISION'!BB$157,\")\"),'TABLA DE DECISION'!BB189)","v":""},{"$f":"IF('TABLA DE DECISION'!BC189='TABLA DE DECISION'!BC$157,CONCATENATE($B35,\"(\",'TABLA DE DECISION'!BC$157,\")\"),'TABLA DE DECISION'!BC189)","v":""},{"$f":"IF('TABLA DE DECISION'!BD189='TABLA DE DECISION'!BD$157,CONCATENATE($B35,\"(\",'TABLA DE DECISION'!BD$157,\")\"),'TABLA DE DECISION'!BD189)","v":""}]
[{"$f":"IF('TABLA DE DECISION'!BF190=\"\",\"\",'TABLA DE DECISION'!BF190)","v":""},{"$f":"'TABLA DE DECISION'!BG190","v":"a32"},{"$f":"IF('TABLA DE DECISION'!A190='TABLA DE DECISION'!A$157,CONCATENATE($B36,\"(\",'TABLA DE DECISION'!A$157,\")\"),'TABLA DE DECISION'!A190)","v":""},{"$f":"IF('TABLA DE DECISION'!B190='TABLA DE DECISION'!B$157,CONCATENATE($B36,\"(\",'TABLA DE DECISION'!B$157,\")\"),'TABLA DE DECISION'!B190)","v":""},{"$f":"IF('TABLA DE DECISION'!C190='TABLA DE DECISION'!C$157,CONCATENATE($B36,\"(\",'TABLA DE DECISION'!C$157,\")\"),'TABLA DE DECISION'!C190)","v":""},{"$f":"IF('TABLA DE DECISION'!D190='TABLA DE DECISION'!D$157,CONCATENATE($B36,\"(\",'TABLA DE DECISION'!D$157,\")\"),'TABLA DE DECISION'!D190)","v":""},{"$f":"IF('TABLA DE DECISION'!E190='TABLA DE DECISION'!E$157,CONCATENATE($B36,\"(\",'TABLA DE DECISION'!E$157,\")\"),'TABLA DE DECISION'!E190)","v":""},{"$f":"IF('MATRIZ-PÉRDIDA OPORTUNIDAD'!BB34='MATRIZ-PÉRDIDA OPORTUNIDAD'!BB$2,CONCATENATE($B36,\"(\",'MATRIZ-PÉRDIDA OPORTUNIDAD'!BB$2,\")\"),'MATRIZ-PÉRDIDA OPORTUNIDAD'!BB34)","v":""},{"$f":"IF('TABLA DE DECISION'!G190='TABLA DE DECISION'!G$157,CONCATENATE($B36,\"(\",'TABLA DE DECISION'!G$157,\")\"),'TABLA DE DECISION'!G190)","v":""},{"$f":"IF('TABLA DE DECISION'!H190='TABLA DE DECISION'!H$157,CONCATENATE($B36,\"(\",'TABLA DE DECISION'!H$157,\")\"),'TABLA DE DECISION'!H190)","v":""},{"$f":"IF('TABLA DE DECISION'!I190='TABLA DE DECISION'!I$157,CONCATENATE($B36,\"(\",'TABLA DE DECISION'!I$157,\")\"),'TABLA DE DECISION'!I190)","v":""},{"$f":"IF('TABLA DE DECISION'!J190='TABLA DE DECISION'!J$157,CONCATENATE($B36,\"(\",'TABLA DE DECISION'!J$157,\")\"),'TABLA DE DECISION'!J190)","v":""},{"$f":"IF('TABLA DE DECISION'!K190='TABLA DE DECISION'!K$157,CONCATENATE($B36,\"(\",'TABLA DE DECISION'!K$157,\")\"),'TABLA DE DECISION'!K190)","v":""},{"$f":"IF('TABLA DE DECISION'!L190='TABLA DE DECISION'!L$157,CONCATENATE($B36,\"(\",'TABLA DE DECISION'!L$157,\")\"),'TABLA DE DECISION'!L190)","v":""},{"$f":"IF('TABLA DE DECISION'!M190='TABLA DE DECISION'!M$157,CONCATENATE($B36,\"(\",'TABLA DE DECISION'!M$157,\")\"),'TABLA DE DECISION'!M190)","v":""},{"$f":"IF('TABLA DE DECISION'!N190='TABLA DE DECISION'!N$157,CONCATENATE($B36,\"(\",'TABLA DE DECISION'!N$157,\")\"),'TABLA DE DECISION'!N190)","v":""},{"$f":"IF('TABLA DE DECISION'!O190='TABLA DE DECISION'!O$157,CONCATENATE($B36,\"(\",'TABLA DE DECISION'!O$157,\")\"),'TABLA DE DECISION'!O190)","v":""},{"$f":"IF('TABLA DE DECISION'!P190='TABLA DE DECISION'!P$157,CONCATENATE($B36,\"(\",'TABLA DE DECISION'!P$157,\")\"),'TABLA DE DECISION'!P190)","v":""},{"$f":"IF('TABLA DE DECISION'!Q190='TABLA DE DECISION'!Q$157,CONCATENATE($B36,\"(\",'TABLA DE DECISION'!Q$157,\")\"),'TABLA DE DECISION'!Q190)","v":""},{"$f":"IF('TABLA DE DECISION'!R190='TABLA DE DECISION'!R$157,CONCATENATE($B36,\"(\",'TABLA DE DECISION'!R$157,\")\"),'TABLA DE DECISION'!R190)","v":""},{"$f":"IF('TABLA DE DECISION'!S190='TABLA DE DECISION'!S$157,CONCATENATE($B36,\"(\",'TABLA DE DECISION'!S$157,\")\"),'TABLA DE DECISION'!S190)","v":""},{"$f":"IF('TABLA DE DECISION'!T190='TABLA DE DECISION'!T$157,CONCATENATE($B36,\"(\",'TABLA DE DECISION'!T$157,\")\"),'TABLA DE DECISION'!T190)","v":""},{"$f":"IF('TABLA DE DECISION'!U190='TABLA DE DECISION'!U$157,CONCATENATE($B36,\"(\",'TABLA DE DECISION'!U$157,\")\"),'TABLA DE DECISION'!U190)","v":""},{"$f":"IF('TABLA DE DECISION'!V190='TABLA DE DECISION'!V$157,CONCATENATE($B36,\"(\",'TABLA DE DECISION'!V$157,\")\"),'TABLA DE DECISION'!V190)","v":""},{"$f":"IF('TABLA DE DECISION'!W190='TABLA DE DECISION'!W$157,CONCATENATE($B36,\"(\",'TABLA DE DECISION'!W$157,\")\"),'TABLA DE DECISION'!W190)","v":""},{"$f":"IF('TABLA DE DECISION'!X190='TABLA DE DECISION'!X$157,CONCATENATE($B36,\"(\",'TABLA DE DECISION'!X$157,\")\"),'TABLA DE DECISION'!X190)","v":""},{"$f":"IF('TABLA DE DECISION'!Y190='TABLA DE DECISION'!Y$157,CONCATENATE($B36,\"(\",'TABLA DE DECISION'!Y$157,\")\"),'TABLA DE DECISION'!Y190)","v":""},{"$f":"IF('TABLA DE DECISION'!Z190='TABLA DE DECISION'!Z$157,CONCATENATE($B36,\"(\",'TABLA DE DECISION'!Z$157,\")\"),'TABLA DE DECISION'!Z190)","v":""},{"$f":"IF('TABLA DE DECISION'!AA190='TABLA DE DECISION'!AA$157,CONCATENATE($B36,\"(\",'TABLA DE DECISION'!AA$157,\")\"),'TABLA DE DECISION'!AA190)","v":""},{"$f":"IF('TABLA DE DECISION'!AB190='TABLA DE DECISION'!AB$157,CONCATENATE($B36,\"(\",'TABLA DE DECISION'!AB$157,\")\"),'TABLA DE DECISION'!AB190)","v":""},{"$f":"IF('TABLA DE DECISION'!AC190='TABLA DE DECISION'!AC$157,CONCATENATE($B36,\"(\",'TABLA DE DECISION'!AC$157,\")\"),'TABLA DE DECISION'!AC190)","v":""},{"$f":"IF('TABLA DE DECISION'!AD190='TABLA DE DECISION'!AD$157,CONCATENATE($B36,\"(\",'TABLA DE DECISION'!AD$157,\")\"),'TABLA DE DECISION'!AD190)","v":""},{"$f":"IF('TABLA DE DECISION'!AE190='TABLA DE DECISION'!AE$157,CONCATENATE($B36,\"(\",'TABLA DE DECISION'!AE$157,\")\"),'TABLA DE DECISION'!AE190)","v":""},{"$f":"IF('TABLA DE DECISION'!AF190='TABLA DE DECISION'!AF$157,CONCATENATE($B36,\"(\",'TABLA DE DECISION'!AF$157,\")\"),'TABLA DE DECISION'!AF190)","v":""},{"$f":"IF('TABLA DE DECISION'!AG190='TABLA DE DECISION'!AG$157,CONCATENATE($B36,\"(\",'TABLA DE DECISION'!AG$157,\")\"),'TABLA DE DECISION'!AG190)","v":""},{"$f":"IF('TABLA DE DECISION'!AH190='TABLA DE DECISION'!AH$157,CONCATENATE($B36,\"(\",'TABLA DE DECISION'!AH$157,\")\"),'TABLA DE DECISION'!AH190)","v":""},{"$f":"IF('TABLA DE DECISION'!AI190='TABLA DE DECISION'!AI$157,CONCATENATE($B36,\"(\",'TABLA DE DECISION'!AI$157,\")\"),'TABLA DE DECISION'!AI190)","v":""},{"$f":"IF('TABLA DE DECISION'!AJ190='TABLA DE DECISION'!AJ$157,CONCATENATE($B36,\"(\",'TABLA DE DECISION'!AJ$157,\")\"),'TABLA DE DECISION'!AJ190)","v":""},{"$f":"IF('TABLA DE DECISION'!AK190='TABLA DE DECISION'!AK$157,CONCATENATE($B36,\"(\",'TABLA DE DECISION'!AK$157,\")\"),'TABLA DE DECISION'!AK190)","v":""},{"$f":"IF('TABLA DE DECISION'!AL190='TABLA DE DECISION'!AL$157,CONCATENATE($B36,\"(\",'TABLA DE DECISION'!AL$157,\")\"),'TABLA DE DECISION'!AL190)","v":""},{"$f":"IF('TABLA DE DECISION'!AM190='TABLA DE DECISION'!AM$157,CONCATENATE($B36,\"(\",'TABLA DE DECISION'!AM$157,\")\"),'TABLA DE DECISION'!AM190)","v":""},{"$f":"IF('TABLA DE DECISION'!AN190='TABLA DE DECISION'!AN$157,CONCATENATE($B36,\"(\",'TABLA DE DECISION'!AN$157,\")\"),'TABLA DE DECISION'!AN190)","v":""},{"$f":"IF('TABLA DE DECISION'!AO190='TABLA DE DECISION'!AO$157,CONCATENATE($B36,\"(\",'TABLA DE DECISION'!AO$157,\")\"),'TABLA DE DECISION'!AO190)","v":""},{"$f":"IF('TABLA DE DECISION'!AP190='TABLA DE DECISION'!AP$157,CONCATENATE($B36,\"(\",'TABLA DE DECISION'!AP$157,\")\"),'TABLA DE DECISION'!AP190)","v":""},{"$f":"IF('TABLA DE DECISION'!AQ190='TABLA DE DECISION'!AQ$157,CONCATENATE($B36,\"(\",'TABLA DE DECISION'!AQ$157,\")\"),'TABLA DE DECISION'!AQ190)","v":""},{"$f":"IF('TABLA DE DECISION'!AR190='TABLA DE DECISION'!AR$157,CONCATENATE($B36,\"(\",'TABLA DE DECISION'!AR$157,\")\"),'TABLA DE DECISION'!AR190)","v":""},{"$f":"IF('TABLA DE DECISION'!AS190='TABLA DE DECISION'!AS$157,CONCATENATE($B36,\"(\",'TABLA DE DECISION'!AS$157,\")\"),'TABLA DE DECISION'!AS190)","v":""},{"$f":"IF('TABLA DE DECISION'!AT190='TABLA DE DECISION'!AT$157,CONCATENATE($B36,\"(\",'TABLA DE DECISION'!AT$157,\")\"),'TABLA DE DECISION'!AT190)","v":""},{"$f":"IF('TABLA DE DECISION'!AU190='TABLA DE DECISION'!AU$157,CONCATENATE($B36,\"(\",'TABLA DE DECISION'!AU$157,\")\"),'TABLA DE DECISION'!AU190)","v":""},{"$f":"IF('TABLA DE DECISION'!AV190='TABLA DE DECISION'!AV$157,CONCATENATE($B36,\"(\",'TABLA DE DECISION'!AV$157,\")\"),'TABLA DE DECISION'!AV190)","v":""},{"$f":"IF('TABLA DE DECISION'!AW190='TABLA DE DECISION'!AW$157,CONCATENATE($B36,\"(\",'TABLA DE DECISION'!AW$157,\")\"),'TABLA DE DECISION'!AW190)","v":""},{"$f":"IF('TABLA DE DECISION'!AX190='TABLA DE DECISION'!AX$157,CONCATENATE($B36,\"(\",'TABLA DE DECISION'!AX$157,\")\"),'TABLA DE DECISION'!AX190)","v":""},{"$f":"IF('TABLA DE DECISION'!AY190='TABLA DE DECISION'!AY$157,CONCATENATE($B36,\"(\",'TABLA DE DECISION'!AY$157,\")\"),'TABLA DE DECISION'!AY190)","v":""},{"$f":"IF('TABLA DE DECISION'!AZ190='TABLA DE DECISION'!AZ$157,CONCATENATE($B36,\"(\",'TABLA DE DECISION'!AZ$157,\")\"),'TABLA DE DECISION'!AZ190)","v":""},{"$f":"IF('TABLA DE DECISION'!BA190='TABLA DE DECISION'!BA$157,CONCATENATE($B36,\"(\",'TABLA DE DECISION'!BA$157,\")\"),'TABLA DE DECISION'!BA190)","v":""},{"$f":"IF('TABLA DE DECISION'!BB190='TABLA DE DECISION'!BB$157,CONCATENATE($B36,\"(\",'TABLA DE DECISION'!BB$157,\")\"),'TABLA DE DECISION'!BB190)","v":""},{"$f":"IF('TABLA DE DECISION'!BC190='TABLA DE DECISION'!BC$157,CONCATENATE($B36,\"(\",'TABLA DE DECISION'!BC$157,\")\"),'TABLA DE DECISION'!BC190)","v":""},{"$f":"IF('TABLA DE DECISION'!BD190='TABLA DE DECISION'!BD$157,CONCATENATE($B36,\"(\",'TABLA DE DECISION'!BD$157,\")\"),'TABLA DE DECISION'!BD190)","v":""}]
[{"$f":"IF('TABLA DE DECISION'!BF191=\"\",\"\",'TABLA DE DECISION'!BF191)","v":""},{"$f":"'TABLA DE DECISION'!BG191","v":"a33"},{"$f":"IF('TABLA DE DECISION'!A191='TABLA DE DECISION'!A$157,CONCATENATE($B37,\"(\",'TABLA DE DECISION'!A$157,\")\"),'TABLA DE DECISION'!A191)","v":""},{"$f":"IF('TABLA DE DECISION'!B191='TABLA DE DECISION'!B$157,CONCATENATE($B37,\"(\",'TABLA DE DECISION'!B$157,\")\"),'TABLA DE DECISION'!B191)","v":""},{"$f":"IF('TABLA DE DECISION'!C191='TABLA DE DECISION'!C$157,CONCATENATE($B37,\"(\",'TABLA DE DECISION'!C$157,\")\"),'TABLA DE DECISION'!C191)","v":""},{"$f":"IF('TABLA DE DECISION'!D191='TABLA DE DECISION'!D$157,CONCATENATE($B37,\"(\",'TABLA DE DECISION'!D$157,\")\"),'TABLA DE DECISION'!D191)","v":""},{"$f":"IF('TABLA DE DECISION'!E191='TABLA DE DECISION'!E$157,CONCATENATE($B37,\"(\",'TABLA DE DECISION'!E$157,\")\"),'TABLA DE DECISION'!E191)","v":""},{"$f":"IF('MATRIZ-PÉRDIDA OPORTUNIDAD'!BB35='MATRIZ-PÉRDIDA OPORTUNIDAD'!BB$2,CONCATENATE($B37,\"(\",'MATRIZ-PÉRDIDA OPORTUNIDAD'!BB$2,\")\"),'MATRIZ-PÉRDIDA OPORTUNIDAD'!BB35)","v":""},{"$f":"IF('TABLA DE DECISION'!G191='TABLA DE DECISION'!G$157,CONCATENATE($B37,\"(\",'TABLA DE DECISION'!G$157,\")\"),'TABLA DE DECISION'!G191)","v":""},{"$f":"IF('TABLA DE DECISION'!H191='TABLA DE DECISION'!H$157,CONCATENATE($B37,\"(\",'TABLA DE DECISION'!H$157,\")\"),'TABLA DE DECISION'!H191)","v":""},{"$f":"IF('TABLA DE DECISION'!I191='TABLA DE DECISION'!I$157,CONCATENATE($B37,\"(\",'TABLA DE DECISION'!I$157,\")\"),'TABLA DE DECISION'!I191)","v":""},{"$f":"IF('TABLA DE DECISION'!J191='TABLA DE DECISION'!J$157,CONCATENATE($B37,\"(\",'TABLA DE DECISION'!J$157,\")\"),'TABLA DE DECISION'!J191)","v":""},{"$f":"IF('TABLA DE DECISION'!K191='TABLA DE DECISION'!K$157,CONCATENATE($B37,\"(\",'TABLA DE DECISION'!K$157,\")\"),'TABLA DE DECISION'!K191)","v":""},{"$f":"IF('TABLA DE DECISION'!L191='TABLA DE DECISION'!L$157,CONCATENATE($B37,\"(\",'TABLA DE DECISION'!L$157,\")\"),'TABLA DE DECISION'!L191)","v":""},{"$f":"IF('TABLA DE DECISION'!M191='TABLA DE DECISION'!M$157,CONCATENATE($B37,\"(\",'TABLA DE DECISION'!M$157,\")\"),'TABLA DE DECISION'!M191)","v":""},{"$f":"IF('TABLA DE DECISION'!N191='TABLA DE DECISION'!N$157,CONCATENATE($B37,\"(\",'TABLA DE DECISION'!N$157,\")\"),'TABLA DE DECISION'!N191)","v":""},{"$f":"IF('TABLA DE DECISION'!O191='TABLA DE DECISION'!O$157,CONCATENATE($B37,\"(\",'TABLA DE DECISION'!O$157,\")\"),'TABLA DE DECISION'!O191)","v":""},{"$f":"IF('TABLA DE DECISION'!P191='TABLA DE DECISION'!P$157,CONCATENATE($B37,\"(\",'TABLA DE DECISION'!P$157,\")\"),'TABLA DE DECISION'!P191)","v":""},{"$f":"IF('TABLA DE DECISION'!Q191='TABLA DE DECISION'!Q$157,CONCATENATE($B37,\"(\",'TABLA DE DECISION'!Q$157,\")\"),'TABLA DE DECISION'!Q191)","v":""},{"$f":"IF('TABLA DE DECISION'!R191='TABLA DE DECISION'!R$157,CONCATENATE($B37,\"(\",'TABLA DE DECISION'!R$157,\")\"),'TABLA DE DECISION'!R191)","v":""},{"$f":"IF('TABLA DE DECISION'!S191='TABLA DE DECISION'!S$157,CONCATENATE($B37,\"(\",'TABLA DE DECISION'!S$157,\")\"),'TABLA DE DECISION'!S191)","v":""},{"$f":"IF('TABLA DE DECISION'!T191='TABLA DE DECISION'!T$157,CONCATENATE($B37,\"(\",'TABLA DE DECISION'!T$157,\")\"),'TABLA DE DECISION'!T191)","v":""},{"$f":"IF('TABLA DE DECISION'!U191='TABLA DE DECISION'!U$157,CONCATENATE($B37,\"(\",'TABLA DE DECISION'!U$157,\")\"),'TABLA DE DECISION'!U191)","v":""},{"$f":"IF('TABLA DE DECISION'!V191='TABLA DE DECISION'!V$157,CONCATENATE($B37,\"(\",'TABLA DE DECISION'!V$157,\")\"),'TABLA DE DECISION'!V191)","v":""},{"$f":"IF('TABLA DE DECISION'!W191='TABLA DE DECISION'!W$157,CONCATENATE($B37,\"(\",'TABLA DE DECISION'!W$157,\")\"),'TABLA DE DECISION'!W191)","v":""},{"$f":"IF('TABLA DE DECISION'!X191='TABLA DE DECISION'!X$157,CONCATENATE($B37,\"(\",'TABLA DE DECISION'!X$157,\")\"),'TABLA DE DECISION'!X191)","v":""},{"$f":"IF('TABLA DE DECISION'!Y191='TABLA DE DECISION'!Y$157,CONCATENATE($B37,\"(\",'TABLA DE DECISION'!Y$157,\")\"),'TABLA DE DECISION'!Y191)","v":""},{"$f":"IF('TABLA DE DECISION'!Z191='TABLA DE DECISION'!Z$157,CONCATENATE($B37,\"(\",'TABLA DE DECISION'!Z$157,\")\"),'TABLA DE DECISION'!Z191)","v":""},{"$f":"IF('TABLA DE DECISION'!AA191='TABLA DE DECISION'!AA$157,CONCATENATE($B37,\"(\",'TABLA DE DECISION'!AA$157,\")\"),'TABLA DE DECISION'!AA191)","v":""},{"$f":"IF('TABLA DE DECISION'!AB191='TABLA DE DECISION'!AB$157,CONCATENATE($B37,\"(\",'TABLA DE DECISION'!AB$157,\")\"),'TABLA DE DECISION'!AB191)","v":""},{"$f":"IF('TABLA DE DECISION'!AC191='TABLA DE DECISION'!AC$157,CONCATENATE($B37,\"(\",'TABLA DE DECISION'!AC$157,\")\"),'TABLA DE DECISION'!AC191)","v":""},{"$f":"IF('TABLA DE DECISION'!AD191='TABLA DE DECISION'!AD$157,CONCATENATE($B37,\"(\",'TABLA DE DECISION'!AD$157,\")\"),'TABLA DE DECISION'!AD191)","v":""},{"$f":"IF('TABLA DE DECISION'!AE191='TABLA DE DECISION'!AE$157,CONCATENATE($B37,\"(\",'TABLA DE DECISION'!AE$157,\")\"),'TABLA DE DECISION'!AE191)","v":""},{"$f":"IF('TABLA DE DECISION'!AF191='TABLA DE DECISION'!AF$157,CONCATENATE($B37,\"(\",'TABLA DE DECISION'!AF$157,\")\"),'TABLA DE DECISION'!AF191)","v":""},{"$f":"IF('TABLA DE DECISION'!AG191='TABLA DE DECISION'!AG$157,CONCATENATE($B37,\"(\",'TABLA DE DECISION'!AG$157,\")\"),'TABLA DE DECISION'!AG191)","v":""},{"$f":"IF('TABLA DE DECISION'!AH191='TABLA DE DECISION'!AH$157,CONCATENATE($B37,\"(\",'TABLA DE DECISION'!AH$157,\")\"),'TABLA DE DECISION'!AH191)","v":""},{"$f":"IF('TABLA DE DECISION'!AI191='TABLA DE DECISION'!AI$157,CONCATENATE($B37,\"(\",'TABLA DE DECISION'!AI$157,\")\"),'TABLA DE DECISION'!AI191)","v":""},{"$f":"IF('TABLA DE DECISION'!AJ191='TABLA DE DECISION'!AJ$157,CONCATENATE($B37,\"(\",'TABLA DE DECISION'!AJ$157,\")\"),'TABLA DE DECISION'!AJ191)","v":""},{"$f":"IF('TABLA DE DECISION'!AK191='TABLA DE DECISION'!AK$157,CONCATENATE($B37,\"(\",'TABLA DE DECISION'!AK$157,\")\"),'TABLA DE DECISION'!AK191)","v":""},{"$f":"IF('TABLA DE DECISION'!AL191='TABLA DE DECISION'!AL$157,CONCATENATE($B37,\"(\",'TABLA DE DECISION'!AL$157,\")\"),'TABLA DE DECISION'!AL191)","v":""},{"$f":"IF('TABLA DE DECISION'!AM191='TABLA DE DECISION'!AM$157,CONCATENATE($B37,\"(\",'TABLA DE DECISION'!AM$157,\")\"),'TABLA DE DECISION'!AM191)","v":""},{"$f":"IF('TABLA DE DECISION'!AN191='TABLA DE DECISION'!AN$157,CONCATENATE($B37,\"(\",'TABLA DE DECISION'!AN$157,\")\"),'TABLA DE DECISION'!AN191)","v":""},{"$f":"IF('TABLA DE DECISION'!AO191='TABLA DE DECISION'!AO$157,CONCATENATE($B37,\"(\",'TABLA DE DECISION'!AO$157,\")\"),'TABLA DE DECISION'!AO191)","v":""},{"$f":"IF('TABLA DE DECISION'!AP191='TABLA DE DECISION'!AP$157,CONCATENATE($B37,\"(\",'TABLA DE DECISION'!AP$157,\")\"),'TABLA DE DECISION'!AP191)","v":""},{"$f":"IF('TABLA DE DECISION'!AQ191='TABLA DE DECISION'!AQ$157,CONCATENATE($B37,\"(\",'TABLA DE DECISION'!AQ$157,\")\"),'TABLA DE DECISION'!AQ191)","v":""},{"$f":"IF('TABLA DE DECISION'!AR191='TABLA DE DECISION'!AR$157,CONCATENATE($B37,\"(\",'TABLA DE DECISION'!AR$157,\")\"),'TABLA DE DECISION'!AR191)","v":""},{"$f":"IF('TABLA DE DECISION'!AS191='TABLA DE DECISION'!AS$157,CONCATENATE($B37,\"(\",'TABLA DE DECISION'!AS$157,\")\"),'TABLA DE DECISION'!AS191)","v":""},{"$f":"IF('TABLA DE DECISION'!AT191='TABLA DE DECISION'!AT$157,CONCATENATE($B37,\"(\",'TABLA DE DECISION'!AT$157,\")\"),'TABLA DE DECISION'!AT191)","v":""},{"$f":"IF('TABLA DE DECISION'!AU191='TABLA DE DECISION'!AU$157,CONCATENATE($B37,\"(\",'TABLA DE DECISION'!AU$157,\")\"),'TABLA DE DECISION'!AU191)","v":""},{"$f":"IF('TABLA DE DECISION'!AV191='TABLA DE DECISION'!AV$157,CONCATENATE($B37,\"(\",'TABLA DE DECISION'!AV$157,\")\"),'TABLA DE DECISION'!AV191)","v":""},{"$f":"IF('TABLA DE DECISION'!AW191='TABLA DE DECISION'!AW$157,CONCATENATE($B37,\"(\",'TABLA DE DECISION'!AW$157,\")\"),'TABLA DE DECISION'!AW191)","v":""},{"$f":"IF('TABLA DE DECISION'!AX191='TABLA DE DECISION'!AX$157,CONCATENATE($B37,\"(\",'TABLA DE DECISION'!AX$157,\")\"),'TABLA DE DECISION'!AX191)","v":""},{"$f":"IF('TABLA DE DECISION'!AY191='TABLA DE DECISION'!AY$157,CONCATENATE($B37,\"(\",'TABLA DE DECISION'!AY$157,\")\"),'TABLA DE DECISION'!AY191)","v":""},{"$f":"IF('TABLA DE DECISION'!AZ191='TABLA DE DECISION'!AZ$157,CONCATENATE($B37,\"(\",'TABLA DE DECISION'!AZ$157,\")\"),'TABLA DE DECISION'!AZ191)","v":""},{"$f":"IF('TABLA DE DECISION'!BA191='TABLA DE DECISION'!BA$157,CONCATENATE($B37,\"(\",'TABLA DE DECISION'!BA$157,\")\"),'TABLA DE DECISION'!BA191)","v":""},{"$f":"IF('TABLA DE DECISION'!BB191='TABLA DE DECISION'!BB$157,CONCATENATE($B37,\"(\",'TABLA DE DECISION'!BB$157,\")\"),'TABLA DE DECISION'!BB191)","v":""},{"$f":"IF('TABLA DE DECISION'!BC191='TABLA DE DECISION'!BC$157,CONCATENATE($B37,\"(\",'TABLA DE DECISION'!BC$157,\")\"),'TABLA DE DECISION'!BC191)","v":""},{"$f":"IF('TABLA DE DECISION'!BD191='TABLA DE DECISION'!BD$157,CONCATENATE($B37,\"(\",'TABLA DE DECISION'!BD$157,\")\"),'TABLA DE DECISION'!BD191)","v":""}]
[{"$f":"IF('TABLA DE DECISION'!BF192=\"\",\"\",'TABLA DE DECISION'!BF192)","v":""},{"$f":"'TABLA DE DECISION'!BG192","v":"a34"},{"$f":"IF('TABLA DE DECISION'!A192='TABLA DE DECISION'!A$157,CONCATENATE($B38,\"(\",'TABLA DE DECISION'!A$157,\")\"),'TABLA DE DECISION'!A192)","v":""},{"$f":"IF('TABLA DE DECISION'!B192='TABLA DE DECISION'!B$157,CONCATENATE($B38,\"(\",'TABLA DE DECISION'!B$157,\")\"),'TABLA DE DECISION'!B192)","v":""},{"$f":"IF('TABLA DE DECISION'!C192='TABLA DE DECISION'!C$157,CONCATENATE($B38,\"(\",'TABLA DE DECISION'!C$157,\")\"),'TABLA DE DECISION'!C192)","v":""},{"$f":"IF('TABLA DE DECISION'!D192='TABLA DE DECISION'!D$157,CONCATENATE($B38,\"(\",'TABLA DE DECISION'!D$157,\")\"),'TABLA DE DECISION'!D192)","v":""},{"$f":"IF('TABLA DE DECISION'!E192='TABLA DE DECISION'!E$157,CONCATENATE($B38,\"(\",'TABLA DE DECISION'!E$157,\")\"),'TABLA DE DECISION'!E192)","v":""},{"$f":"IF('MATRIZ-PÉRDIDA OPORTUNIDAD'!BB36='MATRIZ-PÉRDIDA OPORTUNIDAD'!BB$2,CONCATENATE($B38,\"(\",'MATRIZ-PÉRDIDA OPORTUNIDAD'!BB$2,\")\"),'MATRIZ-PÉRDIDA OPORTUNIDAD'!BB36)","v":""},{"$f":"IF('TABLA DE DECISION'!G192='TABLA DE DECISION'!G$157,CONCATENATE($B38,\"(\",'TABLA DE DECISION'!G$157,\")\"),'TABLA DE DECISION'!G192)","v":""},{"$f":"IF('TABLA DE DECISION'!H192='TABLA DE DECISION'!H$157,CONCATENATE($B38,\"(\",'TABLA DE DECISION'!H$157,\")\"),'TABLA DE DECISION'!H192)","v":""},{"$f":"IF('TABLA DE DECISION'!I192='TABLA DE DECISION'!I$157,CONCATENATE($B38,\"(\",'TABLA DE DECISION'!I$157,\")\"),'TABLA DE DECISION'!I192)","v":""},{"$f":"IF('TABLA DE DECISION'!J192='TABLA DE DECISION'!J$157,CONCATENATE($B38,\"(\",'TABLA DE DECISION'!J$157,\")\"),'TABLA DE DECISION'!J192)","v":""},{"$f":"IF('TABLA DE DECISION'!K192='TABLA DE DECISION'!K$157,CONCATENATE($B38,\"(\",'TABLA DE DECISION'!K$157,\")\"),'TABLA DE DECISION'!K192)","v":""},{"$f":"IF('TABLA DE DECISION'!L192='TABLA DE DECISION'!L$157,CONCATENATE($B38,\"(\",'TABLA DE DECISION'!L$157,\")\"),'TABLA DE DECISION'!L192)","v":""},{"$f":"IF('TABLA DE DECISION'!M192='TABLA DE DECISION'!M$157,CONCATENATE($B38,\"(\",'TABLA DE DECISION'!M$157,\")\"),'TABLA DE DECISION'!M192)","v":""},{"$f":"IF('TABLA DE DECISION'!N192='TABLA DE DECISION'!N$157,CONCATENATE($B38,\"(\",'TABLA DE DECISION'!N$157,\")\"),'TABLA DE DECISION'!N192)","v":""},{"$f":"IF('TABLA DE DECISION'!O192='TABLA DE DECISION'!O$157,CONCATENATE($B38,\"(\",'TABLA DE DECISION'!O$157,\")\"),'TABLA DE DECISION'!O192)","v":""},{"$f":"IF('TABLA DE DECISION'!P192='TABLA DE DECISION'!P$157,CONCATENATE($B38,\"(\",'TABLA DE DECISION'!P$157,\")\"),'TABLA DE DECISION'!P192)","v":""},{"$f":"IF('TABLA DE DECISION'!Q192='TABLA DE DECISION'!Q$157,CONCATENATE($B38,\"(\",'TABLA DE DECISION'!Q$157,\")\"),'TABLA DE DECISION'!Q192)","v":""},{"$f":"IF('TABLA DE DECISION'!R192='TABLA DE DECISION'!R$157,CONCATENATE($B38,\"(\",'TABLA DE DECISION'!R$157,\")\"),'TABLA DE DECISION'!R192)","v":""},{"$f":"IF('TABLA DE DECISION'!S192='TABLA DE DECISION'!S$157,CONCATENATE($B38,\"(\",'TABLA DE DECISION'!S$157,\")\"),'TABLA DE DECISION'!S192)","v":""},{"$f":"IF('TABLA DE DECISION'!T192='TABLA DE DECISION'!T$157,CONCATENATE($B38,\"(\",'TABLA DE DECISION'!T$157,\")\"),'TABLA DE DECISION'!T192)","v":""},{"$f":"IF('TABLA DE DECISION'!U192='TABLA DE DECISION'!U$157,CONCATENATE($B38,\"(\",'TABLA DE DECISION'!U$157,\")\"),'TABLA DE DECISION'!U192)","v":""},{"$f":"IF('TABLA DE DECISION'!V192='TABLA DE DECISION'!V$157,CONCATENATE($B38,\"(\",'TABLA DE DECISION'!V$157,\")\"),'TABLA DE DECISION'!V192)","v":""},{"$f":"IF('TABLA DE DECISION'!W192='TABLA DE DECISION'!W$157,CONCATENATE($B38,\"(\",'TABLA DE DECISION'!W$157,\")\"),'TABLA DE DECISION'!W192)","v":""},{"$f":"IF('TABLA DE DECISION'!X192='TABLA DE DECISION'!X$157,CONCATENATE($B38,\"(\",'TABLA DE DECISION'!X$157,\")\"),'TABLA DE DECISION'!X192)","v":""},{"$f":"IF('TABLA DE DECISION'!Y192='TABLA DE DECISION'!Y$157,CONCATENATE($B38,\"(\",'TABLA DE DECISION'!Y$157,\")\"),'TABLA DE DECISION'!Y192)","v":""},{"$f":"IF('TABLA DE DECISION'!Z192='TABLA DE DECISION'!Z$157,CONCATENATE($B38,\"(\",'TABLA DE DECISION'!Z$157,\")\"),'TABLA DE DECISION'!Z192)","v":""},{"$f":"IF('TABLA DE DECISION'!AA192='TABLA DE DECISION'!AA$157,CONCATENATE($B38,\"(\",'TABLA DE DECISION'!AA$157,\")\"),'TABLA DE DECISION'!AA192)","v":""},{"$f":"IF('TABLA DE DECISION'!AB192='TABLA DE DECISION'!AB$157,CONCATENATE($B38,\"(\",'TABLA DE DECISION'!AB$157,\")\"),'TABLA DE DECISION'!AB192)","v":""},{"$f":"IF('TABLA DE DECISION'!AC192='TABLA DE DECISION'!AC$157,CONCATENATE($B38,\"(\",'TABLA DE DECISION'!AC$157,\")\"),'TABLA DE DECISION'!AC192)","v":""},{"$f":"IF('TABLA DE DECISION'!AD192='TABLA DE DECISION'!AD$157,CONCATENATE($B38,\"(\",'TABLA DE DECISION'!AD$157,\")\"),'TABLA DE DECISION'!AD192)","v":""},{"$f":"IF('TABLA DE DECISION'!AE192='TABLA DE DECISION'!AE$157,CONCATENATE($B38,\"(\",'TABLA DE DECISION'!AE$157,\")\"),'TABLA DE DECISION'!AE192)","v":""},{"$f":"IF('TABLA DE DECISION'!AF192='TABLA DE DECISION'!AF$157,CONCATENATE($B38,\"(\",'TABLA DE DECISION'!AF$157,\")\"),'TABLA DE DECISION'!AF192)","v":""},{"$f":"IF('TABLA DE DECISION'!AG192='TABLA DE DECISION'!AG$157,CONCATENATE($B38,\"(\",'TABLA DE DECISION'!AG$157,\")\"),'TABLA DE DECISION'!AG192)","v":""},{"$f":"IF('TABLA DE DECISION'!AH192='TABLA DE DECISION'!AH$157,CONCATENATE($B38,\"(\",'TABLA DE DECISION'!AH$157,\")\"),'TABLA DE DECISION'!AH192)","v":""},{"$f":"IF('TABLA DE DECISION'!AI192='TABLA DE DECISION'!AI$157,CONCATENATE($B38,\"(\",'TABLA DE DECISION'!AI$157,\")\"),'TABLA DE DECISION'!AI192)","v":""},{"$f":"IF('TABLA DE DECISION'!AJ192='TABLA DE DECISION'!AJ$157,CONCATENATE($B38,\"(\",'TABLA DE DECISION'!AJ$157,\")\"),'TABLA DE DECISION'!AJ192)","v":""},{"$f":"IF('TABLA DE DECISION'!AK192='TABLA DE DECISION'!AK$157,CONCATENATE($B38,\"(\",'TABLA DE DECISION'!AK$157,\")\"),'TABLA DE DECISION'!AK192)","v":""},{"$f":"IF('TABLA DE DECISION'!AL192='TABLA DE DECISION'!AL$157,CONCATENATE($B38,\"(\",'TABLA DE DECISION'!AL$157,\")\"),'TABLA DE DECISION'!AL192)","v":""},{"$f":"IF('TABLA DE DECISION'!AM192='TABLA DE DECISION'!AM$157,CONCATENATE($B38,\"(\",'TABLA DE DECISION'!AM$157,\")\"),'TABLA DE DECISION'!AM192)","v":""},{"$f":"IF('TABLA DE DECISION'!AN192='TABLA DE DECISION'!AN$157,CONCATENATE($B38,\"(\",'TABLA DE DECISION'!AN$157,\")\"),'TABLA DE DECISION'!AN192)","v":""},{"$f":"IF('TABLA DE DECISION'!AO192='TABLA DE DECISION'!AO$157,CONCATENATE($B38,\"(\",'TABLA DE DECISION'!AO$157,\")\"),'TABLA DE DECISION'!AO192)","v":""},{"$f":"IF('TABLA DE DECISION'!AP192='TABLA DE DECISION'!AP$157,CONCATENATE($B38,\"(\",'TABLA DE DECISION'!AP$157,\")\"),'TABLA DE DECISION'!AP192)","v":""},{"$f":"IF('TABLA DE DECISION'!AQ192='TABLA DE DECISION'!AQ$157,CONCATENATE($B38,\"(\",'TABLA DE DECISION'!AQ$157,\")\"),'TABLA DE DECISION'!AQ192)","v":""},{"$f":"IF('TABLA DE DECISION'!AR192='TABLA DE DECISION'!AR$157,CONCATENATE($B38,\"(\",'TABLA DE DECISION'!AR$157,\")\"),'TABLA DE DECISION'!AR192)","v":""},{"$f":"IF('TABLA DE DECISION'!AS192='TABLA DE DECISION'!AS$157,CONCATENATE($B38,\"(\",'TABLA DE DECISION'!AS$157,\")\"),'TABLA DE DECISION'!AS192)","v":""},{"$f":"IF('TABLA DE DECISION'!AT192='TABLA DE DECISION'!AT$157,CONCATENATE($B38,\"(\",'TABLA DE DECISION'!AT$157,\")\"),'TABLA DE DECISION'!AT192)","v":""},{"$f":"IF('TABLA DE DECISION'!AU192='TABLA DE DECISION'!AU$157,CONCATENATE($B38,\"(\",'TABLA DE DECISION'!AU$157,\")\"),'TABLA DE DECISION'!AU192)","v":""},{"$f":"IF('TABLA DE DECISION'!AV192='TABLA DE DECISION'!AV$157,CONCATENATE($B38,\"(\",'TABLA DE DECISION'!AV$157,\")\"),'TABLA DE DECISION'!AV192)","v":""},{"$f":"IF('TABLA DE DECISION'!AW192='TABLA DE DECISION'!AW$157,CONCATENATE($B38,\"(\",'TABLA DE DECISION'!AW$157,\")\"),'TABLA DE DECISION'!AW192)","v":""},{"$f":"IF('TABLA DE DECISION'!AX192='TABLA DE DECISION'!AX$157,CONCATENATE($B38,\"(\",'TABLA DE DECISION'!AX$157,\")\"),'TABLA DE DECISION'!AX192)","v":""},{"$f":"IF('TABLA DE DECISION'!AY192='TABLA DE DECISION'!AY$157,CONCATENATE($B38,\"(\",'TABLA DE DECISION'!AY$157,\")\"),'TABLA DE DECISION'!AY192)","v":""},{"$f":"IF('TABLA DE DECISION'!AZ192='TABLA DE DECISION'!AZ$157,CONCATENATE($B38,\"(\",'TABLA DE DECISION'!AZ$157,\")\"),'TABLA DE DECISION'!AZ192)","v":""},{"$f":"IF('TABLA DE DECISION'!BA192='TABLA DE DECISION'!BA$157,CONCATENATE($B38,\"(\",'TABLA DE DECISION'!BA$157,\")\"),'TABLA DE DECISION'!BA192)","v":""},{"$f":"IF('TABLA DE DECISION'!BB192='TABLA DE DECISION'!BB$157,CONCATENATE($B38,\"(\",'TABLA DE DECISION'!BB$157,\")\"),'TABLA DE DECISION'!BB192)","v":""},{"$f":"IF('TABLA DE DECISION'!BC192='TABLA DE DECISION'!BC$157,CONCATENATE($B38,\"(\",'TABLA DE DECISION'!BC$157,\")\"),'TABLA DE DECISION'!BC192)","v":""},{"$f":"IF('TABLA DE DECISION'!BD192='TABLA DE DECISION'!BD$157,CONCATENATE($B38,\"(\",'TABLA DE DECISION'!BD$157,\")\"),'TABLA DE DECISION'!BD192)","v":""}]
[{"$f":"IF('TABLA DE DECISION'!BF193=\"\",\"\",'TABLA DE DECISION'!BF193)","v":""},{"$f":"'TABLA DE DECISION'!BG193","v":"a35"},{"$f":"IF('TABLA DE DECISION'!A193='TABLA DE DECISION'!A$157,CONCATENATE($B39,\"(\",'TABLA DE DECISION'!A$157,\")\"),'TABLA DE DECISION'!A193)","v":""},{"$f":"IF('TABLA DE DECISION'!B193='TABLA DE DECISION'!B$157,CONCATENATE($B39,\"(\",'TABLA DE DECISION'!B$157,\")\"),'TABLA DE DECISION'!B193)","v":""},{"$f":"IF('TABLA DE DECISION'!C193='TABLA DE DECISION'!C$157,CONCATENATE($B39,\"(\",'TABLA DE DECISION'!C$157,\")\"),'TABLA DE DECISION'!C193)","v":""},{"$f":"IF('TABLA DE DECISION'!D193='TABLA DE DECISION'!D$157,CONCATENATE($B39,\"(\",'TABLA DE DECISION'!D$157,\")\"),'TABLA DE DECISION'!D193)","v":""},{"$f":"IF('TABLA DE DECISION'!E193='TABLA DE DECISION'!E$157,CONCATENATE($B39,\"(\",'TABLA DE DECISION'!E$157,\")\"),'TABLA DE DECISION'!E193)","v":""},{"$f":"IF('MATRIZ-PÉRDIDA OPORTUNIDAD'!BB37='MATRIZ-PÉRDIDA OPORTUNIDAD'!BB$2,CONCATENATE($B39,\"(\",'MATRIZ-PÉRDIDA OPORTUNIDAD'!BB$2,\")\"),'MATRIZ-PÉRDIDA OPORTUNIDAD'!BB37)","v":""},{"$f":"IF('TABLA DE DECISION'!G193='TABLA DE DECISION'!G$157,CONCATENATE($B39,\"(\",'TABLA DE DECISION'!G$157,\")\"),'TABLA DE DECISION'!G193)","v":""},{"$f":"IF('TABLA DE DECISION'!H193='TABLA DE DECISION'!H$157,CONCATENATE($B39,\"(\",'TABLA DE DECISION'!H$157,\")\"),'TABLA DE DECISION'!H193)","v":""},{"$f":"IF('TABLA DE DECISION'!I193='TABLA DE DECISION'!I$157,CONCATENATE($B39,\"(\",'TABLA DE DECISION'!I$157,\")\"),'TABLA DE DECISION'!I193)","v":""},{"$f":"IF('TABLA DE DECISION'!J193='TABLA DE DECISION'!J$157,CONCATENATE($B39,\"(\",'TABLA DE DECISION'!J$157,\")\"),'TABLA DE DECISION'!J193)","v":""},{"$f":"IF('TABLA DE DECISION'!K193='TABLA DE DECISION'!K$157,CONCATENATE($B39,\"(\",'TABLA DE DECISION'!K$157,\")\"),'TABLA DE DECISION'!K193)","v":""},{"$f":"IF('TABLA DE DECISION'!L193='TABLA DE DECISION'!L$157,CONCATENATE($B39,\"(\",'TABLA DE DECISION'!L$157,\")\"),'TABLA DE DECISION'!L193)","v":""},{"$f":"IF('TABLA DE DECISION'!M193='TABLA DE DECISION'!M$157,CONCATENATE($B39,\"(\",'TABLA DE DECISION'!M$157,\")\"),'TABLA DE DECISION'!M193)","v":""},{"$f":"IF('TABLA DE DECISION'!N193='TABLA DE DECISION'!N$157,CONCATENATE($B39,\"(\",'TABLA DE DECISION'!N$157,\")\"),'TABLA DE DECISION'!N193)","v":""},{"$f":"IF('TABLA DE DECISION'!O193='TABLA DE DECISION'!O$157,CONCATENATE($B39,\"(\",'TABLA DE DECISION'!O$157,\")\"),'TABLA DE DECISION'!O193)","v":""},{"$f":"IF('TABLA DE DECISION'!P193='TABLA DE DECISION'!P$157,CONCATENATE($B39,\"(\",'TABLA DE DECISION'!P$157,\")\"),'TABLA DE DECISION'!P193)","v":""},{"$f":"IF('TABLA DE DECISION'!Q193='TABLA DE DECISION'!Q$157,CONCATENATE($B39,\"(\",'TABLA DE DECISION'!Q$157,\")\"),'TABLA DE DECISION'!Q193)","v":""},{"$f":"IF('TABLA DE DECISION'!R193='TABLA DE DECISION'!R$157,CONCATENATE($B39,\"(\",'TABLA DE DECISION'!R$157,\")\"),'TABLA DE DECISION'!R193)","v":""},{"$f":"IF('TABLA DE DECISION'!S193='TABLA DE DECISION'!S$157,CONCATENATE($B39,\"(\",'TABLA DE DECISION'!S$157,\")\"),'TABLA DE DECISION'!S193)","v":""},{"$f":"IF('TABLA DE DECISION'!T193='TABLA DE DECISION'!T$157,CONCATENATE($B39,\"(\",'TABLA DE DECISION'!T$157,\")\"),'TABLA DE DECISION'!T193)","v":""},{"$f":"IF('TABLA DE DECISION'!U193='TABLA DE DECISION'!U$157,CONCATENATE($B39,\"(\",'TABLA DE DECISION'!U$157,\")\"),'TABLA DE DECISION'!U193)","v":""},{"$f":"IF('TABLA DE DECISION'!V193='TABLA DE DECISION'!V$157,CONCATENATE($B39,\"(\",'TABLA DE DECISION'!V$157,\")\"),'TABLA DE DECISION'!V193)","v":""},{"$f":"IF('TABLA DE DECISION'!W193='TABLA DE DECISION'!W$157,CONCATENATE($B39,\"(\",'TABLA DE DECISION'!W$157,\")\"),'TABLA DE DECISION'!W193)","v":""},{"$f":"IF('TABLA DE DECISION'!X193='TABLA DE DECISION'!X$157,CONCATENATE($B39,\"(\",'TABLA DE DECISION'!X$157,\")\"),'TABLA DE DECISION'!X193)","v":""},{"$f":"IF('TABLA DE DECISION'!Y193='TABLA DE DECISION'!Y$157,CONCATENATE($B39,\"(\",'TABLA DE DECISION'!Y$157,\")\"),'TABLA DE DECISION'!Y193)","v":""},{"$f":"IF('TABLA DE DECISION'!Z193='TABLA DE DECISION'!Z$157,CONCATENATE($B39,\"(\",'TABLA DE DECISION'!Z$157,\")\"),'TABLA DE DECISION'!Z193)","v":""},{"$f":"IF('TABLA DE DECISION'!AA193='TABLA DE DECISION'!AA$157,CONCATENATE($B39,\"(\",'TABLA DE DECISION'!AA$157,\")\"),'TABLA DE DECISION'!AA193)","v":""},{"$f":"IF('TABLA DE DECISION'!AB193='TABLA DE DECISION'!AB$157,CONCATENATE($B39,\"(\",'TABLA DE DECISION'!AB$157,\")\"),'TABLA DE DECISION'!AB193)","v":""},{"$f":"IF('TABLA DE DECISION'!AC193='TABLA DE DECISION'!AC$157,CONCATENATE($B39,\"(\",'TABLA DE DECISION'!AC$157,\")\"),'TABLA DE DECISION'!AC193)","v":""},{"$f":"IF('TABLA DE DECISION'!AD193='TABLA DE DECISION'!AD$157,CONCATENATE($B39,\"(\",'TABLA DE DECISION'!AD$157,\")\"),'TABLA DE DECISION'!AD193)","v":""},{"$f":"IF('TABLA DE DECISION'!AE193='TABLA DE DECISION'!AE$157,CONCATENATE($B39,\"(\",'TABLA DE DECISION'!AE$157,\")\"),'TABLA DE DECISION'!AE193)","v":""},{"$f":"IF('TABLA DE DECISION'!AF193='TABLA DE DECISION'!AF$157,CONCATENATE($B39,\"(\",'TABLA DE DECISION'!AF$157,\")\"),'TABLA DE DECISION'!AF193)","v":""},{"$f":"IF('TABLA DE DECISION'!AG193='TABLA DE DECISION'!AG$157,CONCATENATE($B39,\"(\",'TABLA DE DECISION'!AG$157,\")\"),'TABLA DE DECISION'!AG193)","v":""},{"$f":"IF('TABLA DE DECISION'!AH193='TABLA DE DECISION'!AH$157,CONCATENATE($B39,\"(\",'TABLA DE DECISION'!AH$157,\")\"),'TABLA DE DECISION'!AH193)","v":""},{"$f":"IF('TABLA DE DECISION'!AI193='TABLA DE DECISION'!AI$157,CONCATENATE($B39,\"(\",'TABLA DE DECISION'!AI$157,\")\"),'TABLA DE DECISION'!AI193)","v":""},{"$f":"IF('TABLA DE DECISION'!AJ193='TABLA DE DECISION'!AJ$157,CONCATENATE($B39,\"(\",'TABLA DE DECISION'!AJ$157,\")\"),'TABLA DE DECISION'!AJ193)","v":""},{"$f":"IF('TABLA DE DECISION'!AK193='TABLA DE DECISION'!AK$157,CONCATENATE($B39,\"(\",'TABLA DE DECISION'!AK$157,\")\"),'TABLA DE DECISION'!AK193)","v":""},{"$f":"IF('TABLA DE DECISION'!AL193='TABLA DE DECISION'!AL$157,CONCATENATE($B39,\"(\",'TABLA DE DECISION'!AL$157,\")\"),'TABLA DE DECISION'!AL193)","v":""},{"$f":"IF('TABLA DE DECISION'!AM193='TABLA DE DECISION'!AM$157,CONCATENATE($B39,\"(\",'TABLA DE DECISION'!AM$157,\")\"),'TABLA DE DECISION'!AM193)","v":""},{"$f":"IF('TABLA DE DECISION'!AN193='TABLA DE DECISION'!AN$157,CONCATENATE($B39,\"(\",'TABLA DE DECISION'!AN$157,\")\"),'TABLA DE DECISION'!AN193)","v":""},{"$f":"IF('TABLA DE DECISION'!AO193='TABLA DE DECISION'!AO$157,CONCATENATE($B39,\"(\",'TABLA DE DECISION'!AO$157,\")\"),'TABLA DE DECISION'!AO193)","v":""},{"$f":"IF('TABLA DE DECISION'!AP193='TABLA DE DECISION'!AP$157,CONCATENATE($B39,\"(\",'TABLA DE DECISION'!AP$157,\")\"),'TABLA DE DECISION'!AP193)","v":""},{"$f":"IF('TABLA DE DECISION'!AQ193='TABLA DE DECISION'!AQ$157,CONCATENATE($B39,\"(\",'TABLA DE DECISION'!AQ$157,\")\"),'TABLA DE DECISION'!AQ193)","v":""},{"$f":"IF('TABLA DE DECISION'!AR193='TABLA DE DECISION'!AR$157,CONCATENATE($B39,\"(\",'TABLA DE DECISION'!AR$157,\")\"),'TABLA DE DECISION'!AR193)","v":""},{"$f":"IF('TABLA DE DECISION'!AS193='TABLA DE DECISION'!AS$157,CONCATENATE($B39,\"(\",'TABLA DE DECISION'!AS$157,\")\"),'TABLA DE DECISION'!AS193)","v":""},{"$f":"IF('TABLA DE DECISION'!AT193='TABLA DE DECISION'!AT$157,CONCATENATE($B39,\"(\",'TABLA DE DECISION'!AT$157,\")\"),'TABLA DE DECISION'!AT193)","v":""},{"$f":"IF('TABLA DE DECISION'!AU193='TABLA DE DECISION'!AU$157,CONCATENATE($B39,\"(\",'TABLA DE DECISION'!AU$157,\")\"),'TABLA DE DECISION'!AU193)","v":""},{"$f":"IF('TABLA DE DECISION'!AV193='TABLA DE DECISION'!AV$157,CONCATENATE($B39,\"(\",'TABLA DE DECISION'!AV$157,\")\"),'TABLA DE DECISION'!AV193)","v":""},{"$f":"IF('TABLA DE DECISION'!AW193='TABLA DE DECISION'!AW$157,CONCATENATE($B39,\"(\",'TABLA DE DECISION'!AW$157,\")\"),'TABLA DE DECISION'!AW193)","v":""},{"$f":"IF('TABLA DE DECISION'!AX193='TABLA DE DECISION'!AX$157,CONCATENATE($B39,\"(\",'TABLA DE DECISION'!AX$157,\")\"),'TABLA DE DECISION'!AX193)","v":""},{"$f":"IF('TABLA DE DECISION'!AY193='TABLA DE DECISION'!AY$157,CONCATENATE($B39,\"(\",'TABLA DE DECISION'!AY$157,\")\"),'TABLA DE DECISION'!AY193)","v":""},{"$f":"IF('TABLA DE DECISION'!AZ193='TABLA DE DECISION'!AZ$157,CONCATENATE($B39,\"(\",'TABLA DE DECISION'!AZ$157,\")\"),'TABLA DE DECISION'!AZ193)","v":""},{"$f":"IF('TABLA DE DECISION'!BA193='TABLA DE DECISION'!BA$157,CONCATENATE($B39,\"(\",'TABLA DE DECISION'!BA$157,\")\"),'TABLA DE DECISION'!BA193)","v":""},{"$f":"IF('TABLA DE DECISION'!BB193='TABLA DE DECISION'!BB$157,CONCATENATE($B39,\"(\",'TABLA DE DECISION'!BB$157,\")\"),'TABLA DE DECISION'!BB193)","v":""},{"$f":"IF('TABLA DE DECISION'!BC193='TABLA DE DECISION'!BC$157,CONCATENATE($B39,\"(\",'TABLA DE DECISION'!BC$157,\")\"),'TABLA DE DECISION'!BC193)","v":""},{"$f":"IF('TABLA DE DECISION'!BD193='TABLA DE DECISION'!BD$157,CONCATENATE($B39,\"(\",'TABLA DE DECISION'!BD$157,\")\"),'TABLA DE DECISION'!BD193)","v":""}]
[{"$f":"IF('TABLA DE DECISION'!BF194=\"\",\"\",'TABLA DE DECISION'!BF194)","v":""},{"$f":"'TABLA DE DECISION'!BG194","v":"a36"},{"$f":"IF('TABLA DE DECISION'!A194='TABLA DE DECISION'!A$157,CONCATENATE($B40,\"(\",'TABLA DE DECISION'!A$157,\")\"),'TABLA DE DECISION'!A194)","v":""},{"$f":"IF('TABLA DE DECISION'!B194='TABLA DE DECISION'!B$157,CONCATENATE($B40,\"(\",'TABLA DE DECISION'!B$157,\")\"),'TABLA DE DECISION'!B194)","v":""},{"$f":"IF('TABLA DE DECISION'!C194='TABLA DE DECISION'!C$157,CONCATENATE($B40,\"(\",'TABLA DE DECISION'!C$157,\")\"),'TABLA DE DECISION'!C194)","v":""},{"$f":"IF('TABLA DE DECISION'!D194='TABLA DE DECISION'!D$157,CONCATENATE($B40,\"(\",'TABLA DE DECISION'!D$157,\")\"),'TABLA DE DECISION'!D194)","v":""},{"$f":"IF('TABLA DE DECISION'!E194='TABLA DE DECISION'!E$157,CONCATENATE($B40,\"(\",'TABLA DE DECISION'!E$157,\")\"),'TABLA DE DECISION'!E194)","v":""},{"$f":"IF('MATRIZ-PÉRDIDA OPORTUNIDAD'!BB38='MATRIZ-PÉRDIDA OPORTUNIDAD'!BB$2,CONCATENATE($B40,\"(\",'MATRIZ-PÉRDIDA OPORTUNIDAD'!BB$2,\")\"),'MATRIZ-PÉRDIDA OPORTUNIDAD'!BB38)","v":""},{"$f":"IF('TABLA DE DECISION'!G194='TABLA DE DECISION'!G$157,CONCATENATE($B40,\"(\",'TABLA DE DECISION'!G$157,\")\"),'TABLA DE DECISION'!G194)","v":""},{"$f":"IF('TABLA DE DECISION'!H194='TABLA DE DECISION'!H$157,CONCATENATE($B40,\"(\",'TABLA DE DECISION'!H$157,\")\"),'TABLA DE DECISION'!H194)","v":""},{"$f":"IF('TABLA DE DECISION'!I194='TABLA DE DECISION'!I$157,CONCATENATE($B40,\"(\",'TABLA DE DECISION'!I$157,\")\"),'TABLA DE DECISION'!I194)","v":""},{"$f":"IF('TABLA DE DECISION'!J194='TABLA DE DECISION'!J$157,CONCATENATE($B40,\"(\",'TABLA DE DECISION'!J$157,\")\"),'TABLA DE DECISION'!J194)","v":""},{"$f":"IF('TABLA DE DECISION'!K194='TABLA DE DECISION'!K$157,CONCATENATE($B40,\"(\",'TABLA DE DECISION'!K$157,\")\"),'TABLA DE DECISION'!K194)","v":""},{"$f":"IF('TABLA DE DECISION'!L194='TABLA DE DECISION'!L$157,CONCATENATE($B40,\"(\",'TABLA DE DECISION'!L$157,\")\"),'TABLA DE DECISION'!L194)","v":""},{"$f":"IF('TABLA DE DECISION'!M194='TABLA DE DECISION'!M$157,CONCATENATE($B40,\"(\",'TABLA DE DECISION'!M$157,\")\"),'TABLA DE DECISION'!M194)","v":""},{"$f":"IF('TABLA DE DECISION'!N194='TABLA DE DECISION'!N$157,CONCATENATE($B40,\"(\",'TABLA DE DECISION'!N$157,\")\"),'TABLA DE DECISION'!N194)","v":""},{"$f":"IF('TABLA DE DECISION'!O194='TABLA DE DECISION'!O$157,CONCATENATE($B40,\"(\",'TABLA DE DECISION'!O$157,\")\"),'TABLA DE DECISION'!O194)","v":""},{"$f":"IF('TABLA DE DECISION'!P194='TABLA DE DECISION'!P$157,CONCATENATE($B40,\"(\",'TABLA DE DECISION'!P$157,\")\"),'TABLA DE DECISION'!P194)","v":""},{"$f":"IF('TABLA DE DECISION'!Q194='TABLA DE DECISION'!Q$157,CONCATENATE($B40,\"(\",'TABLA DE DECISION'!Q$157,\")\"),'TABLA DE DECISION'!Q194)","v":""},{"$f":"IF('TABLA DE DECISION'!R194='TABLA DE DECISION'!R$157,CONCATENATE($B40,\"(\",'TABLA DE DECISION'!R$157,\")\"),'TABLA DE DECISION'!R194)","v":""},{"$f":"IF('TABLA DE DECISION'!S194='TABLA DE DECISION'!S$157,CONCATENATE($B40,\"(\",'TABLA DE DECISION'!S$157,\")\"),'TABLA DE DECISION'!S194)","v":""},{"$f":"IF('TABLA DE DECISION'!T194='TABLA DE DECISION'!T$157,CONCATENATE($B40,\"(\",'TABLA DE DECISION'!T$157,\")\"),'TABLA DE DECISION'!T194)","v":""},{"$f":"IF('TABLA DE DECISION'!U194='TABLA DE DECISION'!U$157,CONCATENATE($B40,\"(\",'TABLA DE DECISION'!U$157,\")\"),'TABLA DE DECISION'!U194)","v":""},{"$f":"IF('TABLA DE DECISION'!V194='TABLA DE DECISION'!V$157,CONCATENATE($B40,\"(\",'TABLA DE DECISION'!V$157,\")\"),'TABLA DE DECISION'!V194)","v":""},{"$f":"IF('TABLA DE DECISION'!W194='TABLA DE DECISION'!W$157,CONCATENATE($B40,\"(\",'TABLA DE DECISION'!W$157,\")\"),'TABLA DE DECISION'!W194)","v":""},{"$f":"IF('TABLA DE DECISION'!X194='TABLA DE DECISION'!X$157,CONCATENATE($B40,\"(\",'TABLA DE DECISION'!X$157,\")\"),'TABLA DE DECISION'!X194)","v":""},{"$f":"IF('TABLA DE DECISION'!Y194='TABLA DE DECISION'!Y$157,CONCATENATE($B40,\"(\",'TABLA DE DECISION'!Y$157,\")\"),'TABLA DE DECISION'!Y194)","v":""},{"$f":"IF('TABLA DE DECISION'!Z194='TABLA DE DECISION'!Z$157,CONCATENATE($B40,\"(\",'TABLA DE DECISION'!Z$157,\")\"),'TABLA DE DECISION'!Z194)","v":""},{"$f":"IF('TABLA DE DECISION'!AA194='TABLA DE DECISION'!AA$157,CONCATENATE($B40,\"(\",'TABLA DE DECISION'!AA$157,\")\"),'TABLA DE DECISION'!AA194)","v":""},{"$f":"IF('TABLA DE DECISION'!AB194='TABLA DE DECISION'!AB$157,CONCATENATE($B40,\"(\",'TABLA DE DECISION'!AB$157,\")\"),'TABLA DE DECISION'!AB194)","v":""},{"$f":"IF('TABLA DE DECISION'!AC194='TABLA DE DECISION'!AC$157,CONCATENATE($B40,\"(\",'TABLA DE DECISION'!AC$157,\")\"),'TABLA DE DECISION'!AC194)","v":""},{"$f":"IF('TABLA DE DECISION'!AD194='TABLA DE DECISION'!AD$157,CONCATENATE($B40,\"(\",'TABLA DE DECISION'!AD$157,\")\"),'TABLA DE DECISION'!AD194)","v":""},{"$f":"IF('TABLA DE DECISION'!AE194='TABLA DE DECISION'!AE$157,CONCATENATE($B40,\"(\",'TABLA DE DECISION'!AE$157,\")\"),'TABLA DE DECISION'!AE194)","v":""},{"$f":"IF('TABLA DE DECISION'!AF194='TABLA DE DECISION'!AF$157,CONCATENATE($B40,\"(\",'TABLA DE DECISION'!AF$157,\")\"),'TABLA DE DECISION'!AF194)","v":""},{"$f":"IF('TABLA DE DECISION'!AG194='TABLA DE DECISION'!AG$157,CONCATENATE($B40,\"(\",'TABLA DE DECISION'!AG$157,\")\"),'TABLA DE DECISION'!AG194)","v":""},{"$f":"IF('TABLA DE DECISION'!AH194='TABLA DE DECISION'!AH$157,CONCATENATE($B40,\"(\",'TABLA DE DECISION'!AH$157,\")\"),'TABLA DE DECISION'!AH194)","v":""},{"$f":"IF('TABLA DE DECISION'!AI194='TABLA DE DECISION'!AI$157,CONCATENATE($B40,\"(\",'TABLA DE DECISION'!AI$157,\")\"),'TABLA DE DECISION'!AI194)","v":""},{"$f":"IF('TABLA DE DECISION'!AJ194='TABLA DE DECISION'!AJ$157,CONCATENATE($B40,\"(\",'TABLA DE DECISION'!AJ$157,\")\"),'TABLA DE DECISION'!AJ194)","v":""},{"$f":"IF('TABLA DE DECISION'!AK194='TABLA DE DECISION'!AK$157,CONCATENATE($B40,\"(\",'TABLA DE DECISION'!AK$157,\")\"),'TABLA DE DECISION'!AK194)","v":""},{"$f":"IF('TABLA DE DECISION'!AL194='TABLA DE DECISION'!AL$157,CONCATENATE($B40,\"(\",'TABLA DE DECISION'!AL$157,\")\"),'TABLA DE DECISION'!AL194)","v":""},{"$f":"IF('TABLA DE DECISION'!AM194='TABLA DE DECISION'!AM$157,CONCATENATE($B40,\"(\",'TABLA DE DECISION'!AM$157,\")\"),'TABLA DE DECISION'!AM194)","v":""},{"$f":"IF('TABLA DE DECISION'!AN194='TABLA DE DECISION'!AN$157,CONCATENATE($B40,\"(\",'TABLA DE DECISION'!AN$157,\")\"),'TABLA DE DECISION'!AN194)","v":""},{"$f":"IF('TABLA DE DECISION'!AO194='TABLA DE DECISION'!AO$157,CONCATENATE($B40,\"(\",'TABLA DE DECISION'!AO$157,\")\"),'TABLA DE DECISION'!AO194)","v":""},{"$f":"IF('TABLA DE DECISION'!AP194='TABLA DE DECISION'!AP$157,CONCATENATE($B40,\"(\",'TABLA DE DECISION'!AP$157,\")\"),'TABLA DE DECISION'!AP194)","v":""},{"$f":"IF('TABLA DE DECISION'!AQ194='TABLA DE DECISION'!AQ$157,CONCATENATE($B40,\"(\",'TABLA DE DECISION'!AQ$157,\")\"),'TABLA DE DECISION'!AQ194)","v":""},{"$f":"IF('TABLA DE DECISION'!AR194='TABLA DE DECISION'!AR$157,CONCATENATE($B40,\"(\",'TABLA DE DECISION'!AR$157,\")\"),'TABLA DE DECISION'!AR194)","v":""},{"$f":"IF('TABLA DE DECISION'!AS194='TABLA DE DECISION'!AS$157,CONCATENATE($B40,\"(\",'TABLA DE DECISION'!AS$157,\")\"),'TABLA DE DECISION'!AS194)","v":""},{"$f":"IF('TABLA DE DECISION'!AT194='TABLA DE DECISION'!AT$157,CONCATENATE($B40,\"(\",'TABLA DE DECISION'!AT$157,\")\"),'TABLA DE DECISION'!AT194)","v":""},{"$f":"IF('TABLA DE DECISION'!AU194='TABLA DE DECISION'!AU$157,CONCATENATE($B40,\"(\",'TABLA DE DECISION'!AU$157,\")\"),'TABLA DE DECISION'!AU194)","v":""},{"$f":"IF('TABLA DE DECISION'!AV194='TABLA DE DECISION'!AV$157,CONCATENATE($B40,\"(\",'TABLA DE DECISION'!AV$157,\")\"),'TABLA DE DECISION'!AV194)","v":""},{"$f":"IF('TABLA DE DECISION'!AW194='TABLA DE DECISION'!AW$157,CONCATENATE($B40,\"(\",'TABLA DE DECISION'!AW$157,\")\"),'TABLA DE DECISION'!AW194)","v":""},{"$f":"IF('TABLA DE DECISION'!AX194='TABLA DE DECISION'!AX$157,CONCATENATE($B40,\"(\",'TABLA DE DECISION'!AX$157,\")\"),'TABLA DE DECISION'!AX194)","v":""},{"$f":"IF('TABLA DE DECISION'!AY194='TABLA DE DECISION'!AY$157,CONCATENATE($B40,\"(\",'TABLA DE DECISION'!AY$157,\")\"),'TABLA DE DECISION'!AY194)","v":""},{"$f":"IF('TABLA DE DECISION'!AZ194='TABLA DE DECISION'!AZ$157,CONCATENATE($B40,\"(\",'TABLA DE DECISION'!AZ$157,\")\"),'TABLA DE DECISION'!AZ194)","v":""},{"$f":"IF('TABLA DE DECISION'!BA194='TABLA DE DECISION'!BA$157,CONCATENATE($B40,\"(\",'TABLA DE DECISION'!BA$157,\")\"),'TABLA DE DECISION'!BA194)","v":""},{"$f":"IF('TABLA DE DECISION'!BB194='TABLA DE DECISION'!BB$157,CONCATENATE($B40,\"(\",'TABLA DE DECISION'!BB$157,\")\"),'TABLA DE DECISION'!BB194)","v":""},{"$f":"IF('TABLA DE DECISION'!BC194='TABLA DE DECISION'!BC$157,CONCATENATE($B40,\"(\",'TABLA DE DECISION'!BC$157,\")\"),'TABLA DE DECISION'!BC194)","v":""},{"$f":"IF('TABLA DE DECISION'!BD194='TABLA DE DECISION'!BD$157,CONCATENATE($B40,\"(\",'TABLA DE DECISION'!BD$157,\")\"),'TABLA DE DECISION'!BD194)","v":""}]
[{"$f":"IF('TABLA DE DECISION'!BF195=\"\",\"\",'TABLA DE DECISION'!BF195)","v":""},{"$f":"'TABLA DE DECISION'!BG195","v":"a37"},{"$f":"IF('TABLA DE DECISION'!A195='TABLA DE DECISION'!A$157,CONCATENATE($B41,\"(\",'TABLA DE DECISION'!A$157,\")\"),'TABLA DE DECISION'!A195)","v":""},{"$f":"IF('TABLA DE DECISION'!B195='TABLA DE DECISION'!B$157,CONCATENATE($B41,\"(\",'TABLA DE DECISION'!B$157,\")\"),'TABLA DE DECISION'!B195)","v":""},{"$f":"IF('TABLA DE DECISION'!C195='TABLA DE DECISION'!C$157,CONCATENATE($B41,\"(\",'TABLA DE DECISION'!C$157,\")\"),'TABLA DE DECISION'!C195)","v":""},{"$f":"IF('TABLA DE DECISION'!D195='TABLA DE DECISION'!D$157,CONCATENATE($B41,\"(\",'TABLA DE DECISION'!D$157,\")\"),'TABLA DE DECISION'!D195)","v":""},{"$f":"IF('TABLA DE DECISION'!E195='TABLA DE DECISION'!E$157,CONCATENATE($B41,\"(\",'TABLA DE DECISION'!E$157,\")\"),'TABLA DE DECISION'!E195)","v":""},{"$f":"IF('MATRIZ-PÉRDIDA OPORTUNIDAD'!BB39='MATRIZ-PÉRDIDA OPORTUNIDAD'!BB$2,CONCATENATE($B41,\"(\",'MATRIZ-PÉRDIDA OPORTUNIDAD'!BB$2,\")\"),'MATRIZ-PÉRDIDA OPORTUNIDAD'!BB39)","v":""},{"$f":"IF('TABLA DE DECISION'!G195='TABLA DE DECISION'!G$157,CONCATENATE($B41,\"(\",'TABLA DE DECISION'!G$157,\")\"),'TABLA DE DECISION'!G195)","v":""},{"$f":"IF('TABLA DE DECISION'!H195='TABLA DE DECISION'!H$157,CONCATENATE($B41,\"(\",'TABLA DE DECISION'!H$157,\")\"),'TABLA DE DECISION'!H195)","v":""},{"$f":"IF('TABLA DE DECISION'!I195='TABLA DE DECISION'!I$157,CONCATENATE($B41,\"(\",'TABLA DE DECISION'!I$157,\")\"),'TABLA DE DECISION'!I195)","v":""},{"$f":"IF('TABLA DE DECISION'!J195='TABLA DE DECISION'!J$157,CONCATENATE($B41,\"(\",'TABLA DE DECISION'!J$157,\")\"),'TABLA DE DECISION'!J195)","v":""},{"$f":"IF('TABLA DE DECISION'!K195='TABLA DE DECISION'!K$157,CONCATENATE($B41,\"(\",'TABLA DE DECISION'!K$157,\")\"),'TABLA DE DECISION'!K195)","v":""},{"$f":"IF('TABLA DE DECISION'!L195='TABLA DE DECISION'!L$157,CONCATENATE($B41,\"(\",'TABLA DE DECISION'!L$157,\")\"),'TABLA DE DECISION'!L195)","v":""},{"$f":"IF('TABLA DE DECISION'!M195='TABLA DE DECISION'!M$157,CONCATENATE($B41,\"(\",'TABLA DE DECISION'!M$157,\")\"),'TABLA DE DECISION'!M195)","v":""},{"$f":"IF('TABLA DE DECISION'!N195='TABLA DE DECISION'!N$157,CONCATENATE($B41,\"(\",'TABLA DE DECISION'!N$157,\")\"),'TABLA DE DECISION'!N195)","v":""},{"$f":"IF('TABLA DE DECISION'!O195='TABLA DE DECISION'!O$157,CONCATENATE($B41,\"(\",'TABLA DE DECISION'!O$157,\")\"),'TABLA DE DECISION'!O195)","v":""},{"$f":"IF('TABLA DE DECISION'!P195='TABLA DE DECISION'!P$157,CONCATENATE($B41,\"(\",'TABLA DE DECISION'!P$157,\")\"),'TABLA DE DECISION'!P195)","v":""},{"$f":"IF('TABLA DE DECISION'!Q195='TABLA DE DECISION'!Q$157,CONCATENATE($B41,\"(\",'TABLA DE DECISION'!Q$157,\")\"),'TABLA DE DECISION'!Q195)","v":""},{"$f":"IF('TABLA DE DECISION'!R195='TABLA DE DECISION'!R$157,CONCATENATE($B41,\"(\",'TABLA DE DECISION'!R$157,\")\"),'TABLA DE DECISION'!R195)","v":""},{"$f":"IF('TABLA DE DECISION'!S195='TABLA DE DECISION'!S$157,CONCATENATE($B41,\"(\",'TABLA DE DECISION'!S$157,\")\"),'TABLA DE DECISION'!S195)","v":""},{"$f":"IF('TABLA DE DECISION'!T195='TABLA DE DECISION'!T$157,CONCATENATE($B41,\"(\",'TABLA DE DECISION'!T$157,\")\"),'TABLA DE DECISION'!T195)","v":""},{"$f":"IF('TABLA DE DECISION'!U195='TABLA DE DECISION'!U$157,CONCATENATE($B41,\"(\",'TABLA DE DECISION'!U$157,\")\"),'TABLA DE DECISION'!U195)","v":""},{"$f":"IF('TABLA DE DECISION'!V195='TABLA DE DECISION'!V$157,CONCATENATE($B41,\"(\",'TABLA DE DECISION'!V$157,\")\"),'TABLA DE DECISION'!V195)","v":""},{"$f":"IF('TABLA DE DECISION'!W195='TABLA DE DECISION'!W$157,CONCATENATE($B41,\"(\",'TABLA DE DECISION'!W$157,\")\"),'TABLA DE DECISION'!W195)","v":""},{"$f":"IF('TABLA DE DECISION'!X195='TABLA DE DECISION'!X$157,CONCATENATE($B41,\"(\",'TABLA DE DECISION'!X$157,\")\"),'TABLA DE DECISION'!X195)","v":""},{"$f":"IF('TABLA DE DECISION'!Y195='TABLA DE DECISION'!Y$157,CONCATENATE($B41,\"(\",'TABLA DE DECISION'!Y$157,\")\"),'TABLA DE DECISION'!Y195)","v":""},{"$f":"IF('TABLA DE DECISION'!Z195='TABLA DE DECISION'!Z$157,CONCATENATE($B41,\"(\",'TABLA DE DECISION'!Z$157,\")\"),'TABLA DE DECISION'!Z195)","v":""},{"$f":"IF('TABLA DE DECISION'!AA195='TABLA DE DECISION'!AA$157,CONCATENATE($B41,\"(\",'TABLA DE DECISION'!AA$157,\")\"),'TABLA DE DECISION'!AA195)","v":""},{"$f":"IF('TABLA DE DECISION'!AB195='TABLA DE DECISION'!AB$157,CONCATENATE($B41,\"(\",'TABLA DE DECISION'!AB$157,\")\"),'TABLA DE DECISION'!AB195)","v":""},{"$f":"IF('TABLA DE DECISION'!AC195='TABLA DE DECISION'!AC$157,CONCATENATE($B41,\"(\",'TABLA DE DECISION'!AC$157,\")\"),'TABLA DE DECISION'!AC195)","v":""},{"$f":"IF('TABLA DE DECISION'!AD195='TABLA DE DECISION'!AD$157,CONCATENATE($B41,\"(\",'TABLA DE DECISION'!AD$157,\")\"),'TABLA DE DECISION'!AD195)","v":""},{"$f":"IF('TABLA DE DECISION'!AE195='TABLA DE DECISION'!AE$157,CONCATENATE($B41,\"(\",'TABLA DE DECISION'!AE$157,\")\"),'TABLA DE DECISION'!AE195)","v":""},{"$f":"IF('TABLA DE DECISION'!AF195='TABLA DE DECISION'!AF$157,CONCATENATE($B41,\"(\",'TABLA DE DECISION'!AF$157,\")\"),'TABLA DE DECISION'!AF195)","v":""},{"$f":"IF('TABLA DE DECISION'!AG195='TABLA DE DECISION'!AG$157,CONCATENATE($B41,\"(\",'TABLA DE DECISION'!AG$157,\")\"),'TABLA DE DECISION'!AG195)","v":""},{"$f":"IF('TABLA DE DECISION'!AH195='TABLA DE DECISION'!AH$157,CONCATENATE($B41,\"(\",'TABLA DE DECISION'!AH$157,\")\"),'TABLA DE DECISION'!AH195)","v":""},{"$f":"IF('TABLA DE DECISION'!AI195='TABLA DE DECISION'!AI$157,CONCATENATE($B41,\"(\",'TABLA DE DECISION'!AI$157,\")\"),'TABLA DE DECISION'!AI195)","v":""},{"$f":"IF('TABLA DE DECISION'!AJ195='TABLA DE DECISION'!AJ$157,CONCATENATE($B41,\"(\",'TABLA DE DECISION'!AJ$157,\")\"),'TABLA DE DECISION'!AJ195)","v":""},{"$f":"IF('TABLA DE DECISION'!AK195='TABLA DE DECISION'!AK$157,CONCATENATE($B41,\"(\",'TABLA DE DECISION'!AK$157,\")\"),'TABLA DE DECISION'!AK195)","v":""},{"$f":"IF('TABLA DE DECISION'!AL195='TABLA DE DECISION'!AL$157,CONCATENATE($B41,\"(\",'TABLA DE DECISION'!AL$157,\")\"),'TABLA DE DECISION'!AL195)","v":""},{"$f":"IF('TABLA DE DECISION'!AM195='TABLA DE DECISION'!AM$157,CONCATENATE($B41,\"(\",'TABLA DE DECISION'!AM$157,\")\"),'TABLA DE DECISION'!AM195)","v":""},{"$f":"IF('TABLA DE DECISION'!AN195='TABLA DE DECISION'!AN$157,CONCATENATE($B41,\"(\",'TABLA DE DECISION'!AN$157,\")\"),'TABLA DE DECISION'!AN195)","v":""},{"$f":"IF('TABLA DE DECISION'!AO195='TABLA DE DECISION'!AO$157,CONCATENATE($B41,\"(\",'TABLA DE DECISION'!AO$157,\")\"),'TABLA DE DECISION'!AO195)","v":""},{"$f":"IF('TABLA DE DECISION'!AP195='TABLA DE DECISION'!AP$157,CONCATENATE($B41,\"(\",'TABLA DE DECISION'!AP$157,\")\"),'TABLA DE DECISION'!AP195)","v":""},{"$f":"IF('TABLA DE DECISION'!AQ195='TABLA DE DECISION'!AQ$157,CONCATENATE($B41,\"(\",'TABLA DE DECISION'!AQ$157,\")\"),'TABLA DE DECISION'!AQ195)","v":""},{"$f":"IF('TABLA DE DECISION'!AR195='TABLA DE DECISION'!AR$157,CONCATENATE($B41,\"(\",'TABLA DE DECISION'!AR$157,\")\"),'TABLA DE DECISION'!AR195)","v":""},{"$f":"IF('TABLA DE DECISION'!AS195='TABLA DE DECISION'!AS$157,CONCATENATE($B41,\"(\",'TABLA DE DECISION'!AS$157,\")\"),'TABLA DE DECISION'!AS195)","v":""},{"$f":"IF('TABLA DE DECISION'!AT195='TABLA DE DECISION'!AT$157,CONCATENATE($B41,\"(\",'TABLA DE DECISION'!AT$157,\")\"),'TABLA DE DECISION'!AT195)","v":""},{"$f":"IF('TABLA DE DECISION'!AU195='TABLA DE DECISION'!AU$157,CONCATENATE($B41,\"(\",'TABLA DE DECISION'!AU$157,\")\"),'TABLA DE DECISION'!AU195)","v":""},{"$f":"IF('TABLA DE DECISION'!AV195='TABLA DE DECISION'!AV$157,CONCATENATE($B41,\"(\",'TABLA DE DECISION'!AV$157,\")\"),'TABLA DE DECISION'!AV195)","v":""},{"$f":"IF('TABLA DE DECISION'!AW195='TABLA DE DECISION'!AW$157,CONCATENATE($B41,\"(\",'TABLA DE DECISION'!AW$157,\")\"),'TABLA DE DECISION'!AW195)","v":""},{"$f":"IF('TABLA DE DECISION'!AX195='TABLA DE DECISION'!AX$157,CONCATENATE($B41,\"(\",'TABLA DE DECISION'!AX$157,\")\"),'TABLA DE DECISION'!AX195)","v":""},{"$f":"IF('TABLA DE DECISION'!AY195='TABLA DE DECISION'!AY$157,CONCATENATE($B41,\"(\",'TABLA DE DECISION'!AY$157,\")\"),'TABLA DE DECISION'!AY195)","v":""},{"$f":"IF('TABLA DE DECISION'!AZ195='TABLA DE DECISION'!AZ$157,CONCATENATE($B41,\"(\",'TABLA DE DECISION'!AZ$157,\")\"),'TABLA DE DECISION'!AZ195)","v":""},{"$f":"IF('TABLA DE DECISION'!BA195='TABLA DE DECISION'!BA$157,CONCATENATE($B41,\"(\",'TABLA DE DECISION'!BA$157,\")\"),'TABLA DE DECISION'!BA195)","v":""},{"$f":"IF('TABLA DE DECISION'!BB195='TABLA DE DECISION'!BB$157,CONCATENATE($B41,\"(\",'TABLA DE DECISION'!BB$157,\")\"),'TABLA DE DECISION'!BB195)","v":""},{"$f":"IF('TABLA DE DECISION'!BC195='TABLA DE DECISION'!BC$157,CONCATENATE($B41,\"(\",'TABLA DE DECISION'!BC$157,\")\"),'TABLA DE DECISION'!BC195)","v":""},{"$f":"IF('TABLA DE DECISION'!BD195='TABLA DE DECISION'!BD$157,CONCATENATE($B41,\"(\",'TABLA DE DECISION'!BD$157,\")\"),'TABLA DE DECISION'!BD195)","v":""}]
[{"$f":"IF('TABLA DE DECISION'!BF196=\"\",\"\",'TABLA DE DECISION'!BF196)","v":""},{"$f":"'TABLA DE DECISION'!BG196","v":"a38"},{"$f":"IF('TABLA DE DECISION'!A196='TABLA DE DECISION'!A$157,CONCATENATE($B42,\"(\",'TABLA DE DECISION'!A$157,\")\"),'TABLA DE DECISION'!A196)","v":""},{"$f":"IF('TABLA DE DECISION'!B196='TABLA DE DECISION'!B$157,CONCATENATE($B42,\"(\",'TABLA DE DECISION'!B$157,\")\"),'TABLA DE DECISION'!B196)","v":""},{"$f":"IF('TABLA DE DECISION'!C196='TABLA DE DECISION'!C$157,CONCATENATE($B42,\"(\",'TABLA DE DECISION'!C$157,\")\"),'TABLA DE DECISION'!C196)","v":""},{"$f":"IF('TABLA DE DECISION'!D196='TABLA DE DECISION'!D$157,CONCATENATE($B42,\"(\",'TABLA DE DECISION'!D$157,\")\"),'TABLA DE DECISION'!D196)","v":""},{"$f":"IF('TABLA DE DECISION'!E196='TABLA DE DECISION'!E$157,CONCATENATE($B42,\"(\",'TABLA DE DECISION'!E$157,\")\"),'TABLA DE DECISION'!E196)","v":""},{"$f":"IF('MATRIZ-PÉRDIDA OPORTUNIDAD'!BB40='MATRIZ-PÉRDIDA OPORTUNIDAD'!BB$2,CONCATENATE($B42,\"(\",'MATRIZ-PÉRDIDA OPORTUNIDAD'!BB$2,\")\"),'MATRIZ-PÉRDIDA OPORTUNIDAD'!BB40)","v":""},{"$f":"IF('TABLA DE DECISION'!G196='TABLA DE DECISION'!G$157,CONCATENATE($B42,\"(\",'TABLA DE DECISION'!G$157,\")\"),'TABLA DE DECISION'!G196)","v":""},{"$f":"IF('TABLA DE DECISION'!H196='TABLA DE DECISION'!H$157,CONCATENATE($B42,\"(\",'TABLA DE DECISION'!H$157,\")\"),'TABLA DE DECISION'!H196)","v":""},{"$f":"IF('TABLA DE DECISION'!I196='TABLA DE DECISION'!I$157,CONCATENATE($B42,\"(\",'TABLA DE DECISION'!I$157,\")\"),'TABLA DE DECISION'!I196)","v":""},{"$f":"IF('TABLA DE DECISION'!J196='TABLA DE DECISION'!J$157,CONCATENATE($B42,\"(\",'TABLA DE DECISION'!J$157,\")\"),'TABLA DE DECISION'!J196)","v":""},{"$f":"IF('TABLA DE DECISION'!K196='TABLA DE DECISION'!K$157,CONCATENATE($B42,\"(\",'TABLA DE DECISION'!K$157,\")\"),'TABLA DE DECISION'!K196)","v":""},{"$f":"IF('TABLA DE DECISION'!L196='TABLA DE DECISION'!L$157,CONCATENATE($B42,\"(\",'TABLA DE DECISION'!L$157,\")\"),'TABLA DE DECISION'!L196)","v":""},{"$f":"IF('TABLA DE DECISION'!M196='TABLA DE DECISION'!M$157,CONCATENATE($B42,\"(\",'TABLA DE DECISION'!M$157,\")\"),'TABLA DE DECISION'!M196)","v":""},{"$f":"IF('TABLA DE DECISION'!N196='TABLA DE DECISION'!N$157,CONCATENATE($B42,\"(\",'TABLA DE DECISION'!N$157,\")\"),'TABLA DE DECISION'!N196)","v":""},{"$f":"IF('TABLA DE DECISION'!O196='TABLA DE DECISION'!O$157,CONCATENATE($B42,\"(\",'TABLA DE DECISION'!O$157,\")\"),'TABLA DE DECISION'!O196)","v":""},{"$f":"IF('TABLA DE DECISION'!P196='TABLA DE DECISION'!P$157,CONCATENATE($B42,\"(\",'TABLA DE DECISION'!P$157,\")\"),'TABLA DE DECISION'!P196)","v":""},{"$f":"IF('TABLA DE DECISION'!Q196='TABLA DE DECISION'!Q$157,CONCATENATE($B42,\"(\",'TABLA DE DECISION'!Q$157,\")\"),'TABLA DE DECISION'!Q196)","v":""},{"$f":"IF('TABLA DE DECISION'!R196='TABLA DE DECISION'!R$157,CONCATENATE($B42,\"(\",'TABLA DE DECISION'!R$157,\")\"),'TABLA DE DECISION'!R196)","v":""},{"$f":"IF('TABLA DE DECISION'!S196='TABLA DE DECISION'!S$157,CONCATENATE($B42,\"(\",'TABLA DE DECISION'!S$157,\")\"),'TABLA DE DECISION'!S196)","v":""},{"$f":"IF('TABLA DE DECISION'!T196='TABLA DE DECISION'!T$157,CONCATENATE($B42,\"(\",'TABLA DE DECISION'!T$157,\")\"),'TABLA DE DECISION'!T196)","v":""},{"$f":"IF('TABLA DE DECISION'!U196='TABLA DE DECISION'!U$157,CONCATENATE($B42,\"(\",'TABLA DE DECISION'!U$157,\")\"),'TABLA DE DECISION'!U196)","v":""},{"$f":"IF('TABLA DE DECISION'!V196='TABLA DE DECISION'!V$157,CONCATENATE($B42,\"(\",'TABLA DE DECISION'!V$157,\")\"),'TABLA DE DECISION'!V196)","v":""},{"$f":"IF('TABLA DE DECISION'!W196='TABLA DE DECISION'!W$157,CONCATENATE($B42,\"(\",'TABLA DE DECISION'!W$157,\")\"),'TABLA DE DECISION'!W196)","v":""},{"$f":"IF('TABLA DE DECISION'!X196='TABLA DE DECISION'!X$157,CONCATENATE($B42,\"(\",'TABLA DE DECISION'!X$157,\")\"),'TABLA DE DECISION'!X196)","v":""},{"$f":"IF('TABLA DE DECISION'!Y196='TABLA DE DECISION'!Y$157,CONCATENATE($B42,\"(\",'TABLA DE DECISION'!Y$157,\")\"),'TABLA DE DECISION'!Y196)","v":""},{"$f":"IF('TABLA DE DECISION'!Z196='TABLA DE DECISION'!Z$157,CONCATENATE($B42,\"(\",'TABLA DE DECISION'!Z$157,\")\"),'TABLA DE DECISION'!Z196)","v":""},{"$f":"IF('TABLA DE DECISION'!AA196='TABLA DE DECISION'!AA$157,CONCATENATE($B42,\"(\",'TABLA DE DECISION'!AA$157,\")\"),'TABLA DE DECISION'!AA196)","v":""},{"$f":"IF('TABLA DE DECISION'!AB196='TABLA DE DECISION'!AB$157,CONCATENATE($B42,\"(\",'TABLA DE DECISION'!AB$157,\")\"),'TABLA DE DECISION'!AB196)","v":""},{"$f":"IF('TABLA DE DECISION'!AC196='TABLA DE DECISION'!AC$157,CONCATENATE($B42,\"(\",'TABLA DE DECISION'!AC$157,\")\"),'TABLA DE DECISION'!AC196)","v":""},{"$f":"IF('TABLA DE DECISION'!AD196='TABLA DE DECISION'!AD$157,CONCATENATE($B42,\"(\",'TABLA DE DECISION'!AD$157,\")\"),'TABLA DE DECISION'!AD196)","v":""},{"$f":"IF('TABLA DE DECISION'!AE196='TABLA DE DECISION'!AE$157,CONCATENATE($B42,\"(\",'TABLA DE DECISION'!AE$157,\")\"),'TABLA DE DECISION'!AE196)","v":""},{"$f":"IF('TABLA DE DECISION'!AF196='TABLA DE DECISION'!AF$157,CONCATENATE($B42,\"(\",'TABLA DE DECISION'!AF$157,\")\"),'TABLA DE DECISION'!AF196)","v":""},{"$f":"IF('TABLA DE DECISION'!AG196='TABLA DE DECISION'!AG$157,CONCATENATE($B42,\"(\",'TABLA DE DECISION'!AG$157,\")\"),'TABLA DE DECISION'!AG196)","v":""},{"$f":"IF('TABLA DE DECISION'!AH196='TABLA DE DECISION'!AH$157,CONCATENATE($B42,\"(\",'TABLA DE DECISION'!AH$157,\")\"),'TABLA DE DECISION'!AH196)","v":""},{"$f":"IF('TABLA DE DECISION'!AI196='TABLA DE DECISION'!AI$157,CONCATENATE($B42,\"(\",'TABLA DE DECISION'!AI$157,\")\"),'TABLA DE DECISION'!AI196)","v":""},{"$f":"IF('TABLA DE DECISION'!AJ196='TABLA DE DECISION'!AJ$157,CONCATENATE($B42,\"(\",'TABLA DE DECISION'!AJ$157,\")\"),'TABLA DE DECISION'!AJ196)","v":""},{"$f":"IF('TABLA DE DECISION'!AK196='TABLA DE DECISION'!AK$157,CONCATENATE($B42,\"(\",'TABLA DE DECISION'!AK$157,\")\"),'TABLA DE DECISION'!AK196)","v":""},{"$f":"IF('TABLA DE DECISION'!AL196='TABLA DE DECISION'!AL$157,CONCATENATE($B42,\"(\",'TABLA DE DECISION'!AL$157,\")\"),'TABLA DE DECISION'!AL196)","v":""},{"$f":"IF('TABLA DE DECISION'!AM196='TABLA DE DECISION'!AM$157,CONCATENATE($B42,\"(\",'TABLA DE DECISION'!AM$157,\")\"),'TABLA DE DECISION'!AM196)","v":""},{"$f":"IF('TABLA DE DECISION'!AN196='TABLA DE DECISION'!AN$157,CONCATENATE($B42,\"(\",'TABLA DE DECISION'!AN$157,\")\"),'TABLA DE DECISION'!AN196)","v":""},{"$f":"IF('TABLA DE DECISION'!AO196='TABLA DE DECISION'!AO$157,CONCATENATE($B42,\"(\",'TABLA DE DECISION'!AO$157,\")\"),'TABLA DE DECISION'!AO196)","v":""},{"$f":"IF('TABLA DE DECISION'!AP196='TABLA DE DECISION'!AP$157,CONCATENATE($B42,\"(\",'TABLA DE DECISION'!AP$157,\")\"),'TABLA DE DECISION'!AP196)","v":""},{"$f":"IF('TABLA DE DECISION'!AQ196='TABLA DE DECISION'!AQ$157,CONCATENATE($B42,\"(\",'TABLA DE DECISION'!AQ$157,\")\"),'TABLA DE DECISION'!AQ196)","v":""},{"$f":"IF('TABLA DE DECISION'!AR196='TABLA DE DECISION'!AR$157,CONCATENATE($B42,\"(\",'TABLA DE DECISION'!AR$157,\")\"),'TABLA DE DECISION'!AR196)","v":""},{"$f":"IF('TABLA DE DECISION'!AS196='TABLA DE DECISION'!AS$157,CONCATENATE($B42,\"(\",'TABLA DE DECISION'!AS$157,\")\"),'TABLA DE DECISION'!AS196)","v":""},{"$f":"IF('TABLA DE DECISION'!AT196='TABLA DE DECISION'!AT$157,CONCATENATE($B42,\"(\",'TABLA DE DECISION'!AT$157,\")\"),'TABLA DE DECISION'!AT196)","v":""},{"$f":"IF('TABLA DE DECISION'!AU196='TABLA DE DECISION'!AU$157,CONCATENATE($B42,\"(\",'TABLA DE DECISION'!AU$157,\")\"),'TABLA DE DECISION'!AU196)","v":""},{"$f":"IF('TABLA DE DECISION'!AV196='TABLA DE DECISION'!AV$157,CONCATENATE($B42,\"(\",'TABLA DE DECISION'!AV$157,\")\"),'TABLA DE DECISION'!AV196)","v":""},{"$f":"IF('TABLA DE DECISION'!AW196='TABLA DE DECISION'!AW$157,CONCATENATE($B42,\"(\",'TABLA DE DECISION'!AW$157,\")\"),'TABLA DE DECISION'!AW196)","v":""},{"$f":"IF('TABLA DE DECISION'!AX196='TABLA DE DECISION'!AX$157,CONCATENATE($B42,\"(\",'TABLA DE DECISION'!AX$157,\")\"),'TABLA DE DECISION'!AX196)","v":""},{"$f":"IF('TABLA DE DECISION'!AY196='TABLA DE DECISION'!AY$157,CONCATENATE($B42,\"(\",'TABLA DE DECISION'!AY$157,\")\"),'TABLA DE DECISION'!AY196)","v":""},{"$f":"IF('TABLA DE DECISION'!AZ196='TABLA DE DECISION'!AZ$157,CONCATENATE($B42,\"(\",'TABLA DE DECISION'!AZ$157,\")\"),'TABLA DE DECISION'!AZ196)","v":""},{"$f":"IF('TABLA DE DECISION'!BA196='TABLA DE DECISION'!BA$157,CONCATENATE($B42,\"(\",'TABLA DE DECISION'!BA$157,\")\"),'TABLA DE DECISION'!BA196)","v":""},{"$f":"IF('TABLA DE DECISION'!BB196='TABLA DE DECISION'!BB$157,CONCATENATE($B42,\"(\",'TABLA DE DECISION'!BB$157,\")\"),'TABLA DE DECISION'!BB196)","v":""},{"$f":"IF('TABLA DE DECISION'!BC196='TABLA DE DECISION'!BC$157,CONCATENATE($B42,\"(\",'TABLA DE DECISION'!BC$157,\")\"),'TABLA DE DECISION'!BC196)","v":""},{"$f":"IF('TABLA DE DECISION'!BD196='TABLA DE DECISION'!BD$157,CONCATENATE($B42,\"(\",'TABLA DE DECISION'!BD$157,\")\"),'TABLA DE DECISION'!BD196)","v":""}]
[{"$f":"IF('TABLA DE DECISION'!BF197=\"\",\"\",'TABLA DE DECISION'!BF197)","v":""},{"$f":"'TABLA DE DECISION'!BG197","v":"a39"},{"$f":"IF('TABLA DE DECISION'!A197='TABLA DE DECISION'!A$157,CONCATENATE($B43,\"(\",'TABLA DE DECISION'!A$157,\")\"),'TABLA DE DECISION'!A197)","v":""},{"$f":"IF('TABLA DE DECISION'!B197='TABLA DE DECISION'!B$157,CONCATENATE($B43,\"(\",'TABLA DE DECISION'!B$157,\")\"),'TABLA DE DECISION'!B197)","v":""},{"$f":"IF('TABLA DE DECISION'!C197='TABLA DE DECISION'!C$157,CONCATENATE($B43,\"(\",'TABLA DE DECISION'!C$157,\")\"),'TABLA DE DECISION'!C197)","v":""},{"$f":"IF('TABLA DE DECISION'!D197='TABLA DE DECISION'!D$157,CONCATENATE($B43,\"(\",'TABLA DE DECISION'!D$157,\")\"),'TABLA DE DECISION'!D197)","v":""},{"$f":"IF('TABLA DE DECISION'!E197='TABLA DE DECISION'!E$157,CONCATENATE($B43,\"(\",'TABLA DE DECISION'!E$157,\")\"),'TABLA DE DECISION'!E197)","v":""},{"$f":"IF('MATRIZ-PÉRDIDA OPORTUNIDAD'!BB41='MATRIZ-PÉRDIDA OPORTUNIDAD'!BB$2,CONCATENATE($B43,\"(\",'MATRIZ-PÉRDIDA OPORTUNIDAD'!BB$2,\")\"),'MATRIZ-PÉRDIDA OPORTUNIDAD'!BB41)","v":""},{"$f":"IF('TABLA DE DECISION'!G197='TABLA DE DECISION'!G$157,CONCATENATE($B43,\"(\",'TABLA DE DECISION'!G$157,\")\"),'TABLA DE DECISION'!G197)","v":""},{"$f":"IF('TABLA DE DECISION'!H197='TABLA DE DECISION'!H$157,CONCATENATE($B43,\"(\",'TABLA DE DECISION'!H$157,\")\"),'TABLA DE DECISION'!H197)","v":""},{"$f":"IF('TABLA DE DECISION'!I197='TABLA DE DECISION'!I$157,CONCATENATE($B43,\"(\",'TABLA DE DECISION'!I$157,\")\"),'TABLA DE DECISION'!I197)","v":""},{"$f":"IF('TABLA DE DECISION'!J197='TABLA DE DECISION'!J$157,CONCATENATE($B43,\"(\",'TABLA DE DECISION'!J$157,\")\"),'TABLA DE DECISION'!J197)","v":""},{"$f":"IF('TABLA DE DECISION'!K197='TABLA DE DECISION'!K$157,CONCATENATE($B43,\"(\",'TABLA DE DECISION'!K$157,\")\"),'TABLA DE DECISION'!K197)","v":""},{"$f":"IF('TABLA DE DECISION'!L197='TABLA DE DECISION'!L$157,CONCATENATE($B43,\"(\",'TABLA DE DECISION'!L$157,\")\"),'TABLA DE DECISION'!L197)","v":""},{"$f":"IF('TABLA DE DECISION'!M197='TABLA DE DECISION'!M$157,CONCATENATE($B43,\"(\",'TABLA DE DECISION'!M$157,\")\"),'TABLA DE DECISION'!M197)","v":""},{"$f":"IF('TABLA DE DECISION'!N197='TABLA DE DECISION'!N$157,CONCATENATE($B43,\"(\",'TABLA DE DECISION'!N$157,\")\"),'TABLA DE DECISION'!N197)","v":""},{"$f":"IF('TABLA DE DECISION'!O197='TABLA DE DECISION'!O$157,CONCATENATE($B43,\"(\",'TABLA DE DECISION'!O$157,\")\"),'TABLA DE DECISION'!O197)","v":""},{"$f":"IF('TABLA DE DECISION'!P197='TABLA DE DECISION'!P$157,CONCATENATE($B43,\"(\",'TABLA DE DECISION'!P$157,\")\"),'TABLA DE DECISION'!P197)","v":""},{"$f":"IF('TABLA DE DECISION'!Q197='TABLA DE DECISION'!Q$157,CONCATENATE($B43,\"(\",'TABLA DE DECISION'!Q$157,\")\"),'TABLA DE DECISION'!Q197)","v":""},{"$f":"IF('TABLA DE DECISION'!R197='TABLA DE DECISION'!R$157,CONCATENATE($B43,\"(\",'TABLA DE DECISION'!R$157,\")\"),'TABLA DE DECISION'!R197)","v":""},{"$f":"IF('TABLA DE DECISION'!S197='TABLA DE DECISION'!S$157,CONCATENATE($B43,\"(\",'TABLA DE DECISION'!S$157,\")\"),'TABLA DE DECISION'!S197)","v":""},{"$f":"IF('TABLA DE DECISION'!T197='TABLA DE DECISION'!T$157,CONCATENATE($B43,\"(\",'TABLA DE DECISION'!T$157,\")\"),'TABLA DE DECISION'!T197)","v":""},{"$f":"IF('TABLA DE DECISION'!U197='TABLA DE DECISION'!U$157,CONCATENATE($B43,\"(\",'TABLA DE DECISION'!U$157,\")\"),'TABLA DE DECISION'!U197)","v":""},{"$f":"IF('TABLA DE DECISION'!V197='TABLA DE DECISION'!V$157,CONCATENATE($B43,\"(\",'TABLA DE DECISION'!V$157,\")\"),'TABLA DE DECISION'!V197)","v":""},{"$f":"IF('TABLA DE DECISION'!W197='TABLA DE DECISION'!W$157,CONCATENATE($B43,\"(\",'TABLA DE DECISION'!W$157,\")\"),'TABLA DE DECISION'!W197)","v":""},{"$f":"IF('TABLA DE DECISION'!X197='TABLA DE DECISION'!X$157,CONCATENATE($B43,\"(\",'TABLA DE DECISION'!X$157,\")\"),'TABLA DE DECISION'!X197)","v":""},{"$f":"IF('TABLA DE DECISION'!Y197='TABLA DE DECISION'!Y$157,CONCATENATE($B43,\"(\",'TABLA DE DECISION'!Y$157,\")\"),'TABLA DE DECISION'!Y197)","v":""},{"$f":"IF('TABLA DE DECISION'!Z197='TABLA DE DECISION'!Z$157,CONCATENATE($B43,\"(\",'TABLA DE DECISION'!Z$157,\")\"),'TABLA DE DECISION'!Z197)","v":""},{"$f":"IF('TABLA DE DECISION'!AA197='TABLA DE DECISION'!AA$157,CONCATENATE($B43,\"(\",'TABLA DE DECISION'!AA$157,\")\"),'TABLA DE DECISION'!AA197)","v":""},{"$f":"IF('TABLA DE DECISION'!AB197='TABLA DE DECISION'!AB$157,CONCATENATE($B43,\"(\",'TABLA DE DECISION'!AB$157,\")\"),'TABLA DE DECISION'!AB197)","v":""},{"$f":"IF('TABLA DE DECISION'!AC197='TABLA DE DECISION'!AC$157,CONCATENATE($B43,\"(\",'TABLA DE DECISION'!AC$157,\")\"),'TABLA DE DECISION'!AC197)","v":""},{"$f":"IF('TABLA DE DECISION'!AD197='TABLA DE DECISION'!AD$157,CONCATENATE($B43,\"(\",'TABLA DE DECISION'!AD$157,\")\"),'TABLA DE DECISION'!AD197)","v":""},{"$f":"IF('TABLA DE DECISION'!AE197='TABLA DE DECISION'!AE$157,CONCATENATE($B43,\"(\",'TABLA DE DECISION'!AE$157,\")\"),'TABLA DE DECISION'!AE197)","v":""},{"$f":"IF('TABLA DE DECISION'!AF197='TABLA DE DECISION'!AF$157,CONCATENATE($B43,\"(\",'TABLA DE DECISION'!AF$157,\")\"),'TABLA DE DECISION'!AF197)","v":""},{"$f":"IF('TABLA DE DECISION'!AG197='TABLA DE DECISION'!AG$157,CONCATENATE($B43,\"(\",'TABLA DE DECISION'!AG$157,\")\"),'TABLA DE DECISION'!AG197)","v":""},{"$f":"IF('TABLA DE DECISION'!AH197='TABLA DE DECISION'!AH$157,CONCATENATE($B43,\"(\",'TABLA DE DECISION'!AH$157,\")\"),'TABLA DE DECISION'!AH197)","v":""},{"$f":"IF('TABLA DE DECISION'!AI197='TABLA DE DECISION'!AI$157,CONCATENATE($B43,\"(\",'TABLA DE DECISION'!AI$157,\")\"),'TABLA DE DECISION'!AI197)","v":""},{"$f":"IF('TABLA DE DECISION'!AJ197='TABLA DE DECISION'!AJ$157,CONCATENATE($B43,\"(\",'TABLA DE DECISION'!AJ$157,\")\"),'TABLA DE DECISION'!AJ197)","v":""},{"$f":"IF('TABLA DE DECISION'!AK197='TABLA DE DECISION'!AK$157,CONCATENATE($B43,\"(\",'TABLA DE DECISION'!AK$157,\")\"),'TABLA DE DECISION'!AK197)","v":""},{"$f":"IF('TABLA DE DECISION'!AL197='TABLA DE DECISION'!AL$157,CONCATENATE($B43,\"(\",'TABLA DE DECISION'!AL$157,\")\"),'TABLA DE DECISION'!AL197)","v":""},{"$f":"IF('TABLA DE DECISION'!AM197='TABLA DE DECISION'!AM$157,CONCATENATE($B43,\"(\",'TABLA DE DECISION'!AM$157,\")\"),'TABLA DE DECISION'!AM197)","v":""},{"$f":"IF('TABLA DE DECISION'!AN197='TABLA DE DECISION'!AN$157,CONCATENATE($B43,\"(\",'TABLA DE DECISION'!AN$157,\")\"),'TABLA DE DECISION'!AN197)","v":""},{"$f":"IF('TABLA DE DECISION'!AO197='TABLA DE DECISION'!AO$157,CONCATENATE($B43,\"(\",'TABLA DE DECISION'!AO$157,\")\"),'TABLA DE DECISION'!AO197)","v":""},{"$f":"IF('TABLA DE DECISION'!AP197='TABLA DE DECISION'!AP$157,CONCATENATE($B43,\"(\",'TABLA DE DECISION'!AP$157,\")\"),'TABLA DE DECISION'!AP197)","v":""},{"$f":"IF('TABLA DE DECISION'!AQ197='TABLA DE DECISION'!AQ$157,CONCATENATE($B43,\"(\",'TABLA DE DECISION'!AQ$157,\")\"),'TABLA DE DECISION'!AQ197)","v":""},{"$f":"IF('TABLA DE DECISION'!AR197='TABLA DE DECISION'!AR$157,CONCATENATE($B43,\"(\",'TABLA DE DECISION'!AR$157,\")\"),'TABLA DE DECISION'!AR197)","v":""},{"$f":"IF('TABLA DE DECISION'!AS197='TABLA DE DECISION'!AS$157,CONCATENATE($B43,\"(\",'TABLA DE DECISION'!AS$157,\")\"),'TABLA DE DECISION'!AS197)","v":""},{"$f":"IF('TABLA DE DECISION'!AT197='TABLA DE DECISION'!AT$157,CONCATENATE($B43,\"(\",'TABLA DE DECISION'!AT$157,\")\"),'TABLA DE DECISION'!AT197)","v":""},{"$f":"IF('TABLA DE DECISION'!AU197='TABLA DE DECISION'!AU$157,CONCATENATE($B43,\"(\",'TABLA DE DECISION'!AU$157,\")\"),'TABLA DE DECISION'!AU197)","v":""},{"$f":"IF('TABLA DE DECISION'!AV197='TABLA DE DECISION'!AV$157,CONCATENATE($B43,\"(\",'TABLA DE DECISION'!AV$157,\")\"),'TABLA DE DECISION'!AV197)","v":""},{"$f":"IF('TABLA DE DECISION'!AW197='TABLA DE DECISION'!AW$157,CONCATENATE($B43,\"(\",'TABLA DE DECISION'!AW$157,\")\"),'TABLA DE DECISION'!AW197)","v":""},{"$f":"IF('TABLA DE DECISION'!AX197='TABLA DE DECISION'!AX$157,CONCATENATE($B43,\"(\",'TABLA DE DECISION'!AX$157,\")\"),'TABLA DE DECISION'!AX197)","v":""},{"$f":"IF('TABLA DE DECISION'!AY197='TABLA DE DECISION'!AY$157,CONCATENATE($B43,\"(\",'TABLA DE DECISION'!AY$157,\")\"),'TABLA DE DECISION'!AY197)","v":""},{"$f":"IF('TABLA DE DECISION'!AZ197='TABLA DE DECISION'!AZ$157,CONCATENATE($B43,\"(\",'TABLA DE DECISION'!AZ$157,\")\"),'TABLA DE DECISION'!AZ197)","v":""},{"$f":"IF('TABLA DE DECISION'!BA197='TABLA DE DECISION'!BA$157,CONCATENATE($B43,\"(\",'TABLA DE DECISION'!BA$157,\")\"),'TABLA DE DECISION'!BA197)","v":""},{"$f":"IF('TABLA DE DECISION'!BB197='TABLA DE DECISION'!BB$157,CONCATENATE($B43,\"(\",'TABLA DE DECISION'!BB$157,\")\"),'TABLA DE DECISION'!BB197)","v":""},{"$f":"IF('TABLA DE DECISION'!BC197='TABLA DE DECISION'!BC$157,CONCATENATE($B43,\"(\",'TABLA DE DECISION'!BC$157,\")\"),'TABLA DE DECISION'!BC197)","v":""},{"$f":"IF('TABLA DE DECISION'!BD197='TABLA DE DECISION'!BD$157,CONCATENATE($B43,\"(\",'TABLA DE DECISION'!BD$157,\")\"),'TABLA DE DECISION'!BD197)","v":""}]
[{"$f":"IF('TABLA DE DECISION'!BF198=\"\",\"\",'TABLA DE DECISION'!BF198)","v":""},{"$f":"'TABLA DE DECISION'!BG198","v":"a40"},{"$f":"IF('TABLA DE DECISION'!A198='TABLA DE DECISION'!A$157,CONCATENATE($B44,\"(\",'TABLA DE DECISION'!A$157,\")\"),'TABLA DE DECISION'!A198)","v":""},{"$f":"IF('TABLA DE DECISION'!B198='TABLA DE DECISION'!B$157,CONCATENATE($B44,\"(\",'TABLA DE DECISION'!B$157,\")\"),'TABLA DE DECISION'!B198)","v":""},{"$f":"IF('TABLA DE DECISION'!C198='TABLA DE DECISION'!C$157,CONCATENATE($B44,\"(\",'TABLA DE DECISION'!C$157,\")\"),'TABLA DE DECISION'!C198)","v":""},{"$f":"IF('TABLA DE DECISION'!D198='TABLA DE DECISION'!D$157,CONCATENATE($B44,\"(\",'TABLA DE DECISION'!D$157,\")\"),'TABLA DE DECISION'!D198)","v":""},{"$f":"IF('TABLA DE DECISION'!E198='TABLA DE DECISION'!E$157,CONCATENATE($B44,\"(\",'TABLA DE DECISION'!E$157,\")\"),'TABLA DE DECISION'!E198)","v":""},{"$f":"IF('MATRIZ-PÉRDIDA OPORTUNIDAD'!BB42='MATRIZ-PÉRDIDA OPORTUNIDAD'!BB$2,CONCATENATE($B44,\"(\",'MATRIZ-PÉRDIDA OPORTUNIDAD'!BB$2,\")\"),'MATRIZ-PÉRDIDA OPORTUNIDAD'!BB42)","v":""},{"$f":"IF('TABLA DE DECISION'!G198='TABLA DE DECISION'!G$157,CONCATENATE($B44,\"(\",'TABLA DE DECISION'!G$157,\")\"),'TABLA DE DECISION'!G198)","v":""},{"$f":"IF('TABLA DE DECISION'!H198='TABLA DE DECISION'!H$157,CONCATENATE($B44,\"(\",'TABLA DE DECISION'!H$157,\")\"),'TABLA DE DECISION'!H198)","v":""},{"$f":"IF('TABLA DE DECISION'!I198='TABLA DE DECISION'!I$157,CONCATENATE($B44,\"(\",'TABLA DE DECISION'!I$157,\")\"),'TABLA DE DECISION'!I198)","v":""},{"$f":"IF('TABLA DE DECISION'!J198='TABLA DE DECISION'!J$157,CONCATENATE($B44,\"(\",'TABLA DE DECISION'!J$157,\")\"),'TABLA DE DECISION'!J198)","v":""},{"$f":"IF('TABLA DE DECISION'!K198='TABLA DE DECISION'!K$157,CONCATENATE($B44,\"(\",'TABLA DE DECISION'!K$157,\")\"),'TABLA DE DECISION'!K198)","v":""},{"$f":"IF('TABLA DE DECISION'!L198='TABLA DE DECISION'!L$157,CONCATENATE($B44,\"(\",'TABLA DE DECISION'!L$157,\")\"),'TABLA DE DECISION'!L198)","v":""},{"$f":"IF('TABLA DE DECISION'!M198='TABLA DE DECISION'!M$157,CONCATENATE($B44,\"(\",'TABLA DE DECISION'!M$157,\")\"),'TABLA DE DECISION'!M198)","v":""},{"$f":"IF('TABLA DE DECISION'!N198='TABLA DE DECISION'!N$157,CONCATENATE($B44,\"(\",'TABLA DE DECISION'!N$157,\")\"),'TABLA DE DECISION'!N198)","v":""},{"$f":"IF('TABLA DE DECISION'!O198='TABLA DE DECISION'!O$157,CONCATENATE($B44,\"(\",'TABLA DE DECISION'!O$157,\")\"),'TABLA DE DECISION'!O198)","v":""},{"$f":"IF('TABLA DE DECISION'!P198='TABLA DE DECISION'!P$157,CONCATENATE($B44,\"(\",'TABLA DE DECISION'!P$157,\")\"),'TABLA DE DECISION'!P198)","v":""},{"$f":"IF('TABLA DE DECISION'!Q198='TABLA DE DECISION'!Q$157,CONCATENATE($B44,\"(\",'TABLA DE DECISION'!Q$157,\")\"),'TABLA DE DECISION'!Q198)","v":""},{"$f":"IF('TABLA DE DECISION'!R198='TABLA DE DECISION'!R$157,CONCATENATE($B44,\"(\",'TABLA DE DECISION'!R$157,\")\"),'TABLA DE DECISION'!R198)","v":""},{"$f":"IF('TABLA DE DECISION'!S198='TABLA DE DECISION'!S$157,CONCATENATE($B44,\"(\",'TABLA DE DECISION'!S$157,\")\"),'TABLA DE DECISION'!S198)","v":""},{"$f":"IF('TABLA DE DECISION'!T198='TABLA DE DECISION'!T$157,CONCATENATE($B44,\"(\",'TABLA DE DECISION'!T$157,\")\"),'TABLA DE DECISION'!T198)","v":""},{"$f":"IF('TABLA DE DECISION'!U198='TABLA DE DECISION'!U$157,CONCATENATE($B44,\"(\",'TABLA DE DECISION'!U$157,\")\"),'TABLA DE DECISION'!U198)","v":""},{"$f":"IF('TABLA DE DECISION'!V198='TABLA DE DECISION'!V$157,CONCATENATE($B44,\"(\",'TABLA DE DECISION'!V$157,\")\"),'TABLA DE DECISION'!V198)","v":""},{"$f":"IF('TABLA DE DECISION'!W198='TABLA DE DECISION'!W$157,CONCATENATE($B44,\"(\",'TABLA DE DECISION'!W$157,\")\"),'TABLA DE DECISION'!W198)","v":""},{"$f":"IF('TABLA DE DECISION'!X198='TABLA DE DECISION'!X$157,CONCATENATE($B44,\"(\",'TABLA DE DECISION'!X$157,\")\"),'TABLA DE DECISION'!X198)","v":""},{"$f":"IF('TABLA DE DECISION'!Y198='TABLA DE DECISION'!Y$157,CONCATENATE($B44,\"(\",'TABLA DE DECISION'!Y$157,\")\"),'TABLA DE DECISION'!Y198)","v":""},{"$f":"IF('TABLA DE DECISION'!Z198='TABLA DE DECISION'!Z$157,CONCATENATE($B44,\"(\",'TABLA DE DECISION'!Z$157,\")\"),'TABLA DE DECISION'!Z198)","v":""},{"$f":"IF('TABLA DE DECISION'!AA198='TABLA DE DECISION'!AA$157,CONCATENATE($B44,\"(\",'TABLA DE DECISION'!AA$157,\")\"),'TABLA DE DECISION'!AA198)","v":""},{"$f":"IF('TABLA DE DECISION'!AB198='TABLA DE DECISION'!AB$157,CONCATENATE($B44,\"(\",'TABLA DE DECISION'!AB$157,\")\"),'TABLA DE DECISION'!AB198)","v":""},{"$f":"IF('TABLA DE DECISION'!AC198='TABLA DE DECISION'!AC$157,CONCATENATE($B44,\"(\",'TABLA DE DECISION'!AC$157,\")\"),'TABLA DE DECISION'!AC198)","v":""},{"$f":"IF('TABLA DE DECISION'!AD198='TABLA DE DECISION'!AD$157,CONCATENATE($B44,\"(\",'TABLA DE DECISION'!AD$157,\")\"),'TABLA DE DECISION'!AD198)","v":""},{"$f":"IF('TABLA DE DECISION'!AE198='TABLA DE DECISION'!AE$157,CONCATENATE($B44,\"(\",'TABLA DE DECISION'!AE$157,\")\"),'TABLA DE DECISION'!AE198)","v":""},{"$f":"IF('TABLA DE DECISION'!AF198='TABLA DE DECISION'!AF$157,CONCATENATE($B44,\"(\",'TABLA DE DECISION'!AF$157,\")\"),'TABLA DE DECISION'!AF198)","v":""},{"$f":"IF('TABLA DE DECISION'!AG198='TABLA DE DECISION'!AG$157,CONCATENATE($B44,\"(\",'TABLA DE DECISION'!AG$157,\")\"),'TABLA DE DECISION'!AG198)","v":""},{"$f":"IF('TABLA DE DECISION'!AH198='TABLA DE DECISION'!AH$157,CONCATENATE($B44,\"(\",'TABLA DE DECISION'!AH$157,\")\"),'TABLA DE DECISION'!AH198)","v":""},{"$f":"IF('TABLA DE DECISION'!AI198='TABLA DE DECISION'!AI$157,CONCATENATE($B44,\"(\",'TABLA DE DECISION'!AI$157,\")\"),'TABLA DE DECISION'!AI198)","v":""},{"$f":"IF('TABLA DE DECISION'!AJ198='TABLA DE DECISION'!AJ$157,CONCATENATE($B44,\"(\",'TABLA DE DECISION'!AJ$157,\")\"),'TABLA DE DECISION'!AJ198)","v":""},{"$f":"IF('TABLA DE DECISION'!AK198='TABLA DE DECISION'!AK$157,CONCATENATE($B44,\"(\",'TABLA DE DECISION'!AK$157,\")\"),'TABLA DE DECISION'!AK198)","v":""},{"$f":"IF('TABLA DE DECISION'!AL198='TABLA DE DECISION'!AL$157,CONCATENATE($B44,\"(\",'TABLA DE DECISION'!AL$157,\")\"),'TABLA DE DECISION'!AL198)","v":""},{"$f":"IF('TABLA DE DECISION'!AM198='TABLA DE DECISION'!AM$157,CONCATENATE($B44,\"(\",'TABLA DE DECISION'!AM$157,\")\"),'TABLA DE DECISION'!AM198)","v":""},{"$f":"IF('TABLA DE DECISION'!AN198='TABLA DE DECISION'!AN$157,CONCATENATE($B44,\"(\",'TABLA DE DECISION'!AN$157,\")\"),'TABLA DE DECISION'!AN198)","v":""},{"$f":"IF('TABLA DE DECISION'!AO198='TABLA DE DECISION'!AO$157,CONCATENATE($B44,\"(\",'TABLA DE DECISION'!AO$157,\")\"),'TABLA DE DECISION'!AO198)","v":""},{"$f":"IF('TABLA DE DECISION'!AP198='TABLA DE DECISION'!AP$157,CONCATENATE($B44,\"(\",'TABLA DE DECISION'!AP$157,\")\"),'TABLA DE DECISION'!AP198)","v":""},{"$f":"IF('TABLA DE DECISION'!AQ198='TABLA DE DECISION'!AQ$157,CONCATENATE($B44,\"(\",'TABLA DE DECISION'!AQ$157,\")\"),'TABLA DE DECISION'!AQ198)","v":""},{"$f":"IF('TABLA DE DECISION'!AR198='TABLA DE DECISION'!AR$157,CONCATENATE($B44,\"(\",'TABLA DE DECISION'!AR$157,\")\"),'TABLA DE DECISION'!AR198)","v":""},{"$f":"IF('TABLA DE DECISION'!AS198='TABLA DE DECISION'!AS$157,CONCATENATE($B44,\"(\",'TABLA DE DECISION'!AS$157,\")\"),'TABLA DE DECISION'!AS198)","v":""},{"$f":"IF('TABLA DE DECISION'!AT198='TABLA DE DECISION'!AT$157,CONCATENATE($B44,\"(\",'TABLA DE DECISION'!AT$157,\")\"),'TABLA DE DECISION'!AT198)","v":""},{"$f":"IF('TABLA DE DECISION'!AU198='TABLA DE DECISION'!AU$157,CONCATENATE($B44,\"(\",'TABLA DE DECISION'!AU$157,\")\"),'TABLA DE DECISION'!AU198)","v":""},{"$f":"IF('TABLA DE DECISION'!AV198='TABLA DE DECISION'!AV$157,CONCATENATE($B44,\"(\",'TABLA DE DECISION'!AV$157,\")\"),'TABLA DE DECISION'!AV198)","v":""},{"$f":"IF('TABLA DE DECISION'!AW198='TABLA DE DECISION'!AW$157,CONCATENATE($B44,\"(\",'TABLA DE DECISION'!AW$157,\")\"),'TABLA DE DECISION'!AW198)","v":""},{"$f":"IF('TABLA DE DECISION'!AX198='TABLA DE DECISION'!AX$157,CONCATENATE($B44,\"(\",'TABLA DE DECISION'!AX$157,\")\"),'TABLA DE DECISION'!AX198)","v":""},{"$f":"IF('TABLA DE DECISION'!AY198='TABLA DE DECISION'!AY$157,CONCATENATE($B44,\"(\",'TABLA DE DECISION'!AY$157,\")\"),'TABLA DE DECISION'!AY198)","v":""},{"$f":"IF('TABLA DE DECISION'!AZ198='TABLA DE DECISION'!AZ$157,CONCATENATE($B44,\"(\",'TABLA DE DECISION'!AZ$157,\")\"),'TABLA DE DECISION'!AZ198)","v":""},{"$f":"IF('TABLA DE DECISION'!BA198='TABLA DE DECISION'!BA$157,CONCATENATE($B44,\"(\",'TABLA DE DECISION'!BA$157,\")\"),'TABLA DE DECISION'!BA198)","v":""},{"$f":"IF('TABLA DE DECISION'!BB198='TABLA DE DECISION'!BB$157,CONCATENATE($B44,\"(\",'TABLA DE DECISION'!BB$157,\")\"),'TABLA DE DECISION'!BB198)","v":""},{"$f":"IF('TABLA DE DECISION'!BC198='TABLA DE DECISION'!BC$157,CONCATENATE($B44,\"(\",'TABLA DE DECISION'!BC$157,\")\"),'TABLA DE DECISION'!BC198)","v":""},{"$f":"IF('TABLA DE DECISION'!BD198='TABLA DE DECISION'!BD$157,CONCATENATE($B44,\"(\",'TABLA DE DECISION'!BD$157,\")\"),'TABLA DE DECISION'!BD198)","v":""}]
[{"$f":"IF('TABLA DE DECISION'!BF199=\"\",\"\",'TABLA DE DECISION'!BF199)","v":""},{"$f":"'TABLA DE DECISION'!BG199","v":"a41"},{"$f":"IF('TABLA DE DECISION'!A199='TABLA DE DECISION'!A$157,CONCATENATE($B45,\"(\",'TABLA DE DECISION'!A$157,\")\"),'TABLA DE DECISION'!A199)","v":""},{"$f":"IF('TABLA DE DECISION'!B199='TABLA DE DECISION'!B$157,CONCATENATE($B45,\"(\",'TABLA DE DECISION'!B$157,\")\"),'TABLA DE DECISION'!B199)","v":""},{"$f":"IF('TABLA DE DECISION'!C199='TABLA DE DECISION'!C$157,CONCATENATE($B45,\"(\",'TABLA DE DECISION'!C$157,\")\"),'TABLA DE DECISION'!C199)","v":""},{"$f":"IF('TABLA DE DECISION'!D199='TABLA DE DECISION'!D$157,CONCATENATE($B45,\"(\",'TABLA DE DECISION'!D$157,\")\"),'TABLA DE DECISION'!D199)","v":""},{"$f":"IF('TABLA DE DECISION'!E199='TABLA DE DECISION'!E$157,CONCATENATE($B45,\"(\",'TABLA DE DECISION'!E$157,\")\"),'TABLA DE DECISION'!E199)","v":""},{"$f":"IF('MATRIZ-PÉRDIDA OPORTUNIDAD'!BB43='MATRIZ-PÉRDIDA OPORTUNIDAD'!BB$2,CONCATENATE($B45,\"(\",'MATRIZ-PÉRDIDA OPORTUNIDAD'!BB$2,\")\"),'MATRIZ-PÉRDIDA OPORTUNIDAD'!BB43)","v":""},{"$f":"IF('TABLA DE DECISION'!G199='TABLA DE DECISION'!G$157,CONCATENATE($B45,\"(\",'TABLA DE DECISION'!G$157,\")\"),'TABLA DE DECISION'!G199)","v":""},{"$f":"IF('TABLA DE DECISION'!H199='TABLA DE DECISION'!H$157,CONCATENATE($B45,\"(\",'TABLA DE DECISION'!H$157,\")\"),'TABLA DE DECISION'!H199)","v":""},{"$f":"IF('TABLA DE DECISION'!I199='TABLA DE DECISION'!I$157,CONCATENATE($B45,\"(\",'TABLA DE DECISION'!I$157,\")\"),'TABLA DE DECISION'!I199)","v":""},{"$f":"IF('TABLA DE DECISION'!J199='TABLA DE DECISION'!J$157,CONCATENATE($B45,\"(\",'TABLA DE DECISION'!J$157,\")\"),'TABLA DE DECISION'!J199)","v":""},{"$f":"IF('TABLA DE DECISION'!K199='TABLA DE DECISION'!K$157,CONCATENATE($B45,\"(\",'TABLA DE DECISION'!K$157,\")\"),'TABLA DE DECISION'!K199)","v":""},{"$f":"IF('TABLA DE DECISION'!L199='TABLA DE DECISION'!L$157,CONCATENATE($B45,\"(\",'TABLA DE DECISION'!L$157,\")\"),'TABLA DE DECISION'!L199)","v":""},{"$f":"IF('TABLA DE DECISION'!M199='TABLA DE DECISION'!M$157,CONCATENATE($B45,\"(\",'TABLA DE DECISION'!M$157,\")\"),'TABLA DE DECISION'!M199)","v":""},{"$f":"IF('TABLA DE DECISION'!N199='TABLA DE DECISION'!N$157,CONCATENATE($B45,\"(\",'TABLA DE DECISION'!N$157,\")\"),'TABLA DE DECISION'!N199)","v":""},{"$f":"IF('TABLA DE DECISION'!O199='TABLA DE DECISION'!O$157,CONCATENATE($B45,\"(\",'TABLA DE DECISION'!O$157,\")\"),'TABLA DE DECISION'!O199)","v":""},{"$f":"IF('TABLA DE DECISION'!P199='TABLA DE DECISION'!P$157,CONCATENATE($B45,\"(\",'TABLA DE DECISION'!P$157,\")\"),'TABLA DE DECISION'!P199)","v":""},{"$f":"IF('TABLA DE DECISION'!Q199='TABLA DE DECISION'!Q$157,CONCATENATE($B45,\"(\",'TABLA DE DECISION'!Q$157,\")\"),'TABLA DE DECISION'!Q199)","v":""},{"$f":"IF('TABLA DE DECISION'!R199='TABLA DE DECISION'!R$157,CONCATENATE($B45,\"(\",'TABLA DE DECISION'!R$157,\")\"),'TABLA DE DECISION'!R199)","v":""},{"$f":"IF('TABLA DE DECISION'!S199='TABLA DE DECISION'!S$157,CONCATENATE($B45,\"(\",'TABLA DE DECISION'!S$157,\")\"),'TABLA DE DECISION'!S199)","v":""},{"$f":"IF('TABLA DE DECISION'!T199='TABLA DE DECISION'!T$157,CONCATENATE($B45,\"(\",'TABLA DE DECISION'!T$157,\")\"),'TABLA DE DECISION'!T199)","v":""},{"$f":"IF('TABLA DE DECISION'!U199='TABLA DE DECISION'!U$157,CONCATENATE($B45,\"(\",'TABLA DE DECISION'!U$157,\")\"),'TABLA DE DECISION'!U199)","v":""},{"$f":"IF('TABLA DE DECISION'!V199='TABLA DE DECISION'!V$157,CONCATENATE($B45,\"(\",'TABLA DE DECISION'!V$157,\")\"),'TABLA DE DECISION'!V199)","v":""},{"$f":"IF('TABLA DE DECISION'!W199='TABLA DE DECISION'!W$157,CONCATENATE($B45,\"(\",'TABLA DE DECISION'!W$157,\")\"),'TABLA DE DECISION'!W199)","v":""},{"$f":"IF('TABLA DE DECISION'!X199='TABLA DE DECISION'!X$157,CONCATENATE($B45,\"(\",'TABLA DE DECISION'!X$157,\")\"),'TABLA DE DECISION'!X199)","v":""},{"$f":"IF('TABLA DE DECISION'!Y199='TABLA DE DECISION'!Y$157,CONCATENATE($B45,\"(\",'TABLA DE DECISION'!Y$157,\")\"),'TABLA DE DECISION'!Y199)","v":""},{"$f":"IF('TABLA DE DECISION'!Z199='TABLA DE DECISION'!Z$157,CONCATENATE($B45,\"(\",'TABLA DE DECISION'!Z$157,\")\"),'TABLA DE DECISION'!Z199)","v":""},{"$f":"IF('TABLA DE DECISION'!AA199='TABLA DE DECISION'!AA$157,CONCATENATE($B45,\"(\",'TABLA DE DECISION'!AA$157,\")\"),'TABLA DE DECISION'!AA199)","v":""},{"$f":"IF('TABLA DE DECISION'!AB199='TABLA DE DECISION'!AB$157,CONCATENATE($B45,\"(\",'TABLA DE DECISION'!AB$157,\")\"),'TABLA DE DECISION'!AB199)","v":""},{"$f":"IF('TABLA DE DECISION'!AC199='TABLA DE DECISION'!AC$157,CONCATENATE($B45,\"(\",'TABLA DE DECISION'!AC$157,\")\"),'TABLA DE DECISION'!AC199)","v":""},{"$f":"IF('TABLA DE DECISION'!AD199='TABLA DE DECISION'!AD$157,CONCATENATE($B45,\"(\",'TABLA DE DECISION'!AD$157,\")\"),'TABLA DE DECISION'!AD199)","v":""},{"$f":"IF('TABLA DE DECISION'!AE199='TABLA DE DECISION'!AE$157,CONCATENATE($B45,\"(\",'TABLA DE DECISION'!AE$157,\")\"),'TABLA DE DECISION'!AE199)","v":""},{"$f":"IF('TABLA DE DECISION'!AF199='TABLA DE DECISION'!AF$157,CONCATENATE($B45,\"(\",'TABLA DE DECISION'!AF$157,\")\"),'TABLA DE DECISION'!AF199)","v":""},{"$f":"IF('TABLA DE DECISION'!AG199='TABLA DE DECISION'!AG$157,CONCATENATE($B45,\"(\",'TABLA DE DECISION'!AG$157,\")\"),'TABLA DE DECISION'!AG199)","v":""},{"$f":"IF('TABLA DE DECISION'!AH199='TABLA DE DECISION'!AH$157,CONCATENATE($B45,\"(\",'TABLA DE DECISION'!AH$157,\")\"),'TABLA DE DECISION'!AH199)","v":""},{"$f":"IF('TABLA DE DECISION'!AI199='TABLA DE DECISION'!AI$157,CONCATENATE($B45,\"(\",'TABLA DE DECISION'!AI$157,\")\"),'TABLA DE DECISION'!AI199)","v":""},{"$f":"IF('TABLA DE DECISION'!AJ199='TABLA DE DECISION'!AJ$157,CONCATENATE($B45,\"(\",'TABLA DE DECISION'!AJ$157,\")\"),'TABLA DE DECISION'!AJ199)","v":""},{"$f":"IF('TABLA DE DECISION'!AK199='TABLA DE DECISION'!AK$157,CONCATENATE($B45,\"(\",'TABLA DE DECISION'!AK$157,\")\"),'TABLA DE DECISION'!AK199)","v":""},{"$f":"IF('TABLA DE DECISION'!AL199='TABLA DE DECISION'!AL$157,CONCATENATE($B45,\"(\",'TABLA DE DECISION'!AL$157,\")\"),'TABLA DE DECISION'!AL199)","v":""},{"$f":"IF('TABLA DE DECISION'!AM199='TABLA DE DECISION'!AM$157,CONCATENATE($B45,\"(\",'TABLA DE DECISION'!AM$157,\")\"),'TABLA DE DECISION'!AM199)","v":""},{"$f":"IF('TABLA DE DECISION'!AN199='TABLA DE DECISION'!AN$157,CONCATENATE($B45,\"(\",'TABLA DE DECISION'!AN$157,\")\"),'TABLA DE DECISION'!AN199)","v":""},{"$f":"IF('TABLA DE DECISION'!AO199='TABLA DE DECISION'!AO$157,CONCATENATE($B45,\"(\",'TABLA DE DECISION'!AO$157,\")\"),'TABLA DE DECISION'!AO199)","v":""},{"$f":"IF('TABLA DE DECISION'!AP199='TABLA DE DECISION'!AP$157,CONCATENATE($B45,\"(\",'TABLA DE DECISION'!AP$157,\")\"),'TABLA DE DECISION'!AP199)","v":""},{"$f":"IF('TABLA DE DECISION'!AQ199='TABLA DE DECISION'!AQ$157,CONCATENATE($B45,\"(\",'TABLA DE DECISION'!AQ$157,\")\"),'TABLA DE DECISION'!AQ199)","v":""},{"$f":"IF('TABLA DE DECISION'!AR199='TABLA DE DECISION'!AR$157,CONCATENATE($B45,\"(\",'TABLA DE DECISION'!AR$157,\")\"),'TABLA DE DECISION'!AR199)","v":""},{"$f":"IF('TABLA DE DECISION'!AS199='TABLA DE DECISION'!AS$157,CONCATENATE($B45,\"(\",'TABLA DE DECISION'!AS$157,\")\"),'TABLA DE DECISION'!AS199)","v":""},{"$f":"IF('TABLA DE DECISION'!AT199='TABLA DE DECISION'!AT$157,CONCATENATE($B45,\"(\",'TABLA DE DECISION'!AT$157,\")\"),'TABLA DE DECISION'!AT199)","v":""},{"$f":"IF('TABLA DE DECISION'!AU199='TABLA DE DECISION'!AU$157,CONCATENATE($B45,\"(\",'TABLA DE DECISION'!AU$157,\")\"),'TABLA DE DECISION'!AU199)","v":""},{"$f":"IF('TABLA DE DECISION'!AV199='TABLA DE DECISION'!AV$157,CONCATENATE($B45,\"(\",'TABLA DE DECISION'!AV$157,\")\"),'TABLA DE DECISION'!AV199)","v":""},{"$f":"IF('TABLA DE DECISION'!AW199='TABLA DE DECISION'!AW$157,CONCATENATE($B45,\"(\",'TABLA DE DECISION'!AW$157,\")\"),'TABLA DE DECISION'!AW199)","v":""},{"$f":"IF('TABLA DE DECISION'!AX199='TABLA DE DECISION'!AX$157,CONCATENATE($B45,\"(\",'TABLA DE DECISION'!AX$157,\")\"),'TABLA DE DECISION'!AX199)","v":""},{"$f":"IF('TABLA DE DECISION'!AY199='TABLA DE DECISION'!AY$157,CONCATENATE($B45,\"(\",'TABLA DE DECISION'!AY$157,\")\"),'TABLA DE DECISION'!AY199)","v":""},{"$f":"IF('TABLA DE DECISION'!AZ199='TABLA DE DECISION'!AZ$157,CONCATENATE($B45,\"(\",'TABLA DE DECISION'!AZ$157,\")\"),'TABLA DE DECISION'!AZ199)","v":""},{"$f":"IF('TABLA DE DECISION'!BA199='TABLA DE DECISION'!BA$157,CONCATENATE($B45,\"(\",'TABLA DE DECISION'!BA$157,\")\"),'TABLA DE DECISION'!BA199)","v":""},{"$f":"IF('TABLA DE DECISION'!BB199='TABLA DE DECISION'!BB$157,CONCATENATE($B45,\"(\",'TABLA DE DECISION'!BB$157,\")\"),'TABLA DE DECISION'!BB199)","v":""},{"$f":"IF('TABLA DE DECISION'!BC199='TABLA DE DECISION'!BC$157,CONCATENATE($B45,\"(\",'TABLA DE DECISION'!BC$157,\")\"),'TABLA DE DECISION'!BC199)","v":""},{"$f":"IF('TABLA DE DECISION'!BD199='TABLA DE DECISION'!BD$157,CONCATENATE($B45,\"(\",'TABLA DE DECISION'!BD$157,\")\"),'TABLA DE DECISION'!BD199)","v":""}]
[{"$f":"IF('TABLA DE DECISION'!BF200=\"\",\"\",'TABLA DE DECISION'!BF200)","v":""},{"$f":"'TABLA DE DECISION'!BG200","v":"a42"},{"$f":"IF('TABLA DE DECISION'!A200='TABLA DE DECISION'!A$157,CONCATENATE($B46,\"(\",'TABLA DE DECISION'!A$157,\")\"),'TABLA DE DECISION'!A200)","v":""},{"$f":"IF('TABLA DE DECISION'!B200='TABLA DE DECISION'!B$157,CONCATENATE($B46,\"(\",'TABLA DE DECISION'!B$157,\")\"),'TABLA DE DECISION'!B200)","v":""},{"$f":"IF('TABLA DE DECISION'!C200='TABLA DE DECISION'!C$157,CONCATENATE($B46,\"(\",'TABLA DE DECISION'!C$157,\")\"),'TABLA DE DECISION'!C200)","v":""},{"$f":"IF('TABLA DE DECISION'!D200='TABLA DE DECISION'!D$157,CONCATENATE($B46,\"(\",'TABLA DE DECISION'!D$157,\")\"),'TABLA DE DECISION'!D200)","v":""},{"$f":"IF('TABLA DE DECISION'!E200='TABLA DE DECISION'!E$157,CONCATENATE($B46,\"(\",'TABLA DE DECISION'!E$157,\")\"),'TABLA DE DECISION'!E200)","v":""},{"$f":"IF('MATRIZ-PÉRDIDA OPORTUNIDAD'!BB44='MATRIZ-PÉRDIDA OPORTUNIDAD'!BB$2,CONCATENATE($B46,\"(\",'MATRIZ-PÉRDIDA OPORTUNIDAD'!BB$2,\")\"),'MATRIZ-PÉRDIDA OPORTUNIDAD'!BB44)","v":""},{"$f":"IF('TABLA DE DECISION'!G200='TABLA DE DECISION'!G$157,CONCATENATE($B46,\"(\",'TABLA DE DECISION'!G$157,\")\"),'TABLA DE DECISION'!G200)","v":""},{"$f":"IF('TABLA DE DECISION'!H200='TABLA DE DECISION'!H$157,CONCATENATE($B46,\"(\",'TABLA DE DECISION'!H$157,\")\"),'TABLA DE DECISION'!H200)","v":""},{"$f":"IF('TABLA DE DECISION'!I200='TABLA DE DECISION'!I$157,CONCATENATE($B46,\"(\",'TABLA DE DECISION'!I$157,\")\"),'TABLA DE DECISION'!I200)","v":""},{"$f":"IF('TABLA DE DECISION'!J200='TABLA DE DECISION'!J$157,CONCATENATE($B46,\"(\",'TABLA DE DECISION'!J$157,\")\"),'TABLA DE DECISION'!J200)","v":""},{"$f":"IF('TABLA DE DECISION'!K200='TABLA DE DECISION'!K$157,CONCATENATE($B46,\"(\",'TABLA DE DECISION'!K$157,\")\"),'TABLA DE DECISION'!K200)","v":""},{"$f":"IF('TABLA DE DECISION'!L200='TABLA DE DECISION'!L$157,CONCATENATE($B46,\"(\",'TABLA DE DECISION'!L$157,\")\"),'TABLA DE DECISION'!L200)","v":""},{"$f":"IF('TABLA DE DECISION'!M200='TABLA DE DECISION'!M$157,CONCATENATE($B46,\"(\",'TABLA DE DECISION'!M$157,\")\"),'TABLA DE DECISION'!M200)","v":""},{"$f":"IF('TABLA DE DECISION'!N200='TABLA DE DECISION'!N$157,CONCATENATE($B46,\"(\",'TABLA DE DECISION'!N$157,\")\"),'TABLA DE DECISION'!N200)","v":""},{"$f":"IF('TABLA DE DECISION'!O200='TABLA DE DECISION'!O$157,CONCATENATE($B46,\"(\",'TABLA DE DECISION'!O$157,\")\"),'TABLA DE DECISION'!O200)","v":""},{"$f":"IF('TABLA DE DECISION'!P200='TABLA DE DECISION'!P$157,CONCATENATE($B46,\"(\",'TABLA DE DECISION'!P$157,\")\"),'TABLA DE DECISION'!P200)","v":""},{"$f":"IF('TABLA DE DECISION'!Q200='TABLA DE DECISION'!Q$157,CONCATENATE($B46,\"(\",'TABLA DE DECISION'!Q$157,\")\"),'TABLA DE DECISION'!Q200)","v":""},{"$f":"IF('TABLA DE DECISION'!R200='TABLA DE DECISION'!R$157,CONCATENATE($B46,\"(\",'TABLA DE DECISION'!R$157,\")\"),'TABLA DE DECISION'!R200)","v":""},{"$f":"IF('TABLA DE DECISION'!S200='TABLA DE DECISION'!S$157,CONCATENATE($B46,\"(\",'TABLA DE DECISION'!S$157,\")\"),'TABLA DE DECISION'!S200)","v":""},{"$f":"IF('TABLA DE DECISION'!T200='TABLA DE DECISION'!T$157,CONCATENATE($B46,\"(\",'TABLA DE DECISION'!T$157,\")\"),'TABLA DE DECISION'!T200)","v":""},{"$f":"IF('TABLA DE DECISION'!U200='TABLA DE DECISION'!U$157,CONCATENATE($B46,\"(\",'TABLA DE DECISION'!U$157,\")\"),'TABLA DE DECISION'!U200)","v":""},{"$f":"IF('TABLA DE DECISION'!V200='TABLA DE DECISION'!V$157,CONCATENATE($B46,\"(\",'TABLA DE DECISION'!V$157,\")\"),'TABLA DE DECISION'!V200)","v":""},{"$f":"IF('TABLA DE DECISION'!W200='TABLA DE DECISION'!W$157,CONCATENATE($B46,\"(\",'TABLA DE DECISION'!W$157,\")\"),'TABLA DE DECISION'!W200)","v":""},{"$f":"IF('TABLA DE DECISION'!X200='TABLA DE DECISION'!X$157,CONCATENATE($B46,\"(\",'TABLA DE DECISION'!X$157,\")\"),'TABLA DE DECISION'!X200)","v":""},{"$f":"IF('TABLA DE DECISION'!Y200='TABLA DE DECISION'!Y$157,CONCATENATE($B46,\"(\",'TABLA DE DECISION'!Y$157,\")\"),'TABLA DE DECISION'!Y200)","v":""},{"$f":"IF('TABLA DE DECISION'!Z200='TABLA DE DECISION'!Z$157,CONCATENATE($B46,\"(\",'TABLA DE DECISION'!Z$157,\")\"),'TABLA DE DECISION'!Z200)","v":""},{"$f":"IF('TABLA DE DECISION'!AA200='TABLA DE DECISION'!AA$157,CONCATENATE($B46,\"(\",'TABLA DE DECISION'!AA$157,\")\"),'TABLA DE DECISION'!AA200)","v":""},{"$f":"IF('TABLA DE DECISION'!AB200='TABLA DE DECISION'!AB$157,CONCATENATE($B46,\"(\",'TABLA DE DECISION'!AB$157,\")\"),'TABLA DE DECISION'!AB200)","v":""},{"$f":"IF('TABLA DE DECISION'!AC200='TABLA DE DECISION'!AC$157,CONCATENATE($B46,\"(\",'TABLA DE DECISION'!AC$157,\")\"),'TABLA DE DECISION'!AC200)","v":""},{"$f":"IF('TABLA DE DECISION'!AD200='TABLA DE DECISION'!AD$157,CONCATENATE($B46,\"(\",'TABLA DE DECISION'!AD$157,\")\"),'TABLA DE DECISION'!AD200)","v":""},{"$f":"IF('TABLA DE DECISION'!AE200='TABLA DE DECISION'!AE$157,CONCATENATE($B46,\"(\",'TABLA DE DECISION'!AE$157,\")\"),'TABLA DE DECISION'!AE200)","v":""},{"$f":"IF('TABLA DE DECISION'!AF200='TABLA DE DECISION'!AF$157,CONCATENATE($B46,\"(\",'TABLA DE DECISION'!AF$157,\")\"),'TABLA DE DECISION'!AF200)","v":""},{"$f":"IF('TABLA DE DECISION'!AG200='TABLA DE DECISION'!AG$157,CONCATENATE($B46,\"(\",'TABLA DE DECISION'!AG$157,\")\"),'TABLA DE DECISION'!AG200)","v":""},{"$f":"IF('TABLA DE DECISION'!AH200='TABLA DE DECISION'!AH$157,CONCATENATE($B46,\"(\",'TABLA DE DECISION'!AH$157,\")\"),'TABLA DE DECISION'!AH200)","v":""},{"$f":"IF('TABLA DE DECISION'!AI200='TABLA DE DECISION'!AI$157,CONCATENATE($B46,\"(\",'TABLA DE DECISION'!AI$157,\")\"),'TABLA DE DECISION'!AI200)","v":""},{"$f":"IF('TABLA DE DECISION'!AJ200='TABLA DE DECISION'!AJ$157,CONCATENATE($B46,\"(\",'TABLA DE DECISION'!AJ$157,\")\"),'TABLA DE DECISION'!AJ200)","v":""},{"$f":"IF('TABLA DE DECISION'!AK200='TABLA DE DECISION'!AK$157,CONCATENATE($B46,\"(\",'TABLA DE DECISION'!AK$157,\")\"),'TABLA DE DECISION'!AK200)","v":""},{"$f":"IF('TABLA DE DECISION'!AL200='TABLA DE DECISION'!AL$157,CONCATENATE($B46,\"(\",'TABLA DE DECISION'!AL$157,\")\"),'TABLA DE DECISION'!AL200)","v":""},{"$f":"IF('TABLA DE DECISION'!AM200='TABLA DE DECISION'!AM$157,CONCATENATE($B46,\"(\",'TABLA DE DECISION'!AM$157,\")\"),'TABLA DE DECISION'!AM200)","v":""},{"$f":"IF('TABLA DE DECISION'!AN200='TABLA DE DECISION'!AN$157,CONCATENATE($B46,\"(\",'TABLA DE DECISION'!AN$157,\")\"),'TABLA DE DECISION'!AN200)","v":""},{"$f":"IF('TABLA DE DECISION'!AO200='TABLA DE DECISION'!AO$157,CONCATENATE($B46,\"(\",'TABLA DE DECISION'!AO$157,\")\"),'TABLA DE DECISION'!AO200)","v":""},{"$f":"IF('TABLA DE DECISION'!AP200='TABLA DE DECISION'!AP$157,CONCATENATE($B46,\"(\",'TABLA DE DECISION'!AP$157,\")\"),'TABLA DE DECISION'!AP200)","v":""},{"$f":"IF('TABLA DE DECISION'!AQ200='TABLA DE DECISION'!AQ$157,CONCATENATE($B46,\"(\",'TABLA DE DECISION'!AQ$157,\")\"),'TABLA DE DECISION'!AQ200)","v":""},{"$f":"IF('TABLA DE DECISION'!AR200='TABLA DE DECISION'!AR$157,CONCATENATE($B46,\"(\",'TABLA DE DECISION'!AR$157,\")\"),'TABLA DE DECISION'!AR200)","v":""},{"$f":"IF('TABLA DE DECISION'!AS200='TABLA DE DECISION'!AS$157,CONCATENATE($B46,\"(\",'TABLA DE DECISION'!AS$157,\")\"),'TABLA DE DECISION'!AS200)","v":""},{"$f":"IF('TABLA DE DECISION'!AT200='TABLA DE DECISION'!AT$157,CONCATENATE($B46,\"(\",'TABLA DE DECISION'!AT$157,\")\"),'TABLA DE DECISION'!AT200)","v":""},{"$f":"IF('TABLA DE DECISION'!AU200='TABLA DE DECISION'!AU$157,CONCATENATE($B46,\"(\",'TABLA DE DECISION'!AU$157,\")\"),'TABLA DE DECISION'!AU200)","v":""},{"$f":"IF('TABLA DE DECISION'!AV200='TABLA DE DECISION'!AV$157,CONCATENATE($B46,\"(\",'TABLA DE DECISION'!AV$157,\")\"),'TABLA DE DECISION'!AV200)","v":""},{"$f":"IF('TABLA DE DECISION'!AW200='TABLA DE DECISION'!AW$157,CONCATENATE($B46,\"(\",'TABLA DE DECISION'!AW$157,\")\"),'TABLA DE DECISION'!AW200)","v":""},{"$f":"IF('TABLA DE DECISION'!AX200='TABLA DE DECISION'!AX$157,CONCATENATE($B46,\"(\",'TABLA DE DECISION'!AX$157,\")\"),'TABLA DE DECISION'!AX200)","v":""},{"$f":"IF('TABLA DE DECISION'!AY200='TABLA DE DECISION'!AY$157,CONCATENATE($B46,\"(\",'TABLA DE DECISION'!AY$157,\")\"),'TABLA DE DECISION'!AY200)","v":""},{"$f":"IF('TABLA DE DECISION'!AZ200='TABLA DE DECISION'!AZ$157,CONCATENATE($B46,\"(\",'TABLA DE DECISION'!AZ$157,\")\"),'TABLA DE DECISION'!AZ200)","v":""},{"$f":"IF('TABLA DE DECISION'!BA200='TABLA DE DECISION'!BA$157,CONCATENATE($B46,\"(\",'TABLA DE DECISION'!BA$157,\")\"),'TABLA DE DECISION'!BA200)","v":""},{"$f":"IF('TABLA DE DECISION'!BB200='TABLA DE DECISION'!BB$157,CONCATENATE($B46,\"(\",'TABLA DE DECISION'!BB$157,\")\"),'TABLA DE DECISION'!BB200)","v":""},{"$f":"IF('TABLA DE DECISION'!BC200='TABLA DE DECISION'!BC$157,CONCATENATE($B46,\"(\",'TABLA DE DECISION'!BC$157,\")\"),'TABLA DE DECISION'!BC200)","v":""},{"$f":"IF('TABLA DE DECISION'!BD200='TABLA DE DECISION'!BD$157,CONCATENATE($B46,\"(\",'TABLA DE DECISION'!BD$157,\")\"),'TABLA DE DECISION'!BD200)","v":""}]
[{"$f":"IF('TABLA DE DECISION'!BF201=\"\",\"\",'TABLA DE DECISION'!BF201)","v":""},{"$f":"'TABLA DE DECISION'!BG201","v":"a43"},{"$f":"IF('TABLA DE DECISION'!A201='TABLA DE DECISION'!A$157,CONCATENATE($B47,\"(\",'TABLA DE DECISION'!A$157,\")\"),'TABLA DE DECISION'!A201)","v":""},{"$f":"IF('TABLA DE DECISION'!B201='TABLA DE DECISION'!B$157,CONCATENATE($B47,\"(\",'TABLA DE DECISION'!B$157,\")\"),'TABLA DE DECISION'!B201)","v":""},{"$f":"IF('TABLA DE DECISION'!C201='TABLA DE DECISION'!C$157,CONCATENATE($B47,\"(\",'TABLA DE DECISION'!C$157,\")\"),'TABLA DE DECISION'!C201)","v":""},{"$f":"IF('TABLA DE DECISION'!D201='TABLA DE DECISION'!D$157,CONCATENATE($B47,\"(\",'TABLA DE DECISION'!D$157,\")\"),'TABLA DE DECISION'!D201)","v":""},{"$f":"IF('TABLA DE DECISION'!E201='TABLA DE DECISION'!E$157,CONCATENATE($B47,\"(\",'TABLA DE DECISION'!E$157,\")\"),'TABLA DE DECISION'!E201)","v":""},{"$f":"IF('MATRIZ-PÉRDIDA OPORTUNIDAD'!BB45='MATRIZ-PÉRDIDA OPORTUNIDAD'!BB$2,CONCATENATE($B47,\"(\",'MATRIZ-PÉRDIDA OPORTUNIDAD'!BB$2,\")\"),'MATRIZ-PÉRDIDA OPORTUNIDAD'!BB45)","v":""},{"$f":"IF('TABLA DE DECISION'!G201='TABLA DE DECISION'!G$157,CONCATENATE($B47,\"(\",'TABLA DE DECISION'!G$157,\")\"),'TABLA DE DECISION'!G201)","v":""},{"$f":"IF('TABLA DE DECISION'!H201='TABLA DE DECISION'!H$157,CONCATENATE($B47,\"(\",'TABLA DE DECISION'!H$157,\")\"),'TABLA DE DECISION'!H201)","v":""},{"$f":"IF('TABLA DE DECISION'!I201='TABLA DE DECISION'!I$157,CONCATENATE($B47,\"(\",'TABLA DE DECISION'!I$157,\")\"),'TABLA DE DECISION'!I201)","v":""},{"$f":"IF('TABLA DE DECISION'!J201='TABLA DE DECISION'!J$157,CONCATENATE($B47,\"(\",'TABLA DE DECISION'!J$157,\")\"),'TABLA DE DECISION'!J201)","v":""},{"$f":"IF('TABLA DE DECISION'!K201='TABLA DE DECISION'!K$157,CONCATENATE($B47,\"(\",'TABLA DE DECISION'!K$157,\")\"),'TABLA DE DECISION'!K201)","v":""},{"$f":"IF('TABLA DE DECISION'!L201='TABLA DE DECISION'!L$157,CONCATENATE($B47,\"(\",'TABLA DE DECISION'!L$157,\")\"),'TABLA DE DECISION'!L201)","v":""},{"$f":"IF('TABLA DE DECISION'!M201='TABLA DE DECISION'!M$157,CONCATENATE($B47,\"(\",'TABLA DE DECISION'!M$157,\")\"),'TABLA DE DECISION'!M201)","v":""},{"$f":"IF('TABLA DE DECISION'!N201='TABLA DE DECISION'!N$157,CONCATENATE($B47,\"(\",'TABLA DE DECISION'!N$157,\")\"),'TABLA DE DECISION'!N201)","v":""},{"$f":"IF('TABLA DE DECISION'!O201='TABLA DE DECISION'!O$157,CONCATENATE($B47,\"(\",'TABLA DE DECISION'!O$157,\")\"),'TABLA DE DECISION'!O201)","v":""},{"$f":"IF('TABLA DE DECISION'!P201='TABLA DE DECISION'!P$157,CONCATENATE($B47,\"(\",'TABLA DE DECISION'!P$157,\")\"),'TABLA DE DECISION'!P201)","v":""},{"$f":"IF('TABLA DE DECISION'!Q201='TABLA DE DECISION'!Q$157,CONCATENATE($B47,\"(\",'TABLA DE DECISION'!Q$157,\")\"),'TABLA DE DECISION'!Q201)","v":""},{"$f":"IF('TABLA DE DECISION'!R201='TABLA DE DECISION'!R$157,CONCATENATE($B47,\"(\",'TABLA DE DECISION'!R$157,\")\"),'TABLA DE DECISION'!R201)","v":""},{"$f":"IF('TABLA DE DECISION'!S201='TABLA DE DECISION'!S$157,CONCATENATE($B47,\"(\",'TABLA DE DECISION'!S$157,\")\"),'TABLA DE DECISION'!S201)","v":""},{"$f":"IF('TABLA DE DECISION'!T201='TABLA DE DECISION'!T$157,CONCATENATE($B47,\"(\",'TABLA DE DECISION'!T$157,\")\"),'TABLA DE DECISION'!T201)","v":""},{"$f":"IF('TABLA DE DECISION'!U201='TABLA DE DECISION'!U$157,CONCATENATE($B47,\"(\",'TABLA DE DECISION'!U$157,\")\"),'TABLA DE DECISION'!U201)","v":""},{"$f":"IF('TABLA DE DECISION'!V201='TABLA DE DECISION'!V$157,CONCATENATE($B47,\"(\",'TABLA DE DECISION'!V$157,\")\"),'TABLA DE DECISION'!V201)","v":""},{"$f":"IF('TABLA DE DECISION'!W201='TABLA DE DECISION'!W$157,CONCATENATE($B47,\"(\",'TABLA DE DECISION'!W$157,\")\"),'TABLA DE DECISION'!W201)","v":""},{"$f":"IF('TABLA DE DECISION'!X201='TABLA DE DECISION'!X$157,CONCATENATE($B47,\"(\",'TABLA DE DECISION'!X$157,\")\"),'TABLA DE DECISION'!X201)","v":""},{"$f":"IF('TABLA DE DECISION'!Y201='TABLA DE DECISION'!Y$157,CONCATENATE($B47,\"(\",'TABLA DE DECISION'!Y$157,\")\"),'TABLA DE DECISION'!Y201)","v":""},{"$f":"IF('TABLA DE DECISION'!Z201='TABLA DE DECISION'!Z$157,CONCATENATE($B47,\"(\",'TABLA DE DECISION'!Z$157,\")\"),'TABLA DE DECISION'!Z201)","v":""},{"$f":"IF('TABLA DE DECISION'!AA201='TABLA DE DECISION'!AA$157,CONCATENATE($B47,\"(\",'TABLA DE DECISION'!AA$157,\")\"),'TABLA DE DECISION'!AA201)","v":""},{"$f":"IF('TABLA DE DECISION'!AB201='TABLA DE DECISION'!AB$157,CONCATENATE($B47,\"(\",'TABLA DE DECISION'!AB$157,\")\"),'TABLA DE DECISION'!AB201)","v":""},{"$f":"IF('TABLA DE DECISION'!AC201='TABLA DE DECISION'!AC$157,CONCATENATE($B47,\"(\",'TABLA DE DECISION'!AC$157,\")\"),'TABLA DE DECISION'!AC201)","v":""},{"$f":"IF('TABLA DE DECISION'!AD201='TABLA DE DECISION'!AD$157,CONCATENATE($B47,\"(\",'TABLA DE DECISION'!AD$157,\")\"),'TABLA DE DECISION'!AD201)","v":""},{"$f":"IF('TABLA DE DECISION'!AE201='TABLA DE DECISION'!AE$157,CONCATENATE($B47,\"(\",'TABLA DE DECISION'!AE$157,\")\"),'TABLA DE DECISION'!AE201)","v":""},{"$f":"IF('TABLA DE DECISION'!AF201='TABLA DE DECISION'!AF$157,CONCATENATE($B47,\"(\",'TABLA DE DECISION'!AF$157,\")\"),'TABLA DE DECISION'!AF201)","v":""},{"$f":"IF('TABLA DE DECISION'!AG201='TABLA DE DECISION'!AG$157,CONCATENATE($B47,\"(\",'TABLA DE DECISION'!AG$157,\")\"),'TABLA DE DECISION'!AG201)","v":""},{"$f":"IF('TABLA DE DECISION'!AH201='TABLA DE DECISION'!AH$157,CONCATENATE($B47,\"(\",'TABLA DE DECISION'!AH$157,\")\"),'TABLA DE DECISION'!AH201)","v":""},{"$f":"IF('TABLA DE DECISION'!AI201='TABLA DE DECISION'!AI$157,CONCATENATE($B47,\"(\",'TABLA DE DECISION'!AI$157,\")\"),'TABLA DE DECISION'!AI201)","v":""},{"$f":"IF('TABLA DE DECISION'!AJ201='TABLA DE DECISION'!AJ$157,CONCATENATE($B47,\"(\",'TABLA DE DECISION'!AJ$157,\")\"),'TABLA DE DECISION'!AJ201)","v":""},{"$f":"IF('TABLA DE DECISION'!AK201='TABLA DE DECISION'!AK$157,CONCATENATE($B47,\"(\",'TABLA DE DECISION'!AK$157,\")\"),'TABLA DE DECISION'!AK201)","v":""},{"$f":"IF('TABLA DE DECISION'!AL201='TABLA DE DECISION'!AL$157,CONCATENATE($B47,\"(\",'TABLA DE DECISION'!AL$157,\")\"),'TABLA DE DECISION'!AL201)","v":""},{"$f":"IF('TABLA DE DECISION'!AM201='TABLA DE DECISION'!AM$157,CONCATENATE($B47,\"(\",'TABLA DE DECISION'!AM$157,\")\"),'TABLA DE DECISION'!AM201)","v":""},{"$f":"IF('TABLA DE DECISION'!AN201='TABLA DE DECISION'!AN$157,CONCATENATE($B47,\"(\",'TABLA DE DECISION'!AN$157,\")\"),'TABLA DE DECISION'!AN201)","v":""},{"$f":"IF('TABLA DE DECISION'!AO201='TABLA DE DECISION'!AO$157,CONCATENATE($B47,\"(\",'TABLA DE DECISION'!AO$157,\")\"),'TABLA DE DECISION'!AO201)","v":""},{"$f":"IF('TABLA DE DECISION'!AP201='TABLA DE DECISION'!AP$157,CONCATENATE($B47,\"(\",'TABLA DE DECISION'!AP$157,\")\"),'TABLA DE DECISION'!AP201)","v":""},{"$f":"IF('TABLA DE DECISION'!AQ201='TABLA DE DECISION'!AQ$157,CONCATENATE($B47,\"(\",'TABLA DE DECISION'!AQ$157,\")\"),'TABLA DE DECISION'!AQ201)","v":""},{"$f":"IF('TABLA DE DECISION'!AR201='TABLA DE DECISION'!AR$157,CONCATENATE($B47,\"(\",'TABLA DE DECISION'!AR$157,\")\"),'TABLA DE DECISION'!AR201)","v":""},{"$f":"IF('TABLA DE DECISION'!AS201='TABLA DE DECISION'!AS$157,CONCATENATE($B47,\"(\",'TABLA DE DECISION'!AS$157,\")\"),'TABLA DE DECISION'!AS201)","v":""},{"$f":"IF('TABLA DE DECISION'!AT201='TABLA DE DECISION'!AT$157,CONCATENATE($B47,\"(\",'TABLA DE DECISION'!AT$157,\")\"),'TABLA DE DECISION'!AT201)","v":""},{"$f":"IF('TABLA DE DECISION'!AU201='TABLA DE DECISION'!AU$157,CONCATENATE($B47,\"(\",'TABLA DE DECISION'!AU$157,\")\"),'TABLA DE DECISION'!AU201)","v":""},{"$f":"IF('TABLA DE DECISION'!AV201='TABLA DE DECISION'!AV$157,CONCATENATE($B47,\"(\",'TABLA DE DECISION'!AV$157,\")\"),'TABLA DE DECISION'!AV201)","v":""},{"$f":"IF('TABLA DE DECISION'!AW201='TABLA DE DECISION'!AW$157,CONCATENATE($B47,\"(\",'TABLA DE DECISION'!AW$157,\")\"),'TABLA DE DECISION'!AW201)","v":""},{"$f":"IF('TABLA DE DECISION'!AX201='TABLA DE DECISION'!AX$157,CONCATENATE($B47,\"(\",'TABLA DE DECISION'!AX$157,\")\"),'TABLA DE DECISION'!AX201)","v":""},{"$f":"IF('TABLA DE DECISION'!AY201='TABLA DE DECISION'!AY$157,CONCATENATE($B47,\"(\",'TABLA DE DECISION'!AY$157,\")\"),'TABLA DE DECISION'!AY201)","v":""},{"$f":"IF('TABLA DE DECISION'!AZ201='TABLA DE DECISION'!AZ$157,CONCATENATE($B47,\"(\",'TABLA DE DECISION'!AZ$157,\")\"),'TABLA DE DECISION'!AZ201)","v":""},{"$f":"IF('TABLA DE DECISION'!BA201='TABLA DE DECISION'!BA$157,CONCATENATE($B47,\"(\",'TABLA DE DECISION'!BA$157,\")\"),'TABLA DE DECISION'!BA201)","v":""},{"$f":"IF('TABLA DE DECISION'!BB201='TABLA DE DECISION'!BB$157,CONCATENATE($B47,\"(\",'TABLA DE DECISION'!BB$157,\")\"),'TABLA DE DECISION'!BB201)","v":""},{"$f":"IF('TABLA DE DECISION'!BC201='TABLA DE DECISION'!BC$157,CONCATENATE($B47,\"(\",'TABLA DE DECISION'!BC$157,\")\"),'TABLA DE DECISION'!BC201)","v":""},{"$f":"IF('TABLA DE DECISION'!BD201='TABLA DE DECISION'!BD$157,CONCATENATE($B47,\"(\",'TABLA DE DECISION'!BD$157,\")\"),'TABLA DE DECISION'!BD201)","v":""}]
[{"$f":"IF('TABLA DE DECISION'!BF202=\"\",\"\",'TABLA DE DECISION'!BF202)","v":""},{"$f":"'TABLA DE DECISION'!BG202","v":"a44"},{"$f":"IF('TABLA DE DECISION'!A202='TABLA DE DECISION'!A$157,CONCATENATE($B48,\"(\",'TABLA DE DECISION'!A$157,\")\"),'TABLA DE DECISION'!A202)","v":""},{"$f":"IF('TABLA DE DECISION'!B202='TABLA DE DECISION'!B$157,CONCATENATE($B48,\"(\",'TABLA DE DECISION'!B$157,\")\"),'TABLA DE DECISION'!B202)","v":""},{"$f":"IF('TABLA DE DECISION'!C202='TABLA DE DECISION'!C$157,CONCATENATE($B48,\"(\",'TABLA DE DECISION'!C$157,\")\"),'TABLA DE DECISION'!C202)","v":""},{"$f":"IF('TABLA DE DECISION'!D202='TABLA DE DECISION'!D$157,CONCATENATE($B48,\"(\",'TABLA DE DECISION'!D$157,\")\"),'TABLA DE DECISION'!D202)","v":""},{"$f":"IF('TABLA DE DECISION'!E202='TABLA DE DECISION'!E$157,CONCATENATE($B48,\"(\",'TABLA DE DECISION'!E$157,\")\"),'TABLA DE DECISION'!E202)","v":""},{"$f":"IF('MATRIZ-PÉRDIDA OPORTUNIDAD'!BB46='MATRIZ-PÉRDIDA OPORTUNIDAD'!BB$2,CONCATENATE($B48,\"(\",'MATRIZ-PÉRDIDA OPORTUNIDAD'!BB$2,\")\"),'MATRIZ-PÉRDIDA OPORTUNIDAD'!BB46)","v":""},{"$f":"IF('TABLA DE DECISION'!G202='TABLA DE DECISION'!G$157,CONCATENATE($B48,\"(\",'TABLA DE DECISION'!G$157,\")\"),'TABLA DE DECISION'!G202)","v":""},{"$f":"IF('TABLA DE DECISION'!H202='TABLA DE DECISION'!H$157,CONCATENATE($B48,\"(\",'TABLA DE DECISION'!H$157,\")\"),'TABLA DE DECISION'!H202)","v":""},{"$f":"IF('TABLA DE DECISION'!I202='TABLA DE DECISION'!I$157,CONCATENATE($B48,\"(\",'TABLA DE DECISION'!I$157,\")\"),'TABLA DE DECISION'!I202)","v":""},{"$f":"IF('TABLA DE DECISION'!J202='TABLA DE DECISION'!J$157,CONCATENATE($B48,\"(\",'TABLA DE DECISION'!J$157,\")\"),'TABLA DE DECISION'!J202)","v":""},{"$f":"IF('TABLA DE DECISION'!K202='TABLA DE DECISION'!K$157,CONCATENATE($B48,\"(\",'TABLA DE DECISION'!K$157,\")\"),'TABLA DE DECISION'!K202)","v":""},{"$f":"IF('TABLA DE DECISION'!L202='TABLA DE DECISION'!L$157,CONCATENATE($B48,\"(\",'TABLA DE DECISION'!L$157,\")\"),'TABLA DE DECISION'!L202)","v":""},{"$f":"IF('TABLA DE DECISION'!M202='TABLA DE DECISION'!M$157,CONCATENATE($B48,\"(\",'TABLA DE DECISION'!M$157,\")\"),'TABLA DE DECISION'!M202)","v":""},{"$f":"IF('TABLA DE DECISION'!N202='TABLA DE DECISION'!N$157,CONCATENATE($B48,\"(\",'TABLA DE DECISION'!N$157,\")\"),'TABLA DE DECISION'!N202)","v":""},{"$f":"IF('TABLA DE DECISION'!O202='TABLA DE DECISION'!O$157,CONCATENATE($B48,\"(\",'TABLA DE DECISION'!O$157,\")\"),'TABLA DE DECISION'!O202)","v":""},{"$f":"IF('TABLA DE DECISION'!P202='TABLA DE DECISION'!P$157,CONCATENATE($B48,\"(\",'TABLA DE DECISION'!P$157,\")\"),'TABLA DE DECISION'!P202)","v":""},{"$f":"IF('TABLA DE DECISION'!Q202='TABLA DE DECISION'!Q$157,CONCATENATE($B48,\"(\",'TABLA DE DECISION'!Q$157,\")\"),'TABLA DE DECISION'!Q202)","v":""},{"$f":"IF('TABLA DE DECISION'!R202='TABLA DE DECISION'!R$157,CONCATENATE($B48,\"(\",'TABLA DE DECISION'!R$157,\")\"),'TABLA DE DECISION'!R202)","v":""},{"$f":"IF('TABLA DE DECISION'!S202='TABLA DE DECISION'!S$157,CONCATENATE($B48,\"(\",'TABLA DE DECISION'!S$157,\")\"),'TABLA DE DECISION'!S202)","v":""},{"$f":"IF('TABLA DE DECISION'!T202='TABLA DE DECISION'!T$157,CONCATENATE($B48,\"(\",'TABLA DE DECISION'!T$157,\")\"),'TABLA DE DECISION'!T202)","v":""},{"$f":"IF('TABLA DE DECISION'!U202='TABLA DE DECISION'!U$157,CONCATENATE($B48,\"(\",'TABLA DE DECISION'!U$157,\")\"),'TABLA DE DECISION'!U202)","v":""},{"$f":"IF('TABLA DE DECISION'!V202='TABLA DE DECISION'!V$157,CONCATENATE($B48,\"(\",'TABLA DE DECISION'!V$157,\")\"),'TABLA DE DECISION'!V202)","v":""},{"$f":"IF('TABLA DE DECISION'!W202='TABLA DE DECISION'!W$157,CONCATENATE($B48,\"(\",'TABLA DE DECISION'!W$157,\")\"),'TABLA DE DECISION'!W202)","v":""},{"$f":"IF('TABLA DE DECISION'!X202='TABLA DE DECISION'!X$157,CONCATENATE($B48,\"(\",'TABLA DE DECISION'!X$157,\")\"),'TABLA DE DECISION'!X202)","v":""},{"$f":"IF('TABLA DE DECISION'!Y202='TABLA DE DECISION'!Y$157,CONCATENATE($B48,\"(\",'TABLA DE DECISION'!Y$157,\")\"),'TABLA DE DECISION'!Y202)","v":""},{"$f":"IF('TABLA DE DECISION'!Z202='TABLA DE DECISION'!Z$157,CONCATENATE($B48,\"(\",'TABLA DE DECISION'!Z$157,\")\"),'TABLA DE DECISION'!Z202)","v":""},{"$f":"IF('TABLA DE DECISION'!AA202='TABLA DE DECISION'!AA$157,CONCATENATE($B48,\"(\",'TABLA DE DECISION'!AA$157,\")\"),'TABLA DE DECISION'!AA202)","v":""},{"$f":"IF('TABLA DE DECISION'!AB202='TABLA DE DECISION'!AB$157,CONCATENATE($B48,\"(\",'TABLA DE DECISION'!AB$157,\")\"),'TABLA DE DECISION'!AB202)","v":""},{"$f":"IF('TABLA DE DECISION'!AC202='TABLA DE DECISION'!AC$157,CONCATENATE($B48,\"(\",'TABLA DE DECISION'!AC$157,\")\"),'TABLA DE DECISION'!AC202)","v":""},{"$f":"IF('TABLA DE DECISION'!AD202='TABLA DE DECISION'!AD$157,CONCATENATE($B48,\"(\",'TABLA DE DECISION'!AD$157,\")\"),'TABLA DE DECISION'!AD202)","v":""},{"$f":"IF('TABLA DE DECISION'!AE202='TABLA DE DECISION'!AE$157,CONCATENATE($B48,\"(\",'TABLA DE DECISION'!AE$157,\")\"),'TABLA DE DECISION'!AE202)","v":""},{"$f":"IF('TABLA DE DECISION'!AF202='TABLA DE DECISION'!AF$157,CONCATENATE($B48,\"(\",'TABLA DE DECISION'!AF$157,\")\"),'TABLA DE DECISION'!AF202)","v":""},{"$f":"IF('TABLA DE DECISION'!AG202='TABLA DE DECISION'!AG$157,CONCATENATE($B48,\"(\",'TABLA DE DECISION'!AG$157,\")\"),'TABLA DE DECISION'!AG202)","v":""},{"$f":"IF('TABLA DE DECISION'!AH202='TABLA DE DECISION'!AH$157,CONCATENATE($B48,\"(\",'TABLA DE DECISION'!AH$157,\")\"),'TABLA DE DECISION'!AH202)","v":""},{"$f":"IF('TABLA DE DECISION'!AI202='TABLA DE DECISION'!AI$157,CONCATENATE($B48,\"(\",'TABLA DE DECISION'!AI$157,\")\"),'TABLA DE DECISION'!AI202)","v":""},{"$f":"IF('TABLA DE DECISION'!AJ202='TABLA DE DECISION'!AJ$157,CONCATENATE($B48,\"(\",'TABLA DE DECISION'!AJ$157,\")\"),'TABLA DE DECISION'!AJ202)","v":""},{"$f":"IF('TABLA DE DECISION'!AK202='TABLA DE DECISION'!AK$157,CONCATENATE($B48,\"(\",'TABLA DE DECISION'!AK$157,\")\"),'TABLA DE DECISION'!AK202)","v":""},{"$f":"IF('TABLA DE DECISION'!AL202='TABLA DE DECISION'!AL$157,CONCATENATE($B48,\"(\",'TABLA DE DECISION'!AL$157,\")\"),'TABLA DE DECISION'!AL202)","v":""},{"$f":"IF('TABLA DE DECISION'!AM202='TABLA DE DECISION'!AM$157,CONCATENATE($B48,\"(\",'TABLA DE DECISION'!AM$157,\")\"),'TABLA DE DECISION'!AM202)","v":""},{"$f":"IF('TABLA DE DECISION'!AN202='TABLA DE DECISION'!AN$157,CONCATENATE($B48,\"(\",'TABLA DE DECISION'!AN$157,\")\"),'TABLA DE DECISION'!AN202)","v":""},{"$f":"IF('TABLA DE DECISION'!AO202='TABLA DE DECISION'!AO$157,CONCATENATE($B48,\"(\",'TABLA DE DECISION'!AO$157,\")\"),'TABLA DE DECISION'!AO202)","v":""},{"$f":"IF('TABLA DE DECISION'!AP202='TABLA DE DECISION'!AP$157,CONCATENATE($B48,\"(\",'TABLA DE DECISION'!AP$157,\")\"),'TABLA DE DECISION'!AP202)","v":""},{"$f":"IF('TABLA DE DECISION'!AQ202='TABLA DE DECISION'!AQ$157,CONCATENATE($B48,\"(\",'TABLA DE DECISION'!AQ$157,\")\"),'TABLA DE DECISION'!AQ202)","v":""},{"$f":"IF('TABLA DE DECISION'!AR202='TABLA DE DECISION'!AR$157,CONCATENATE($B48,\"(\",'TABLA DE DECISION'!AR$157,\")\"),'TABLA DE DECISION'!AR202)","v":""},{"$f":"IF('TABLA DE DECISION'!AS202='TABLA DE DECISION'!AS$157,CONCATENATE($B48,\"(\",'TABLA DE DECISION'!AS$157,\")\"),'TABLA DE DECISION'!AS202)","v":""},{"$f":"IF('TABLA DE DECISION'!AT202='TABLA DE DECISION'!AT$157,CONCATENATE($B48,\"(\",'TABLA DE DECISION'!AT$157,\")\"),'TABLA DE DECISION'!AT202)","v":""},{"$f":"IF('TABLA DE DECISION'!AU202='TABLA DE DECISION'!AU$157,CONCATENATE($B48,\"(\",'TABLA DE DECISION'!AU$157,\")\"),'TABLA DE DECISION'!AU202)","v":""},{"$f":"IF('TABLA DE DECISION'!AV202='TABLA DE DECISION'!AV$157,CONCATENATE($B48,\"(\",'TABLA DE DECISION'!AV$157,\")\"),'TABLA DE DECISION'!AV202)","v":""},{"$f":"IF('TABLA DE DECISION'!AW202='TABLA DE DECISION'!AW$157,CONCATENATE($B48,\"(\",'TABLA DE DECISION'!AW$157,\")\"),'TABLA DE DECISION'!AW202)","v":""},{"$f":"IF('TABLA DE DECISION'!AX202='TABLA DE DECISION'!AX$157,CONCATENATE($B48,\"(\",'TABLA DE DECISION'!AX$157,\")\"),'TABLA DE DECISION'!AX202)","v":""},{"$f":"IF('TABLA DE DECISION'!AY202='TABLA DE DECISION'!AY$157,CONCATENATE($B48,\"(\",'TABLA DE DECISION'!AY$157,\")\"),'TABLA DE DECISION'!AY202)","v":""},{"$f":"IF('TABLA DE DECISION'!AZ202='TABLA DE DECISION'!AZ$157,CONCATENATE($B48,\"(\",'TABLA DE DECISION'!AZ$157,\")\"),'TABLA DE DECISION'!AZ202)","v":""},{"$f":"IF('TABLA DE DECISION'!BA202='TABLA DE DECISION'!BA$157,CONCATENATE($B48,\"(\",'TABLA DE DECISION'!BA$157,\")\"),'TABLA DE DECISION'!BA202)","v":""},{"$f":"IF('TABLA DE DECISION'!BB202='TABLA DE DECISION'!BB$157,CONCATENATE($B48,\"(\",'TABLA DE DECISION'!BB$157,\")\"),'TABLA DE DECISION'!BB202)","v":""},{"$f":"IF('TABLA DE DECISION'!BC202='TABLA DE DECISION'!BC$157,CONCATENATE($B48,\"(\",'TABLA DE DECISION'!BC$157,\")\"),'TABLA DE DECISION'!BC202)","v":""},{"$f":"IF('TABLA DE DECISION'!BD202='TABLA DE DECISION'!BD$157,CONCATENATE($B48,\"(\",'TABLA DE DECISION'!BD$157,\")\"),'TABLA DE DECISION'!BD202)","v":""}]
[{"$f":"IF('TABLA DE DECISION'!BF203=\"\",\"\",'TABLA DE DECISION'!BF203)","v":""},{"$f":"'TABLA DE DECISION'!BG203","v":"a45"},{"$f":"IF('TABLA DE DECISION'!A203='TABLA DE DECISION'!A$157,CONCATENATE($B49,\"(\",'TABLA DE DECISION'!A$157,\")\"),'TABLA DE DECISION'!A203)","v":""},{"$f":"IF('TABLA DE DECISION'!B203='TABLA DE DECISION'!B$157,CONCATENATE($B49,\"(\",'TABLA DE DECISION'!B$157,\")\"),'TABLA DE DECISION'!B203)","v":""},{"$f":"IF('TABLA DE DECISION'!C203='TABLA DE DECISION'!C$157,CONCATENATE($B49,\"(\",'TABLA DE DECISION'!C$157,\")\"),'TABLA DE DECISION'!C203)","v":""},{"$f":"IF('TABLA DE DECISION'!D203='TABLA DE DECISION'!D$157,CONCATENATE($B49,\"(\",'TABLA DE DECISION'!D$157,\")\"),'TABLA DE DECISION'!D203)","v":""},{"$f":"IF('TABLA DE DECISION'!E203='TABLA DE DECISION'!E$157,CONCATENATE($B49,\"(\",'TABLA DE DECISION'!E$157,\")\"),'TABLA DE DECISION'!E203)","v":""},{"$f":"IF('MATRIZ-PÉRDIDA OPORTUNIDAD'!BB47='MATRIZ-PÉRDIDA OPORTUNIDAD'!BB$2,CONCATENATE($B49,\"(\",'MATRIZ-PÉRDIDA OPORTUNIDAD'!BB$2,\")\"),'MATRIZ-PÉRDIDA OPORTUNIDAD'!BB47)","v":""},{"$f":"IF('TABLA DE DECISION'!G203='TABLA DE DECISION'!G$157,CONCATENATE($B49,\"(\",'TABLA DE DECISION'!G$157,\")\"),'TABLA DE DECISION'!G203)","v":""},{"$f":"IF('TABLA DE DECISION'!H203='TABLA DE DECISION'!H$157,CONCATENATE($B49,\"(\",'TABLA DE DECISION'!H$157,\")\"),'TABLA DE DECISION'!H203)","v":""},{"$f":"IF('TABLA DE DECISION'!I203='TABLA DE DECISION'!I$157,CONCATENATE($B49,\"(\",'TABLA DE DECISION'!I$157,\")\"),'TABLA DE DECISION'!I203)","v":""},{"$f":"IF('TABLA DE DECISION'!J203='TABLA DE DECISION'!J$157,CONCATENATE($B49,\"(\",'TABLA DE DECISION'!J$157,\")\"),'TABLA DE DECISION'!J203)","v":""},{"$f":"IF('TABLA DE DECISION'!K203='TABLA DE DECISION'!K$157,CONCATENATE($B49,\"(\",'TABLA DE DECISION'!K$157,\")\"),'TABLA DE DECISION'!K203)","v":""},{"$f":"IF('TABLA DE DECISION'!L203='TABLA DE DECISION'!L$157,CONCATENATE($B49,\"(\",'TABLA DE DECISION'!L$157,\")\"),'TABLA DE DECISION'!L203)","v":""},{"$f":"IF('TABLA DE DECISION'!M203='TABLA DE DECISION'!M$157,CONCATENATE($B49,\"(\",'TABLA DE DECISION'!M$157,\")\"),'TABLA DE DECISION'!M203)","v":""},{"$f":"IF('TABLA DE DECISION'!N203='TABLA DE DECISION'!N$157,CONCATENATE($B49,\"(\",'TABLA DE DECISION'!N$157,\")\"),'TABLA DE DECISION'!N203)","v":""},{"$f":"IF('TABLA DE DECISION'!O203='TABLA DE DECISION'!O$157,CONCATENATE($B49,\"(\",'TABLA DE DECISION'!O$157,\")\"),'TABLA DE DECISION'!O203)","v":""},{"$f":"IF('TABLA DE DECISION'!P203='TABLA DE DECISION'!P$157,CONCATENATE($B49,\"(\",'TABLA DE DECISION'!P$157,\")\"),'TABLA DE DECISION'!P203)","v":""},{"$f":"IF('TABLA DE DECISION'!Q203='TABLA DE DECISION'!Q$157,CONCATENATE($B49,\"(\",'TABLA DE DECISION'!Q$157,\")\"),'TABLA DE DECISION'!Q203)","v":""},{"$f":"IF('TABLA DE DECISION'!R203='TABLA DE DECISION'!R$157,CONCATENATE($B49,\"(\",'TABLA DE DECISION'!R$157,\")\"),'TABLA DE DECISION'!R203)","v":""},{"$f":"IF('TABLA DE DECISION'!S203='TABLA DE DECISION'!S$157,CONCATENATE($B49,\"(\",'TABLA DE DECISION'!S$157,\")\"),'TABLA DE DECISION'!S203)","v":""},{"$f":"IF('TABLA DE DECISION'!T203='TABLA DE DECISION'!T$157,CONCATENATE($B49,\"(\",'TABLA DE DECISION'!T$157,\")\"),'TABLA DE DECISION'!T203)","v":""},{"$f":"IF('TABLA DE DECISION'!U203='TABLA DE DECISION'!U$157,CONCATENATE($B49,\"(\",'TABLA DE DECISION'!U$157,\")\"),'TABLA DE DECISION'!U203)","v":""},{"$f":"IF('TABLA DE DECISION'!V203='TABLA DE DECISION'!V$157,CONCATENATE($B49,\"(\",'TABLA DE DECISION'!V$157,\")\"),'TABLA DE DECISION'!V203)","v":""},{"$f":"IF('TABLA DE DECISION'!W203='TABLA DE DECISION'!W$157,CONCATENATE($B49,\"(\",'TABLA DE DECISION'!W$157,\")\"),'TABLA DE DECISION'!W203)","v":""},{"$f":"IF('TABLA DE DECISION'!X203='TABLA DE DECISION'!X$157,CONCATENATE($B49,\"(\",'TABLA DE DECISION'!X$157,\")\"),'TABLA DE DECISION'!X203)","v":""},{"$f":"IF('TABLA DE DECISION'!Y203='TABLA DE DECISION'!Y$157,CONCATENATE($B49,\"(\",'TABLA DE DECISION'!Y$157,\")\"),'TABLA DE DECISION'!Y203)","v":""},{"$f":"IF('TABLA DE DECISION'!Z203='TABLA DE DECISION'!Z$157,CONCATENATE($B49,\"(\",'TABLA DE DECISION'!Z$157,\")\"),'TABLA DE DECISION'!Z203)","v":""},{"$f":"IF('TABLA DE DECISION'!AA203='TABLA DE DECISION'!AA$157,CONCATENATE($B49,\"(\",'TABLA DE DECISION'!AA$157,\")\"),'TABLA DE DECISION'!AA203)","v":""},{"$f":"IF('TABLA DE DECISION'!AB203='TABLA DE DECISION'!AB$157,CONCATENATE($B49,\"(\",'TABLA DE DECISION'!AB$157,\")\"),'TABLA DE DECISION'!AB203)","v":""},{"$f":"IF('TABLA DE DECISION'!AC203='TABLA DE DECISION'!AC$157,CONCATENATE($B49,\"(\",'TABLA DE DECISION'!AC$157,\")\"),'TABLA DE DECISION'!AC203)","v":""},{"$f":"IF('TABLA DE DECISION'!AD203='TABLA DE DECISION'!AD$157,CONCATENATE($B49,\"(\",'TABLA DE DECISION'!AD$157,\")\"),'TABLA DE DECISION'!AD203)","v":""},{"$f":"IF('TABLA DE DECISION'!AE203='TABLA DE DECISION'!AE$157,CONCATENATE($B49,\"(\",'TABLA DE DECISION'!AE$157,\")\"),'TABLA DE DECISION'!AE203)","v":""},{"$f":"IF('TABLA DE DECISION'!AF203='TABLA DE DECISION'!AF$157,CONCATENATE($B49,\"(\",'TABLA DE DECISION'!AF$157,\")\"),'TABLA DE DECISION'!AF203)","v":""},{"$f":"IF('TABLA DE DECISION'!AG203='TABLA DE DECISION'!AG$157,CONCATENATE($B49,\"(\",'TABLA DE DECISION'!AG$157,\")\"),'TABLA DE DECISION'!AG203)","v":""},{"$f":"IF('TABLA DE DECISION'!AH203='TABLA DE DECISION'!AH$157,CONCATENATE($B49,\"(\",'TABLA DE DECISION'!AH$157,\")\"),'TABLA DE DECISION'!AH203)","v":""},{"$f":"IF('TABLA DE DECISION'!AI203='TABLA DE DECISION'!AI$157,CONCATENATE($B49,\"(\",'TABLA DE DECISION'!AI$157,\")\"),'TABLA DE DECISION'!AI203)","v":""},{"$f":"IF('TABLA DE DECISION'!AJ203='TABLA DE DECISION'!AJ$157,CONCATENATE($B49,\"(\",'TABLA DE DECISION'!AJ$157,\")\"),'TABLA DE DECISION'!AJ203)","v":""},{"$f":"IF('TABLA DE DECISION'!AK203='TABLA DE DECISION'!AK$157,CONCATENATE($B49,\"(\",'TABLA DE DECISION'!AK$157,\")\"),'TABLA DE DECISION'!AK203)","v":""},{"$f":"IF('TABLA DE DECISION'!AL203='TABLA DE DECISION'!AL$157,CONCATENATE($B49,\"(\",'TABLA DE DECISION'!AL$157,\")\"),'TABLA DE DECISION'!AL203)","v":""},{"$f":"IF('TABLA DE DECISION'!AM203='TABLA DE DECISION'!AM$157,CONCATENATE($B49,\"(\",'TABLA DE DECISION'!AM$157,\")\"),'TABLA DE DECISION'!AM203)","v":""},{"$f":"IF('TABLA DE DECISION'!AN203='TABLA DE DECISION'!AN$157,CONCATENATE($B49,\"(\",'TABLA DE DECISION'!AN$157,\")\"),'TABLA DE DECISION'!AN203)","v":""},{"$f":"IF('TABLA DE DECISION'!AO203='TABLA DE DECISION'!AO$157,CONCATENATE($B49,\"(\",'TABLA DE DECISION'!AO$157,\")\"),'TABLA DE DECISION'!AO203)","v":""},{"$f":"IF('TABLA DE DECISION'!AP203='TABLA DE DECISION'!AP$157,CONCATENATE($B49,\"(\",'TABLA DE DECISION'!AP$157,\")\"),'TABLA DE DECISION'!AP203)","v":""},{"$f":"IF('TABLA DE DECISION'!AQ203='TABLA DE DECISION'!AQ$157,CONCATENATE($B49,\"(\",'TABLA DE DECISION'!AQ$157,\")\"),'TABLA DE DECISION'!AQ203)","v":""},{"$f":"IF('TABLA DE DECISION'!AR203='TABLA DE DECISION'!AR$157,CONCATENATE($B49,\"(\",'TABLA DE DECISION'!AR$157,\")\"),'TABLA DE DECISION'!AR203)","v":""},{"$f":"IF('TABLA DE DECISION'!AS203='TABLA DE DECISION'!AS$157,CONCATENATE($B49,\"(\",'TABLA DE DECISION'!AS$157,\")\"),'TABLA DE DECISION'!AS203)","v":""},{"$f":"IF('TABLA DE DECISION'!AT203='TABLA DE DECISION'!AT$157,CONCATENATE($B49,\"(\",'TABLA DE DECISION'!AT$157,\")\"),'TABLA DE DECISION'!AT203)","v":""},{"$f":"IF('TABLA DE DECISION'!AU203='TABLA DE DECISION'!AU$157,CONCATENATE($B49,\"(\",'TABLA DE DECISION'!AU$157,\")\"),'TABLA DE DECISION'!AU203)","v":""},{"$f":"IF('TABLA DE DECISION'!AV203='TABLA DE DECISION'!AV$157,CONCATENATE($B49,\"(\",'TABLA DE DECISION'!AV$157,\")\"),'TABLA DE DECISION'!AV203)","v":""},{"$f":"IF('TABLA DE DECISION'!AW203='TABLA DE DECISION'!AW$157,CONCATENATE($B49,\"(\",'TABLA DE DECISION'!AW$157,\")\"),'TABLA DE DECISION'!AW203)","v":""},{"$f":"IF('TABLA DE DECISION'!AX203='TABLA DE DECISION'!AX$157,CONCATENATE($B49,\"(\",'TABLA DE DECISION'!AX$157,\")\"),'TABLA DE DECISION'!AX203)","v":""},{"$f":"IF('TABLA DE DECISION'!AY203='TABLA DE DECISION'!AY$157,CONCATENATE($B49,\"(\",'TABLA DE DECISION'!AY$157,\")\"),'TABLA DE DECISION'!AY203)","v":""},{"$f":"IF('TABLA DE DECISION'!AZ203='TABLA DE DECISION'!AZ$157,CONCATENATE($B49,\"(\",'TABLA DE DECISION'!AZ$157,\")\"),'TABLA DE DECISION'!AZ203)","v":""},{"$f":"IF('TABLA DE DECISION'!BA203='TABLA DE DECISION'!BA$157,CONCATENATE($B49,\"(\",'TABLA DE DECISION'!BA$157,\")\"),'TABLA DE DECISION'!BA203)","v":""},{"$f":"IF('TABLA DE DECISION'!BB203='TABLA DE DECISION'!BB$157,CONCATENATE($B49,\"(\",'TABLA DE DECISION'!BB$157,\")\"),'TABLA DE DECISION'!BB203)","v":""},{"$f":"IF('TABLA DE DECISION'!BC203='TABLA DE DECISION'!BC$157,CONCATENATE($B49,\"(\",'TABLA DE DECISION'!BC$157,\")\"),'TABLA DE DECISION'!BC203)","v":""},{"$f":"IF('TABLA DE DECISION'!BD203='TABLA DE DECISION'!BD$157,CONCATENATE($B49,\"(\",'TABLA DE DECISION'!BD$157,\")\"),'TABLA DE DECISION'!BD203)","v":""}]
[{"$f":"IF('TABLA DE DECISION'!BF204=\"\",\"\",'TABLA DE DECISION'!BF204)","v":""},{"$f":"'TABLA DE DECISION'!BG204","v":"a46"},{"$f":"IF('TABLA DE DECISION'!A204='TABLA DE DECISION'!A$157,CONCATENATE($B50,\"(\",'TABLA DE DECISION'!A$157,\")\"),'TABLA DE DECISION'!A204)","v":""},{"$f":"IF('TABLA DE DECISION'!B204='TABLA DE DECISION'!B$157,CONCATENATE($B50,\"(\",'TABLA DE DECISION'!B$157,\")\"),'TABLA DE DECISION'!B204)","v":""},{"$f":"IF('TABLA DE DECISION'!C204='TABLA DE DECISION'!C$157,CONCATENATE($B50,\"(\",'TABLA DE DECISION'!C$157,\")\"),'TABLA DE DECISION'!C204)","v":""},{"$f":"IF('TABLA DE DECISION'!D204='TABLA DE DECISION'!D$157,CONCATENATE($B50,\"(\",'TABLA DE DECISION'!D$157,\")\"),'TABLA DE DECISION'!D204)","v":""},{"$f":"IF('TABLA DE DECISION'!E204='TABLA DE DECISION'!E$157,CONCATENATE($B50,\"(\",'TABLA DE DECISION'!E$157,\")\"),'TABLA DE DECISION'!E204)","v":""},{"$f":"IF('MATRIZ-PÉRDIDA OPORTUNIDAD'!BB48='MATRIZ-PÉRDIDA OPORTUNIDAD'!BB$2,CONCATENATE($B50,\"(\",'MATRIZ-PÉRDIDA OPORTUNIDAD'!BB$2,\")\"),'MATRIZ-PÉRDIDA OPORTUNIDAD'!BB48)","v":""},{"$f":"IF('TABLA DE DECISION'!G204='TABLA DE DECISION'!G$157,CONCATENATE($B50,\"(\",'TABLA DE DECISION'!G$157,\")\"),'TABLA DE DECISION'!G204)","v":""},{"$f":"IF('TABLA DE DECISION'!H204='TABLA DE DECISION'!H$157,CONCATENATE($B50,\"(\",'TABLA DE DECISION'!H$157,\")\"),'TABLA DE DECISION'!H204)","v":""},{"$f":"IF('TABLA DE DECISION'!I204='TABLA DE DECISION'!I$157,CONCATENATE($B50,\"(\",'TABLA DE DECISION'!I$157,\")\"),'TABLA DE DECISION'!I204)","v":""},{"$f":"IF('TABLA DE DECISION'!J204='TABLA DE DECISION'!J$157,CONCATENATE($B50,\"(\",'TABLA DE DECISION'!J$157,\")\"),'TABLA DE DECISION'!J204)","v":""},{"$f":"IF('TABLA DE DECISION'!K204='TABLA DE DECISION'!K$157,CONCATENATE($B50,\"(\",'TABLA DE DECISION'!K$157,\")\"),'TABLA DE DECISION'!K204)","v":""},{"$f":"IF('TABLA DE DECISION'!L204='TABLA DE DECISION'!L$157,CONCATENATE($B50,\"(\",'TABLA DE DECISION'!L$157,\")\"),'TABLA DE DECISION'!L204)","v":""},{"$f":"IF('TABLA DE DECISION'!M204='TABLA DE DECISION'!M$157,CONCATENATE($B50,\"(\",'TABLA DE DECISION'!M$157,\")\"),'TABLA DE DECISION'!M204)","v":""},{"$f":"IF('TABLA DE DECISION'!N204='TABLA DE DECISION'!N$157,CONCATENATE($B50,\"(\",'TABLA DE DECISION'!N$157,\")\"),'TABLA DE DECISION'!N204)","v":""},{"$f":"IF('TABLA DE DECISION'!O204='TABLA DE DECISION'!O$157,CONCATENATE($B50,\"(\",'TABLA DE DECISION'!O$157,\")\"),'TABLA DE DECISION'!O204)","v":""},{"$f":"IF('TABLA DE DECISION'!P204='TABLA DE DECISION'!P$157,CONCATENATE($B50,\"(\",'TABLA DE DECISION'!P$157,\")\"),'TABLA DE DECISION'!P204)","v":""},{"$f":"IF('TABLA DE DECISION'!Q204='TABLA DE DECISION'!Q$157,CONCATENATE($B50,\"(\",'TABLA DE DECISION'!Q$157,\")\"),'TABLA DE DECISION'!Q204)","v":""},{"$f":"IF('TABLA DE DECISION'!R204='TABLA DE DECISION'!R$157,CONCATENATE($B50,\"(\",'TABLA DE DECISION'!R$157,\")\"),'TABLA DE DECISION'!R204)","v":""},{"$f":"IF('TABLA DE DECISION'!S204='TABLA DE DECISION'!S$157,CONCATENATE($B50,\"(\",'TABLA DE DECISION'!S$157,\")\"),'TABLA DE DECISION'!S204)","v":""},{"$f":"IF('TABLA DE DECISION'!T204='TABLA DE DECISION'!T$157,CONCATENATE($B50,\"(\",'TABLA DE DECISION'!T$157,\")\"),'TABLA DE DECISION'!T204)","v":""},{"$f":"IF('TABLA DE DECISION'!U204='TABLA DE DECISION'!U$157,CONCATENATE($B50,\"(\",'TABLA DE DECISION'!U$157,\")\"),'TABLA DE DECISION'!U204)","v":""},{"$f":"IF('TABLA DE DECISION'!V204='TABLA DE DECISION'!V$157,CONCATENATE($B50,\"(\",'TABLA DE DECISION'!V$157,\")\"),'TABLA DE DECISION'!V204)","v":""},{"$f":"IF('TABLA DE DECISION'!W204='TABLA DE DECISION'!W$157,CONCATENATE($B50,\"(\",'TABLA DE DECISION'!W$157,\")\"),'TABLA DE DECISION'!W204)","v":""},{"$f":"IF('TABLA DE DECISION'!X204='TABLA DE DECISION'!X$157,CONCATENATE($B50,\"(\",'TABLA DE DECISION'!X$157,\")\"),'TABLA DE DECISION'!X204)","v":""},{"$f":"IF('TABLA DE DECISION'!Y204='TABLA DE DECISION'!Y$157,CONCATENATE($B50,\"(\",'TABLA DE DECISION'!Y$157,\")\"),'TABLA DE DECISION'!Y204)","v":""},{"$f":"IF('TABLA DE DECISION'!Z204='TABLA DE DECISION'!Z$157,CONCATENATE($B50,\"(\",'TABLA DE DECISION'!Z$157,\")\"),'TABLA DE DECISION'!Z204)","v":""},{"$f":"IF('TABLA DE DECISION'!AA204='TABLA DE DECISION'!AA$157,CONCATENATE($B50,\"(\",'TABLA DE DECISION'!AA$157,\")\"),'TABLA DE DECISION'!AA204)","v":""},{"$f":"IF('TABLA DE DECISION'!AB204='TABLA DE DECISION'!AB$157,CONCATENATE($B50,\"(\",'TABLA DE DECISION'!AB$157,\")\"),'TABLA DE DECISION'!AB204)","v":""},{"$f":"IF('TABLA DE DECISION'!AC204='TABLA DE DECISION'!AC$157,CONCATENATE($B50,\"(\",'TABLA DE DECISION'!AC$157,\")\"),'TABLA DE DECISION'!AC204)","v":""},{"$f":"IF('TABLA DE DECISION'!AD204='TABLA DE DECISION'!AD$157,CONCATENATE($B50,\"(\",'TABLA DE DECISION'!AD$157,\")\"),'TABLA DE DECISION'!AD204)","v":""},{"$f":"IF('TABLA DE DECISION'!AE204='TABLA DE DECISION'!AE$157,CONCATENATE($B50,\"(\",'TABLA DE DECISION'!AE$157,\")\"),'TABLA DE DECISION'!AE204)","v":""},{"$f":"IF('TABLA DE DECISION'!AF204='TABLA DE DECISION'!AF$157,CONCATENATE($B50,\"(\",'TABLA DE DECISION'!AF$157,\")\"),'TABLA DE DECISION'!AF204)","v":""},{"$f":"IF('TABLA DE DECISION'!AG204='TABLA DE DECISION'!AG$157,CONCATENATE($B50,\"(\",'TABLA DE DECISION'!AG$157,\")\"),'TABLA DE DECISION'!AG204)","v":""},{"$f":"IF('TABLA DE DECISION'!AH204='TABLA DE DECISION'!AH$157,CONCATENATE($B50,\"(\",'TABLA DE DECISION'!AH$157,\")\"),'TABLA DE DECISION'!AH204)","v":""},{"$f":"IF('TABLA DE DECISION'!AI204='TABLA DE DECISION'!AI$157,CONCATENATE($B50,\"(\",'TABLA DE DECISION'!AI$157,\")\"),'TABLA DE DECISION'!AI204)","v":""},{"$f":"IF('TABLA DE DECISION'!AJ204='TABLA DE DECISION'!AJ$157,CONCATENATE($B50,\"(\",'TABLA DE DECISION'!AJ$157,\")\"),'TABLA DE DECISION'!AJ204)","v":""},{"$f":"IF('TABLA DE DECISION'!AK204='TABLA DE DECISION'!AK$157,CONCATENATE($B50,\"(\",'TABLA DE DECISION'!AK$157,\")\"),'TABLA DE DECISION'!AK204)","v":""},{"$f":"IF('TABLA DE DECISION'!AL204='TABLA DE DECISION'!AL$157,CONCATENATE($B50,\"(\",'TABLA DE DECISION'!AL$157,\")\"),'TABLA DE DECISION'!AL204)","v":""},{"$f":"IF('TABLA DE DECISION'!AM204='TABLA DE DECISION'!AM$157,CONCATENATE($B50,\"(\",'TABLA DE DECISION'!AM$157,\")\"),'TABLA DE DECISION'!AM204)","v":""},{"$f":"IF('TABLA DE DECISION'!AN204='TABLA DE DECISION'!AN$157,CONCATENATE($B50,\"(\",'TABLA DE DECISION'!AN$157,\")\"),'TABLA DE DECISION'!AN204)","v":""},{"$f":"IF('TABLA DE DECISION'!AO204='TABLA DE DECISION'!AO$157,CONCATENATE($B50,\"(\",'TABLA DE DECISION'!AO$157,\")\"),'TABLA DE DECISION'!AO204)","v":""},{"$f":"IF('TABLA DE DECISION'!AP204='TABLA DE DECISION'!AP$157,CONCATENATE($B50,\"(\",'TABLA DE DECISION'!AP$157,\")\"),'TABLA DE DECISION'!AP204)","v":""},{"$f":"IF('TABLA DE DECISION'!AQ204='TABLA DE DECISION'!AQ$157,CONCATENATE($B50,\"(\",'TABLA DE DECISION'!AQ$157,\")\"),'TABLA DE DECISION'!AQ204)","v":""},{"$f":"IF('TABLA DE DECISION'!AR204='TABLA DE DECISION'!AR$157,CONCATENATE($B50,\"(\",'TABLA DE DECISION'!AR$157,\")\"),'TABLA DE DECISION'!AR204)","v":""},{"$f":"IF('TABLA DE DECISION'!AS204='TABLA DE DECISION'!AS$157,CONCATENATE($B50,\"(\",'TABLA DE DECISION'!AS$157,\")\"),'TABLA DE DECISION'!AS204)","v":""},{"$f":"IF('TABLA DE DECISION'!AT204='TABLA DE DECISION'!AT$157,CONCATENATE($B50,\"(\",'TABLA DE DECISION'!AT$157,\")\"),'TABLA DE DECISION'!AT204)","v":""},{"$f":"IF('TABLA DE DECISION'!AU204='TABLA DE DECISION'!AU$157,CONCATENATE($B50,\"(\",'TABLA DE DECISION'!AU$157,\")\"),'TABLA DE DECISION'!AU204)","v":""},{"$f":"IF('TABLA DE DECISION'!AV204='TABLA DE DECISION'!AV$157,CONCATENATE($B50,\"(\",'TABLA DE DECISION'!AV$157,\")\"),'TABLA DE DECISION'!AV204)","v":""},{"$f":"IF('TABLA DE DECISION'!AW204='TABLA DE DECISION'!AW$157,CONCATENATE($B50,\"(\",'TABLA DE DECISION'!AW$157,\")\"),'TABLA DE DECISION'!AW204)","v":""},{"$f":"IF('TABLA DE DECISION'!AX204='TABLA DE DECISION'!AX$157,CONCATENATE($B50,\"(\",'TABLA DE DECISION'!AX$157,\")\"),'TABLA DE DECISION'!AX204)","v":""},{"$f":"IF('TABLA DE DECISION'!AY204='TABLA DE DECISION'!AY$157,CONCATENATE($B50,\"(\",'TABLA DE DECISION'!AY$157,\")\"),'TABLA DE DECISION'!AY204)","v":""},{"$f":"IF('TABLA DE DECISION'!AZ204='TABLA DE DECISION'!AZ$157,CONCATENATE($B50,\"(\",'TABLA DE DECISION'!AZ$157,\")\"),'TABLA DE DECISION'!AZ204)","v":""},{"$f":"IF('TABLA DE DECISION'!BA204='TABLA DE DECISION'!BA$157,CONCATENATE($B50,\"(\",'TABLA DE DECISION'!BA$157,\")\"),'TABLA DE DECISION'!BA204)","v":""},{"$f":"IF('TABLA DE DECISION'!BB204='TABLA DE DECISION'!BB$157,CONCATENATE($B50,\"(\",'TABLA DE DECISION'!BB$157,\")\"),'TABLA DE DECISION'!BB204)","v":""},{"$f":"IF('TABLA DE DECISION'!BC204='TABLA DE DECISION'!BC$157,CONCATENATE($B50,\"(\",'TABLA DE DECISION'!BC$157,\")\"),'TABLA DE DECISION'!BC204)","v":""},{"$f":"IF('TABLA DE DECISION'!BD204='TABLA DE DECISION'!BD$157,CONCATENATE($B50,\"(\",'TABLA DE DECISION'!BD$157,\")\"),'TABLA DE DECISION'!BD204)","v":""}]
[{"$f":"IF('TABLA DE DECISION'!BF205=\"\",\"\",'TABLA DE DECISION'!BF205)","v":""},{"$f":"'TABLA DE DECISION'!BG205","v":"a47"},{"$f":"IF('TABLA DE DECISION'!A205='TABLA DE DECISION'!A$157,CONCATENATE($B51,\"(\",'TABLA DE DECISION'!A$157,\")\"),'TABLA DE DECISION'!A205)","v":""},{"$f":"IF('TABLA DE DECISION'!B205='TABLA DE DECISION'!B$157,CONCATENATE($B51,\"(\",'TABLA DE DECISION'!B$157,\")\"),'TABLA DE DECISION'!B205)","v":""},{"$f":"IF('TABLA DE DECISION'!C205='TABLA DE DECISION'!C$157,CONCATENATE($B51,\"(\",'TABLA DE DECISION'!C$157,\")\"),'TABLA DE DECISION'!C205)","v":""},{"$f":"IF('TABLA DE DECISION'!D205='TABLA DE DECISION'!D$157,CONCATENATE($B51,\"(\",'TABLA DE DECISION'!D$157,\")\"),'TABLA DE DECISION'!D205)","v":""},{"$f":"IF('TABLA DE DECISION'!E205='TABLA DE DECISION'!E$157,CONCATENATE($B51,\"(\",'TABLA DE DECISION'!E$157,\")\"),'TABLA DE DECISION'!E205)","v":""},{"$f":"IF('MATRIZ-PÉRDIDA OPORTUNIDAD'!BB49='MATRIZ-PÉRDIDA OPORTUNIDAD'!BB$2,CONCATENATE($B51,\"(\",'MATRIZ-PÉRDIDA OPORTUNIDAD'!BB$2,\")\"),'MATRIZ-PÉRDIDA OPORTUNIDAD'!BB49)","v":""},{"$f":"IF('TABLA DE DECISION'!G205='TABLA DE DECISION'!G$157,CONCATENATE($B51,\"(\",'TABLA DE DECISION'!G$157,\")\"),'TABLA DE DECISION'!G205)","v":""},{"$f":"IF('TABLA DE DECISION'!H205='TABLA DE DECISION'!H$157,CONCATENATE($B51,\"(\",'TABLA DE DECISION'!H$157,\")\"),'TABLA DE DECISION'!H205)","v":""},{"$f":"IF('TABLA DE DECISION'!I205='TABLA DE DECISION'!I$157,CONCATENATE($B51,\"(\",'TABLA DE DECISION'!I$157,\")\"),'TABLA DE DECISION'!I205)","v":""},{"$f":"IF('TABLA DE DECISION'!J205='TABLA DE DECISION'!J$157,CONCATENATE($B51,\"(\",'TABLA DE DECISION'!J$157,\")\"),'TABLA DE DECISION'!J205)","v":""},{"$f":"IF('TABLA DE DECISION'!K205='TABLA DE DECISION'!K$157,CONCATENATE($B51,\"(\",'TABLA DE DECISION'!K$157,\")\"),'TABLA DE DECISION'!K205)","v":""},{"$f":"IF('TABLA DE DECISION'!L205='TABLA DE DECISION'!L$157,CONCATENATE($B51,\"(\",'TABLA DE DECISION'!L$157,\")\"),'TABLA DE DECISION'!L205)","v":""},{"$f":"IF('TABLA DE DECISION'!M205='TABLA DE DECISION'!M$157,CONCATENATE($B51,\"(\",'TABLA DE DECISION'!M$157,\")\"),'TABLA DE DECISION'!M205)","v":""},{"$f":"IF('TABLA DE DECISION'!N205='TABLA DE DECISION'!N$157,CONCATENATE($B51,\"(\",'TABLA DE DECISION'!N$157,\")\"),'TABLA DE DECISION'!N205)","v":""},{"$f":"IF('TABLA DE DECISION'!O205='TABLA DE DECISION'!O$157,CONCATENATE($B51,\"(\",'TABLA DE DECISION'!O$157,\")\"),'TABLA DE DECISION'!O205)","v":""},{"$f":"IF('TABLA DE DECISION'!P205='TABLA DE DECISION'!P$157,CONCATENATE($B51,\"(\",'TABLA DE DECISION'!P$157,\")\"),'TABLA DE DECISION'!P205)","v":""},{"$f":"IF('TABLA DE DECISION'!Q205='TABLA DE DECISION'!Q$157,CONCATENATE($B51,\"(\",'TABLA DE DECISION'!Q$157,\")\"),'TABLA DE DECISION'!Q205)","v":""},{"$f":"IF('TABLA DE DECISION'!R205='TABLA DE DECISION'!R$157,CONCATENATE($B51,\"(\",'TABLA DE DECISION'!R$157,\")\"),'TABLA DE DECISION'!R205)","v":""},{"$f":"IF('TABLA DE DECISION'!S205='TABLA DE DECISION'!S$157,CONCATENATE($B51,\"(\",'TABLA DE DECISION'!S$157,\")\"),'TABLA DE DECISION'!S205)","v":""},{"$f":"IF('TABLA DE DECISION'!T205='TABLA DE DECISION'!T$157,CONCATENATE($B51,\"(\",'TABLA DE DECISION'!T$157,\")\"),'TABLA DE DECISION'!T205)","v":""},{"$f":"IF('TABLA DE DECISION'!U205='TABLA DE DECISION'!U$157,CONCATENATE($B51,\"(\",'TABLA DE DECISION'!U$157,\")\"),'TABLA DE DECISION'!U205)","v":""},{"$f":"IF('TABLA DE DECISION'!V205='TABLA DE DECISION'!V$157,CONCATENATE($B51,\"(\",'TABLA DE DECISION'!V$157,\")\"),'TABLA DE DECISION'!V205)","v":""},{"$f":"IF('TABLA DE DECISION'!W205='TABLA DE DECISION'!W$157,CONCATENATE($B51,\"(\",'TABLA DE DECISION'!W$157,\")\"),'TABLA DE DECISION'!W205)","v":""},{"$f":"IF('TABLA DE DECISION'!X205='TABLA DE DECISION'!X$157,CONCATENATE($B51,\"(\",'TABLA DE DECISION'!X$157,\")\"),'TABLA DE DECISION'!X205)","v":""},{"$f":"IF('TABLA DE DECISION'!Y205='TABLA DE DECISION'!Y$157,CONCATENATE($B51,\"(\",'TABLA DE DECISION'!Y$157,\")\"),'TABLA DE DECISION'!Y205)","v":""},{"$f":"IF('TABLA DE DECISION'!Z205='TABLA DE DECISION'!Z$157,CONCATENATE($B51,\"(\",'TABLA DE DECISION'!Z$157,\")\"),'TABLA DE DECISION'!Z205)","v":""},{"$f":"IF('TABLA DE DECISION'!AA205='TABLA DE DECISION'!AA$157,CONCATENATE($B51,\"(\",'TABLA DE DECISION'!AA$157,\")\"),'TABLA DE DECISION'!AA205)","v":""},{"$f":"IF('TABLA DE DECISION'!AB205='TABLA DE DECISION'!AB$157,CONCATENATE($B51,\"(\",'TABLA DE DECISION'!AB$157,\")\"),'TABLA DE DECISION'!AB205)","v":""},{"$f":"IF('TABLA DE DECISION'!AC205='TABLA DE DECISION'!AC$157,CONCATENATE($B51,\"(\",'TABLA DE DECISION'!AC$157,\")\"),'TABLA DE DECISION'!AC205)","v":""},{"$f":"IF('TABLA DE DECISION'!AD205='TABLA DE DECISION'!AD$157,CONCATENATE($B51,\"(\",'TABLA DE DECISION'!AD$157,\")\"),'TABLA DE DECISION'!AD205)","v":""},{"$f":"IF('TABLA DE DECISION'!AE205='TABLA DE DECISION'!AE$157,CONCATENATE($B51,\"(\",'TABLA DE DECISION'!AE$157,\")\"),'TABLA DE DECISION'!AE205)","v":""},{"$f":"IF('TABLA DE DECISION'!AF205='TABLA DE DECISION'!AF$157,CONCATENATE($B51,\"(\",'TABLA DE DECISION'!AF$157,\")\"),'TABLA DE DECISION'!AF205)","v":""},{"$f":"IF('TABLA DE DECISION'!AG205='TABLA DE DECISION'!AG$157,CONCATENATE($B51,\"(\",'TABLA DE DECISION'!AG$157,\")\"),'TABLA DE DECISION'!AG205)","v":""},{"$f":"IF('TABLA DE DECISION'!AH205='TABLA DE DECISION'!AH$157,CONCATENATE($B51,\"(\",'TABLA DE DECISION'!AH$157,\")\"),'TABLA DE DECISION'!AH205)","v":""},{"$f":"IF('TABLA DE DECISION'!AI205='TABLA DE DECISION'!AI$157,CONCATENATE($B51,\"(\",'TABLA DE DECISION'!AI$157,\")\"),'TABLA DE DECISION'!AI205)","v":""},{"$f":"IF('TABLA DE DECISION'!AJ205='TABLA DE DECISION'!AJ$157,CONCATENATE($B51,\"(\",'TABLA DE DECISION'!AJ$157,\")\"),'TABLA DE DECISION'!AJ205)","v":""},{"$f":"IF('TABLA DE DECISION'!AK205='TABLA DE DECISION'!AK$157,CONCATENATE($B51,\"(\",'TABLA DE DECISION'!AK$157,\")\"),'TABLA DE DECISION'!AK205)","v":""},{"$f":"IF('TABLA DE DECISION'!AL205='TABLA DE DECISION'!AL$157,CONCATENATE($B51,\"(\",'TABLA DE DECISION'!AL$157,\")\"),'TABLA DE DECISION'!AL205)","v":""},{"$f":"IF('TABLA DE DECISION'!AM205='TABLA DE DECISION'!AM$157,CONCATENATE($B51,\"(\",'TABLA DE DECISION'!AM$157,\")\"),'TABLA DE DECISION'!AM205)","v":""},{"$f":"IF('TABLA DE DECISION'!AN205='TABLA DE DECISION'!AN$157,CONCATENATE($B51,\"(\",'TABLA DE DECISION'!AN$157,\")\"),'TABLA DE DECISION'!AN205)","v":""},{"$f":"IF('TABLA DE DECISION'!AO205='TABLA DE DECISION'!AO$157,CONCATENATE($B51,\"(\",'TABLA DE DECISION'!AO$157,\")\"),'TABLA DE DECISION'!AO205)","v":""},{"$f":"IF('TABLA DE DECISION'!AP205='TABLA DE DECISION'!AP$157,CONCATENATE($B51,\"(\",'TABLA DE DECISION'!AP$157,\")\"),'TABLA DE DECISION'!AP205)","v":""},{"$f":"IF('TABLA DE DECISION'!AQ205='TABLA DE DECISION'!AQ$157,CONCATENATE($B51,\"(\",'TABLA DE DECISION'!AQ$157,\")\"),'TABLA DE DECISION'!AQ205)","v":""},{"$f":"IF('TABLA DE DECISION'!AR205='TABLA DE DECISION'!AR$157,CONCATENATE($B51,\"(\",'TABLA DE DECISION'!AR$157,\")\"),'TABLA DE DECISION'!AR205)","v":""},{"$f":"IF('TABLA DE DECISION'!AS205='TABLA DE DECISION'!AS$157,CONCATENATE($B51,\"(\",'TABLA DE DECISION'!AS$157,\")\"),'TABLA DE DECISION'!AS205)","v":""},{"$f":"IF('TABLA DE DECISION'!AT205='TABLA DE DECISION'!AT$157,CONCATENATE($B51,\"(\",'TABLA DE DECISION'!AT$157,\")\"),'TABLA DE DECISION'!AT205)","v":""},{"$f":"IF('TABLA DE DECISION'!AU205='TABLA DE DECISION'!AU$157,CONCATENATE($B51,\"(\",'TABLA DE DECISION'!AU$157,\")\"),'TABLA DE DECISION'!AU205)","v":""},{"$f":"IF('TABLA DE DECISION'!AV205='TABLA DE DECISION'!AV$157,CONCATENATE($B51,\"(\",'TABLA DE DECISION'!AV$157,\")\"),'TABLA DE DECISION'!AV205)","v":""},{"$f":"IF('TABLA DE DECISION'!AW205='TABLA DE DECISION'!AW$157,CONCATENATE($B51,\"(\",'TABLA DE DECISION'!AW$157,\")\"),'TABLA DE DECISION'!AW205)","v":""},{"$f":"IF('TABLA DE DECISION'!AX205='TABLA DE DECISION'!AX$157,CONCATENATE($B51,\"(\",'TABLA DE DECISION'!AX$157,\")\"),'TABLA DE DECISION'!AX205)","v":""},{"$f":"IF('TABLA DE DECISION'!AY205='TABLA DE DECISION'!AY$157,CONCATENATE($B51,\"(\",'TABLA DE DECISION'!AY$157,\")\"),'TABLA DE DECISION'!AY205)","v":""},{"$f":"IF('TABLA DE DECISION'!AZ205='TABLA DE DECISION'!AZ$157,CONCATENATE($B51,\"(\",'TABLA DE DECISION'!AZ$157,\")\"),'TABLA DE DECISION'!AZ205)","v":""},{"$f":"IF('TABLA DE DECISION'!BA205='TABLA DE DECISION'!BA$157,CONCATENATE($B51,\"(\",'TABLA DE DECISION'!BA$157,\")\"),'TABLA DE DECISION'!BA205)","v":""},{"$f":"IF('TABLA DE DECISION'!BB205='TABLA DE DECISION'!BB$157,CONCATENATE($B51,\"(\",'TABLA DE DECISION'!BB$157,\")\"),'TABLA DE DECISION'!BB205)","v":""},{"$f":"IF('TABLA DE DECISION'!BC205='TABLA DE DECISION'!BC$157,CONCATENATE($B51,\"(\",'TABLA DE DECISION'!BC$157,\")\"),'TABLA DE DECISION'!BC205)","v":""},{"$f":"IF('TABLA DE DECISION'!BD205='TABLA DE DECISION'!BD$157,CONCATENATE($B51,\"(\",'TABLA DE DECISION'!BD$157,\")\"),'TABLA DE DECISION'!BD205)","v":""}]
[{"$f":"IF('TABLA DE DECISION'!BF206=\"\",\"\",'TABLA DE DECISION'!BF206)","v":""},{"$f":"'TABLA DE DECISION'!BG206","v":"a48"},{"$f":"IF('TABLA DE DECISION'!A206='TABLA DE DECISION'!A$157,CONCATENATE($B52,\"(\",'TABLA DE DECISION'!A$157,\")\"),'TABLA DE DECISION'!A206)","v":""},{"$f":"IF('TABLA DE DECISION'!B206='TABLA DE DECISION'!B$157,CONCATENATE($B52,\"(\",'TABLA DE DECISION'!B$157,\")\"),'TABLA DE DECISION'!B206)","v":""},{"$f":"IF('TABLA DE DECISION'!C206='TABLA DE DECISION'!C$157,CONCATENATE($B52,\"(\",'TABLA DE DECISION'!C$157,\")\"),'TABLA DE DECISION'!C206)","v":""},{"$f":"IF('TABLA DE DECISION'!D206='TABLA DE DECISION'!D$157,CONCATENATE($B52,\"(\",'TABLA DE DECISION'!D$157,\")\"),'TABLA DE DECISION'!D206)","v":""},{"$f":"IF('TABLA DE DECISION'!E206='TABLA DE DECISION'!E$157,CONCATENATE($B52,\"(\",'TABLA DE DECISION'!E$157,\")\"),'TABLA DE DECISION'!E206)","v":""},{"$f":"IF('MATRIZ-PÉRDIDA OPORTUNIDAD'!BB50='MATRIZ-PÉRDIDA OPORTUNIDAD'!BB$2,CONCATENATE($B52,\"(\",'MATRIZ-PÉRDIDA OPORTUNIDAD'!BB$2,\")\"),'MATRIZ-PÉRDIDA OPORTUNIDAD'!BB50)","v":""},{"$f":"IF('TABLA DE DECISION'!G206='TABLA DE DECISION'!G$157,CONCATENATE($B52,\"(\",'TABLA DE DECISION'!G$157,\")\"),'TABLA DE DECISION'!G206)","v":""},{"$f":"IF('TABLA DE DECISION'!H206='TABLA DE DECISION'!H$157,CONCATENATE($B52,\"(\",'TABLA DE DECISION'!H$157,\")\"),'TABLA DE DECISION'!H206)","v":""},{"$f":"IF('TABLA DE DECISION'!I206='TABLA DE DECISION'!I$157,CONCATENATE($B52,\"(\",'TABLA DE DECISION'!I$157,\")\"),'TABLA DE DECISION'!I206)","v":""},{"$f":"IF('TABLA DE DECISION'!J206='TABLA DE DECISION'!J$157,CONCATENATE($B52,\"(\",'TABLA DE DECISION'!J$157,\")\"),'TABLA DE DECISION'!J206)","v":""},{"$f":"IF('TABLA DE DECISION'!K206='TABLA DE DECISION'!K$157,CONCATENATE($B52,\"(\",'TABLA DE DECISION'!K$157,\")\"),'TABLA DE DECISION'!K206)","v":""},{"$f":"IF('TABLA DE DECISION'!L206='TABLA DE DECISION'!L$157,CONCATENATE($B52,\"(\",'TABLA DE DECISION'!L$157,\")\"),'TABLA DE DECISION'!L206)","v":""},{"$f":"IF('TABLA DE DECISION'!M206='TABLA DE DECISION'!M$157,CONCATENATE($B52,\"(\",'TABLA DE DECISION'!M$157,\")\"),'TABLA DE DECISION'!M206)","v":""},{"$f":"IF('TABLA DE DECISION'!N206='TABLA DE DECISION'!N$157,CONCATENATE($B52,\"(\",'TABLA DE DECISION'!N$157,\")\"),'TABLA DE DECISION'!N206)","v":""},{"$f":"IF('TABLA DE DECISION'!O206='TABLA DE DECISION'!O$157,CONCATENATE($B52,\"(\",'TABLA DE DECISION'!O$157,\")\"),'TABLA DE DECISION'!O206)","v":""},{"$f":"IF('TABLA DE DECISION'!P206='TABLA DE DECISION'!P$157,CONCATENATE($B52,\"(\",'TABLA DE DECISION'!P$157,\")\"),'TABLA DE DECISION'!P206)","v":""},{"$f":"IF('TABLA DE DECISION'!Q206='TABLA DE DECISION'!Q$157,CONCATENATE($B52,\"(\",'TABLA DE DECISION'!Q$157,\")\"),'TABLA DE DECISION'!Q206)","v":""},{"$f":"IF('TABLA DE DECISION'!R206='TABLA DE DECISION'!R$157,CONCATENATE($B52,\"(\",'TABLA DE DECISION'!R$157,\")\"),'TABLA DE DECISION'!R206)","v":""},{"$f":"IF('TABLA DE DECISION'!S206='TABLA DE DECISION'!S$157,CONCATENATE($B52,\"(\",'TABLA DE DECISION'!S$157,\")\"),'TABLA DE DECISION'!S206)","v":""},{"$f":"IF('TABLA DE DECISION'!T206='TABLA DE DECISION'!T$157,CONCATENATE($B52,\"(\",'TABLA DE DECISION'!T$157,\")\"),'TABLA DE DECISION'!T206)","v":""},{"$f":"IF('TABLA DE DECISION'!U206='TABLA DE DECISION'!U$157,CONCATENATE($B52,\"(\",'TABLA DE DECISION'!U$157,\")\"),'TABLA DE DECISION'!U206)","v":""},{"$f":"IF('TABLA DE DECISION'!V206='TABLA DE DECISION'!V$157,CONCATENATE($B52,\"(\",'TABLA DE DECISION'!V$157,\")\"),'TABLA DE DECISION'!V206)","v":""},{"$f":"IF('TABLA DE DECISION'!W206='TABLA DE DECISION'!W$157,CONCATENATE($B52,\"(\",'TABLA DE DECISION'!W$157,\")\"),'TABLA DE DECISION'!W206)","v":""},{"$f":"IF('TABLA DE DECISION'!X206='TABLA DE DECISION'!X$157,CONCATENATE($B52,\"(\",'TABLA DE DECISION'!X$157,\")\"),'TABLA DE DECISION'!X206)","v":""},{"$f":"IF('TABLA DE DECISION'!Y206='TABLA DE DECISION'!Y$157,CONCATENATE($B52,\"(\",'TABLA DE DECISION'!Y$157,\")\"),'TABLA DE DECISION'!Y206)","v":""},{"$f":"IF('TABLA DE DECISION'!Z206='TABLA DE DECISION'!Z$157,CONCATENATE($B52,\"(\",'TABLA DE DECISION'!Z$157,\")\"),'TABLA DE DECISION'!Z206)","v":""},{"$f":"IF('TABLA DE DECISION'!AA206='TABLA DE DECISION'!AA$157,CONCATENATE($B52,\"(\",'TABLA DE DECISION'!AA$157,\")\"),'TABLA DE DECISION'!AA206)","v":""},{"$f":"IF('TABLA DE DECISION'!AB206='TABLA DE DECISION'!AB$157,CONCATENATE($B52,\"(\",'TABLA DE DECISION'!AB$157,\")\"),'TABLA DE DECISION'!AB206)","v":""},{"$f":"IF('TABLA DE DECISION'!AC206='TABLA DE DECISION'!AC$157,CONCATENATE($B52,\"(\",'TABLA DE DECISION'!AC$157,\")\"),'TABLA DE DECISION'!AC206)","v":""},{"$f":"IF('TABLA DE DECISION'!AD206='TABLA DE DECISION'!AD$157,CONCATENATE($B52,\"(\",'TABLA DE DECISION'!AD$157,\")\"),'TABLA DE DECISION'!AD206)","v":""},{"$f":"IF('TABLA DE DECISION'!AE206='TABLA DE DECISION'!AE$157,CONCATENATE($B52,\"(\",'TABLA DE DECISION'!AE$157,\")\"),'TABLA DE DECISION'!AE206)","v":""},{"$f":"IF('TABLA DE DECISION'!AF206='TABLA DE DECISION'!AF$157,CONCATENATE($B52,\"(\",'TABLA DE DECISION'!AF$157,\")\"),'TABLA DE DECISION'!AF206)","v":""},{"$f":"IF('TABLA DE DECISION'!AG206='TABLA DE DECISION'!AG$157,CONCATENATE($B52,\"(\",'TABLA DE DECISION'!AG$157,\")\"),'TABLA DE DECISION'!AG206)","v":""},{"$f":"IF('TABLA DE DECISION'!AH206='TABLA DE DECISION'!AH$157,CONCATENATE($B52,\"(\",'TABLA DE DECISION'!AH$157,\")\"),'TABLA DE DECISION'!AH206)","v":""},{"$f":"IF('TABLA DE DECISION'!AI206='TABLA DE DECISION'!AI$157,CONCATENATE($B52,\"(\",'TABLA DE DECISION'!AI$157,\")\"),'TABLA DE DECISION'!AI206)","v":""},{"$f":"IF('TABLA DE DECISION'!AJ206='TABLA DE DECISION'!AJ$157,CONCATENATE($B52,\"(\",'TABLA DE DECISION'!AJ$157,\")\"),'TABLA DE DECISION'!AJ206)","v":""},{"$f":"IF('TABLA DE DECISION'!AK206='TABLA DE DECISION'!AK$157,CONCATENATE($B52,\"(\",'TABLA DE DECISION'!AK$157,\")\"),'TABLA DE DECISION'!AK206)","v":""},{"$f":"IF('TABLA DE DECISION'!AL206='TABLA DE DECISION'!AL$157,CONCATENATE($B52,\"(\",'TABLA DE DECISION'!AL$157,\")\"),'TABLA DE DECISION'!AL206)","v":""},{"$f":"IF('TABLA DE DECISION'!AM206='TABLA DE DECISION'!AM$157,CONCATENATE($B52,\"(\",'TABLA DE DECISION'!AM$157,\")\"),'TABLA DE DECISION'!AM206)","v":""},{"$f":"IF('TABLA DE DECISION'!AN206='TABLA DE DECISION'!AN$157,CONCATENATE($B52,\"(\",'TABLA DE DECISION'!AN$157,\")\"),'TABLA DE DECISION'!AN206)","v":""},{"$f":"IF('TABLA DE DECISION'!AO206='TABLA DE DECISION'!AO$157,CONCATENATE($B52,\"(\",'TABLA DE DECISION'!AO$157,\")\"),'TABLA DE DECISION'!AO206)","v":""},{"$f":"IF('TABLA DE DECISION'!AP206='TABLA DE DECISION'!AP$157,CONCATENATE($B52,\"(\",'TABLA DE DECISION'!AP$157,\")\"),'TABLA DE DECISION'!AP206)","v":""},{"$f":"IF('TABLA DE DECISION'!AQ206='TABLA DE DECISION'!AQ$157,CONCATENATE($B52,\"(\",'TABLA DE DECISION'!AQ$157,\")\"),'TABLA DE DECISION'!AQ206)","v":""},{"$f":"IF('TABLA DE DECISION'!AR206='TABLA DE DECISION'!AR$157,CONCATENATE($B52,\"(\",'TABLA DE DECISION'!AR$157,\")\"),'TABLA DE DECISION'!AR206)","v":""},{"$f":"IF('TABLA DE DECISION'!AS206='TABLA DE DECISION'!AS$157,CONCATENATE($B52,\"(\",'TABLA DE DECISION'!AS$157,\")\"),'TABLA DE DECISION'!AS206)","v":""},{"$f":"IF('TABLA DE DECISION'!AT206='TABLA DE DECISION'!AT$157,CONCATENATE($B52,\"(\",'TABLA DE DECISION'!AT$157,\")\"),'TABLA DE DECISION'!AT206)","v":""},{"$f":"IF('TABLA DE DECISION'!AU206='TABLA DE DECISION'!AU$157,CONCATENATE($B52,\"(\",'TABLA DE DECISION'!AU$157,\")\"),'TABLA DE DECISION'!AU206)","v":""},{"$f":"IF('TABLA DE DECISION'!AV206='TABLA DE DECISION'!AV$157,CONCATENATE($B52,\"(\",'TABLA DE DECISION'!AV$157,\")\"),'TABLA DE DECISION'!AV206)","v":""},{"$f":"IF('TABLA DE DECISION'!AW206='TABLA DE DECISION'!AW$157,CONCATENATE($B52,\"(\",'TABLA DE DECISION'!AW$157,\")\"),'TABLA DE DECISION'!AW206)","v":""},{"$f":"IF('TABLA DE DECISION'!AX206='TABLA DE DECISION'!AX$157,CONCATENATE($B52,\"(\",'TABLA DE DECISION'!AX$157,\")\"),'TABLA DE DECISION'!AX206)","v":""},{"$f":"IF('TABLA DE DECISION'!AY206='TABLA DE DECISION'!AY$157,CONCATENATE($B52,\"(\",'TABLA DE DECISION'!AY$157,\")\"),'TABLA DE DECISION'!AY206)","v":""},{"$f":"IF('TABLA DE DECISION'!AZ206='TABLA DE DECISION'!AZ$157,CONCATENATE($B52,\"(\",'TABLA DE DECISION'!AZ$157,\")\"),'TABLA DE DECISION'!AZ206)","v":""},{"$f":"IF('TABLA DE DECISION'!BA206='TABLA DE DECISION'!BA$157,CONCATENATE($B52,\"(\",'TABLA DE DECISION'!BA$157,\")\"),'TABLA DE DECISION'!BA206)","v":""},{"$f":"IF('TABLA DE DECISION'!BB206='TABLA DE DECISION'!BB$157,CONCATENATE($B52,\"(\",'TABLA DE DECISION'!BB$157,\")\"),'TABLA DE DECISION'!BB206)","v":""},{"$f":"IF('TABLA DE DECISION'!BC206='TABLA DE DECISION'!BC$157,CONCATENATE($B52,\"(\",'TABLA DE DECISION'!BC$157,\")\"),'TABLA DE DECISION'!BC206)","v":""},{"$f":"IF('TABLA DE DECISION'!BD206='TABLA DE DECISION'!BD$157,CONCATENATE($B52,\"(\",'TABLA DE DECISION'!BD$157,\")\"),'TABLA DE DECISION'!BD206)","v":""}]
[{"$f":"IF('TABLA DE DECISION'!BF207=\"\",\"\",'TABLA DE DECISION'!BF207)","v":""},{"$f":"'TABLA DE DECISION'!BG207","v":"a49"},{"$f":"IF('TABLA DE DECISION'!A207='TABLA DE DECISION'!A$157,CONCATENATE($B53,\"(\",'TABLA DE DECISION'!A$157,\")\"),'TABLA DE DECISION'!A207)","v":""},{"$f":"IF('TABLA DE DECISION'!B207='TABLA DE DECISION'!B$157,CONCATENATE($B53,\"(\",'TABLA DE DECISION'!B$157,\")\"),'TABLA DE DECISION'!B207)","v":""},{"$f":"IF('TABLA DE DECISION'!C207='TABLA DE DECISION'!C$157,CONCATENATE($B53,\"(\",'TABLA DE DECISION'!C$157,\")\"),'TABLA DE DECISION'!C207)","v":""},{"$f":"IF('TABLA DE DECISION'!D207='TABLA DE DECISION'!D$157,CONCATENATE($B53,\"(\",'TABLA DE DECISION'!D$157,\")\"),'TABLA DE DECISION'!D207)","v":""},{"$f":"IF('TABLA DE DECISION'!E207='TABLA DE DECISION'!E$157,CONCATENATE($B53,\"(\",'TABLA DE DECISION'!E$157,\")\"),'TABLA DE DECISION'!E207)","v":""},{"$f":"IF('MATRIZ-PÉRDIDA OPORTUNIDAD'!BB51='MATRIZ-PÉRDIDA OPORTUNIDAD'!BB$2,CONCATENATE($B53,\"(\",'MATRIZ-PÉRDIDA OPORTUNIDAD'!BB$2,\")\"),'MATRIZ-PÉRDIDA OPORTUNIDAD'!BB51)","v":""},{"$f":"IF('TABLA DE DECISION'!G207='TABLA DE DECISION'!G$157,CONCATENATE($B53,\"(\",'TABLA DE DECISION'!G$157,\")\"),'TABLA DE DECISION'!G207)","v":""},{"$f":"IF('TABLA DE DECISION'!H207='TABLA DE DECISION'!H$157,CONCATENATE($B53,\"(\",'TABLA DE DECISION'!H$157,\")\"),'TABLA DE DECISION'!H207)","v":""},{"$f":"IF('TABLA DE DECISION'!I207='TABLA DE DECISION'!I$157,CONCATENATE($B53,\"(\",'TABLA DE DECISION'!I$157,\")\"),'TABLA DE DECISION'!I207)","v":""},{"$f":"IF('TABLA DE DECISION'!J207='TABLA DE DECISION'!J$157,CONCATENATE($B53,\"(\",'TABLA DE DECISION'!J$157,\")\"),'TABLA DE DECISION'!J207)","v":""},{"$f":"IF('TABLA DE DECISION'!K207='TABLA DE DECISION'!K$157,CONCATENATE($B53,\"(\",'TABLA DE DECISION'!K$157,\")\"),'TABLA DE DECISION'!K207)","v":""},{"$f":"IF('TABLA DE DECISION'!L207='TABLA DE DECISION'!L$157,CONCATENATE($B53,\"(\",'TABLA DE DECISION'!L$157,\")\"),'TABLA DE DECISION'!L207)","v":""},{"$f":"IF('TABLA DE DECISION'!M207='TABLA DE DECISION'!M$157,CONCATENATE($B53,\"(\",'TABLA DE DECISION'!M$157,\")\"),'TABLA DE DECISION'!M207)","v":""},{"$f":"IF('TABLA DE DECISION'!N207='TABLA DE DECISION'!N$157,CONCATENATE($B53,\"(\",'TABLA DE DECISION'!N$157,\")\"),'TABLA DE DECISION'!N207)","v":""},{"$f":"IF('TABLA DE DECISION'!O207='TABLA DE DECISION'!O$157,CONCATENATE($B53,\"(\",'TABLA DE DECISION'!O$157,\")\"),'TABLA DE DECISION'!O207)","v":""},{"$f":"IF('TABLA DE DECISION'!P207='TABLA DE DECISION'!P$157,CONCATENATE($B53,\"(\",'TABLA DE DECISION'!P$157,\")\"),'TABLA DE DECISION'!P207)","v":""},{"$f":"IF('TABLA DE DECISION'!Q207='TABLA DE DECISION'!Q$157,CONCATENATE($B53,\"(\",'TABLA DE DECISION'!Q$157,\")\"),'TABLA DE DECISION'!Q207)","v":""},{"$f":"IF('TABLA DE DECISION'!R207='TABLA DE DECISION'!R$157,CONCATENATE($B53,\"(\",'TABLA DE DECISION'!R$157,\")\"),'TABLA DE DECISION'!R207)","v":""},{"$f":"IF('TABLA DE DECISION'!S207='TABLA DE DECISION'!S$157,CONCATENATE($B53,\"(\",'TABLA DE DECISION'!S$157,\")\"),'TABLA DE DECISION'!S207)","v":""},{"$f":"IF('TABLA DE DECISION'!T207='TABLA DE DECISION'!T$157,CONCATENATE($B53,\"(\",'TABLA DE DECISION'!T$157,\")\"),'TABLA DE DECISION'!T207)","v":""},{"$f":"IF('TABLA DE DECISION'!U207='TABLA DE DECISION'!U$157,CONCATENATE($B53,\"(\",'TABLA DE DECISION'!U$157,\")\"),'TABLA DE DECISION'!U207)","v":""},{"$f":"IF('TABLA DE DECISION'!V207='TABLA DE DECISION'!V$157,CONCATENATE($B53,\"(\",'TABLA DE DECISION'!V$157,\")\"),'TABLA DE DECISION'!V207)","v":""},{"$f":"IF('TABLA DE DECISION'!W207='TABLA DE DECISION'!W$157,CONCATENATE($B53,\"(\",'TABLA DE DECISION'!W$157,\")\"),'TABLA DE DECISION'!W207)","v":""},{"$f":"IF('TABLA DE DECISION'!X207='TABLA DE DECISION'!X$157,CONCATENATE($B53,\"(\",'TABLA DE DECISION'!X$157,\")\"),'TABLA DE DECISION'!X207)","v":""},{"$f":"IF('TABLA DE DECISION'!Y207='TABLA DE DECISION'!Y$157,CONCATENATE($B53,\"(\",'TABLA DE DECISION'!Y$157,\")\"),'TABLA DE DECISION'!Y207)","v":""},{"$f":"IF('TABLA DE DECISION'!Z207='TABLA DE DECISION'!Z$157,CONCATENATE($B53,\"(\",'TABLA DE DECISION'!Z$157,\")\"),'TABLA DE DECISION'!Z207)","v":""},{"$f":"IF('TABLA DE DECISION'!AA207='TABLA DE DECISION'!AA$157,CONCATENATE($B53,\"(\",'TABLA DE DECISION'!AA$157,\")\"),'TABLA DE DECISION'!AA207)","v":""},{"$f":"IF('TABLA DE DECISION'!AB207='TABLA DE DECISION'!AB$157,CONCATENATE($B53,\"(\",'TABLA DE DECISION'!AB$157,\")\"),'TABLA DE DECISION'!AB207)","v":""},{"$f":"IF('TABLA DE DECISION'!AC207='TABLA DE DECISION'!AC$157,CONCATENATE($B53,\"(\",'TABLA DE DECISION'!AC$157,\")\"),'TABLA DE DECISION'!AC207)","v":""},{"$f":"IF('TABLA DE DECISION'!AD207='TABLA DE DECISION'!AD$157,CONCATENATE($B53,\"(\",'TABLA DE DECISION'!AD$157,\")\"),'TABLA DE DECISION'!AD207)","v":""},{"$f":"IF('TABLA DE DECISION'!AE207='TABLA DE DECISION'!AE$157,CONCATENATE($B53,\"(\",'TABLA DE DECISION'!AE$157,\")\"),'TABLA DE DECISION'!AE207)","v":""},{"$f":"IF('TABLA DE DECISION'!AF207='TABLA DE DECISION'!AF$157,CONCATENATE($B53,\"(\",'TABLA DE DECISION'!AF$157,\")\"),'TABLA DE DECISION'!AF207)","v":""},{"$f":"IF('TABLA DE DECISION'!AG207='TABLA DE DECISION'!AG$157,CONCATENATE($B53,\"(\",'TABLA DE DECISION'!AG$157,\")\"),'TABLA DE DECISION'!AG207)","v":""},{"$f":"IF('TABLA DE DECISION'!AH207='TABLA DE DECISION'!AH$157,CONCATENATE($B53,\"(\",'TABLA DE DECISION'!AH$157,\")\"),'TABLA DE DECISION'!AH207)","v":""},{"$f":"IF('TABLA DE DECISION'!AI207='TABLA DE DECISION'!AI$157,CONCATENATE($B53,\"(\",'TABLA DE DECISION'!AI$157,\")\"),'TABLA DE DECISION'!AI207)","v":""},{"$f":"IF('TABLA DE DECISION'!AJ207='TABLA DE DECISION'!AJ$157,CONCATENATE($B53,\"(\",'TABLA DE DECISION'!AJ$157,\")\"),'TABLA DE DECISION'!AJ207)","v":""},{"$f":"IF('TABLA DE DECISION'!AK207='TABLA DE DECISION'!AK$157,CONCATENATE($B53,\"(\",'TABLA DE DECISION'!AK$157,\")\"),'TABLA DE DECISION'!AK207)","v":""},{"$f":"IF('TABLA DE DECISION'!AL207='TABLA DE DECISION'!AL$157,CONCATENATE($B53,\"(\",'TABLA DE DECISION'!AL$157,\")\"),'TABLA DE DECISION'!AL207)","v":""},{"$f":"IF('TABLA DE DECISION'!AM207='TABLA DE DECISION'!AM$157,CONCATENATE($B53,\"(\",'TABLA DE DECISION'!AM$157,\")\"),'TABLA DE DECISION'!AM207)","v":""},{"$f":"IF('TABLA DE DECISION'!AN207='TABLA DE DECISION'!AN$157,CONCATENATE($B53,\"(\",'TABLA DE DECISION'!AN$157,\")\"),'TABLA DE DECISION'!AN207)","v":""},{"$f":"IF('TABLA DE DECISION'!AO207='TABLA DE DECISION'!AO$157,CONCATENATE($B53,\"(\",'TABLA DE DECISION'!AO$157,\")\"),'TABLA DE DECISION'!AO207)","v":""},{"$f":"IF('TABLA DE DECISION'!AP207='TABLA DE DECISION'!AP$157,CONCATENATE($B53,\"(\",'TABLA DE DECISION'!AP$157,\")\"),'TABLA DE DECISION'!AP207)","v":""},{"$f":"IF('TABLA DE DECISION'!AQ207='TABLA DE DECISION'!AQ$157,CONCATENATE($B53,\"(\",'TABLA DE DECISION'!AQ$157,\")\"),'TABLA DE DECISION'!AQ207)","v":""},{"$f":"IF('TABLA DE DECISION'!AR207='TABLA DE DECISION'!AR$157,CONCATENATE($B53,\"(\",'TABLA DE DECISION'!AR$157,\")\"),'TABLA DE DECISION'!AR207)","v":""},{"$f":"IF('TABLA DE DECISION'!AS207='TABLA DE DECISION'!AS$157,CONCATENATE($B53,\"(\",'TABLA DE DECISION'!AS$157,\")\"),'TABLA DE DECISION'!AS207)","v":""},{"$f":"IF('TABLA DE DECISION'!AT207='TABLA DE DECISION'!AT$157,CONCATENATE($B53,\"(\",'TABLA DE DECISION'!AT$157,\")\"),'TABLA DE DECISION'!AT207)","v":""},{"$f":"IF('TABLA DE DECISION'!AU207='TABLA DE DECISION'!AU$157,CONCATENATE($B53,\"(\",'TABLA DE DECISION'!AU$157,\")\"),'TABLA DE DECISION'!AU207)","v":""},{"$f":"IF('TABLA DE DECISION'!AV207='TABLA DE DECISION'!AV$157,CONCATENATE($B53,\"(\",'TABLA DE DECISION'!AV$157,\")\"),'TABLA DE DECISION'!AV207)","v":""},{"$f":"IF('TABLA DE DECISION'!AW207='TABLA DE DECISION'!AW$157,CONCATENATE($B53,\"(\",'TABLA DE DECISION'!AW$157,\")\"),'TABLA DE DECISION'!AW207)","v":""},{"$f":"IF('TABLA DE DECISION'!AX207='TABLA DE DECISION'!AX$157,CONCATENATE($B53,\"(\",'TABLA DE DECISION'!AX$157,\")\"),'TABLA DE DECISION'!AX207)","v":""},{"$f":"IF('TABLA DE DECISION'!AY207='TABLA DE DECISION'!AY$157,CONCATENATE($B53,\"(\",'TABLA DE DECISION'!AY$157,\")\"),'TABLA DE DECISION'!AY207)","v":""},{"$f":"IF('TABLA DE DECISION'!AZ207='TABLA DE DECISION'!AZ$157,CONCATENATE($B53,\"(\",'TABLA DE DECISION'!AZ$157,\")\"),'TABLA DE DECISION'!AZ207)","v":""},{"$f":"IF('TABLA DE DECISION'!BA207='TABLA DE DECISION'!BA$157,CONCATENATE($B53,\"(\",'TABLA DE DECISION'!BA$157,\")\"),'TABLA DE DECISION'!BA207)","v":""},{"$f":"IF('TABLA DE DECISION'!BB207='TABLA DE DECISION'!BB$157,CONCATENATE($B53,\"(\",'TABLA DE DECISION'!BB$157,\")\"),'TABLA DE DECISION'!BB207)","v":""},{"$f":"IF('TABLA DE DECISION'!BC207='TABLA DE DECISION'!BC$157,CONCATENATE($B53,\"(\",'TABLA DE DECISION'!BC$157,\")\"),'TABLA DE DECISION'!BC207)","v":""},{"$f":"IF('TABLA DE DECISION'!BD207='TABLA DE DECISION'!BD$157,CONCATENATE($B53,\"(\",'TABLA DE DECISION'!BD$157,\")\"),'TABLA DE DECISION'!BD207)","v":""}]
[{"$f":"IF('TABLA DE DECISION'!BF208=\"\",\"\",'TABLA DE DECISION'!BF208)","v":""},{"$f":"'TABLA DE DECISION'!BG208","v":"a50"},{"$f":"IF('TABLA DE DECISION'!A208='TABLA DE DECISION'!A$157,CONCATENATE($B54,\"(\",'TABLA DE DECISION'!A$157,\")\"),'TABLA DE DECISION'!A208)","v":""},{"$f":"IF('TABLA DE DECISION'!B208='TABLA DE DECISION'!B$157,CONCATENATE($B54,\"(\",'TABLA DE DECISION'!B$157,\")\"),'TABLA DE DECISION'!B208)","v":""},{"$f":"IF('TABLA DE DECISION'!C208='TABLA DE DECISION'!C$157,CONCATENATE($B54,\"(\",'TABLA DE DECISION'!C$157,\")\"),'TABLA DE DECISION'!C208)","v":""},{"$f":"IF('TABLA DE DECISION'!D208='TABLA DE DECISION'!D$157,CONCATENATE($B54,\"(\",'TABLA DE DECISION'!D$157,\")\"),'TABLA DE DECISION'!D208)","v":""},{"$f":"IF('TABLA DE DECISION'!E208='TABLA DE DECISION'!E$157,CONCATENATE($B54,\"(\",'TABLA DE DECISION'!E$157,\")\"),'TABLA DE DECISION'!E208)","v":""},{"$f":"IF('MATRIZ-PÉRDIDA OPORTUNIDAD'!BB52='MATRIZ-PÉRDIDA OPORTUNIDAD'!BB$2,CONCATENATE($B54,\"(\",'MATRIZ-PÉRDIDA OPORTUNIDAD'!BB$2,\")\"),'MATRIZ-PÉRDIDA OPORTUNIDAD'!BB52)","v":""},{"$f":"IF('TABLA DE DECISION'!G208='TABLA DE DECISION'!G$157,CONCATENATE($B54,\"(\",'TABLA DE DECISION'!G$157,\")\"),'TABLA DE DECISION'!G208)","v":""},{"$f":"IF('TABLA DE DECISION'!H208='TABLA DE DECISION'!H$157,CONCATENATE($B54,\"(\",'TABLA DE DECISION'!H$157,\")\"),'TABLA DE DECISION'!H208)","v":""},{"$f":"IF('TABLA DE DECISION'!I208='TABLA DE DECISION'!I$157,CONCATENATE($B54,\"(\",'TABLA DE DECISION'!I$157,\")\"),'TABLA DE DECISION'!I208)","v":""},{"$f":"IF('TABLA DE DECISION'!J208='TABLA DE DECISION'!J$157,CONCATENATE($B54,\"(\",'TABLA DE DECISION'!J$157,\")\"),'TABLA DE DECISION'!J208)","v":""},{"$f":"IF('TABLA DE DECISION'!K208='TABLA DE DECISION'!K$157,CONCATENATE($B54,\"(\",'TABLA DE DECISION'!K$157,\")\"),'TABLA DE DECISION'!K208)","v":""},{"$f":"IF('TABLA DE DECISION'!L208='TABLA DE DECISION'!L$157,CONCATENATE($B54,\"(\",'TABLA DE DECISION'!L$157,\")\"),'TABLA DE DECISION'!L208)","v":""},{"$f":"IF('TABLA DE DECISION'!M208='TABLA DE DECISION'!M$157,CONCATENATE($B54,\"(\",'TABLA DE DECISION'!M$157,\")\"),'TABLA DE DECISION'!M208)","v":""},{"$f":"IF('TABLA DE DECISION'!N208='TABLA DE DECISION'!N$157,CONCATENATE($B54,\"(\",'TABLA DE DECISION'!N$157,\")\"),'TABLA DE DECISION'!N208)","v":""},{"$f":"IF('TABLA DE DECISION'!O208='TABLA DE DECISION'!O$157,CONCATENATE($B54,\"(\",'TABLA DE DECISION'!O$157,\")\"),'TABLA DE DECISION'!O208)","v":""},{"$f":"IF('TABLA DE DECISION'!P208='TABLA DE DECISION'!P$157,CONCATENATE($B54,\"(\",'TABLA DE DECISION'!P$157,\")\"),'TABLA DE DECISION'!P208)","v":""},{"$f":"IF('TABLA DE DECISION'!Q208='TABLA DE DECISION'!Q$157,CONCATENATE($B54,\"(\",'TABLA DE DECISION'!Q$157,\")\"),'TABLA DE DECISION'!Q208)","v":""},{"$f":"IF('TABLA DE DECISION'!R208='TABLA DE DECISION'!R$157,CONCATENATE($B54,\"(\",'TABLA DE DECISION'!R$157,\")\"),'TABLA DE DECISION'!R208)","v":""},{"$f":"IF('TABLA DE DECISION'!S208='TABLA DE DECISION'!S$157,CONCATENATE($B54,\"(\",'TABLA DE DECISION'!S$157,\")\"),'TABLA DE DECISION'!S208)","v":""},{"$f":"IF('TABLA DE DECISION'!T208='TABLA DE DECISION'!T$157,CONCATENATE($B54,\"(\",'TABLA DE DECISION'!T$157,\")\"),'TABLA DE DECISION'!T208)","v":""},{"$f":"IF('TABLA DE DECISION'!U208='TABLA DE DECISION'!U$157,CONCATENATE($B54,\"(\",'TABLA DE DECISION'!U$157,\")\"),'TABLA DE DECISION'!U208)","v":""},{"$f":"IF('TABLA DE DECISION'!V208='TABLA DE DECISION'!V$157,CONCATENATE($B54,\"(\",'TABLA DE DECISION'!V$157,\")\"),'TABLA DE DECISION'!V208)","v":""},{"$f":"IF('TABLA DE DECISION'!W208='TABLA DE DECISION'!W$157,CONCATENATE($B54,\"(\",'TABLA DE DECISION'!W$157,\")\"),'TABLA DE DECISION'!W208)","v":""},{"$f":"IF('TABLA DE DECISION'!X208='TABLA DE DECISION'!X$157,CONCATENATE($B54,\"(\",'TABLA DE DECISION'!X$157,\")\"),'TABLA DE DECISION'!X208)","v":""},{"$f":"IF('TABLA DE DECISION'!Y208='TABLA DE DECISION'!Y$157,CONCATENATE($B54,\"(\",'TABLA DE DECISION'!Y$157,\")\"),'TABLA DE DECISION'!Y208)","v":""},{"$f":"IF('TABLA DE DECISION'!Z208='TABLA DE DECISION'!Z$157,CONCATENATE($B54,\"(\",'TABLA DE DECISION'!Z$157,\")\"),'TABLA DE DECISION'!Z208)","v":""},{"$f":"IF('TABLA DE DECISION'!AA208='TABLA DE DECISION'!AA$157,CONCATENATE($B54,\"(\",'TABLA DE DECISION'!AA$157,\")\"),'TABLA DE DECISION'!AA208)","v":""},{"$f":"IF('TABLA DE DECISION'!AB208='TABLA DE DECISION'!AB$157,CONCATENATE($B54,\"(\",'TABLA DE DECISION'!AB$157,\")\"),'TABLA DE DECISION'!AB208)","v":""},{"$f":"IF('TABLA DE DECISION'!AC208='TABLA DE DECISION'!AC$157,CONCATENATE($B54,\"(\",'TABLA DE DECISION'!AC$157,\")\"),'TABLA DE DECISION'!AC208)","v":""},{"$f":"IF('TABLA DE DECISION'!AD208='TABLA DE DECISION'!AD$157,CONCATENATE($B54,\"(\",'TABLA DE DECISION'!AD$157,\")\"),'TABLA DE DECISION'!AD208)","v":""},{"$f":"IF('TABLA DE DECISION'!AE208='TABLA DE DECISION'!AE$157,CONCATENATE($B54,\"(\",'TABLA DE DECISION'!AE$157,\")\"),'TABLA DE DECISION'!AE208)","v":""},{"$f":"IF('TABLA DE DECISION'!AF208='TABLA DE DECISION'!AF$157,CONCATENATE($B54,\"(\",'TABLA DE DECISION'!AF$157,\")\"),'TABLA DE DECISION'!AF208)","v":""},{"$f":"IF('TABLA DE DECISION'!AG208='TABLA DE DECISION'!AG$157,CONCATENATE($B54,\"(\",'TABLA DE DECISION'!AG$157,\")\"),'TABLA DE DECISION'!AG208)","v":""},{"$f":"IF('TABLA DE DECISION'!AH208='TABLA DE DECISION'!AH$157,CONCATENATE($B54,\"(\",'TABLA DE DECISION'!AH$157,\")\"),'TABLA DE DECISION'!AH208)","v":""},{"$f":"IF('TABLA DE DECISION'!AI208='TABLA DE DECISION'!AI$157,CONCATENATE($B54,\"(\",'TABLA DE DECISION'!AI$157,\")\"),'TABLA DE DECISION'!AI208)","v":""},{"$f":"IF('TABLA DE DECISION'!AJ208='TABLA DE DECISION'!AJ$157,CONCATENATE($B54,\"(\",'TABLA DE DECISION'!AJ$157,\")\"),'TABLA DE DECISION'!AJ208)","v":""},{"$f":"IF('TABLA DE DECISION'!AK208='TABLA DE DECISION'!AK$157,CONCATENATE($B54,\"(\",'TABLA DE DECISION'!AK$157,\")\"),'TABLA DE DECISION'!AK208)","v":""},{"$f":"IF('TABLA DE DECISION'!AL208='TABLA DE DECISION'!AL$157,CONCATENATE($B54,\"(\",'TABLA DE DECISION'!AL$157,\")\"),'TABLA DE DECISION'!AL208)","v":""},{"$f":"IF('TABLA DE DECISION'!AM208='TABLA DE DECISION'!AM$157,CONCATENATE($B54,\"(\",'TABLA DE DECISION'!AM$157,\")\"),'TABLA DE DECISION'!AM208)","v":""},{"$f":"IF('TABLA DE DECISION'!AN208='TABLA DE DECISION'!AN$157,CONCATENATE($B54,\"(\",'TABLA DE DECISION'!AN$157,\")\"),'TABLA DE DECISION'!AN208)","v":""},{"$f":"IF('TABLA DE DECISION'!AO208='TABLA DE DECISION'!AO$157,CONCATENATE($B54,\"(\",'TABLA DE DECISION'!AO$157,\")\"),'TABLA DE DECISION'!AO208)","v":""},{"$f":"IF('TABLA DE DECISION'!AP208='TABLA DE DECISION'!AP$157,CONCATENATE($B54,\"(\",'TABLA DE DECISION'!AP$157,\")\"),'TABLA DE DECISION'!AP208)","v":""},{"$f":"IF('TABLA DE DECISION'!AQ208='TABLA DE DECISION'!AQ$157,CONCATENATE($B54,\"(\",'TABLA DE DECISION'!AQ$157,\")\"),'TABLA DE DECISION'!AQ208)","v":""},{"$f":"IF('TABLA DE DECISION'!AR208='TABLA DE DECISION'!AR$157,CONCATENATE($B54,\"(\",'TABLA DE DECISION'!AR$157,\")\"),'TABLA DE DECISION'!AR208)","v":""},{"$f":"IF('TABLA DE DECISION'!AS208='TABLA DE DECISION'!AS$157,CONCATENATE($B54,\"(\",'TABLA DE DECISION'!AS$157,\")\"),'TABLA DE DECISION'!AS208)","v":""},{"$f":"IF('TABLA DE DECISION'!AT208='TABLA DE DECISION'!AT$157,CONCATENATE($B54,\"(\",'TABLA DE DECISION'!AT$157,\")\"),'TABLA DE DECISION'!AT208)","v":""},{"$f":"IF('TABLA DE DECISION'!AU208='TABLA DE DECISION'!AU$157,CONCATENATE($B54,\"(\",'TABLA DE DECISION'!AU$157,\")\"),'TABLA DE DECISION'!AU208)","v":""},{"$f":"IF('TABLA DE DECISION'!AV208='TABLA DE DECISION'!AV$157,CONCATENATE($B54,\"(\",'TABLA DE DECISION'!AV$157,\")\"),'TABLA DE DECISION'!AV208)","v":""},{"$f":"IF('TABLA DE DECISION'!AW208='TABLA DE DECISION'!AW$157,CONCATENATE($B54,\"(\",'TABLA DE DECISION'!AW$157,\")\"),'TABLA DE DECISION'!AW208)","v":""},{"$f":"IF('TABLA DE DECISION'!AX208='TABLA DE DECISION'!AX$157,CONCATENATE($B54,\"(\",'TABLA DE DECISION'!AX$157,\")\"),'TABLA DE DECISION'!AX208)","v":""},{"$f":"IF('TABLA DE DECISION'!AY208='TABLA DE DECISION'!AY$157,CONCATENATE($B54,\"(\",'TABLA DE DECISION'!AY$157,\")\"),'TABLA DE DECISION'!AY208)","v":""},{"$f":"IF('TABLA DE DECISION'!AZ208='TABLA DE DECISION'!AZ$157,CONCATENATE($B54,\"(\",'TABLA DE DECISION'!AZ$157,\")\"),'TABLA DE DECISION'!AZ208)","v":""},{"$f":"IF('TABLA DE DECISION'!BA208='TABLA DE DECISION'!BA$157,CONCATENATE($B54,\"(\",'TABLA DE DECISION'!BA$157,\")\"),'TABLA DE DECISION'!BA208)","v":""},{"$f":"IF('TABLA DE DECISION'!BB208='TABLA DE DECISION'!BB$157,CONCATENATE($B54,\"(\",'TABLA DE DECISION'!BB$157,\")\"),'TABLA DE DECISION'!BB208)","v":""},{"$f":"IF('TABLA DE DECISION'!BC208='TABLA DE DECISION'!BC$157,CONCATENATE($B54,\"(\",'TABLA DE DECISION'!BC$157,\")\"),'TABLA DE DECISION'!BC208)","v":""},{"$f":"IF('TABLA DE DECISION'!BD208='TABLA DE DECISION'!BD$157,CONCATENATE($B54,\"(\",'TABLA DE DECISION'!BD$157,\")\"),'TABLA DE DECISION'!BD208)","v":""}]